Workbook

Sheet Index
A1: Absolventen/innen der höheren Berufsbildung
A2: Klicken Sie auf den entsprechenden Titel, um zu der gewünschten Tabelle zu gelangen.
A3: Daten der Grafiken
A4: T1 | B4: ='T1'!A2 -> Absolventen/innen der höheren Berufsbildung nach Geschlecht, 2010–2020
A5: T2 | B5: ='T2'!A2 -> Absolventen/innen der höheren Berufsbildung nach Nationalität und Dauer des Aufenthalts, 2010–2020
A6: Detaillierte Daten
A7: TD1 | B7: ='TD1'!A2 -> Absolventen/innen der höheren Berufsbildung nach Wirtschaftsabschnitt, 2010–2020
A8: TD2 | B8: ='TD2'!A2 -> Absolventen/innen der höheren Berufsbildung nach Ausgeübten Beruf (ISCO-Berufshauptgruppe), 2010–2020
A9: Stand am 06.04.2021
A10: Quelle: BFS – Schweizerische Arbeitskräfteerhebung (SAKE)
A11: =CONCATENATE("© BFS ",RIGHT($A$9,4)) -> © BFS 2021
A12: Auskunft: Bundesamt für Statistik (BFS), Bildungsindikatoren, EducIndicators@bfs.admin.ch

Sheet T1
A1: Zurück
A2: =CONCATENATE(Index!A1," nach Geschlecht, 2010–",RIGHT(Index!A11,4)-1) -> Absolventen/innen der höheren Berufsbildung nach Geschlecht, 2010–2020 | W2: T1
A3: 30-34-Jährige mit einem höheren Berufsbildungsabschluss in % der gleichaltrigen ständigen Wohnbevölkerung
B4: 2010 | D4: 2011 | F4: 2012 | H4: 2013 | J4: 2014 | L4: 2015 | N4: 2016 | P4: 2017 | R4: 2018 | T4: 2019 | V4: 2020
B5: % | C5: ± | D5: % | E5: ± | F5: % | G5: ± | H5: % | I5: ± | J5: % | K5: ± | L5: % | M5: ± | N5: % | O5: ± | P5: % | Q5: ± | R5: % | S5: ± | T5: % | U5: ± | V5: % | W5: ±
A6: Total | B6: 16.2 | C6: 0.9 | D6: 14.8 | E6: 0.8 | F6: 13.9 | G6: 0.8 | H6: 15.4 | I6: 0.9 | J6: 15.7 | K6: 0.9 | L6: 15.8 | M6: 1 | N6: 15.6 | O6: 1 | P6: 16.1 | Q6: 1 | R6: 16.7 | S6: 1 | T6: 16.8 | U6: 1 | V6: 17.5 | W6: 1
A7: Frauen | B7: 12.9 | C7: 1 | D7: 12.2 | E7: 1 | F7: 11.6 | G7: 1 | H7: 13.7 | I7: 1.1 | J7: 13.5 | K7: 1.1 | L7: 13.7 | M7: 1.3 | N7: 13.7 | O7: 1.3 | P7: 13.6 | Q7: 1.2 | R7: 14.8 | S7: 1.2 | T7: 15.9 | U7: 1.3 | V7: 15.8 | W7: 1.3
A8: Männer | B8: 19.5 | C8: 1.4 | D8: 17.5 | E8: 1.2 | F8: 16.1 | G8: 1.2 | H8: 17.2 | I8: 1.3 | J8: 18 | K8: 1.5 | L8: 18.1 | M8: 1.5 | N8: 17.4 | O8: 1.5 | P8: 18.6 | Q8: 1.5 | R8: 18.7 | S8: 1.6 | T8: 17.6 | U8: 1.5 | V8: 19.1 | W8: 1.5
A9: =Index!$A$10 -> Quelle: BFS – Schweizerische Arbeitskräfteerhebung (SAKE)
A10: =Index!$A$11 -> © BFS 2021
A11: =Index!$A$12 -> Auskunft: Bundesamt für Statistik (BFS), Bildungsindikatoren, EducIndicators@bfs.admin.ch

Sheet T2
A1: Zurück
A2: =CONCATENATE(Index!A1," nach Nationalität und Dauer des Aufenthalts, 2010–",RIGHT(Index!A11,4)-1) -> Absolventen/innen der höheren Berufsbildung nach Nationalität und Dauer des Aufenthalts, 2010–2020 | W2: T2
A3: 30-34-Jährige mit einem höheren Berufsbildungsabschluss in % der gleichaltrigen ständigen Wohnbevölkerung
B4: 2010 | D4: 2011 | F4: 2012 | H4: 2013 | J4: 2014 | L4: 2015 | N4: 2016 | P4: 2017 | R4: 2018 | T4: 2019 | V4: 2020
B5: % | C5: ± | D5: % | E5: ± | F5: % | G5: ± | H5: % | I5: ± | J5: % | K5: ± | L5: % | M5: ± | N5: % | O5: ± | P5: % | Q5: ± | R5: % | S5: ± | T5: % | U5: ± | V5: % | W5: ±
A6: Total | B6: 16.2 | C6: 0.9 | D6: 14.8 | E6: 0.8 | F6: 13.9 | G6: 0.8 | H6: 15.4 | I6: 0.9 | J6: 15.7 | K6: 0.9 | L6: 15.8 | M6: 1 | N6: 15.6 | O6: 1 | P6: 16.1 | Q6: 1 | R6: 16.7 | S6: 1 | T6: 16.8 | U6: 1 | V6: 17.5 | W6: 1
A7: Schweizer/innen | B7: 20.4 | C7: 1.2 | D7: 18.7 | E7: 1.1 | F7: 17.6 | G7: 1.1 | H7: 20.2 | I7: 1.2 | J7: 20.4 | K7: 1.3 | L7: 21 | M7: 1.4 | N7: 20.4 | O7: 1.4 | P7: 21.1 | Q7: 1.4 | R7: 22.4 | S7: 1.4 | T7: 22.9 | U7: 1.4 | V7: 23.3 | W7: 1.4
A8: einbürgerte Schweizer/innen, die bis zum 16. Altersjahr eingewandert sind | B8: (11.2) | C8: (2.8) | D8: (12.9) | E8: (2.8) | F8: (12.9) | G8: (2.8) | H8: (13.4) | I8: (3.0) | J8: (11.6) | K8: (2.7) | L8: 17.4 | M8: 3.5 | N8: 23.1 | O8: 4.4 | P8: 21 | Q8: 3.9 | R8: 20.6 | S8: 3.8 | T8: 17.6 | U8: 3.6 | V8: 22.8 | W8: 4
A9: einbürgerte Schweizer/innen, die ab dem 17. Altersjahr eingewandert sind | B9: (6.5) | C9: (3.1) | D9: (3.3) | E9: (2.1) | F9: (7.7) | G9: (3.5) | H9: (5.2) | I9: (3.1) | J9: (8.3) | K9: (4.2) | L9: (8.3) | M9: (5.5) | N9: (10.2) | O9: (5.5) | P9: (7.3) | Q9: (4.5) | R9: (3.0) | S9: (2.7) | T9: (10.0) | U9: (6.2) | V9: (20.0) | W9: (11.1)
A10: Ausländer/innen | B10: 8.5 | C10: 1 | D10: 7.7 | E10: 0.8 | F10: 7.3 | G10: 0.8 | H10: 7.5 | I10: 0.9 | J10: 8.2 | K10: 1.2 | L10: 7.7 | M10: 1.3 | N10: 7.9 | O10: 1.3 | P10: 8 | Q10: 1.1 | R10: 7.7 | S10: 1.3 | T10: 7 | U10: 1 | V10: 7.9 | W10: 1.2
A11: Ausländer/innen, die bis zum 16. Altersjahr eingewandert sind | B11: 11.6 | C11: 2 | D11: 11.3 | E11: 1.9 | F11: 13 | G11: 2.2 | H11: 9.8 | I11: 2.2 | J11: (9.4) | K11: (2.6) | L11: (10.2) | M11: (2.8) | N11: (10.7) | O11: (2.9) | P11: 12.4 | Q11: 2.9 | R11: (9.7) | S11: (2.5) | T11: (11.9) | U11: (3.0) | V11: (14.3) | W11: (3.7)
A12: Ausländer/innen, die ab dem 17. Altersjahr eingewandert sind | B12: 7.5 | C12: 1.2 | D12: 6.8 | E12: 0.9 | F12: 5.9 | G12: 0.8 | H12: 7 | I12: 1 | J12: 7.9 | K12: 1.3 | L12: 7.1 | M12: 1.4 | N12: 7.3 | O12: 1.4 | P12: 7.1 | Q12: 1.2 | R12: 7.3 | S12: 1.4 | T12: 6 | U12: 1.1 | V12: 6.6 | W12: 1.2
A13: Bemerkung: kursiv gesetzte Daten sind in der Grafik nicht dargestellt.
A14: (Zahl) Statistisch nur bedingt zuverlässig
A15: =Index!$A$10 -> Quelle: BFS – Schweizerische Arbeitskräfteerhebung (SAKE)
A16: =Index!$A$11 -> © BFS 2021
A17: =Index!$A$12 -> Auskunft: Bundesamt für Statistik (BFS), Bildungsindikatoren, EducIndicators@bfs.admin.ch

Sheet TD1
A1: Zurück
A2: =CONCATENATE(Index!A1," nach Wirtschaftsabschnitt, 2010–",RIGHT(Index!A11,4)-1) -> Absolventen/innen der höheren Berufsbildung nach Wirtschaftsabschnitt, 2010–2020 | W2: TD1
A3: 30-34-Jährige mit einem höheren Berufsbildungsabschluss in % der gleichaltrigen erwerbstätigen Wohnbevölkerung
B4: 2010 | D4: 2011 | F4: 2012 | H4: 2013 | J4: 2014 | L4: 2015 | N4: 2016 | P4: 2017 | R4: 2018 | T4: 2019 | V4: 2020
B5: % | C5: ± | D5: % | E5: ± | F5: % | G5: ± | H5: % | I5: ± | J5: % | K5: ± | L5: % | M5: ± | N5: % | O5: ± | P5: % | Q5: ± | R5: % | S5: ± | T5: % | U5: ± | V5: % | W5: ±
A6: Total | B6: 17.5 | C6: 1 | D6: 15.9 | E6: 0.9 | F6: 15.3 | G6: 0.9 | H6: 16.7 | I6: 1 | J6: 16.9 | K6: 1 | L6: 17 | M6: 1.1 | N6: 16.6 | O6: 1.1 | P6: 17.7 | Q6: 1.1 | R6: 18.1 | S6: 1.1 | T6: 18 | U6: 1.1 | V6: 19.2 | W6: 1.1
A7: Industrie | B7: 19.1 | C7: 2.6 | D7: 17.9 | E7: 2.4 | F7: 17.2 | G7: 2.3 | H7: 16.9 | I7: 2.4 | J7: 17.7 | K7: 3 | L7: 18.9 | M7: 3.3 | N7: 16.2 | O7: 2.9 | P7: 17.4 | Q7: 2.9 | R7: 20.2 | S7: 3.5 | T7: 22.1 | U7: 3.4 | V7: 22.6 | W7: 3.3
A8: Verkehr; Energie- und Wasserversorgung | B8: (12.0) | C8: (3.4) | D8: (15.5) | E8: (4.1) | F8: (12.3) | G8: (3.5) | H8: (12.2) | I8: (3.8) | J8: (18.2) | K8: (4.5) | L8: (20.0) | M8: (4.9) | N8: (15.5) | O8: (4.5) | P8: (14.9) | Q8: (4.2) | R8: (13.0) | S8: (3.8) | T8: (13.0) | U8: (3.8) | V8: (18.9) | W8: (4.7)
A9: Bau | B9: (17.4) | C9: (4.5) | D9: (12.3) | E9: (3.1) | F9: (13.4) | G9: (3.0) | H9: 19.4 | I9: 4 | J9: (15.7) | K9: (4.1) | L9: (18.9) | M9: (4.7) | N9: (17.5) | O9: (5.0) | P9: (22.4) | Q9: (4.9) | R9: (23.5) | S9: (5.3) | T9: (18.3) | U9: (4.5) | V9: (15.7) | W9: (4.0)
A10: Handel und Reparatur | B10: 18.1 | C10: 2.7 | D10: 14.4 | E10: 2.3 | F10: 13.7 | G10: 2.2 | H10: 13.1 | I10: 2.3 | J10: 13.7 | K10: 2.4 | L10: 14 | M10: 2.9 | N10: 15.2 | O10: 2.9 | P10: 20.3 | Q10: 3.3 | R10: 15.9 | S10: 2.8 | T10: 14.4 | U10: 2.7 | V10: 18.8 | W10: 3.2
A11: Gastgewerbe | B11: (8.7) | C11: (3.4) | D11: (9.8) | E11: (3.6) | F11: (8.0) | G11: (3.2) | H11: (14.5) | I11: (5.3) | J11: (13.4) | K11: (4.6) | L11: (9.7) | M11: (4.1) | N11: (7.3) | O11: (3.7) | P11: (11.7) | Q11: (4.3) | R11: (11.7) | S11: (4.5) | T11: (14.0) | U11: (6.0) | V11: (13.3) | W11: (6.2)
A12: Information und Kommunikation; Kunst und Unterhaltung | B12: 20.8 | C12: 4.1 | D12: (17.5) | E12: (4.3) | F12: (11.5) | G12: (3.1) | H12: (15.5) | I12: (3.9) | J12: (14.8) | K12: (4.1) | L12: (13.8) | M12: (3.8) | N12: (16.1) | O12: (4.5) | P12: (11.3) | Q12: (3.4) | R12: (13.5) | S12: (3.4) | T12: (15.1) | U12: (4.1) | V12: (15.3) | W12: (3.8)
A13: Finanzdienstleistungen | B13: 23.9 | C13: 3.8 | D13: 24.5 | E13: 3.9 | F13: 26 | G13: 3.9 | H13: 20.9 | I13: 3.7 | J13: 22.6 | K13: 4.3 | L13: 28.3 | M13: 4.9 | N13: 25.4 | O13: 5 | P13: 23.7 | Q13: 4.7 | R13: 25.3 | S13: 4.8 | T13: 24.7 | U13: 4.9 | V13: 24.2 | W13: 4.8
A14: Grundstücks- und Wohnungswesen; Dienstleistungen | B14: (13.2) | C14: (3.2) | D14: (9.6) | E14: (2.6) | F14: (11.6) | G14: (2.6) | H14: 20.5 | I14: 4.1 | J14: (19.3) | K14: (4.5) | L14: (15.7) | M14: (4.8) | N14: (14.6) | O14: (3.9) | P14: 18.2 | Q14: 3.9 | R14: (15.0) | S14: (3.7) | T14: (14.9) | U14: (3.7) | V14: (16.1) | W14: (3.6)
A15: Freiberufliche, wissenschaftliche und technische Dienstleistungen | B15: 18.5 | C15: 3.4 | D15: 17.7 | E15: 3 | F15: 18.5 | G15: 3.3 | H15: 15.5 | I15: 2.9 | J15: 16.7 | K15: 3.3 | L15: 18.1 | M15: 3.4 | N15: 23 | O15: 4.1 | P15: 20.2 | Q15: 3.6 | R15: 22 | S15: 3.5 | T15: 19.2 | U15: 3.3 | V15: 19 | W15: 3.4
A16: Gesundheits- und Sozialwesen | B16: 17.8 | C16: 2.5 | D16: 16.2 | E16: 2.3 | F16: 16 | G16: 2.6 | H16: 22.4 | I16: 3.1 | J16: 23.5 | K16: 3.1 | L16: 20.6 | M16: 3 | N16: 16.9 | O16: 2.8 | P16: 19.5 | Q16: 2.9 | R16: 23.2 | S16: 3.3 | T16: 23.9 | U16: 3 | V16: 25.3 | W16: 3.1
A17: Öffentliche Verwaltung und Unterricht | B17: 18 | C17: 2.7 | D17: 17.4 | E17: 2.6 | F17: 14.9 | G17: 2.6 | H17: 13 | I17: 2.4 | J17: 11.6 | K17: 2.3 | L17: 13.4 | M17: 2.5 | N17: 13.2 | O17: 2.5 | P17: 12.3 | Q17: 2.4 | R17: 13.3 | S17: 2.5 | T17: 14 | U17: 2.5 | V17: 15.4 | W17: 2.5
A18: Andere | B18: (13.3) | C18: (5.0) | D18: (14.8) | E18: (4.7) | F18: (16.2) | G18: (5.3) | H18: (18.6) | I18: (5.7) | J18: (17.9) | K18: (6.3) | L18: (12.4) | M18: (5.9) | N18: (15.1) | O18: (6.1) | P18: (17.1) | Q18: (5.9) | R18: (16.6) | S18: (5.4) | T18: (23.7) | U18: (7.7) | V18: (20.5) | W18: (6.5)
A19: (Zahl) Statistisch nur bedingt zuverlässig
A20: =Index!$A$10 -> Quelle: BFS – Schweizerische Arbeitskräfteerhebung (SAKE)
A21: =Index!$A$11 -> © BFS 2021
A22: =Index!$A$12 -> Auskunft: Bundesamt für Statistik (BFS), Bildungsindikatoren, EducIndicators@bfs.admin.ch

Sheet TD2
A1: Zurück
A2: =CONCATENATE(Index!A1," nach Ausgeübten Beruf (ISCO-Berufshauptgruppe), 2010–",RIGHT(Index!A11,4)-1) -> Absolventen/innen der höheren Berufsbildung nach Ausgeübten Beruf (ISCO-Berufshauptgruppe), 2010–2020 | W2: TD2
A3: 30-34-Jährige mit einem höheren Berufsbildungsabschluss in % der gleichaltrigen erwerbstätigen Wohnbevölkerung
B4: 2010 | D4: 2011 | F4: 2012 | H4: 2013 | J4: 2014 | L4: 2015 | N4: 2016 | P4: 2017 | R4: 2018 | T4: 2019 | V4: 2020
B5: % | C5: ± | D5: % | E5: ± | F5: % | G5: ± | H5: % | I5: ± | J5: % | K5: ± | L5: % | M5: ± | N5: % | O5: ± | P5: % | Q5: ± | R5: % | S5: ± | T5: % | U5: ± | V5: % | W5: ±
A6: Total | B6: 17.5 | C6: 1 | D6: 15.9 | E6: 0.9 | F6: 15.2 | G6: 0.9 | H6: 16.7 | I6: 1 | J6: 16.9 | K6: 1 | L6: 17 | M6: 1.1 | N6: 16.6 | O6: 1.1 | P6: 17.7 | Q6: 1.1 | R6: 18.2 | S6: 1.1 | T6: 18 | U6: 1.1 | V6: 19.2 | W6: 1.1
A7: Führungskräfte | B7: 27.3 | C7: 4.7 | D7: 32.6 | E7: 4.8 | F7: 25.4 | G7: 4.4 | H7: 28.6 | I7: 5.4 | J7: 26.7 | K7: 5.3 | L7: 28.3 | M7: 5.4 | N7: 34.4 | O7: 5.7 | P7: 25 | Q7: 4.7 | R7: 25.6 | S7: 4.8 | T7: 27.3 | U7: 5 | V7: 26.8 | W7: 4.7
A8: Akademische Berufe | B8: 18.2 | C8: 1.7 | D8: 15.6 | E8: 1.5 | F8: 16.3 | G8: 1.7 | H8: 15.8 | I8: 1.6 | J8: 15.4 | K8: 1.7 | L8: 14.1 | M8: 1.8 | N8: 11.8 | O8: 1.6 | P8: 13.9 | Q8: 1.6 | R8: 17.1 | S8: 2 | T8: 15 | U8: 1.6 | V8: 15.7 | W8: 1.7
A9: Techniker und gleichrangige Berufe | B9: 27.4 | C9: 2.8 | D9: 23 | E9: 2.6 | F9: 20.6 | G9: 2.4 | H9: 26.6 | I9: 2.9 | J9: 30.4 | K9: 3.1 | L9: 30.5 | M9: 3.1 | N9: 30.2 | O9: 3.4 | P9: 30.4 | Q9: 3.2 | R9: 28.1 | S9: 2.9 | T9: 28.7 | U9: 3 | V9: 32.1 | W9: 3.1
A10: Bürokräfte, kaufmännische Angestellte | B10: 14.6 | C10: 2.3 | D10: 17 | E10: 2.5 | F10: 17.5 | G10: 2.5 | H10: 19.9 | I10: 2.7 | J10: 15.4 | K10: 2.5 | L10: 17.5 | M10: 3 | N10: 19.3 | O10: 3.2 | P10: 17.3 | Q10: 2.9 | R10: 17.7 | S10: 2.9 | T10: 17.6 | U10: 2.9 | V10: 18.9 | W10: 3.1
A11: Dienstleistungs- und Verkaufsberufe | B11: 14.8 | C11: 2.6 | D11: 10.4 | E11: 2 | F11: 10.4 | G11: 2 | H11: 11.1 | I11: 2.3 | J11: 12.4 | K11: 2.4 | L11: 11.7 | M11: 2.7 | N11: 12.6 | O11: 2.9 | P11: 15.6 | Q11: 3.2 | R11: 13.8 | S11: 2.7 | T11: 18.4 | U11: 3.3 | V11: 17.6 | W11: 3.2
A12: Fachkräfte in der Landwirtschaft | B12: (20.4) | C12: (6.9) | D12: (17.7) | E12: (6.4) | F12: (28.2) | G12: (8.7) | H12: (25.0) | I12: (7.9) | J12: (20.3) | K12: (8.0) | L12: (11.6) | M12: (6.7) | N12: (16.4) | O12: (7.5) | P12: (27.1) | Q12: (8.7) | R12: (22.3) | S12: (7.7) | T12: (27.7) | U12: (10.3) | V12: (22.3) | W12: (7.5)
A13: Handwerks- und verwandte Berufe | B13: 12.7 | C13: 2.6 | D13: 11.1 | E13: 2.2 | F13: 10.1 | G13: 2 | H13: 12.1 | I13: 2.6 | J13: (12.1) | K13: (2.8) | L13: (14.2) | M13: (3.5) | N13: (14.4) | O13: (3.8) | P13: 17.1 | Q13: 3.6 | R13: (12.8) | S13: (3.3) | T13: (10.4) | U13: (2.9) | V13: (14.1) | W13: (3.4)
A14: Anlagen- und Maschinenbediener | B14: (9.2) | C14: (4.4) | D14: (9.0) | E14: (3.4) | F14: (7.1) | G14: (3.1) | H14: (5.5) | I14: (2.5) | J14: (6.8) | K14: (5.6) | L14: (5.6) | M14: (3.4) | N14: (3.3) | O14: (2.1) | P14: (6.3) | Q14: (3.3) | R14: (8.0) | S14: (5.3) | T14: (3.3) | U14: (2.6) | V14: (9.4) | W14: (5.2)
A15: Hilfsarbeitskräfte | B15: (3.7) | C15: (2.0) | D15: (1.6) | E15: (1.3) | F15: (1.0) | G15: (0.8) | H15: ( ) | I15: ( ) | J15: (2.8) | K15: (2.0) | L15: ( ) | M15: ( ) | N15: ( ) | O15: ( ) | P15: (2.2) | Q15: (1.6) | R15: (3.0) | S15: (2.0) | T15: (2.7) | U15: (2.0) | V15: (3.1) | W15: (2.3)
A16: - Wert ist null.
A17: (Zahl) Statistisch nur bedingt zuverlässig
A18: ( ) Entfällt, weil statistisch nicht sicher genug
A19: =Index!$A$10 -> Quelle: BFS – Schweizerische Arbeitskräfteerhebung (SAKE)
A20: =Index!$A$11 -> © BFS 2021
A21: =Index!$A$12 -> Auskunft: Bundesamt für Statistik (BFS), Bildungsindikatoren, EducIndicators@bfs.admin.ch
