Workbook
Name _T142222: [1]G3_sida!$C$1:$AH$10
Name _T142222: [2]G3_sida!$C$1:$AH$10
Name AbbLab: #REF!
Name agegroupssex: #REF!
Name dddd: #REF!
Name output_B0000: '[3]Erwerbsstatus B0000 Grafik'!#REF!
Name output_bild3: '[4]2006-07'!#REF!
Name output_heimat: [3]heimat!#REF!
Name output_salter6: [3]salter6!#REF!
Name output_sex: #REF!
Name output_sex: #REF!
Name output_shhtypb8: #REF!
Name output_shhtypb8: #REF!
Name output_TEF1R: '[3]TEF1R Grafik'!#REF!
Name output_wtyp: '[3]wtyp Grafik'!#REF!
Name p._1_SUISSES_ET_ÉTRANGERS: [5]dat_pres!$A$3
Name p._1_SUISSES_ET_ÉTRANGERS: [5]dat_pres!$A$3
Name p._1_SUISSES_ET_ÉTRANGERS: [6]dat_pres!$A$3
Name p._1_SUISSES_ET_ÉTRANGERS: [5]dat_pres!$A$3
Name p._1_SUISSES_ET_ÉTRANGERS: [7]dat_pres!$A$3
Name p._2_SUISSES: [5]dat_pres!$A$80
Name p._2_SUISSES: [5]dat_pres!$A$80
Name p._2_SUISSES: [6]dat_pres!$A$80
Name p._2_SUISSES: [5]dat_pres!$A$80
Name p._2_SUISSES: [7]dat_pres!$A$80
Name p._3_ÉTRANGERS: [5]dat_pres!$A$157
Name p._3_ÉTRANGERS: [5]dat_pres!$A$157
Name p._3_ÉTRANGERS: [6]dat_pres!$A$157
Name p._3_ÉTRANGERS: [5]dat_pres!$A$157
Name p._3_ÉTRANGERS: [7]dat_pres!$A$157
Name p._4_MOUVEMENT_NATUREL_DES_ETRANGERS: [5]dat_pres!$A$234
Name p._4_MOUVEMENT_NATUREL_DES_ETRANGERS: [5]dat_pres!$A$234
Name p._4_MOUVEMENT_NATUREL_DES_ETRANGERS: [6]dat_pres!$A$234
Name p._4_MOUVEMENT_NATUREL_DES_ETRANGERS: [5]dat_pres!$A$234
Name p._4_MOUVEMENT_NATUREL_DES_ETRANGERS: [7]dat_pres!$A$234
Name p._7_EEE: [5]dat_pres!$A$234
Name p._7_EEE: [5]dat_pres!$A$234
Name p._7_EEE: [6]dat_pres!$A$234
Name p._7_EEE: [5]dat_pres!$A$234
Name p._7_EEE: [7]dat_pres!$A$234
Name p._7_ÉTRANGERS: [5]dat_pres!$A$157
Name p._7_ÉTRANGERS: [5]dat_pres!$A$157
Name p._7_ÉTRANGERS: [6]dat_pres!$A$157
Name p._7_ÉTRANGERS: [5]dat_pres!$A$157
Name p._7_ÉTRANGERS: [7]dat_pres!$A$157
Name p._7_POPULATION_ACTIVE_DISPONIBLE: [8]dat_pres!$A$309
Name p._7_POPULATION_ACTIVE_DISPONIBLE: [8]dat_pres!$A$309
Name p._7_POPULATION_ACTIVE_DISPONIBLE: [9]dat_pres!$A$309
Name p._7_POPULATION_ACTIVE_DISPONIBLE: [8]dat_pres!$A$309
Name p._7_POPULATION_ACTIVE_DISPONIBLE: [10]dat_pres!$A$309
Name p._7_SUISSES: [5]dat_pres!$A$80
Name p._7_SUISSES: [5]dat_pres!$A$80
Name p._7_SUISSES: [6]dat_pres!$A$80
Name p._7_SUISSES: [5]dat_pres!$A$80
Name p._7_SUISSES: [7]dat_pres!$A$80
Name p._9_TAUX_D_ACTIVITÉ__EN_0_0: [5]dat_pres!$A$386
Name p._9_TAUX_D_ACTIVITÉ__EN_0_0: [5]dat_pres!$A$386
Name p._9_TAUX_D_ACTIVITÉ__EN_0_0: [6]dat_pres!$A$386
Name p._9_TAUX_D_ACTIVITÉ__EN_0_0: [5]dat_pres!$A$386
Name p._9_TAUX_D_ACTIVITÉ__EN_0_0: [7]dat_pres!$A$386

Sheet Sommaire
A1: Santé. Statistique de poche 2023
A2: Données des graphiques
A4: Sommaire
A5: G1 | B5: ='G1'!A2 -> Espérance de vie et espérance de vie en bonne santé, à la naissance
A6: G2 | B6: ='G2'!A2 -> Santé auto-évaluée et problème de santé de longue durée, en 2017
A7: G3 | B7: ='G3'!A2 -> Limitations fonctionnelles, en 2017
A8: G4 | B8: ='G4'!A2 -> Dépression modérée à grave, en 2017
A9: G5 | B9: ='G5'!A2 -> Traitement pour problèmes psychiques, en 2017
A10: G6 | B10: ='G6'!A2 -> Décès et personnes hospitalisées pour maladies cardiovasculaires
A11: G7 | B11: ='G7'!A2 -> Personnes souffrant d'hypertension, en 2017
A12: G8 | B12: ='G8'!A2 -> Personnes souffrant du diabète, en 2017
A13: G9 | B13: ='G9'!A2 -> Cancers (total)
A14: G10 | B14: ='G10'!A2 -> Cancers selon la localisation, 2015-2019
A15: G11 | B15: ='G11'!A2 -> Hospitalisations dues à la grippe selon l'âge, 2017-2021
A16: G12 | B16: ='G12'!A2 -> Hospitalisations de patients avec un diagnostic de COVID-19, en 2021
A17: G13 | B17: ='G13'!A2 -> Personnes hospitalisées pour pose de prothèse de la hanche, en 2021
A18: G14 | B18: ='G14'!A2 -> Naissances vivantes selon l’âge de la mère
A19: G15 | B19: ='G15'!A2 -> Principales causes de décès selon le groupe d’âge, en 2020
A20: G16 | B20: ='G16'!A2 -> Suicide assisté et suicide par âge, période 2016–2020
A21: G17 | B21: ='G17'!A2 -> Santé auto-évaluée (très) bonne selon le niveau de formation, en 2017
A22: G18 | B22: ='G18'!A2 -> Risques physiques et psychosociaux au travail, en 2017
A23: G19 | B23: ='G19'!A2 -> Activité physique insuffisante
A24: G20 | B24: ='G20'!A2 -> Surpoids et obésité
A25: G21 | B25: ='G21'!A2 -> Fumeurs selon le nombre de cigarettes par jour
A26: G22 | B26: ='G22'!A2 -> Consommation d’alcool à risque, en 2017
A27: G23 | B27: ='G23'!A2 -> Personnel des hôpitaux selon la fonction et le sexe, en 2021
A28: G24 | B28: ='G24'!A2 -> Durée moyenne de séjour dans les hôpitaux
A29: G25 | B29: ='G25'!A2 -> Coûts moyens des hôpitaux
A30: G26 | B30: ='G26'!A2 -> Cas d'hospitalisation selon l'âge, en 2021
A31: G27 | B31: ='G27'!A2 -> Groupes de diagnostics les plus fréquents, en 2021
A32: G28 | B32: ='G28'!A2 -> Personnel des établissements médico-sociaux
A33: G29 | B33: ='G29'!A2 -> Personnes hébergées en établissement médico-social, en 2021
A34: G30 | B34: ='G30'!A2 -> Durée de séjour dans les établissements médico-sociaux, en 2021
A35: G31 | B35: ='G31'!A2 -> Emploi dans les services d'aide et de soins à domicile
A36: G32 | B36: ='G32'!A2 -> Recours aux prestations des services d'aide et de soins à domicile, en 2021
A37: G33 | B37: ='G33'!A2 -> Recours à l'aide informelle, en 2017
A38: G34 | B38: ='G34'!A2 -> Domaine d'activité des médecins dans les cabinets médicaux, en 2020
A39: G35 | B39: ='G35'!A2 -> Consultations chez un prestataire de soins de santé, en 2017
A40: G36 | B40: ='G36'!A2 -> Dépenses de santé selon les prestations, en 2020
A41: G37 | B41: ='G37'!A2 -> Dépenses de santé en rapport au PIB
...

Sheet G1
A1: G1
A2: Espérance de vie et espérance de vie en bonne santé, à la naissance
A3: En années
B5: Hommes | C5: Femmes | D5: Hommes, en bonne santé | E5: Femmes, en bonne santé
A6: 1950 | B6: 66.64814 | C6: 71.088274
A7: 1951 | B7: 66.298389 | C7: 70.940135
A8: 1952 | B8: 67.257374 | C8: 71.871384
A9: 1953 | B9: 67.011228 | C9: 71.868468
A10: 1954 | B10: 67.55056 | C10: 72.281981
A11: 1955 | B11: 67.673037 | C11: 72.307503
A12: 1956 | B12: 67.661917 | C12: 72.632942
A13: 1957 | B13: 67.851343 | C13: 73.186139
A14: 1958 | B14: 68.535835 | C14: 73.939477
A15: 1959 | B15: 68.73397 | C15: 74.101569
A16: 1960 | B16: 68.67529 | C16: 74.110131
A17: 1961 | B17: 68.89694 | C17: 74.630478
... A47: 1991 | B47: 74.1 | C47: 81.2
A48: 1992 | B48: 74.5 | C48: 81.4 | D48: 63.9 | E48: 65.3
A49: 1993 | B49: 74.9 | C49: 81.5
A50: 1994 | B50: 75.2 | C50: 81.8
A51: 1995 | B51: 75.3 | C51: 81.8
A52: 1996 | B52: 76 | C52: 82
A53: 1997 | B53: 76.3 | C53: 82.1 | D53: 65.2 | E53: 64.7
A54: 1998 | B54: 76.3 | C54: 82.5
A55: 1999 | B55: 76.8 | C55: 82.5
A56: 2000 | B56: 76.9 | C56: 82.6
A57: 2001 | B57: 77.4 | C57: 83.1
A58: 2002 | B58: 77.8 | C58: 83.1 | D58: 67.5 | E58: 68.7
A59: 2003 | B59: 78 | C59: 83.2
A60: 2004 | B60: 78.6 | C60: 83.7
A61: 2005 | B61: 78.7 | C61: 83.9
A62: 2006 | B62: 79.1 | C62: 84
A63: 2007 | B63: 79.4 | C63: 84.2 | D63: 69.4 | E63: 70.3
A64: 2008 | B64: 79.7 | C64: 84.4
A65: 2009 | B65: 79.8 | C65: 84.4
A66: 2010 | B66: 80.2 | C66: 84.6
A67: 2011 | B67: 80.3 | C67: 84.7
A68: 2012* | B68: 80.5 | C68: 84.7 | D68: 67.695497 | E68: 67.904561
A69: 2013 | B69: 80.5 | C69: 84.8
A70: 2014 | B70: 81 | C70: 85.2
...

Sheet G2
A1: G2
A2: Santé auto-évaluée et problème de santé de longue durée, en 2017
A3: Population de 15 ans et plus vivant en ménage privé
B5: Santé auto-évaluée (très) bonne | D5: Problème de santé de longue durée
B6: % pop | C6: ± | D6: % pop | E6: ±
A7: 15-24 ans | B7: 94.9 | C7: 1 | D7: 16.7 | E7: 1.6
A8: 25-34 ans | B8: 93.3 | C8: 1.1 | D8: 22.5 | E8: 1.9
A9: 35-44 ans | B9: 90.1 | C9: 1.2 | D9: 25.2 | E9: 1.7
A10: 45-54 ans | B10: 84.8 | C10: 1.3 | D10: 33.5 | E10: 1.7
A11: 55-64 ans | B11: 77.4 | C11: 1.6 | D11: 43.6 | E11: 1.9
A12: 65-74 ans | B12: 77.1 | C12: 1.8 | D12: 45.3 | E12: 2.1
A13: 75+ ans | B13: 67 | C13: 2.3 | D13: 50.3 | E13: 2.4
A15: ±: limites de l'intervalle de confiance à 95%. Elles indiquent avec une probabilité de 95% la zone dans laquelle se trouve la valeur effective.
A17: Source: Office fédéral de la statistique, Enquête suisse sur la santé
A18: Publication: Office fédéral de la statistique, Santé. Statistique de poche 2023
A19: Renseignements: 058 463 67 00, gesundheit@bfs.admin.ch
A20: © OFS

Sheet G3
A1: G3
A2: Limitations fonctionnelles, en 2017
A3: Population de 15 ans et plus vivant en ménage privé
C5: Limitation légère | E5: Limitation importante ou complète
C6: % pop | D6: ± | E6: % pop | F6: ±
A7: Vue | B7: 15–39 ans | C7: 2.69 | D7: 0.425715 | E7: 0.44 | F7: 0.180031
B8: 40–64 ans | C8: 7.07 | D8: 0.579895 | E8: 1.06 | F8: 0.23338
B9: 65+ ans | C9: 8.5 | D9: 0.884665 | E9: 2.35 | F9: 0.51199
A10: Ouïe | B10: 15–39 ans | C10: 2.24 | D10: 0.381464 | E10: 0.53 | F10: 0.209914
B11: 40–64 ans | C11: 4.32 | D11: 0.47672 | E11: 1.09 | F11: 0.266909
B12: 65+ ans | C12: 10.76 | D12: 0.976219 | E12: 2.19 | F12: 0.465913
A13: Locomotion | B13: 15–39 ans | C13: 0.2 | D13: 0.096923 | E13: 0.3 | F13: 0.150828
B14: 40–64 ans | C14: 1.4 | D14: 0.2843 | E14: 0.53 | F14: 0.156967
B15: 65+ ans | C15: 4.39 | D15: 0.67521 | E15: 2.99 | F15: 0.56596
A16: Parole | B16: 15–39 ans | C16: 1.1 | D16: 0.265382 | E16: 0.28 | F16: 0.128735
B17: 40–64 ans | C17: 1.34 | D17: 0.270867 | E17: 0.41 | F17: 0.174694
B18: 65+ ans | C18: 2.64 | D18: 0.478105 | E18: 0.57 | F18: 0.257834
A20: ±: limites de l'intervalle de confiance à 95%. Elles indiquent avec une probabilité de 95% la zone dans laquelle se trouve la valeur effective.
A22: Source: Office fédéral de la statistique, Enquête suisse sur la santé
A23: Publication: Office fédéral de la statistique, Santé. Statistique de poche 2023
A24: Renseignements: 058 463 67 00, gesundheit@bfs.admin.ch
A25: © OFS

Sheet G4
A1: G4
A2: Dépression modérée à grave, en 2017
A3: Population de 15 ans et plus vivant en ménage privé
B5: Hommes | D5: Femmes
B6: % pop | C6: ± | D6: % pop | E6: ±
A7: 15-24 ans | B7: 12.264 | C7: 2.447135 | D7: 13.9126 | E7: 2.255151
A8: 25-34 ans | B8: 8.7717 | C8: 2.050193 | D8: 11.0829 | E8: 1.964912
A9: 35-44 ans | B9: 8.1497 | C9: 1.726234 | D9: 10.2996 | E9: 1.931617
A10: 45-54 ans | B10: 6.3396 | C10: 1.329742 | D10: 10.8754 | E10: 1.721757
A11: 55-64 ans | B11: 9.4684 | C11: 1.947446 | D11: 7.7685 | E11: 1.554567
A12: 65-74 ans | B12: 3.2642 | C12: 1.138526 | D12: 3.2244 | E12: 1.113791
A13: 75+ ans | B13: 3.7918 | C13: 1.542746 | D13: 6.732 | E13: 1.853836
A15: ±: limites de l'intervalle de confiance à 95%. Elles indiquent avec une probabilité de 95% la zone dans laquelle se trouve la valeur effective.
A17: Source: Office fédéral de la statistique, Enquête suisse sur la santé
A18: Publication: Office fédéral de la statistique, Santé. Statistique de poche 2023
A19: Renseignements: 058 463 67 00, gesundheit@bfs.admin.ch
A20: © OFS

Sheet G5
A1: G5
A2: Traitement pour problèmes psychiques, en 2017
A3: Sur une période d'une année. Population de 15 ans et plus vivant en ménage privé
B5: Hommes | D5: Femmes
B6: % pop | C6: ± | D6: % pop | E6: ±
A7: 15-24 ans | B7: 3.1589 | C7: 1.075794 | D7: 6.8891 | E7: 1.586744
A8: 25-34 ans | B8: 5.0097 | C8: 1.469489 | D8: 9.1227 | E8: 1.847965
A9: 35-44 ans | B9: 4.93 | C9: 1.273026 | D9: 10.2951 | E9: 1.781603
A10: 45-54 ans | B10: 6.4345 | C10: 1.318099 | D10: 8.9402 | E10: 1.451752
A11: 55-64 ans | B11: 5.5021 | C11: 1.311399 | D11: 8.9505 | E11: 1.576184
A12: 65-74 ans | B12: 2.11 | C12: 0.853723 | D12: 4.3648 | E12: 1.227619
A13: 75+ ans | B13: 0.8749 | C13: 0.635927 | D13: 2.0688 | E13: 0.899965
A15: ±: limites de l'intervalle de confiance à 95%. Elles indiquent avec une probabilité de 95% la zone dans laquelle se trouve la valeur effective.
A17: Source: Office fédéral de la statistique, Enquête suisse sur la santé
A18: Publication: Office fédéral de la statistique, Santé. Statistique de poche 2023
A19: Renseignements: 058 463 67 00, gesundheit@bfs.admin.ch
A20: © OFS

Sheet G6
A1: G6
A2: Décès et personnes hospitalisées pour maladies cardiovasculaires
B4: 2002 | C4: 2003 | D4: 2004 | E4: 2005 | F4: 2006 | G4: 2007 | H4: 2008 | I4: 2009 | J4: 2010 | K4: 2011 | L4: 2012 | M4: 2013 | N4: 2014 | O4: 2015 | P4: 2016 | Q4: 2017 | R4: 2018 | S4: 2019 | T4: 2020
A5: Hommes: décès | B5: 10427 | C5: 10574 | D5: 9887 | E5: 10320 | F5: 10110 | G5: 10107 | H5: 9861 | I5: 9872 | J5: 9924 | K5: 9470 | L5: 9745 | M5: 9719 | N5: 9483 | O5: 9715 | P5: 9357 | Q5: 9589 | R5: 9418 | S5: 9114 | T5: 9568
A6: Femmes: décès | B6: 13309 | C6: 13318 | D6: 12561 | E6: 12540 | F6: 12281 | G6: 12505 | H6: 12460 | I6: 12356 | J6: 12035 | K6: 11494 | L6: 11929 | M6: 11793 | N6: 11489 | O6: 11878 | P6: 11355 | Q6: 11453 | R6: 11178 | S6: 10787 | T6: 10943
A8: Hommes: pers. hospitalisées | B8: 50313 | C8: 50979 | D8: 52834 | E8: 55660 | F8: 54973 | G8: 56499 | H8: 57946 | I8: 56877 | J8: 60548 | K8: 60991 | L8: 61728 | M8: 61637 | N8: 64435 | O8: 64719 | P8: 64278 | Q8: 64030 | R8: 64356 | S8: 67351 | T8: 62367
A9: Femmes: pers. hospitalisées | B9: 45619 | C9: 45002 | D9: 45824 | E9: 46035 | F9: 46253 | G9: 47598 | H9: 47768 | I9: 47111 | J9: 48439 | K9: 48927 | L9: 49782 | M9: 49788 | N9: 50854 | O9: 50276 | P9: 49934 | Q9: 48562 | R9: 47896 | S9: 49766 | T9: 44753
A11: Source: Office fédéral de la statistique, Statistique des causes de décès (CoD) et statistique médicale des hôpitaux (MS)
A12: Publication: Office fédéral de la statistique, Santé. Statistique de poche 2023
A13: Renseignements: 058 463 67 00, gesundheit@bfs.admin.ch
A14: © OFS

Sheet G7
A1: G7
A2: Personnes souffrant d'hypertension, en 2017
A3: Population de 15 ans et plus vivant en ménage privé
C5: % pop | D5: ±
A6: Hommes | B6: 15-24 ans | C6: 2.3331 | D6: 0.933543
B7: 25-34 ans | C7: 3.3431 | D7: 1.309123
B8: 35-44 ans | C8: 6.3218 | D8: 1.461726
B9: 45-54 ans | C9: 15.2999 | D9: 1.877336
B10: 55-64 ans | C10: 31.5844 | D10: 2.701612
B11: 65-74 ans | C11: 43.2907 | D11: 3.080907
B12: 75+ ans | C12: 55.7534 | D12: 3.713543
A14: Femmes | B14: 15-24 ans | C14: 0.5832 | D14: 0.400885
B15: 25-34 ans | C15: 1.4874 | D15: 0.689501
B16: 35-44 ans | C16: 2.8255 | D16: 0.853172
B17: 45-54 ans | C17: 9.3466 | D17: 1.509722
B18: 55-64 ans | C18: 22.5173 | D18: 2.265707
B19: 65-74 ans | C19: 35.9685 | D19: 2.85538
B20: 75+ ans | C20: 57.1917 | D20: 3.437346
A22: Personnes déclarant avoir une tension artérielle trop élevée ou avoir pris des médicaments contre l’hypertension au cours des 7 jours précédant l'entretien
A24: ±: limites de l'intervalle de confiance à 95%. Elles indiquent avec une probabilité de 95% la zone dans laquelle se trouve la valeur effective.
A26: Source: Office fédéral de la statistique, Enquête suisse sur la santé
A27: Publication: Office fédéral de la statistique, Santé. Statistique de poche 2023
A28: Renseignements: 058 463 67 00, gesundheit@bfs.admin.ch
A29: © OFS

Sheet G8
A1: G8
A2: Personnes souffrant du diabète, en 2017
A3: Population de 15 ans et plus vivant en ménage privé
C5: % pop | D5: ±
A6: Hommes | B6: 15-24 ans | C6: 0.6421 | D6: 0.613105
B7: 25-34 ans | C7: 1.0584 | D7: 0.799412
B8: 35-44 ans | C8: 1.2728 | D8: 0.63287
B9: 45-54 ans | C9: 4.3898 | D9: 1.172757
B10: 55-64 ans | C10: 9.2361 | D10: 1.768735
B11: 65-74 ans | C11: 12.6926 | D11: 2.066766
B12: 75+ ans | C12: 14.9174 | D12: 2.693056
A14: Femmes | B14: 15-24 ans | C14: 0.9002 | D14: 0.665235
B15: 25-34 ans | C15: 0.8163 | D15: 0.576603
B16: 35-44 ans | C16: 0.9562 | D16: 0.509589
B17: 45-54 ans | C17: 1.8713 | D17: 0.611517
B18: 55-64 ans | C18: 5.5573 | D18: 1.392283
B19: 65-74 ans | C19: 7.3047 | D19: 1.66531
B20: 75+ ans | C20: 10.2594 | D20: 2.302102
A22: Personnes déclarant souffrir de diabète ou avoir pris des médicaments pour diminuer le taux de sucre dans le sang au cours des 7 jours précédant l'entretien
A24: ±: limites de l'intervalle de confiance à 95%. Elles indiquent avec une probabilité de 95% la zone dans laquelle se trouve la valeur effective.
A26: Source: Office fédéral de la statistique, Enquête suisse sur la santé
A27: Publication: Office fédéral de la statistique, Santé. Statistique de poche 2023
A28: Renseignements: 058 463 67 00, gesundheit@bfs.admin.ch
A29: © OFS

Sheet G9
A1: G9
A2: Cancers (total)
A3: Taux pour 100'000 habitants, standard européen
C5: 1990-1994 | D5: 1995-1999 | E5: 2000-2004 | F5: 2005-2009 | G5: 2010-2014 | H5: 2015-2019
A6: Hommes | B6: Incidence1 | C6: 436.84935 | D6: 446.48016 | E6: 458.94409 | F6: 456.23492 | G6: 436.71158 | H6: 432.95522
B7: Mortalité | C7: 257.41917 | D7: 220.18101 | E7: 202.92473 | F7: 185.09691 | G7: 170.1787 | H7: 153.21058
A9: Femmes | B9: Incidence1 | C9: 300.93288 | D9: 314.84209 | E9: 324.06905 | F9: 327.82175 | G9: 333.21877 | H9: 334.77832
B10: Mortalité | C10: 143.55341 | D10: 126.00891 | E10: 120.65563 | F10: 114.60056 | G10: 108.42993 | H10: 103.05531
A12: 1 Nouveaux cas estimés sur la base des données des registres des tumeurs, sans les cancers non mélaniques de la peau
A14: Source: Organe national d’enregistrement du cancer (ONEC) – nouveaux cas; Office fédéral de la statistique (OFS) – décès
A15: Publication: Office fédéral de la statistique, Santé. Statistique de poche 2023
A16: Renseignements: 058 463 67 00, gesundheit@bfs.admin.ch
A17: © OFS

Sheet G10
A1: G10
A2: Cancers selon la localisation, 2015-2019
A3: Nombre moyen par an
C5: Nouveaux cas1 | D5: Décès
A6: Hommes | B6: Prostate | C6: 7104.5344 | D6: 1361.6
B7: Poumon, bronches, trachée | C7: 2806.7738 | D7: 1971.2
B8: Côlon et rectum | C8: 2541.5143 | D8: 924.8
B9: Mélanome de la peau | C9: 1668.1876 | D9: 174.8
B10: Vessie | C10: 994.11666 | D10: 405.8
B11: Lymphome non hodgkinien | C11: 948.28027 | D11: 291.6
B12: Cavité buccale et pharynx | C12: 806.51004 | D12: 319.6
B13: Pancréas | C13: 797.27482 | D13: 683
B14: Rein | C14: 733.10581 | D14: 194
B15: Leucémie | C15: 722.37018 | D15: 331.2
B16: Foie | C16: 678.26839 | D16: 512.2
B17: Estomac | C17: 634.44906 | D17: 339.6
B18: Autres2 | C18: 4051 | D18: 1957
A20: Femmes | B20: Sein | C20: 6489.1107 | D20: 1400.4
B21: Côlon et rectum | C21: 1994.868 | D21: 752
B22: Poumon, bronches, trachée | C22: 1987.7541 | D22: 1301.4
B23: Mélanome de la peau | C23: 1439.4341 | D23: 125
B24: Corps de l'utérus | C24: 950.00699 | D24: 214.4
B25: Pancréas | C25: 797.58418 | D25: 711
B26: Lymphome non hodgkinien | C26: 730.0405 | D26: 244.6
B27: Ovaire | C27: 627.53082 | D27: 414.4
B28: Thyroïde | C28: 572.27878 | D28: 37.2
B29: Leucémie | C29: 466.73831 | D29: 251.8
B30: Cavité buccale et pharynx | C30: 386.84277 | D30: 125.4
B31: Estomac | C31: 353.23557 | D31: 203.4
B32: Autres2 | C32: 3701 | D32: 2014
A34: 1 Nouveaux cas, estimés à partir des données des registres du cancer
A35: 2 Nouveaux cas sans les cancers non mélaniques de la peau
A37: Source: Organe national d’enregistrement du cancer (ONEC) – nouveaux cas; Office fédéral de la statistique (OFS) – décès
A38: Publication: Office fédéral de la statistique, Santé. Statistique de poche 2023
A39: Renseignements: 058 463 67 00, gesundheit@bfs.admin.ch
A40: © OFS

Sheet G11
A1: G11
A2: Hospitalisations dues à la grippe selon l'âge, 2017-2021
A3: Moyenne annuelle; diagnostic principal
A5: Classe d'âge | B5: N
A6: 0-4 | B6: 304.4
A7: 5-9 | B7: 64
A8: 10-14 | B8: 20.4
A9: 15-19 | B9: 36.4
A10: 20-24 | B10: 37.2
A11: 25-29 | B11: 49.2
A12: 30-34 | B12: 55.2
A13: 35-39 | B13: 75.6
A14: 40-44 | B14: 72
A15: 45-49 | B15: 105.4
A16: 50-54 | B16: 141.2
A17: 55-59 | B17: 194.2
... A25: 95+ | B25: 62.2
A27: Source: Office fédéral de la statistique (OFS) – Statistique médicale des hôpitaux (MS)
A28: Publication: Office fédéral de la statistique, Santé. Statistique de poche 2023
A29: Renseignements: 058 463 67 00, gesundheit@bfs.admin.ch
A30: © OFS

Sheet G12
A1: G12
A2: Hospitalisations de patients avec un diagnostic de COVID-19, en 2021
A3: Selon la date de l'admission
A5: 2021 | B5: N
A6: janvier | B6: 8231
A7: février | B7: 4099
A8: mars | B8: 3635
A9: avril | B9: 4231
A10: mai | B10: 3113
A11: juin | B11: 1175
A12: juillet | B12: 593
A13: août | B13: 2492
A14: septembre | B14: 3070
A15: octobre | B15: 1775
A16: novembre | B16: 3278
A17: décembre | B17: 7601
A19: Source: Office fédéral de la statistique (OFS) – Statistique médicale des hôpitaux (MS)
A20: Publication: Office fédéral de la statistique, Santé. Statistique de poche 2023
A21: Renseignements: 058 463 67 00, gesundheit@bfs.admin.ch
A22: © OFS

Sheet G13
A1: G13
A2: Personnes hospitalisées pour pose de prothèse de la hanche, en 2021
B4: 0-14 ans | C4: 15-24 ans | D4: 25-34 ans | E4: 35-44 ans | F4: 45-54 ans | G4: 55-64 ans | H4: 65-74 ans | I4: 75-84 ans | J4: 85+ ans
A5: Hommes | B5: 3 | C5: 13 | D5: 77 | E5: 280 | F5: 1226 | G5: 2774 | H5: 3480 | I5: 3045 | J5: 1090
A6: Femmes | B6: 3 | C6: 11 | D6: 61 | E6: 220 | F6: 876 | G6: 2365 | H6: 4140 | I6: 4741 | J6: 2507
A9: Source: Office fédéral de la statistique, Statistique médicale des hôpitaux
A10: Publication: Office fédéral de la statistique, Santé. Statistique de poche 2023
A11: Renseignements: 058 463 67 00, gesundheit@bfs.admin.ch
A12: © OFS

Sheet G14
A1: G14
A2: Naissances vivantes selon l’âge de la mère
A3: En %
B5: 1970 | C5: 1980 | D5: 1990 | E5: 2000 | F5: 2010 | G5: 2020 | H5: 2021
A6: <25 ans | B6: 33.083374 | C6: 25.002376 | D6: 16.511991 | E6: 11.933773 | F6: 9.4 | G6: 5.0329399 | H6: 4.5557985
A7: 25-29 ans | B7: 35.846033 | C7: 39.821615 | D7: 40.816545 | E7: 29.137883 | F7: 24.6 | G7: 21.62395 | H7: 20.545714
A8: 30-34 ans | B8: 19.763949 | C8: 26.061281 | D8: 31.133323 | E8: 38.402712 | F8: 36.9 | G8: 39.944596 | H8: 40.609522
A9: 35-39 ans | B9: 8.6 | C9: 7.7 | D9: 10 | E9: 17.6 | F9: 23.3 | G9: 26.532346 | H9: 27.505466
A10: ≥40 ans | B10: 2.7 | C10: 1.4 | D10: 1.5 | E10: 2.9 | F10: 5.8 | G10: 6.8661685 | H10: 6.7834992
A12: Source: Office fédéral de la statistique, Statistique du mouvement naturel de la population (BEVNAT)
A13: Publication: Office fédéral de la statistique, Santé. Statistique de poche 2023
A14: Renseignements: 058 463 67 00, gesundheit@bfs.admin.ch
A15: © OFS

Sheet G15
A1: G15
A2: Principales causes de décès selon le groupe d’âge, en 2020
C4: 0 - 24 ans | D4: 25 - 44 ans | E4: 45 - 64 ans | F4: 65 - 84 ans | G4: 85+ ans
A5: Hommes | B5: Maladies cardiovasculaires | C5: 5 | D5: 81 | E5: 901 | F5: 4148 | G5: 4433
B6: Tumeurs malignes | C6: 27 | D6: 123 | E6: 1616 | F6: 5413 | G6: 2045
B7: COVID-19 | C7: 2 | D7: 10 | E7: 214 | F7: 2399 | G7: 2277
B8: Maladies de l'appareil respiratoire | C8: 4 | D8: 9 | E8: 161 | F8: 1020 | G8: 789
B9: Accidents et morts violentes (y compris suicide) | C9: 149 | D9: 316 | E9: 519 | F9: 662 | G9: 532
B10: Démence | C10: 0 | D10: 0 | E10: 13 | F10: 776 | G10: 1346
B11: Autres | C11: 244 | D11: 194 | E11: 1221 | F11: 3447 | G11: 2528
B12: Total | C12: 431 | D12: 733 | E12: 4645 | F12: 17865 | G12: 13950
A14: Femmes | B14: Maladies cardiovasculaires | C14: 6 | D14: 30 | E14: 270 | F14: 2808 | G14: 7829
B15: Tumeurs malignes | C15: 23 | D15: 148 | E15: 1410 | F15: 4180 | G15: 1945
B16: COVID-19 | C16: 0 | D16: 5 | E16: 81 | F16: 1439 | G16: 2867
B17: Maladies de l'appareil respiratoire | C17: 3 | D17: 4 | E17: 94 | F17: 736 | G17: 937
B18: Accidents et morts violentes (y compris suicide) | C18: 58 | D18: 115 | E18: 192 | F18: 428 | G18: 854
B19: Démence | C19: 0 | D19: 1 | E19: 20 | F19: 978 | G19: 3390
B20: Autres | C20: 171 | D20: 103 | E20: 579 | F20: 2664 | G20: 4203
B21: Total | C21: 261 | D21: 406 | E21: 2646 | F21: 13233 | G21: 22025
A23: Source: Office fédéral de la statistique, Statistique des causes de décès (CoD)
A24: Publication: Office fédéral de la statistique, Santé. Statistique de poche 2023
A25: Renseignements: 058 463 67 00, gesundheit@bfs.admin.ch
A26: © OFS

Sheet G16
A1: G16
A2: Suicide assisté et suicide par âge, période 2016–2020
A3: Nombre moyen de cas par an
B5: Suicide assisté | C5: Suicide
A6: 15 - 24 ans | B6: 0.2 | C6: 77.6
A7: 25 - 34 ans | B7: 1.8 | C7: 100.6
A8: 35 - 44 ans | B8: 7.8 | C8: 114.8
A9: 45 - 54 ans | B9: 37 | C9: 192.6
A10: 55 -64 ans | B10: 94.2 | C10: 191
A11: 65 - 74 ans | B11: 228.8 | C11: 138.6
A12: 75 - 84 ans | B12: 351.2 | C12: 128.8
A13: 85 - 94 ans | B13: 343.2 | C13: 59.4
A14: 95+ ans | B14: 47.8 | C14: 2.8
A16: Source: Office fédéral de la statistique, Statistique des causes de décès (CoD)
A17: Publication: Office fédéral de la statistique, Santé. Statistique de poche 2023
A18: Renseignements: 058 463 67 00, gesundheit@bfs.admin.ch
A19: © OFS

Sheet G17
A1: G17
A2: Santé auto-évaluée (très) bonne selon le niveau de formation, en 2017
A3: Population de 25 ans et plus vivant en ménage privé
C5: % pop. | D5: ±
A6: 25-44 ans | B6: Scolarité obligatoire | C6: 82.21 | D6: 3.391806
B7: Degré secondaire II | C7: 90.64 | D7: 1.266685
B8: Degré tertiaire | C8: 94.82 | D8: 0.999835
A9: 45-64 ans | B9: Scolarité obligatoire | C9: 63.24 | D9: 3.241665
B10: Degré secondaire II | C10: 80.89 | D10: 1.494448
B11: Degré tertiaire | C11: 89.21 | D11: 1.37509
A12: 65+ ans | B12: Scolarité obligatoire | C12: 58.27 | D12: 3.330262
B13: Degré secondaire II | C13: 74.13 | D13: 1.934281
B14: Degré tertiaire | C14: 81.94 | D14: 2.499158
A16: ±: limites de l'intervalle de confiance à 95%. Elles indiquent avec une probabilité de 95% la zone dans laquelle se trouve la valeur effective.
A18: Source: Office fédéral de la statistique, Enquête suisse sur la santé
A19: Publication: Office fédéral de la statistique, Santé. Statistique de poche 2023
A20: Renseignements: 058 463 67 00, gesundheit@bfs.admin.ch
A21: © OFS

Sheet G18
A1: G18
A2: Risques physiques et psychosociaux au travail, en 2017
A3: Population active occupée de 15 à 64 ans
B5: Hommes | D5: Femmes
B6: % pop. | C6: ± | D6: % pop. | E6: ±
A7: Mouvements répétitifs 1 | B7: 61.0657 | C7: 1.535268 | D7: 60.8682 | E7: 1.526448
A8: Positions douloureuses, fatigantes 1 | B8: 45.8421 | C8: 1.573096 | D8: 50.3513 | E8: 1.568784
A9: Soulever, déplacer de lourdes charges 1 | B9: 36.0966 | C9: 1.514688 | D9: 27.4083 | E9: 1.401988
A10: Produits nocifs ou toxiques 1 | B10: 26.1123 | C10: 1.389836 | D10: 15.1079 | E10: 1.124256
A12: Cadences de travail élevées2 | B12: 45.8689 | C12: 1.57094 | D12: 44.3215 | E12: 1.56898
A13: Ressentir du stress3 | B13: 20.8665 | C13: 1.30144 | D13: 21.6501 | E13: 1.318884
A14: Crainte de perdre son emploi4 | B14: 15.8022 | C14: 1.131704 | D14: 15.9487 | E14: 1.168552
A15: Intimidations, harcèlement moral, mobbing5 | B15: 6.5765 | C15: 0.823788 | D15: 7.7079 | E15: 0.87906
A17: 1 Le quart du temps au moins
A18: 2 les trois quarts du temps ou plus
A19: 3 la plupart du temps ou toujours
A20: 4 passablement, beaucoup
A21: 5 oui
A23: ±: limites de l'intervalle de confiance à 95%. Elles indiquent avec une probabilité de 95% la zone dans laquelle se trouve la valeur effective.
A25: Source: Office fédéral de la statistique, Enquête suisse sur la santé
A26: Publication: Office fédéral de la statistique, Santé. Statistique de poche 2023
A27: Renseignements: 058 463 67 00, gesundheit@bfs.admin.ch
A28: © OFS

Sheet G19
A1: G19
A2: Activité physique insuffisante
A3: Population de 15 ans et plus vivant en ménage privé
C5: Inactif | E5: Actif partiel
C6: % pop | D6: ± | E6: % pop | F6: ±
A7: Hommes | B7: 2002 | C7: 15.2436 | D7: 0.992541 | E7: 17.5445 | F7: 1.066091
B8: 2007 | C8: 13.1515 | D8: 0.980236 | E8: 17.7745 | F8: 1.044816
B9: 2012 | C9: 8.699 | D9: 0.755204 | E9: 15.4303 | F9: 0.915064
B10: 2017 | C10: 7.2446 | D10: 0.599049 | E10: 14.9458 | F10: 0.828625
A12: Femmes | B12: 2002 | C12: 21.3973 | D12: 1.002676 | E12: 20.9029 | F12: 1.016105
B13: 2007 | C13: 16.7785 | D13: 0.916773 | E13: 19.5745 | F13: 1.012308
B14: 2012 | C14: 12.7678 | D14: 0.803912 | E14: 18.2134 | F14: 0.893288
B15: 2017 | C15: 9.0471 | D15: 0.63425 | E15: 17.3816 | F15: 0.822834
A17: Actif partiel : par semaine 1 x activité physique intense ou 30 à 149 minutes d’activité modérée
A18: Inactif : activité physique inférieure à ce seuil
A20: ±: limites de l'intervalle de confiance à 95%. Elles indiquent avec une probabilité de 95% la zone dans laquelle se trouve la valeur effective.
A22: Source: Office fédéral de la statistique, Enquête suisse sur la santé
A23: Publication: Office fédéral de la statistique, Santé. Statistique de poche 2023
A24: Renseignements: 058 463 67 00, gesundheit@bfs.admin.ch
A25: © OFS

Sheet G20
A1: G20
A2: Surpoids et obésité
A3: Population de 15 ans et plus vivant en ménage privé
C5: Obésité | E5: Surpoids
C6: % pop | D6: ± | E6: % pop | F6: ±
A7: Hommes | B7: 1992 | C7: 6.1 | D7: 0.7 | E7: 33.2 | F7: 1.3
B8: 1997 | C8: 6.7 | D8: 0.7 | E8: 35.6 | F8: 1.4
B9: 2002 | C9: 7.9 | D9: 0.7 | E9: 37.7 | F9: 1.3
B10: 2007 | C10: 8.6 | D10: 0.7 | E10: 38.1 | F10: 1.3
B11: 2012 | C11: 11.2 | D11: 0.8 | E11: 39.3 | F11: 1.2
B12: 2017 | C12: 12.3 | D12: 0.7 | E12: 38.7 | F12: 1.1
A14: Femmes | B14: 1992 | C14: 4.7 | D14: 0.5 | E14: 17.2 | F14: 1
B15: 1997 | C15: 7 | D15: 0.7 | E15: 21.2 | F15: 1.1
B16: 2002 | C16: 7.4 | D16: 0.6 | E16: 21.9 | F16: 1
B17: 2007 | C17: 7.8 | D17: 0.7 | E17: 20.9 | F17: 1
B18: 2012 | C18: 9.4 | D18: 0.7 | E18: 22.6 | F18: 1
B19: 2017 | C19: 10.2 | D19: 0.7 | E19: 22.8 | F19: 0.9
A21: ±: limites de l'intervalle de confiance à 95%. Elles indiquent avec une probabilité de 95% la zone dans laquelle se trouve la valeur effective.
A23: Obésité: IMC ≥ 30
A24: Surpoids: IMC entre 25 et 29,9
A25: IMC (indice de masse corporelle): : poids (en kilos) divisé par la taille (en mètre) au carré
A29: Source: Office fédéral de la statistique, Enquête suisse sur la santé
A30: Publication: Office fédéral de la statistique, Santé. Statistique de poche 2023
A31: Renseignements: 058 463 67 00, gesundheit@bfs.admin.ch
A32: © OFS

Sheet G21
A1: G21
A2: Fumeurs selon le nombre de cigarettes par jour
A3: Population de 15 ans et plus vivant en ménage privé
C5: ≥20 cigarettes | E5: ≤ 19 cigarettes
C6: % pop | D6: ± | E6: % pop | F6: ±
A7: Hommes | B7: 1992 | C7: 17.3934 | D7: 1.05 | E7: 19.3 | F7: 1.1187435
B8: 1997 | C8: 15.9154 | D8: 1.072 | E8: 23.1 | F8: 1.250107
B9: 2002 | C9: 13.4637 | D9: 0.931 | E9: 22.2 | F9: 1.173164
B10: 2007 | C10: 9.6881 | D10: 0.815 | E10: 22.3 | F10: 1.188868
B11: 2012 | C11: 8.9695 | D11: 0.739 | E11: 23.3 | F11: 1.104124
B12: 2017 | C12: 7.8938 | D12: 0.652 | E12: 22.8 | F12: 1.011724
A14: Femmes | B14: 1992 | C14: 7.7408 | D14: 0.635 | E14: 16.4 | F14: 0.926582
B15: 1997 | C15: 8.985 | D15: 0.742 | E15: 18.9 | F15: 1.042659
B16: 2002 | C16: 7.2805 | D16: 0.614 | E16: 18.1 | F16: 0.9622125
B17: 2007 | C17: 5.0332 | D17: 0.521 | E17: 18.5 | F17: 0.9942685
B18: 2012 | C18: 4.2938 | D18: 0.479 | E18: 20.1 | F18: 0.9530645
B19: 2017 | C19: 3.5335 | D19: 0.403 | E19: 19.8 | F19: 0.8868285
A21: ±: limites de l'intervalle de confiance à 95%. Elles indiquent avec une probabilité de 95% la zone dans laquelle se trouve la valeur effective.
A23: Source: Office fédéral de la statistique, Enquête suisse sur la santé
A24: Publication: Office fédéral de la statistique, Santé. Statistique de poche 2023
A25: Renseignements: 058 463 67 00, gesundheit@bfs.admin.ch
A26: © OFS

Sheet G22
A1: G22
A2: Consommation d’alcool à risque, en 2017
A3: Population de 15 ans et plus vivant en ménage privé
C5: Ivresse ponctuelle au moins une fois par mois | E5: Consommation chronique à risque
C6: % pop | D6: ± | E6: % pop | F6: ±
A7: Hommes | B7: 15-24 ans | C7: 30.1 | D7: 2.9 | E7: 4.8793 | F7: 1.295338
B8: 25-34 ans | C8: 30.3 | D8: 3.1 | E8: 5.0951 | F8: 1.490823
B9: 35-44 ans | C9: 20.3 | D9: 2.4 | E9: 3.1852 | F9: 1.036106
B10: 45-54 ans | C10: 18.5 | D10: 2 | E10: 5.2243 | F10: 1.212886
B11: 55-64 ans | C11: 16.5 | D11: 2.2 | E11: 5.6594 | F11: 1.431286
B12: 65-74 ans | C12: 14.3 | D12: 2.2 | E12: 6.6741 | F12: 1.509149
B13: 75+ ans | C13: 7.9 | D13: 2 | E13: 6.9139 | F13: 1.813124
A15: Femmes | B15: 15-24 ans | C15: 23.9 | D15: 2.6 | E15: 5.6672 | F15: 1.328411
B16: 25-34 ans | C16: 14.2 | D16: 2.2 | E16: 3.6929 | F16: 1.183275
B17: 35-44 ans | C17: 11.6 | D17: 1.8 | E17: 2.1654 | F17: 0.703738
B18: 45-54 ans | C18: 9.1 | D18: 1.5 | E18: 3.5241 | F18: 0.903181
B19: 55-64 ans | C19: 9 | D19: 1.5 | E19: 3.656 | F19: 0.956294
B20: 65-74 ans | C20: 6.1 | D20: 1.3 | E20: 5.6722 | F20: 1.269605
B21: 75+ ans | C21: 2.4 | D21: 1 | E21: 6.0806 | F21: 1.596793
A23: Ivresse ponctuelle: en verres standard d'alcool en une occasion : H: ≥ 5 , F: ≥ 4
A24: Consommation chronique à risque, en verres standard d'alcool par jour: H: ≥ 4 , F: ≥ 2
A26: ±: limites de l'intervalle de confiance à 95%. Elles indiquent avec une probabilité de 95% la zone dans laquelle se trouve la valeur effective.
A28: Source: Office fédéral de la statistique, Enquête suisse sur la santé
A29: Publication: Office fédéral de la statistique, Santé. Statistique de poche 2023
A30: Renseignements: 058 463 67 00, gesundheit@bfs.admin.ch
A31: © OFS

Sheet G23
A1: G23
A2: Personnel des hôpitaux selon la fonction et le sexe, en 2021
A3: En équivalents plein temps
B5: Médecins | C5: Personnel soignant et services sociaux | D5: Autres disciplines médicales | E5: Administration, personnel de maison et technique
A6: Hommes | B6: 13147.92 | C6: 12813.25 | D6: 6708.04 | E6: 18965.45
A7: Femmes | B7: 13017.15 | C7: 60914.15 | D7: 18488.89 | E7: 33815.67
A10: Source: Office fédéral de la statistique, Statistique des hôpitaux
A11: Publication: Office fédéral de la statistique, Santé. Statistique de poche 2023
A12: Renseignements: 058 463 67 00, gesundheit@bfs.admin.ch
A13: © OFS

Sheet G24
A1: G24
A2: Durée moyenne de séjour dans les hôpitaux
A3: En jours
B5: 2002 | C5: 2003 | D5: 2004 | E5: 2005 | F5: 2006 | G5: 2007 | H5: 2008 | I5: 2009 | J5: 2010 | K5: 2011 | L5: 2012 | M5: 2013 | N5: 2014 | O5: 2015 | P5: 2016 | Q5: 2017 | R5: 2018 | S5: 2019 | T5: 2020 | U5: 2021
A6: Soins aigus | B6: 9.147113 | C6: 9.0073407 | D6: 8.781887 | E6: 8.5464827 | F6: 8.2035219 | G6: 7.7610739 | H6: 7.6515584 | I6: 7.5043883 | J6: 6.7339142 | K6: 6.6073312 | L6: 6.1782793 | M6: 6.0273769 | N6: 5.872164 | O6: 5.5231705 | P6: 5.4408657 | Q6: 5.333288 | R6: 5.2911582 | S6: 5.2426273 | T6: 5.1959033 | U6: 5.1251868
A7: Psychiatrie | B7: 55.457905 | C7: 54.693578 | D7: 52.878519 | E7: 50.633851 | F7: 48.328377 | G7: 45.636682 | H7: 43.963282 | I7: 43.684629 | J7: 39.684319 | K7: 37.265877 | L7: 36.834418 | M7: 35.581791 | N7: 34.764689 | O7: 33.047627 | P7: 32.472081 | Q7: 31.823326 | R7: 32.066576 | S7: 32.37263 | T7: 33.026754 | U7: 32.552256
A8: Réadaptation / gériatrie | B8: 30.465961 | C8: 29.998468 | D8: 29.100233 | E8: 28.066208 | F8: 27.492715 | G8: 26.674988 | H8: 26.57179 | I8: 26.468631 | J8: 26.340989 | K8: 26.201107 | L8: 24.697288 | M8: 24.58708 | N8: 24.000628 | O8: 22.944026 | P8: 22.606731 | Q8: 22.463745 | R8: 22.527801 | S8: 22.515192 | T8: 22.687714 | U8: 22.00067
A10: Rupture chronologique à partir de 2015: nouvelle définition et nouvelle source de données
A12: Source: OFS - Statistique des hôpitaux (KS), statistique médicale des hôpitaux (MS) dès 2015
A13: Publication: Office fédéral de la statistique, Santé. Statistique de poche 2023
A14: Renseignements: 058 463 67 00, gesundheit@bfs.admin.ch
A15: © OFS

Sheet G25
A1: G25
A2: Coûts moyens des hôpitaux
A3: En francs par journée et par patiente ou patient
B5: Soins aigus | C5: Psychiatrie | D5: Réadaptation / gériatrie
A6: 2002 | B6: 1228.0123 | C6: 567.86646 | D6: 520.63004
A7: 2003 | B7: 1284.2023 | C7: 577.72829 | D7: 548.07603
A8: 2004 | B8: 1306.2232 | C8: 571.85295 | D8: 567.31006
A9: 2005 | B9: 1362.1407 | C9: 595.95366 | D9: 595.68748
A10: 2006 | B10: 1397.7362 | C10: 611.8566 | D10: 591.7531
A11: 2007 | B11: 1471.4566 | C11: 651.23922 | D11: 582.52143
A12: 2008 | B12: 1528.2775 | C12: 687.63141 | D12: 603.91911
A13: 2009 | B13: 1597.8867 | C13: 716.84155 | D13: 651.8953
A14: 2010 | B14: 1620.4783 | C14: 597.7407 | D14: 645.42451
A15: 2011 | B15: 1691.2113 | C15: 650.03189 | D15: 672.69858
A16: 2012 | B16: 1911.1391 | C16: 677.77797 | D16: 724.18109
A17: 2013 | B17: 1997.1106 | C17: 711.59494 | D17: 736.56805
... A25: 2021 | B25: 2492.4782 | C25: 760.55211 | D25: 850.48901
A26: Rupture chronologique à partir de 2010: révision du relevé
A28: Source: Office fédéral de la statistique, Statistique des hôpitaux
A29: Publication: Office fédéral de la statistique, Santé. Statistique de poche 2023
A30: Renseignements: 058 463 67 00, gesundheit@bfs.admin.ch
A31: © OFS

Sheet G26
A1: G26
A2: Cas d'hospitalisation selon l'âge, en 2021
B4: Hommes | C4: Femmes | D4: Séjours attribués aux grossesses et aux accouchements
A5: 0-41 | B5: 23596 | C5: 18204
A6: 5-9 | B6: 7203 | C6: 5160
A7: 10-14 | B7: 8487 | C7: 8551 | D7: 3
A8: 15-19 | B8: 15210 | C8: 17307 | D8: 432
A9: 20-24 | B9: 17345 | C9: 16253 | D9: 5810
A10: 25-29 | B10: 19016 | C10: 17940 | D10: 24016
A11: 30-34 | B11: 21341 | C11: 21122 | D11: 41389
A12: 35-39 | B12: 23136 | C12: 23855 | D12: 25522
A13: 40-44 | B13: 25459 | C13: 26587 | D13: 5446
A14: 45-49 | B14: 30773 | C14: 31158 | D14: 367
A15: 50-54 | B15: 42331 | C15: 39492 | D15: 38
A16: 55-59 | B16: 54884 | C16: 44725 | D16: 2
A17: 60-64 | B17: 58298 | C17: 45552
A18: 65-69 | B18: 57969 | C18: 46956
A19: 70-74 | B19: 65237 | C19: 57540
A20: 75-79 | B20: 67782 | C20: 65787
A21: 80-84 | B21: 52126 | C21: 60194
A22: 85-89 | B22: 36785 | C22: 50267
A23: 90-94 | B23: 15265 | C23: 26272
A24: 95+ | B24: 3199 | C24: 7437
A26: 1 Sans les nouveau-nés
A28: Source: Office fédéral de la statistique, Statistique médicale des hôpitaux
A29: Publication: Office fédéral de la statistique, Santé. Statistique de poche 2023
A30: Renseignements: 058 463 67 00, gesundheit@bfs.admin.ch
A31: © OFS

Sheet G27
A1: G27
A2: Groupes de diagnostics les plus fréquents, en 2021
A3: Nombre d'hospitalisations
B5: Femmes | C5: Hommes
A6: Lésions (blessures) | B6: 92951 | C6: 90580
A7: Système ostéo-articulaire | B7: 98737 | C7: 78331
A8: Appareil circulatoire | B8: 62729 | C8: 91426
A9: Tumeurs | B9: 65055 | C9: 63434
A10: Appareil digestif | B10: 55303 | C10: 62806
A11: Troubles mentaux | B11: 57202 | C11: 51933
A12: Grossesse, accouchement | B12: 103026 | C12: 3
A13: Appareil respiratoire | B13: 40520 | C13: 53430
A14: Appareil génito-urinaire | B14: 39618 | C14: 41561
A16: Chapitres de la CIM-10, sans le chapitre XXI "Facteurs influant sur l'état de santé"
A18: Source: Office fédéral de la statistique, Statistique médicale des hôpitaux
A19: Publication: Office fédéral de la statistique, Santé. Statistique de poche 2023
A20: Renseignements: 058 463 67 00, gesundheit@bfs.admin.ch
A21: © OFS

Sheet G28
A1: G28
A2: Personnel des établissements médico-sociaux
A3: En équivalents plein temps
B5: 2006 | C5: 2007 | D5: 2008 | E5: 2009 | F5: 2010 | G5: 2011 | H5: 2012 | I5: 2013 | J5: 2014 | K5: 2015 | L5: 2016 | M5: 2017 | N5: 2018 | O5: 2019 | P5: 2020 | Q5: 2021
A6: Hommes | B6: 12199.34 | C6: 12641.958 | D6: 12930.464 | E6: 13449.521 | F6: 13979.797 | G6: 14663.766 | H6: 15348.071 | I6: 16001.505 | J6: 16678.536 | K6: 17090.301 | L6: 17701.271 | M6: 18487.48 | N6: 19289.035 | O6: 20169.777 | P6: 20812.016 | Q6: 21097.895
A7: Femmes | B7: 58333.866 | C7: 59997.652 | D7: 61269.445 | E7: 63077.832 | F7: 64872.749 | G7: 66428.109 | H7: 69029.045 | I7: 71166.166 | J7: 72729.621 | K7: 73424.086 | L7: 74783.13 | M7: 75969.701 | N7: 77164.091 | O7: 78610.489 | P7: 79734.008 | Q7: 79263.58
A8: Total | B8: 70533.206 | C8: 72639.611 | D8: 74199.908 | E8: 76527.353 | F8: 78852.546 | G8: 81091.875 | H8: 84377.117 | I8: 87167.67 | J8: 89408.157 | K8: 90514.387 | L8: 92484.401 | M8: 94457.181 | N8: 96453.126 | O8: 98780.266 | P8: 100546.02 | Q8: 100361.47
A10: Source: Office fédéral de la statistique, Statistique des institutions médico-sociales
A11: Publication: Office fédéral de la statistique, Santé. Statistique de poche 2023
A12: Renseignements: 058 463 67 00, gesundheit@bfs.admin.ch
A13: © OFS

Sheet G29
A1: G29
A2: Personnes hébergées en établissement médico-social, en 2021
A3: Taux d'hébergement selon la classe d'âge, au 31.12, en %
B5: Hommes | C5: Femmes
A6: 65-69 ans | B6: 0.69741345 | C6: 0.64128012
A7: 70-74 ans | B7: 1.190148 | C7: 1.3240438
A8: 75-79 ans | B8: 2.2538076 | C8: 2.9836391
A9: 80-84 ans | B9: 4.433424 | C9: 7.4326231
A10: 85-89 ans | B10: 9.8050168 | C10: 17.263935
A11: 90-94 ans | B11: 19.477015 | C11: 33.333333
A12: 95+ ans | B12: 33.340951 | C12: 51.607562
A14: Source: Office fédéral de la statistique, Statistique des institutions médico-sociales, Statistique de la population et des ménages
A15: Publication: Office fédéral de la statistique, Santé. Statistique de poche 2023
A16: Renseignements: 058 463 67 00, gesundheit@bfs.admin.ch
A17: © OFS

Sheet G30
A1: G30
A2: Durée de séjour dans les établissements médico-sociaux, en 2021
A3: Personnes sorties de l'établissement en 2020
B5: Hommes | C5: Femmes
A6: < 1 an | B6: 7757 | C6: 10051
A7: 1-<3 an | B7: 3199 | C7: 5659
A8: 3-<5 ans | B8: 1484 | C8: 3562
A9: 5+ ans | B9: 1334 | C9: 4276
A12: Source: Office fédéral de la statistique, Statistique des institutions médico-sociales
A13: Publication: Office fédéral de la statistique, Santé. Statistique de poche 2023
A14: Renseignements: 058 463 67 00, gesundheit@bfs.admin.ch
A15: © OFS

Sheet G31
A1: G31
A2: Emploi dans les services d'aide et de soins à domicile
A3: En équivalents plein temps
B5: 2002 | C5: 2003 | D5: 2004 | E5: 2005 | F5: 2006 | G5: 2007 | H5: 2008 | I5: 2009 | K5: 2010 | L5: 2011 | M5: 2012 | N5: 2013 | O5: 2014 | P5: 2015 | Q5: 2016 | R5: 2017 | S5: 2018 | T5: 2019 | U5: 2020 | V5: 2021
A6: Entreprises à but non lucratif | B6: 10299 | C6: 10643 | D6: 10781 | E6: 11043 | F6: 11491 | G6: 11959.7 | H6: 12480.4 | I6: 12978.3 | K6: 13828 | L6: 14395 | M6: 14808.74 | N6: 15288.65 | O6: 15820.77 | P6: 16477.57 | Q6: 17274.49 | R6: 18017.74 | S6: 18343.22 | T6: 19089.25 | U6: 19499.59 | V6: 20147.13
A7: Entreprises à but lucratif | K7: 1620 | L7: 1757 | M7: 2239.35 | N7: 2282.57 | O7: 2503.37 | P7: 3275.54 | Q7: 3422.64 | R7: 4029.3 | S7: 4535.31 | T7: 4916.14 | U7: 5486.96 | V7: 6076.85
A8: Infirmiers/ères indépendants | K8: 236 | L8: 336 | M8: 366.41 | N8: 409.39 | O8: 457.57 | P8: 495.55 | Q8: 563.52 | R8: 612.75 | S8: 675.2 | T8: 749.64 | U8: 871.87 | V8: 909.78
A10: Modification du relevé en 2010, avec intégration des entreprises privées et des infirmières et infirmiers indépendants
A12: Source: Office fédéral de la statistique, Statistique de l’aide et des soins à domicile
A13: Publication: Office fédéral de la statistique, Santé. Statistique de poche 2023
A14: Renseignements: 058 463 67 00, gesundheit@bfs.admin.ch
A15: © OFS

Sheet G32
A1: G32
A2: Recours aux prestations des services d'aide et de soins à domicile, en 2021
A3: Part de la population selon la classe d'âge, en %
B5: Hommes | C5: Femmes
A6: 0-64 ans | B6: 1.7434473 | C6: 1.9803921
A7: 65-79 ans | B7: 10.407477 | C7: 11.100618
A8: 80+ ans | B8: 33.751432 | C8: 41.266664
A10: Source: Office fédéral de la statistique, Statistique de l’aide et des soins à domicile
A11: Publication: Office fédéral de la statistique, Santé. Statistique de poche 2023
A12: Renseignements: 058 463 67 00, gesundheit@bfs.admin.ch
A13: © OFS

Sheet G33
A1: G33
A2: Recours à l'aide informelle, en 2017
A3: Sur une période d'une année. Population de 15 ans et plus vivant en ménage privé
C5: % pop | D5: ±
A6: Hommes | B6: Moins de 65 ans | C6: 9.9 | D6: 0.80811
B7: 65-79 ans | C7: 9.5 | D7: 1.532867
B8: 80+ ans | C8: 15.6 | D8: 3.738251
A10: Femmes | B10: Moins de 65 ans | C10: 13.9 | D10: 0.858393
B11: 65-79 ans | C11: 15.5 | D11: 1.8327855
B12: 80+ ans | C12: 29.5 | D12: 4.108678
A14: ±: limites de l'intervalle de confiance à 95%. Elles indiquent avec une probabilité de 95% la zone dans laquelle se trouve la valeur effective.
A16: Source: Office fédéral de la statistique, Enquête suisse sur la santé
A17: Publication: Office fédéral de la statistique, Santé. Statistique de poche 2023
A18: Renseignements: 058 463 67 00, gesundheit@bfs.admin.ch
A19: © OFS

Sheet G34
A1: G34
A2: Domaine d'activité des médecins dans les cabinets médicaux, en 2020
A3: En équivalents plein temps
A5: Médecine de premier recours1 | B5: 6415.3
A6: Psychiatrie | B6: 2428
A7: Gynécologie et obstétrique | B7: 992.8
A8: Médecine spécialisée sans activité chirurgicale | B8: 1529.3
A9: Médecine spécialisée avec activité chirurgicale | B9: 2178.8
A10: Autre domaine de spécialisation | B10: 947.7
A11: Autre domaine d'activité2 | B11: 1219.5
A12: Total | B12: 15711.4
A14: 1 Titres de spécialiste: médecine interne générale et pédiatrie; médecin praticien
A15: 2 Activité principale ne correspondant à aucun titre de formation médicale post-graduée du médecin
A17: Source: OFS - Données structurelles des cabinets médicaux et des centres ambulatoires (MAS)
A18: Publication: Office fédéral de la statistique, Santé. Statistique de poche 2023
A19: Renseignements: 058 463 67 00, gesundheit@bfs.admin.ch
A20: © OFS

Sheet G35
A1: G35
A2: Consultations chez un prestataire de soins de santé, en 2017
A3: Population de 15 ans et plus vivant en ménage privé
B6: Au moins une consultation au cours des 12 derniers mois, en % | C6: Nombre annuel moyen de consultations par patient/e
A7: Médecin généraliste | B7: 70,7 | C7: 3.204
A8: Dentiste | B8: 59,6 | C8: 1.731
A9: Hygiéniste dentaire | B9: 56.7309 | C9: 1.322204
A10: Physiothérapeute | B10: 21.1603 | C10: 11.738382
A11: Naturopathe | B11: 8.8064 | C11: 4.824016
A12: Psychologue | B12: 7.958 | C12: 11.42543
A13: Chiropraticien | B13: 5.0353 | C13: 5.065255
A16: Source: Office fédéral de la statistique, Enquête suisse sur la santé
A17: Publication: Office fédéral de la statistique, Santé. Statistique de poche 2023
A18: Renseignements: 058 463 67 00, gesundheit@bfs.admin.ch
A19: © OFS

Sheet G36
A1: G36
A2: Dépenses de santé selon les prestations, en 2020
A3: En millions de francsp
A6: Total | B6: 83310.761
A7: Soins curatifs ambulatoires | B7: 20177.76
A8: Soins de longue durée | B8: 17209.26
A9: Soins curatifs hospitaliers | B9: 16223.163
A10: Biens de santé | B10: 12693.542
A11: Services auxiliaires | B11: 6772.7321
A12: Réadaptation | B12: 3769.6824
A13: Administration | B13: 3447.123
A14: Prévention | B14: 3017.4983
A16: p Données provisoires
A18: Source: OFS - Statistique du coût et du financement du système de santé (COU)
A19: Publication: Office fédéral de la statistique, Santé. Statistique de poche 2023
A20: Renseignements: 058 463 67 00, gesundheit@bfs.admin.ch
A21: © OFS

Sheet G37
A1: G37
A2: Dépenses de santé en rapport au PIB
B4: En %
A5: 1995 | B5: 8.6
A6: 1996 | B6: 9
A7: 1997 | B7: 9
A8: 1998 | B8: 9.1
A9: 1999 | B9: 9.2
A10: 2000 | B10: 9.1
A11: 2001 | B11: 9.4
A12: 2002 | B12: 9.9
A13: 2003 | B13: 10.1
A14: 2004 | B14: 10.2
A15: 2005 | B15: 10
A16: 2006 | B16: 9.5
... A29: 2019 | B29: 11.3
A30: 2020p | B30: 11.8
A32: p Données provisoires
A34: Source: OFS - Statistique du coût et du financement du système de santé (COU)
A35: Publication: Office fédéral de la statistique, Santé. Statistique de poche 2023
A36: Renseignements: 058 463 67 00, gesundheit@bfs.admin.ch
A37: © OFS

Sheet G38
A1: G38
A2: Dépenses de santé dans les pays de l'OCDE, en 2020
A3: Dépenses de santé en rapport au produit intérieur brutp
B5: En %
A6: Royaume-Uni | B6: 12,8
A7: Allemagne | B7: 12,5
A8: France | B8: 12,4
A9: Suisse | B9: 11,8
A10: Autriche | B10: 11,5
A11: Suède | B11: 11,4
A12: Norvège | B12: 11,3
A13: Pays-Bas | B13: 11,2
A14: Islande | B14: 9,8
A15: Italie | B15: 9,7
A16: Finlande | B16: 9,6
A17: Irlande | B17: 7,2
A19: p Données provisoires
A21: Source: OFS - Statistique du coût et du financement du système de santé (COU); OCDE, Statistiques sur la santé 2022
A22: Publication: Office fédéral de la statistique, Santé. Statistique de poche 2023
A23: Renseignements: 058 463 67 00, gesundheit@bfs.admin.ch
A24: © OFS

Sheet G39
A1: G39
A2: Financement des dépenses de santé selon la source et par habitant, en 2020
A3: Francs par moisp
B5: 2020
A6: Etat: paiements pour des prestations | B6: 174.96181
A7: Etat: subventions aux assurances sociales et prestations sociales (y c. réduction primes LAMal et, dès 2008, prest. sociales sous condition de ressources) | B7: 97.800401
A8: Entreprises: cotisations aux assurances sociales | B8: 53.490554
A9: Ménages privés: primes de l'assurance maladie de base (LAMal) | B9: 251.77843
A10: Ménages privés: primes des assurances complémentaires | B10: 41.577754
A11: Ménages privés: participation aux frais (LAMal et assurances privées) et paiements "out of pocket" | B11: 173.83714
A12: Ménages privés: autres financements | B12: 10.261904
A14: p Données provisoires
A16: Source: OFS - Statistique du coût et du financement du système de santé (COU)
A17: Publication: Office fédéral de la statistique, Santé. Statistique de poche 2023
A18: Renseignements: 058 463 67 00, gesundheit@bfs.admin.ch
A19: © OFS
