Workbook
Name IDX: 'T1'!#REF!

Sheet Sommaire
A1: Le soutien des employeurs à la formation continue
A2: Données des graphiques et des tableaux
A4: Sommaire
A5: G1 | B5: ='G1'!A1 -> Participation à la formation continue selon le soutien de l'employeur et le but, en 2021
A6: G2 | B6: ='G2'!A1 -> Formes de soutien de l'employeur aux participants de la formation continue, en 2021
A7: G3 | B7: ='G3'!A1 -> Formes de soutien de l'employeur des activités de formation continue, en 2021
A8: G4 | B8: ='G4'!A1 -> Répartition du soutien en temps de travail selon le soutien financier accordé par l'employeur pour la formation continue, en 2021
A9: G5 | B9: ='G5'!A1 -> Formes de soutien de l'employeur des heures de formation continue, en 2021
A10: G6 | B10: ='G6'!A1 -> Intensité du soutien financier de l'employeur de la formation continue, en 2021
A11: G7 | B11: ='G7'!A1 -> Intensité du soutien de l'employeur en temps de travail de la formation continue, en 2021
A12: G8 | B12: ='G8'!A1 -> Répartition des activités de formation continue selon le thème, en 2021
A13: G9 | B13: ='G9'!A1 -> Part des formations continues soutenues par l'employeur selon le thème, en 2021
A14: G10 | B14: ='G10'!A1 -> Durée totale des activités de formation continue soutenues par l'employeur, en 2021
A15: G11 | B15: ='G11'!A1 -> Part des activités de formation continue soutenues par l'employeur selon leur durée totale, en 2021
A16: G12 | B16: =CONCATENATE('G12'!A1," – facteurs socio-démographiques") -> Participation à la formation continue à but professionnel selon le soutien de l'employeur, en 2021 – facteurs socio-démographiques
A17: G13 | B17: =CONCATENATE('G13'!A1," – facteurs liés à la profession") -> Participation à la formation continue à but professionnel selon le soutien de l'employeur, en 2021 – facteurs liés à la profession
A18: G14 | B18: =CONCATENATE('G14'!A1," – facteurs liés à l'entreprise") -> Participation à la formation continue à but professionnel selon le soutien de l'employeur, en 2021 – facteurs liés à l'entreprise
A19: T1 | B19: ='T1'!A1 -> Thèmes des formations continues soutenues par l'employeur dans les sections économiques, en 2021
A20: T2 | B20: ='T2'!A1 -> Thèmes des formations continues soutenues par l'employeur selon la situation dans la profession, en 2021
A21: TA1 | B21: ='TA1'!A1 -> Modèle de régression sur la participation soutenue à la formation continue à but professionnel, en 2021
A22: TA2 | B22: ='TA2'!A1 -> Modèle de régression sur le soutien à la formation continue à but professionnel, en 2021
A24: Données complémentaires
A25: A1 | B25: ='A1'!A1 -> Durée des activités de formation continue selon le soutien de l'employeur et le but, en 2021
A27: Publication: OFS – Microrecensement formation de base et formation continue 2021. Le soutien des employeurs à la formation continue
A28: Renseignements: weiterbildung@bfs.admin.ch
A29: © OFS 2024

Sheet G1
A1: Participation à la formation continue selon le soutien de l'employeur et le but, en 2021
A2: En % des actifs occupés âgés de 25 à 64 ans | G2: G1
B3: Participation soutenue par l'employeur | D3: Participation non soutenue par l'employeur | F3: Aucune activité de formation
B4: % | C4: ±1 | D4: % | E4: ±1 | F4: % | G4: ±1
A5: Total | B5: 47.33434 | C5: 1.11505 | D5: 7.10003 | E5: 0.56552 | F5: 45.56563 | G5: 1.11131
A6: Activités à but professionnel | B6: 45.96836 | C6: 1.11288 | D6: 3.46188 | E6: 0.40322 | F6: 50.56976 | G6: 1.11561
A7: Activités à but extra-professionnel | B7: 3.91028 | C7: 0.4275 | D7: 11.77204 | E7: 0.71236 | F7: 84.31768 | G7: 0.80368
A8: 1 Intervalle de confiance à 95 %
A9: Source: OFS – Microrecensement formation de base et formation continue 2021
A10: Publication: OFS – Microrecensement formation de base et formation continue 2021. Le soutien des employeurs à la formation continue
A11: © OFS 2024
A12: Renseignements: weiterbildung@bfs.admin.ch

Sheet G2
A1: Formes de soutien de l'employeur aux participants de la formation continue, en 2021
A2: En % des actifs occupés de 25 à 64 ans qui ont participé à la formation continue à but professionnel | I2: G2
B3: Soutien financier et en temps de travail | D3: Soutien en temps de travail uniquement | F3: Soutien financier uniquement | H3: Pas de soutien de l'employeur
B4: % | C4: ±1 | D4: % | E4: ±1 | F4: % | G4: ±1 | H4: % | I4: ±1
A5: Participants à la formation | B5: 80.54568 | C5: 1.24294 | D5: 6.6388 | E5: 0.76242 | F5: 5.81194 | G5: 0.74909 | H5: 7.00357 | I5: 0.80128
A6: 1 Intervalle de confiance à 95 %
A7: Source: OFS – Microrecensement formation de base et formation continue 2021
A8: Publication: OFS – Microrecensement formation de base et formation continue 2021. Le soutien des employeurs à la formation continue
A9: © OFS 2024
A10: Renseignements: weiterbildung@bfs.admin.ch

Sheet G3
A1: Formes de soutien de l'employeur des activités de formation continue, en 2021
A2: En % des activités de formation continue à but professionnel suivies par les actifs occupés âgés de 25 à 64 ans | I2: G3
B3: Soutien financier et en temps de travail | D3: Soutien en temps de travail uniquement | F3: Soutien financier uniquement | H3: Pas de soutien de l'employeur
B4: % | C4: ±1 | D4: % | E4: ±1 | F4: % | G4: ±1 | H4: % | I4: ±1
A5: Activités de formation | B5: 72.41628 | C5: 0.86995 | D5: 8.57952 | E5: 0.53815 | F5: 7.97294 | G5: 0.53333 | H5: 11.03126 | I5: 0.60846
A6: 1 Intervalle de confiance à 95 %
A7: Source: OFS – Microrecensement formation de base et formation continue 2021
A8: Publication: OFS – Microrecensement formation de base et formation continue 2021. Le soutien des employeurs à la formation continue
A9: © OFS 2024
A10: Renseignements: weiterbildung@bfs.admin.ch

Sheet G4
A1: Répartition du soutien en temps de travail selon le soutien financier accordé par l'employeur pour la formation continue, en 2021
A2: En % des activités de formation à but professionnel suivies par les actifs occupés âgés de 25 à 64 ans de chaque groupe | M2: G4
B3: L'employeur a payé la totalité (100%) | D3: L'employeur a payé plus des trois quarts (76%–99%) | F3: L'employeur a payé de la moitié à trois quarts (51%–75%) | H3: L'employeur a payé entre un quart et la moitié (25%–50%) | J3: L'employeur a payé moins du quart (1%–24%) | L3: L'employeur n'a rien payé (0%)
B4: % | C4: ±1 | D4: % | E4: ±1 | F4: % | G4: ±1 | H4: % | I4: ±1 | J4: % | K4: ±1 | L4: % | M4: ±1
A5: Total | B5: 100 | D5: 100 | F5: 100 | H5: 100 | J5: 100 | L5: 100
A6: Exclusivement pendant les heures de travail | B6: 69.548425 | C6: 1.0508 | D6: 32.479506 | E6: 5.01499 | F6: 16.590049 | G6: 6.65701 | H6: 9.4646219 | I6: 4.66705 | J6: 11.655137 | K6: 6.22411 | L6: 18.179069 | M6: 1.69286
A7: Majoritairement pendant les heures de travail | B7: 16.457076 | C7: 0.84104 | D7: 35.49773 | E7: 5.04789 | F7: 40.694293 | G7: 8.48792 | H7: 26.751687 | I7: 7.29521 | J7: 21.849074 | K7: 9.18199 | L7: 11.261457 | M7: 1.35552
A8: Majoritairement en dehors des heures de travail | B8: 5.2607166 | C8: 0.51163 | D8: 14.397345 | E8: 3.86296 | F8: 24.165512 | G8: 7.3653 | H8: 31.079042 | I8: 7.83226 | J8: 40.281688 | K8: 10.09644 | L8: 15.224956 | M8: 1.59775
A9: Exclusivement en dehors des heures de travail | B9: 8.7337822 | C9: 0.64511 | D9: 17.625419 | E9: 4.0583 | F9: 18.550146 | G9: 6.45533 | H9: 32.704649 | I9: 8.11594 | J9: 26.214101 | K9: 9.49037 | L9: 55.334518 | M9: 3.25487
A10: 1 Intervalle de confiance à 95 %
A11: Source: OFS – Microrecensement formation de base et formation continue 2021
A12: Publication: OFS – Microrecensement formation de base et formation continue 2021. Le soutien des employeurs à la formation continue
A13: © OFS 2024
A14: Renseignements: weiterbildung@bfs.admin.ch

Sheet G5
A1: Formes de soutien de l'employeur des heures de formation continue, en 2021
A2: En % des heures de formation continue à but professionnel suivies par les actifs occupés âgés de 25 à 64 ans | I2: G5
B3: Soutien financier et en temps de travail | D3: Soutien en temps de travail uniquement | F3: Soutien financier uniquement | H3: Pas de soutien de l'employeur
B4: % | C4: ±1 | D4: % | E4: ±1 | F4: % | G4: ±1 | H4: % | I4: ±1
A5: Heures de formation | B5: 58.43156 | C5: 4.54609 | D5: 11.01021 | E5: 2.14637 | F5: 10.43778 | G5: 4.54675 | H5: 20.12044 | I5: 3.27898
A6: 1 Intervalle de confiance à 95 %
A7: Source: OFS – Microrecensement formation de base et formation continue 2021
A8: Publication: OFS – Microrecensement formation de base et formation continue 2021. Le soutien des employeurs à la formation continue
A9: © OFS 2024
A10: Renseignements: weiterbildung@bfs.admin.ch

Sheet G6
A1: Intensité du soutien financier de l'employeur de la formation continue, en 2021
A2: En % des heures et des activités de formation continue à but professionnel suivies par les actifs occupés âgés de 25 à 64 ans. | M2: G6
B3: L'employeur a payé la totalité (100%) | D3: L'employeur a payé plus des trois quarts (76%–99%) | F3: L'employeur a payé de la moitié à trois quarts (51%–75%) | H3: L'employeur a payé entre un quart et la moitié (25%–50%) | J3: L'employeur a payé moins du quart (1%–24%) | L3: L'employeur n'a rien payé (0%)
B4: % | C4: ±1 | D4: % | E4: ±1 | F4: % | G4: ±1 | H4: % | I4: ±1 | J4: % | K4: ±1 | L4: % | M4: ±1
A5: Heures de formation | B5: 54.33484 | C5: 4.35896 | D5: 6.11324 | E5: 2.94541 | F5: 2.47285 | G5: 0.77582 | H5: 4.07423 | I5: 1.42449 | J5: 2.00612 | K5: 0.93017 | L5: 30.99872 | M5: 5.51783
A6: Activités de formation | B6: 73.46253 | C6: 0.86478 | D6: 3.51753 | E6: 0.36778 | F6: 1.36073 | G6: 0.23303 | H6: 1.45448 | I6: 0.24314 | J6: 0.9249 | K6: 0.1927 | L6: 19.27984 | M6: 0.95408
A7: Remarque: Les données en italique ne sont pas représentées dans le graphique, mais citées dans la publication.
A8: 1 Intervalle de confiance à 95 %
A9: Source: OFS – Microrecensement formation de base et formation continue 2021
A10: Publication: OFS – Microrecensement formation de base et formation continue 2021. Le soutien des employeurs à la formation continue
A11: © OFS 2024
A12: Renseignements: weiterbildung@bfs.admin.ch

Sheet G7
A1: Intensité du soutien de l'employeur en temps de travail de la formation continue, en 2021
A2: En % des heures et des activités de formation continue à but professionnel suivies par les actifs occupés âgés de 25 à 64 ans | I2: G7
B3: Exclusivement pendant les heures de travail | D3: Majoritairement pendant les heures de travail | F3: Majoritairement en dehors des heures de travail | H3: Exclusivement en dehors des heures de travail
B4: % | C4: ±1 | D4: % | E4: ±1 | F4: % | G4: ±1 | H4: % | I4: ±1
A5: Heures de formation | B5: 39.53148 | C5: 4.30545 | D5: 18.15987 | E5: 2.59241 | F5: 11.81844 | G5: 1.95788 | H5: 30.49021 | I5: 6.68933
A6: Activités de formation | B6: 56.18736 | C6: 0.97063 | D6: 16.63887 | E6: 0.72235 | F6: 8.4448 | G6: 0.54741 | H6: 18.72896 | I6: 0.9509
A7: Remarque: Les données en italique ne sont pas représentées dans le graphique, mais citées dans la publication.
A8: 1 Intervalle de confiance à 95 %
A9: Source: OFS – Microrecensement formation de base et formation continue 2021
A10: Publication: OFS – Microrecensement formation de base et formation continue 2021. Le soutien des employeurs à la formation continue
A11: © OFS 2024
A12: Renseignements: weiterbildung@bfs.admin.ch

Sheet G8
A1: Répartition des activités de formation continue selon le thème, en 2021
A2: En % des activités de formation continue à but professionnel suivies par les actifs occupés âgés de 25 à 64 ans | C2: G8
B3: Activités de formation
B4: % | C4: ±1
A5: Total | B5: 100
A6: Gestion, finances et assurances | B6: 21.859536 | C6: 0.80739334
A7: Santé et médecine | B7: 17.963629 | C7: 0.75207896
A8: Informatique et bureautique | B8: 16.897058 | C8: 0.73567855
A9: Production, industrie et services | B9: 13.037816 | C9: 0.67191995
A10: Sciences naturelles et sociales | B10: 7.5993919 | C10: 0.52011862
A11: Autre | B11: 6.1270757 | C11: 0.47295167
A12: Enseignement et pédagogie | B12: 6.1232701 | C12: 0.4714384
A13: Développement personnel et bien-être | B13: 4.6471203 | C13: 0.4099885
A14: Langues | B14: 3.0995103 | C14: 0.34514353
A15: Arts, sports et loisirs | B15: 2.6455934 | C15: 0.31572516
A16: 1 Intervalle de confiance à 95 %
A17: Source: OFS – Microrecensement formation de base et formation continue 2021
A18: Publication: OFS – Microrecensement formation de base et formation continue 2021. Le soutien des employeurs à la formation continue
A19: © OFS 2024
A20: Renseignements: weiterbildung@bfs.admin.ch

Sheet G9
A1: Part des formations continues soutenues par l'employeur selon le thème, en 2021
A2: En % des activités de formation continue à but professionnel de chaque thème suivies par les actifs occupés âgés de 25 à 64 ans | C2: G9
B3: Activités de formation
B4: % | C4: ±1
A5: Informatique et bureautique | B5: 95.06743 | C5: 1.02209
A6: Production, industrie et services | B6: 94.80628 | C6: 1.22617
A7: Gestion, finances et assurances | B7: 92.68216 | C7: 1.08389
A8: Enseignement et pédagogie | B8: 88.65245 | C8: 2.49445
A9: Sciences naturelles et sociales | B9: 87.86647 | C9: 2.33271
A10: Développement personnel et bien-être | B10: 86.81029 | C10: 3.03952
A11: Autres | B11: 86.1349 | C11: 2.72713
A12: Santé et médecine | B12: 85.61458 | C12: 1.59902
A13: Arts, sports et loisirs | B13: 75.034 | C13: 4.97439
A14: Langues | B14: 57.28894 | C14: 5.58877
A15: 1 Intervalle de confiance à 95 %
A16: Source: OFS – Microrecensement formation de base et formation continue 2021
A17: Publication: OFS – Microrecensement formation de base et formation continue 2021. Le soutien des employeurs à la formation continue
A18: © OFS 2024
A19: Renseignements: weiterbildung@bfs.admin.ch

Sheet G10
A1: Durée totale des activités de formation continue soutenues par l'employeur, en 2021
A2: En % des activités de formation continue à but professionnel suivies par les actifs occupés âgés de 25 à 64 ans | I2: G10
B3: Moins de 8 heures | D3: Entre 8 et 40 heures | F3: Entre 40 et 200 heures | H3: Plus de 200 heures
B4: % | C4: ±1 | D4: % | E4: ±1 | F4: % | G4: ±1 | H4: % | I4: ±1
A5: Activités de formation | B5: 53.17393 | C5: 1.04816 | D5: 35.59922 | E5: 1.00599 | F5: 9.3519 | G5: 0.61484 | H5: 1.87495 | I5: 0.29486
A6: 1 Intervalle de confiance à 95 %
A7: Source: OFS – Microrecensement formation de base et formation continue 2021
A8: Publication: OFS – Microrecensement formation de base et formation continue 2021. Le soutien des employeurs à la formation continue
A9: © OFS 2024
A10: Renseignements: weiterbildung@bfs.admin.ch

Sheet G11
A1: Part des activités de formation continue soutenues par l'employeur selon leur durée totale, en 2021
A2: En % des activités de formation continue à but professionnel de chaque groupe suivies par les actifs occupés âgés de 25 à 64 ans | C2: G11
B3: Activités de formation
B4: % | C4: ±1
A5: Moins de 8 heures | B5: 92.3418 | C5: 0.71465
A6: Entre 8 et 40 heures | B6: 89.47565 | C6: 1.01131
A7: Entre 40 et 200 heures | B7: 77.15844 | C7: 2.52508
A8: Plus de 200 heures | B8: 75.12824 | C8: 5.89715
A9: 1 Intervalle de confiance à 95 %
A10: Source: OFS – Microrecensement formation de base et formation continue 2021
A11: Publication: OFS – Microrecensement formation de base et formation continue 2021. Le soutien des employeurs à la formation continue
A12: © OFS 2024
A13: Renseignements: weiterbildung@bfs.admin.ch

Sheet G12
A1: Participation à la formation continue à but professionnel selon le soutien de l'employeur, en 2021
A2: En % des actifs occupés de 25 à 64 ans de chaque groupe | H2: G12
A3: Facteurs socio-démographiques | C3: Participation soutenue par l'employeur | E3: Participation non soutenue par l'employeur | G3: Aucune activité à but professionnel
C4: % | D4: ±1 | E4: % | F4: ±1 | G4: % | H4: ±1
A5: Total | C5: 45.96836 | D5: 1.11288 | E5: 3.46188 | F5: 0.40322 | G5: 50.56976 | H5: 1.11561
A6: Sexe
B7: Femmes | C7: 45.22581 | D7: 1.5977 | E7: 4.77538 | F7: 0.6784 | G7: 49.99881 | H7: 1.6033
B8: Hommes | C8: 46.6505 | D8: 1.5528 | E8: 2.25525 | F8: 0.45548 | G8: 51.09426 | H8: 1.55577
A9: Classes d'âge
B10: 25–29 ans | C10: 45.80941 | D10: 3.55166 | E10: 4.52661 | F10: 1.41979 | G10: 49.66398 | H10: 3.5632
B11: 30–34 ans | C11: 48.64906 | D11: 3.16329 | E11: 3.42792 | F11: 1.10121 | G11: 47.92301 | H11: 3.16283
B12: 35–39 ans | C12: 46.74659 | D12: 3.03562 | E12: 4.27221 | F12: 1.22405 | G12: 48.9812 | H12: 3.04475
B13: 40–44 ans | C13: 49.00299 | D13: 2.95843 | E13: 2.8662 | F13: 0.98924 | G13: 48.13081 | H13: 2.95372
B14: 45–49 ans | C14: 48.40244 | D14: 2.95782 | E14: 3.88892 | F14: 1.17178 | G14: 47.70864 | H14: 2.95165
B15: 50–54 ans | C15: 45.42237 | D15: 2.94281 | E15: 2.35406 | F15: 0.86695 | G15: 52.22358 | H15: 2.95151
B16: 55–59 ans | C16: 42.51019 | D16: 2.94251 | E16: 3.35806 | F16: 1.09808 | G16: 54.13175 | H16: 2.96706
B17: 60–64 ans | C17: 37.43424 | D17: 3.90888 | E17: 3.04419 | F17: 1.25598 | G17: 59.52157 | H17: 3.95074
A18: Niveau de formation
B19: Ecole obligatoire | C19: 15.85141 | D19: 2.58371 | E19: 2.54336 | F19: 1.10746 | G19: 81.60523 | H19: 2.73787
B20: Degré secondaire II: professionnel | C20: 38.43997 | D20: 1.89045 | E20: 2.37131 | F20: 0.5981 | G20: 59.18872 | H20: 1.90928
B21: Degré secondaire II: général | C21: 42.07841 | D21: 3.99007 | E21: 4.52926 | F21: 1.62702 | G21: 53.39233 | H21: 4.02939
B22: Formation professionnelle supérieure | C22: 56.47533 | D22: 2.75776 | E22: 2.94446 | F22: 0.96858 | G22: 40.58021 | H22: 2.72672
B23: Haute école | C23: 59.57093 | D23: 1.91191 | E23: 4.862 | F23: 0.81255 | G23: 35.56707 | H23: 1.86641
A24: Statut migratoire
B25: Non issu de la migration | C25: 51.57049 | D25: 1.47179 | E25: 3.04069 | F25: 0.50511 | G25: 45.38883 | H25: 1.46559
B26: Issu de la migration: 1e génération | C26: 37.45739 | D26: 1.85486 | E26: 4.2514 | F26: 0.75304 | G26: 58.29121 | H26: 1.88721
B27: Issu de la migration: 2e génération | C27: 43.25709 | D27: 3.95876 | E27: 3.3763 | F27: 1.40969 | G27: 53.36661 | H27: 3.98372
A28: Grandes régions
B29: Région lémanique | C29: 41.86731 | D29: 2.23596 | E29: 3.88994 | F29: 0.85486 | G29: 54.24276 | H29: 2.25522
B30: Espace Mittelland | C30: 47.54467 | D30: 2.60468 | E30: 2.91245 | F30: 0.86971 | G30: 49.54288 | H30: 2.60713
B31: Suisse du Nord-Ouest | C31: 47.12479 | D31: 2.99844 | E31: 3.02076 | F31: 1.03036 | G31: 49.85444 | H31: 3.00204
B32: Zurich | C32: 48.1351 | D32: 2.61342 | E32: 4.19901 | F32: 1.01892 | G32: 47.66589 | H32: 2.61504
B33: Suisse orientale | C33: 46.74348 | D33: 3.28432 | E33: 3.5379 | F33: 1.23085 | G33: 49.71862 | H33: 3.28789
B34: Suisse centrale | C34: 46.32907 | D34: 3.11861 | E34: 3.26415 | F34: 1.11506 | G34: 50.40679 | H34: 3.13521
B35: Tessin | C35: 35.63871 | D35: 4.20272 | E35: 2.65898 | F35: 1.38119 | G35: 61.70231 | H35: 4.26321
A36: Remarque: par participation, on entend la participation à au moins une formation continue à but professionnel dans les 12 mois précédent l'enquête. Si au moins une de ces formations est soutenue financièrement et/ou en temps de travail, la personne est considérée comme soutenue par son employeur.
A37: 1 Intervalle de confiance à 95 %
A38: Source: OFS – Microrecensement formation de base et formation continue 2021
A39: Publication: OFS – Microrecensement formation de base et formation continue 2021. Le soutien des employeurs à la formation continue
A40: © OFS 2024
A41: Renseignements: weiterbildung@bfs.admin.ch

Sheet G13
A1: Participation à la formation continue à but professionnel selon le soutien de l'employeur, en 2021
A2: En % des actifs occupés de 25 à 64 ans de chaque groupe | H2: G13
A3: Facteurs liés à la profession | C3: Participation soutenue par l'employeur | E3: Participation non soutenue par l'employeur | G3: Aucune activité à but professionnel
C4: % | D4: ±1 | E4: % | F4: ±1 | G4: % | H4: ±1
A5: Total | C5: 45.96836 | D5: 1.11288 | E5: 3.46188 | F5: 0.40322 | G5: 50.56976 | H5: 1.11561
A6: Situation dans la profession
B7: Indépendants | C7: 31.20846 | D7: 2.5963 | E7: 5.6899 | F7: 1.2724 | G7: 63.10164 | H7: 2.7006
B8: Salariés sans fonction dirigeante | C8: 45.98916 | D8: 1.41713 | E8: 3.18699 | F8: 0.49454 | G8: 50.82385 | H8: 1.42056
B9: Salariés avec fonction dirigeante | C9: 57.85083 | D9: 2.35456 | E9: 2.66741 | F9: 0.7657 | G9: 39.48176 | H9: 2.33062
A10: Taux d'occupation
B11: Plein temps (90%–100%) | C11: 48.15808 | D11: 1.37192 | E11: 2.81525 | F11: 0.45261 | G11: 49.02667 | H11: 1.37227
B12: Temps partiel I (50%–89%) | C12: 47.29963 | D12: 2.31032 | E12: 4.13895 | F12: 0.89921 | G12: 48.56142 | H12: 2.311
B13: Temps partiel II (< 50%) | C13: 30.08104 | D13: 3.28955 | E13: 6.34138 | F13: 1.71209 | G13: 63.57757 | H13: 3.43924
A14: Type de contrat de travail
B15: Contrat à durée déterminée | C15: 38.11111 | D15: 4.37075 | E15: 6.63446 | F15: 2.26697 | G15: 55.25443 | H15: 4.49111
B16: Contrat à durée indéterminée | C16: 49.59655 | D16: 1.2639 | E16: 2.76479 | F16: 0.40952 | G16: 47.63866 | H16: 1.26196
A17: Ancienneté dans l'entreprise
B18: moins 1 an | C18: 32.11065 | D18: 5.69005 | E18: 12.39558 | F18: 3.95991 | G18: 55.49377 | H18: 6.0525
B19: de 1 à 3 ans | C19: 48.50535 | D19: 2.42412 | E19: 4.47908 | F19: 0.95509 | G19: 47.01558 | H19: 2.41678
B20: de 3 à 5 ans | C20: 44.81532 | D20: 2.9474 | E20: 3.41023 | F20: 1.06527 | G20: 51.77445 | H20: 2.96449
B21: de 5 à 10 ans | C21: 50.78607 | D21: 2.35334 | E21: 3.3576 | F21: 0.8461 | G21: 45.85633 | H21: 2.34384
B22: 10 ans ou plus | C22: 44.56641 | D22: 1.8164 | E22: 2.0683 | F22: 0.51501 | G22: 53.36529 | H22: 1.82252
A23: Profession exercée (grand groupe de professions CH-ISCO-19)
B24: Dirigeants, cadres supérieurs | C24: 54.607 | D24: 3.22644 | E24: 3.26782 | F24: 1.16578 | G24: 42.12518 | H24: 3.19769
B25: Professions intellectuelles et scientifiques | C25: 62.22861 | D25: 2.03304 | E25: 4.70705 | F25: 0.8516 | G25: 33.06434 | H25: 1.97762
B26: Professions intermédiaires | C26: 49.93084 | D26: 2.6227 | E26: 3.33522 | F26: 0.93231 | G26: 46.73395 | H26: 2.61625
B27: Employés de type administratif | C27: 39.25147 | D27: 3.35948 | E27: 2.69445 | F27: 1.19264 | G27: 58.05408 | H27: 3.39748
B28: Personnel des services et vente | C28: 33.65283 | D28: 3.06214 | E28: 4.14603 | F28: 1.29183 | G28: 62.20114 | H28: 3.13409
B29: Personnel de l'agriculture | C29: 26.46523 | D29: 8.20216 | E29: 2.31721 | F29: 3.17327 | G29: 71.21755 | H29: 8.48228
B30: Artisans et ouvriers industriels | C30: 26.74766 | D30: 3.754 | E30: 1.07785 | F30: 0.9228 | G30: 72.17449 | H30: 3.80299
B31: Conducteurs et assembleurs | C31: 41.24778 | D31: 5.66235 | E31: 2.26475 | F31: 1.68638 | G31: 56.48747 | H31: 5.69268
B32: Autres | C32: 14.282 | D32: 3.4391 | E32: 2.71364 | F32: 1.47516 | G32: 83.00435 | H32: 3.6549
A33: Remarque: par participation, on entend la participation à au moins une formation continue à but professionnel dans les 12 mois précédent l'enquête. Si au moins une de ces formations est soutenue financièrement et/ou en temps de travail, la personne est considérée comme soutenue par son employeur.
A34: 1 Intervalle de confiance à 95 %
A35: Source: OFS – Microrecensement formation de base et formation continue 2021
A36: Publication: OFS – Microrecensement formation de base et formation continue 2021. Le soutien des employeurs à la formation continue
A37: © OFS 2024
A38: Renseignements: weiterbildung@bfs.admin.ch

Sheet G14
A1: Participation à la formation continue à but professionnel selon le soutien de l'employeur, en 2021
A2: En % des actifs occupés de 25 à 64 ans de chaque groupe | H2: G14
A3: Facteurs liés à l'entreprise | C3: Participation soutenue par l'employeur | E3: Participation non soutenue par l'employeur | G3: Aucune activité à but professionnel
C4: % | D4: ±1 | E4: % | F4: ±1 | G4: % | H4: ±1
A5: Total | C5: 45.96836 | D5: 1.11288 | E5: 3.46188 | F5: 0.40322 | G5: 50.56976 | H5: 1.11561
A6: Taille de l'entreprise
B7: Moins de 10 personnes | C7: 33.4028 | D7: 2.07108 | E7: 5.22124 | F7: 0.95883 | G7: 61.37596 | H7: 2.13578
B8: 10 à 19 personnes | C8: 43.03246 | D8: 3.22903 | E8: 3.45782 | F8: 1.22442 | G8: 53.50972 | H8: 3.25881
B9: 20 à 49 personnes | C9: 48.51401 | D9: 2.91086 | E9: 3.16159 | F9: 1.03788 | G9: 48.32441 | H9: 2.90746
B10: 50 à 249 personnes | C10: 50.80903 | D10: 2.36214 | E10: 2.18609 | F10: 0.69179 | G10: 47.00489 | H10: 2.35695
B11: 250 personnes et plus | C11: 57.2465 | D11: 2.68912 | E11: 2.48112 | F11: 0.83055 | G11: 40.27239 | H11: 2.66648
A12: Section économique
B13: Construction | C13: 30.58257 | D13: 4.27931 | E13: 1.99459 | F13: 1.3982 | G13: 67.42284 | H13: 4.36151
B14: Industrie | C14: 42.44012 | D14: 3.1535 | E14: 2.61911 | F14: 1.08147 | G14: 54.94077 | H14: 3.17349
B15: Transports, énergie, eau | C15: 46.14522 | D15: 4.96096 | E15: 2.34352 | F15: 1.486 | G15: 51.51126 | H15: 4.97098
B16: Commerce et réparation | C16: 39.11748 | D16: 3.39559 | E16: 3.417 | F16: 1.30008 | G16: 57.46553 | H16: 3.44098
B17: Hébergement et restauration | C17: 22.66777 | D17: 5.13244 | E17: 3.46281 | F17: 2.14051 | G17: 73.86941 | H17: 5.35296
B18: Information et communication, arts récréatifs | C18: 48.53635 | D18: 4.66336 | E18: 4.22142 | F18: 1.8503 | G18: 47.24223 | H18: 4.65456
B19: Activités financières | C19: 57.30677 | D19: 4.36422 | E19: 1.47153 | F19: 0.9955 | G19: 41.2217 | H19: 4.34464
B20: Activités immobilières, services | C20: 35.45611 | D20: 3.73676 | E20: 4.31306 | F20: 1.535 | G20: 60.23084 | H20: 3.81705
B21: Activités spécialisées, scienfitiques et techniques | C21: 47.33947 | D21: 3.66672 | E21: 4.5121 | F21: 1.47919 | G21: 48.14843 | H21: 3.67813
B22: Santé humaine et action sociale | C22: 55.49131 | D22: 2.85128 | E22: 4.74547 | F22: 1.19089 | G22: 39.76321 | H22: 2.80096
B23: Administration publique et enseignement | C23: 62.92249 | D23: 2.90833 | E23: 3.526 | F23: 1.07147 | G23: 33.55152 | H23: 2.84487
B24: Autres | C24: 24.29745 | D24: 5.70891 | E24: 1.9719 | F24: 1.80347 | G24: 73.73065 | H24: 5.85016
A25: Remarque: par participation, on entend la participation à au moins une formation continue à but professionnel dans les 12 mois précédent l'enquête. Si au moins une de ces formations est soutenue financièrement et/ou en temps de travail, la personne est considérée comme soutenue par son employeur.
A26: 1 Intervalle de confiance à 95 %
A27: Source: OFS – Microrecensement formation de base et formation continue 2021
A28: Publication: OFS – Microrecensement formation de base et formation continue 2021. Le soutien des employeurs à la formation continue
A29: © OFS 2024
A30: Renseignements: weiterbildung@bfs.admin.ch

Sheet T1
A1: Thèmes des formations continues soutenues par l'employeur dans les sections économiques, en 2021
A2: En % des activités soutenues de formation continue à but professionnel suivies par les actifs occupés âgés de 25 à 64 ans de chaque groupe | V2: T1
B3: Total | C3: Langues | E3: Informatique et bureautique | G3: Gestion, finances et assurances | I3: Production, industrie et services | K3: Sciences naturelles et sociales | M3: Enseignement et pédagogie | O3: Arts, sports et loisirs | Q3: Santé et médecine | S3: Dévelop. personnel et bien-être | U3: Autres
B4: % | C4: % | D4: ±1 | E4: % | F4: ±1 | G4: % | H4: ±1 | I4: % | J4: ±1 | K4: % | L4: ±1 | M4: % | N4: ±1 | O4: % | P4: ±1 | Q4: % | R4: ±1 | S4: % | T4: ±1 | U4: % | V4: ±1
A5: Total | B5: 100 | C5: 1.990518 | D5: 0.296132 | E5: 18.007157 | F5: 0.799252 | G5: 22.711161 | H5: 0.867008 | I5: 13.856202 | J5: 0.730129 | K5: 7.485215 | L5: 0.546769 | M5: 6.085222 | N5: 0.498476 | O5: 2.225274 | P5: 0.314348 | Q5: 17.240271 | R5: 0.785577 | S5: 4.522279 | T5: 0.428828 | U5: 5.8767 | V5: 0.4915
A6: Section économique
A7: Industrie | B7: 100 | C7: 3.458971 | D7: 1.297384 | E7: 21.310564 | F7: 2.663334 | G7: 25.491461 | H7: 2.812139 | I7: 21.750798 | J7: 2.677908 | K7: 5.975123 | L7: 1.529746 | M7: 2.033647 | N7: 0.9565 | O7: 1.002574 | P7: 0.65555 | Q7: 9.025807 | R7: 1.907362 | S7: 4.782207 | T7: 1.38326 | U7: 5.168848 | V7: 1.455419
A8: Transports, énergie, eau | B8: 100 | C8: 3.628143 | D8: 1.8697 | E8: 11.774694 | F8: 2.911075 | G8: 20.371155 | H8: 3.822803 | I8: 42.197207 | J8: 4.716441 | K8: 2.381583 | L8: 1.380128 | M8: 2.367106 | N8: 1.40843 | O8: 0.079137 | P8: 0.155165 | Q8: 8.645546 | R8: 2.608775 | S8: 4.04219 | T8: 1.89845 | U8: 4.513238 | V8: 1.960801
A9: Construction | B9: 100 | C9: 0.308318 | D9: 0.435502 | E9: 17.660314 | F9: 4.540419 | G9: 18.108037 | H9: 4.36311 | I9: 48.629415 | J9: 5.818494 | K9: 2.952232 | L9: 2.018715 | M9: 2.132833 | N9: 1.521685 | O9: 1.445262 | P9: 1.23476 | Q9: 1.898014 | R9: 1.441426 | S9: 3.89481 | T9: 2.289721 | U9: 2.970765 | V9: 1.926047
A10: Commerce et réparation | B10: 100 | C10: 3.09489 | D10: 1.268765 | E10: 13.390361 | F10: 2.421948 | G10: 38.887385 | H10: 3.563555 | I10: 16.335122 | J10: 2.822335 | K10: 3.783481 | L10: 1.326578 | M10: 1.615743 | N10: 0.914333 | O10: 2.363658 | P10: 1.147702 | Q10: 10.880031 | R10: 2.189467 | S10: 4.21384 | T10: 1.47846 | U10: 5.435489 | V10: 1.629525
A11: Hébergement et restauration | B11: 100 | C11: 3.284666 | D11: 3.051689 | E11: 12.943145 | F11: 6.208457 | G11: 21.4 | H11: 7.396712 | I11: 21.299485 | J11: 7.421846 | K11: 6.381884 | L11: 4.022175 | M11: 3.001673 | N11: 3.719546 | O11: 1.626685 | P11: 1.849984 | Q11: 12.887488 | R11: 5.958863 | S11: 1.502611 | T11: 1.447433 | U11: 15.672363 | V11: 6.671664
A12: Information et communication, arts récréatifs | B12: 100 | C12: 2.632926 | D12: 1.303148 | E12: 35.565921 | F12: 3.983923 | G12: 21.937562 | H12: 3.389455 | I12: 6.408372 | J12: 2.033698 | K12: 8.453255 | L12: 2.318299 | M12: 1.205034 | N12: 0.903206 | O12: 6.694327 | P12: 2.06612 | Q12: 6.307139 | R12: 2.087569 | S12: 4.667241 | T12: 1.72963 | U12: 6.128223 | V12: 1.99064
A13: Activités financières | B13: 100 | C13: 1.558145 | D13: 0.699889 | E13: 22.49218 | F13: 2.9519 | G13: 48.737418 | H13: 3.473816 | I13: 2.513254 | J13: 1.052893 | K13: 8.484702 | L13: 1.960029 | M13: 1.337829 | N13: 0.856752 | O13: 0.731522 | P13: 0.627975 | Q13: 7.110015 | R13: 1.865136 | S13: 4.691113 | T13: 1.47896 | U13: 2.343821 | V13: 1.035491
A14: Activités immobilières, services | B14: 100 | C14: 3.161579 | D14: 1.658906 | E14: 13.187252 | F14: 2.789081 | G14: 25.16162 | H14: 3.665176 | I14: 18.72675 | J14: 3.343001 | K14: 10.762911 | L14: 2.709613 | M14: 2.487712 | N14: 1.283911 | O14: 1.888294 | P14: 1.133588 | Q14: 10.832795 | R14: 2.532176 | S14: 5.178092 | T14: 1.836048 | U14: 8.612994 | V14: 2.352792
A15: Activités spécialisées, scientifiques et techniques | B15: 100 | C15: 1.80815 | D15: 0.874521 | E15: 23.248779 | F15: 2.814721 | G15: 31.051601 | H15: 3.046621 | I15: 11.747437 | J15: 2.168805 | K15: 12.799966 | L15: 2.150156 | M15: 1.039102 | N15: 0.66622 | O15: 0.994142 | P15: 0.664171 | Q15: 8.419248 | R15: 1.797559 | S15: 4.457073 | T15: 1.344532 | U15: 4.434502 | V15: 1.390077
A16: Santé humaine et action sociale | B16: 100 | C16: 0.289714 | D16: 0.223134 | E16: 9.82469 | F16: 1.422159 | G16: 11.636573 | H16: 1.565085 | I16: 6.634303 | J16: 1.211294 | K16: 5.116684 | L16: 1.078834 | M16: 3.44588 | N16: 0.849551 | O16: 1.321247 | P16: 0.587117 | Q16: 50.898298 | R16: 2.413278 | S16: 4.774449 | T16: 1.032167 | U16: 6.058161 | V16: 1.128355
A17: Administration publique et enseignement | B17: 100 | C17: 1.751852 | D17: 0.600891 | E17: 18.760342 | F17: 1.818041 | G17: 11.5411 | H17: 1.496356 | I17: 6.658044 | J17: 1.151529 | K17: 10.177096 | L17: 1.455577 | M17: 22.891813 | N17: 2.001316 | O17: 4.29695 | P17: 0.995478 | Q17: 12.210978 | R17: 1.542007 | S17: 4.810562 | T17: 0.984633 | U17: 6.901264 | V17: 1.223993
A18: Autres | B18: 100 | C18: 0.846861 | D18: 1.653343 | E18: 15.428775 | F18: 6.748804 | G18: 7.806474 | H18: 4.696978 | I18: 18.78022 | J18: 7.135346 | K18: 6.351598 | L18: 4.338104 | M18: 1.890913 | N18: 2.601896 | O18: 3.257005 | P18: 3.396876 | Q18: 23.599813 | R18: 8.41958 | S18: 1.627346 | T18: 2.2397 | U18: 20.410996 | V18: 7.472334
A19: 1 Intervalle de confiance à 95 %
A20: Source: OFS – Microrecensement formation de base et formation continue 2021
A21: Publication: OFS – Microrecensement formation de base et formation continue 2021. Le soutien des employeurs à la formation continue
A22: © OFS 2024
A23: Renseignements: weiterbildung@bfs.admin.ch

Sheet T2
A1: Thèmes des formations continues soutenues par l'employeur selon la situation dans la profession, en 2021
A2: En % des activités soutenues de formation continue à but professionnel suivies par les personnes salariées âgées de 25 à 64 ans de chaque groupe | R2: T2
B3: Total | C3: Informatique et bureautique | E3: Gestion, finances et assurances | G3: Production, industrie et services | I3: Sciences naturelles et sociales | K3: Enseignement et pédagogie | M3: Santé et médecine | O3: Développement personnel et bien-être | Q3: Autres
B4: % | C4: % | D4: ±1 | E4: % | F4: ±1 | G4: % | H4: ±1 | I4: % | J4: ±1 | K4: % | L4: ±1 | M4: % | N4: ±1 | O4: % | P4: ±1 | Q4: % | R4: ±1
A5: Total | B5: 100 | C5: 18.007157 | D5: 0.799252 | E5: 22.711161 | F5: 0.867008 | G5: 13.856202 | H5: 0.730129 | I5: 7.485215 | J5: 0.546769 | K5: 6.085222 | L5: 0.498476 | M5: 17.240271 | N5: 0.785577 | O5: 4.522279 | P5: 0.428828 | Q5: 10.092492 | R5: 0.633538
A6: Situation dans la profession
A7: Membre de la direction | B7: 100 | C7: 13.022757 | D7: 2.571633 | E7: 36.026586 | F7: 3.764642 | G7: 12.377336 | H7: 2.670083 | I7: 10.769007 | J7: 2.560979 | K7: 3.767048 | L7: 1.484056 | M7: 11.644041 | N7: 2.563257 | O7: 2.736512 | P7: 1.262909 | Q7: 9.656713 | R7: 2.332108
A8: Personne salariée avec fonction dirigeante | B8: 100 | C8: 17.674662 | D8: 1.667945 | E8: 31.940774 | F8: 2.035105 | G8: 14.129339 | H8: 1.518284 | I8: 7.531414 | J8: 1.128233 | K8: 3.845615 | L8: 0.815081 | M8: 12.130914 | N8: 1.39871 | O8: 3.569487 | P8: 0.786137 | Q8: 9.177795 | R8: 1.29406
A9: Personne salariée sans fonction dirigeante | B9: 100 | C9: 19.328656 | D9: 1.066492 | E9: 17.835907 | F9: 1.027122 | G9: 13.691121 | H9: 0.949931 | I9: 7.180137 | J9: 0.704385 | K9: 7.947123 | L9: 0.735461 | M9: 19.021394 | N9: 1.071208 | O9: 5.263509 | P9: 0.597689 | Q9: 9.732154 | R9: 0.810642
A10: 1 Intervalle de confiance à 95 %
A11: Source: OFS – Microrecensement formation de base et formation continue 2021
A12: Publication: OFS – Microrecensement formation de base et formation continue 2021. Le soutien des employeurs à la formation continue
A13: © OFS 2024
A14: Renseignements: weiterbildung@bfs.admin.ch

Sheet TA1
A1: Modèle de régression sur la participation soutenue à la formation continue à but professionnel, en 2021
A2: Régression logistique binaire, actifs occupés de 25 à 64 ans | G2: TA1
C3: Odds ratio | D3: Intervalle de confiance à 95% | F3: Valeurs-p
A4: Facteurs socio-démographiques
A5: Sexe | G5: n.i.
A6: Classe d'âges | G6: =IF(ISBLANK(F6),"",IF(F6="<.0001","***",IF(F6<0.01,"**",IF(F6<0.05,"*","ns"))))
B7: 25–29 (référence) | C7: réf. | G7: =IF(ISBLANK(F7),"",IF(F7="<.0001","***",IF(F7<0.01,"**",IF(F7<0.05,"*","ns"))))
B8: 30–34 | C8: 1.105 | D8: 0.884 | E8: 1.38 | F8: 0.3812 | G8: =IF(ISBLANK(F8),"",IF(F8="<.0001","***",IF(F8<0.01,"**",IF(F8<0.05,"*","n.s.")))) -> n.s.
B9: 35–39 | C9: 1.209 | D9: 0.966 | E9: 1.513 | F9: 0.098 | G9: =IF(ISBLANK(F9),"",IF(F9="<.0001","***",IF(F9<0.01,"**",IF(F9<0.05,"*","n.s.")))) -> n.s.
B10: 40–44 | C10: 1.401 | D10: 1.12 | E10: 1.754 | F10: 0.0032 | G10: =IF(ISBLANK(F10),"",IF(F10="<.0001","***",IF(F10<0.01,"**",IF(F10<0.05,"*","n.s.")))) -> **
B11: 45–49 | C11: 1.391 | D11: 1.11 | E11: 1.744 | F11: 0.0041 | G11: =IF(ISBLANK(F11),"",IF(F11="<.0001","***",IF(F11<0.01,"**",IF(F11<0.05,"*","n.s.")))) -> **
B12: 50–54 | C12: 1.323 | D12: 1.056 | E12: 1.659 | F12: 0.0151 | G12: =IF(ISBLANK(F12),"",IF(F12="<.0001","***",IF(F12<0.01,"**",IF(F12<0.05,"*","n.s.")))) -> *
B13: 55–59 | C13: 1.116 | D13: 0.884 | E13: 1.41 | F13: 0.3555 | G13: =IF(ISBLANK(F13),"",IF(F13="<.0001","***",IF(F13<0.01,"**",IF(F13<0.05,"*","n.s.")))) -> n.s.
B14: 60–64 | C14: 0.936 | D14: 0.712 | E14: 1.232 | F14: 0.6385 | G14: =IF(ISBLANK(F14),"",IF(F14="<.0001","***",IF(F14<0.01,"**",IF(F14<0.05,"*","n.s.")))) -> n.s.
A15: Niveau de formation | G15: =IF(ISBLANK(F15),"",IF(F15="<.0001","***",IF(F15<0.01,"**",IF(F15<0.05,"*","ns"))))
B16: Ecole obligatoire (référence) | C16: réf. | G16: =IF(ISBLANK(F16),"",IF(F16="<.0001","***",IF(F16<0.01,"**",IF(F16<0.05,"*","ns"))))
B17: Degré secondaire II: professionnel | C17: 2.286 | D17: 1.699 | E17: 3.077 | F17: <.0001 | G17: =IF(ISBLANK(F17),"",IF(F17="<.0001","***",IF(F17<0.01,"**",IF(F17<0.05,"*","n.s.")))) -> ***
B18: Degré secondaire II: général | C18: 2.016 | D18: 1.57 | E18: 2.59 | F18: <.0001 | G18: =IF(ISBLANK(F18),"",IF(F18="<.0001","***",IF(F18<0.01,"**",IF(F18<0.05,"*","n.s.")))) -> ***
B19: Formation professionnelle supérieure | C19: 3.073 | D19: 2.34 | E19: 4.034 | F19: <.0001 | G19: =IF(ISBLANK(F19),"",IF(F19="<.0001","***",IF(F19<0.01,"**",IF(F19<0.05,"*","n.s.")))) -> ***
B20: Haute école | C20: 3.263 | D20: 2.504 | E20: 4.251 | F20: <.0001 | G20: =IF(ISBLANK(F20),"",IF(F20="<.0001","***",IF(F20<0.01,"**",IF(F20<0.05,"*","n.s.")))) -> ***
A21: Statut migratoire | G21: =IF(ISBLANK(F21),"",IF(F21="<.0001","***",IF(F21<0.01,"**",IF(F21<0.05,"*","ns"))))
B22: Personne non issue de la migration (référence) | C22: réf. | G22: =IF(ISBLANK(F22),"",IF(F22="<.0001","***",IF(F22<0.01,"**",IF(F22<0.05,"*","ns"))))
B23: Personne issue de la migration: 1e génération | C23: 0.648 | D23: 0.57 | E23: 0.737 | F23: <.0001 | G23: =IF(ISBLANK(F23),"",IF(F23="<.0001","***",IF(F23<0.01,"**",IF(F23<0.05,"*","n.s.")))) -> ***
B24: Personne issue de la migration: 2e génération | C24: 0.728 | D24: 0.598 | E24: 0.885 | F24: 0.0015 | G24: =IF(ISBLANK(F24),"",IF(F24="<.0001","***",IF(F24<0.01,"**",IF(F24<0.05,"*","n.s.")))) -> **
A25: Grande région | G25: =IF(ISBLANK(F25),"",IF(F25="<.0001","***",IF(F25<0.01,"**",IF(F25<0.05,"*","ns"))))
B26: Zurich (référence) | C26: réf. | G26: =IF(ISBLANK(F26),"",IF(F26="<.0001","***",IF(F26<0.01,"**",IF(F26<0.05,"*","ns"))))
B27: Espace Mittelland | C27: 1.138 | D27: 0.954 | E27: 1.358 | F27: 0.1507 | G27: =IF(ISBLANK(F27),"",IF(F27="<.0001","***",IF(F27<0.01,"**",IF(F27<0.05,"*","n.s.")))) -> n.s.
B28: Suisse du Nord-Ouest | C28: 1.079 | D28: 0.898 | E28: 1.298 | F28: 0.4169 | G28: =IF(ISBLANK(F28),"",IF(F28="<.0001","***",IF(F28<0.01,"**",IF(F28<0.05,"*","n.s.")))) -> n.s.
B29: Suisse orientale | C29: 1.078 | D29: 0.885 | E29: 1.314 | F29: 0.4551 | G29: =IF(ISBLANK(F29),"",IF(F29="<.0001","***",IF(F29<0.01,"**",IF(F29<0.05,"*","n.s.")))) -> n.s.
B30: Région lémanique | C30: 0.875 | D30: 0.741 | E30: 1.033 | F30: 0.1144 | G30: =IF(ISBLANK(F30),"",IF(F30="<.0001","***",IF(F30<0.01,"**",IF(F30<0.05,"*","n.s.")))) -> n.s.
B31: Tessin | C31: 0.667 | D31: 0.519 | E31: 0.858 | F31: 0.0016 | G31: =IF(ISBLANK(F31),"",IF(F31="<.0001","***",IF(F31<0.01,"**",IF(F31<0.05,"*","n.s.")))) -> **
B32: Suisse centrale | C32: 1.064 | D32: 0.88 | E32: 1.286 | F32: 0.5223 | G32: =IF(ISBLANK(F32),"",IF(F32="<.0001","***",IF(F32<0.01,"**",IF(F32<0.05,"*","n.s.")))) -> n.s.
A33: Facteurs liés à la profession
A34: Situation dans la profession | G34: =IF(ISBLANK(F34),"",IF(F34="<.0001","***",IF(F34<0.01,"**",IF(F34<0.05,"*","ns"))))
B35: Salariés sans fonction dirigeante (référence) | C35: réf. | G35: =IF(ISBLANK(F35),"",IF(F35="<.0001","***",IF(F35<0.01,"**",IF(F35<0.05,"*","ns"))))
B36: Salariés avec fonction dirigeante | C36: 1.365 | D36: 1.184 | E36: 1.573 | F36: <.0001 | G36: =IF(ISBLANK(F36),"",IF(F36="<.0001","***",IF(F36<0.01,"**",IF(F36<0.05,"*","n.s.")))) -> ***
B37: Indépendants | C37: 0.752 | D37: 0.628 | E37: 0.9 | F37: 0.0019 | G37: =IF(ISBLANK(F37),"",IF(F37="<.0001","***",IF(F37<0.01,"**",IF(F37<0.05,"*","n.s.")))) -> **
A38: Taux d'occupation | G38: =IF(ISBLANK(F38),"",IF(F38="<.0001","***",IF(F38<0.01,"**",IF(F38<0.05,"*","ns"))))
B39: Plein temps (de 90% à 100%) (référence) | C39: réf. | G39: =IF(ISBLANK(F39),"",IF(F39="<.0001","***",IF(F39<0.01,"**",IF(F39<0.05,"*","ns"))))
B40: Temps partiel I (50% à 89%) | C40: 0.791 | D40: 0.691 | E40: 0.905 | F40: 0.0006 | G40: =IF(ISBLANK(F40),"",IF(F40="<.0001","***",IF(F40<0.01,"**",IF(F40<0.05,"*","n.s.")))) -> **
B41: Temps partiel II (moins de 50%) | C41: 0.55 | D41: 0.451 | E41: 0.67 | F41: <.0001 | G41: =IF(ISBLANK(F41),"",IF(F41="<.0001","***",IF(F41<0.01,"**",IF(F41<0.05,"*","n.s.")))) -> ***
A42: Ancienneté dans l'entreprise | G42: =IF(ISBLANK(F42),"",IF(F42="<.0001","***",IF(F42<0.01,"**",IF(F42<0.05,"*","ns"))))
B43: Moins de 1 an (référence) | C43: réf. | G43: =IF(ISBLANK(F43),"",IF(F43="<.0001","***",IF(F43<0.01,"**",IF(F43<0.05,"*","ns"))))
B44: de 1 à 3 ans | C44: 2.026 | D44: 1.461 | E44: 2.81 | F44: <.0001 | G44: =IF(ISBLANK(F44),"",IF(F44="<.0001","***",IF(F44<0.01,"**",IF(F44<0.05,"*","n.s.")))) -> ***
B45: de 3 à 5 ans | C45: 1.641 | D45: 1.171 | E45: 2.298 | F45: 0.004 | G45: =IF(ISBLANK(F45),"",IF(F45="<.0001","***",IF(F45<0.01,"**",IF(F45<0.05,"*","n.s.")))) -> **
B46: de 5 à 10 ans | C46: 2.094 | D46: 1.507 | E46: 2.909 | F46: <.0001 | G46: =IF(ISBLANK(F46),"",IF(F46="<.0001","***",IF(F46<0.01,"**",IF(F46<0.05,"*","n.s.")))) -> ***
B47: 10 ans ou plus | C47: 1.601 | D47: 1.155 | E47: 2.219 | F47: 0.0048 | G47: =IF(ISBLANK(F47),"",IF(F47="<.0001","***",IF(F47<0.01,"**",IF(F47<0.05,"*","n.s.")))) -> **
A48: Profession exercée (grand groupe de professions CH-ISCO-19) | G48: =IF(ISBLANK(F48),"",IF(F48="<.0001","***",IF(F48<0.01,"**",IF(F48<0.05,"*","ns"))))
B49: Dirigeants, cadres supérieurs (référence) | C49: réf. | G49: =IF(ISBLANK(F49),"",IF(F49="<.0001","***",IF(F49<0.01,"**",IF(F49<0.05,"*","ns"))))
B50: Personnel de l'agriculture | C50: 1.038 | D50: 0.556 | E50: 1.938 | F50: 0.9074 | G50: =IF(ISBLANK(F50),"",IF(F50="<.0001","***",IF(F50<0.01,"**",IF(F50<0.05,"*","n.s.")))) -> n.s.
B51: Artisans et ouvriers industriels | C51: 0.529 | D51: 0.402 | E51: 0.698 | F51: <.0001 | G51: =IF(ISBLANK(F51),"",IF(F51="<.0001","***",IF(F51<0.01,"**",IF(F51<0.05,"*","n.s.")))) -> ***
B52: Autres | C52: 0.322 | D52: 0.224 | E52: 0.464 | F52: <.0001 | G52: =IF(ISBLANK(F52),"",IF(F52="<.0001","***",IF(F52<0.01,"**",IF(F52<0.05,"*","n.s.")))) -> ***
B53: Conducteurs et assembleurs | C53: 1.054 | D53: 0.759 | E53: 1.464 | F53: 0.7546 | G53: =IF(ISBLANK(F53),"",IF(F53="<.0001","***",IF(F53<0.01,"**",IF(F53<0.05,"*","n.s.")))) -> n.s.
B54: Employés de type administratif | C54: 0.679 | D54: 0.537 | E54: 0.859 | F54: 0.0012 | G54: =IF(ISBLANK(F54),"",IF(F54="<.0001","***",IF(F54<0.01,"**",IF(F54<0.05,"*","n.s.")))) -> **
B55: Personnel des services et vente | C55: 0.72 | D55: 0.57 | E55: 0.908 | F55: 0.0057 | G55: =IF(ISBLANK(F55),"",IF(F55="<.0001","***",IF(F55<0.01,"**",IF(F55<0.05,"*","n.s.")))) -> **
B56: Professions intellectuelles et scientifiques | C56: 1.218 | D56: 1.005 | E56: 1.476 | F56: 0.0447 | G56: =IF(ISBLANK(F56),"",IF(F56="<.0001","***",IF(F56<0.01,"**",IF(F56<0.05,"*","n.s.")))) -> *
B57: Professions intermédiaires | C57: 0.877 | D57: 0.72 | E57: 1.069 | F57: 0.1951 | G57: =IF(ISBLANK(F57),"",IF(F57="<.0001","***",IF(F57<0.01,"**",IF(F57<0.05,"*","n.s.")))) -> n.s.
A58: Facteurs liés à l'entreprise
A59: Taille de l'entreprise | G59: =IF(ISBLANK(F59),"",IF(F59="<.0001","***",IF(F59<0.01,"**",IF(F59<0.05,"*","ns"))))
B60: Moins de 10 personnes (référence) | C60: réf. | G60: =IF(ISBLANK(F60),"",IF(F60="<.0001","***",IF(F60<0.01,"**",IF(F60<0.05,"*","ns"))))
B61: 10 à 19 personnes | C61: 1.255 | D61: 1.043 | E61: 1.511 | F61: 0.0162 | G61: =IF(ISBLANK(F61),"",IF(F61="<.0001","***",IF(F61<0.01,"**",IF(F61<0.05,"*","n.s")))) -> *
B62: 20 à 49 personnes | C62: 1.459 | D62: 1.223 | E62: 1.74 | F62: <.0001 | G62: =IF(ISBLANK(F62),"",IF(F62="<.0001","***",IF(F62<0.01,"**",IF(F62<0.05,"*","n.s")))) -> ***
B63: 50 à 249 personnes | C63: 1.562 | D63: 1.326 | E63: 1.84 | F63: <.0001 | G63: =IF(ISBLANK(F63),"",IF(F63="<.0001","***",IF(F63<0.01,"**",IF(F63<0.05,"*","n.s")))) -> ***
B64: 250 personnes et plus | C64: 1.758 | D64: 1.463 | E64: 2.113 | F64: <.0001 | G64: =IF(ISBLANK(F64),"",IF(F64="<.0001","***",IF(F64<0.01,"**",IF(F64<0.05,"*","n.s")))) -> ***
A65: Section économique | G65: =IF(ISBLANK(F65),"",IF(F65="<.0001","***",IF(F65<0.01,"**",IF(F65<0.05,"*","ns"))))
B66: Administration publique et enseignement (référence) | C66: réf. | G66: =IF(ISBLANK(F66),"",IF(F66="<.0001","***",IF(F66<0.01,"**",IF(F66<0.05,"*","ns"))))
B67: Activités financières et d'assurances | C67: 0.748 | D67: 0.581 | E67: 0.963 | F67: 0.0241 | G67: =IF(ISBLANK(F67),"",IF(F67="<.0001","***",IF(F67<0.01,"**",IF(F67<0.05,"*","n.s.")))) -> *
B68: Activités immobilières, services | C68: 0.642 | D68: 0.502 | E68: 0.82 | F68: 0.0004 | G68: =IF(ISBLANK(F68),"",IF(F68="<.0001","***",IF(F68<0.01,"**",IF(F68<0.05,"*","n.s.")))) -> **
B69: Activités spécialisées, scienfitiques et techniques | C69: 0.538 | D69: 0.431 | E69: 0.671 | F69: <.0001 | G69: =IF(ISBLANK(F69),"",IF(F69="<.0001","***",IF(F69<0.01,"**",IF(F69<0.05,"*","n.s.")))) -> ***
B70: Autres | C70: 0.291 | D70: 0.167 | E70: 0.508 | F70: <.0001 | G70: =IF(ISBLANK(F70),"",IF(F70="<.0001","***",IF(F70<0.01,"**",IF(F70<0.05,"*","n.s.")))) -> ***
B71: Commerce et réparation | C71: 0.648 | D71: 0.518 | E71: 0.811 | F71: 0.0002 | G71: =IF(ISBLANK(F71),"",IF(F71="<.0001","***",IF(F71<0.01,"**",IF(F71<0.05,"*","n.s.")))) -> **
B72: Construction | C72: 0.486 | D72: 0.363 | E72: 0.65 | F72: <.0001 | G72: =IF(ISBLANK(F72),"",IF(F72="<.0001","***",IF(F72<0.01,"**",IF(F72<0.05,"*","n.s.")))) -> ***
B73: Hébergement et restauration | C73: 0.359 | D73: 0.249 | E73: 0.519 | F73: <.0001 | G73: =IF(ISBLANK(F73),"",IF(F73="<.0001","***",IF(F73<0.01,"**",IF(F73<0.05,"*","n.s.")))) -> ***
B74: Industrie | C74: 0.548 | D74: 0.438 | E74: 0.687 | F74: <.0001 | G74: =IF(ISBLANK(F74),"",IF(F74="<.0001","***",IF(F74<0.01,"**",IF(F74<0.05,"*","n.s.")))) -> ***
B75: Information et communication, arts et loisirs | C75: 0.584 | D75: 0.45 | E75: 0.759 | F75: <.0001 | G75: =IF(ISBLANK(F75),"",IF(F75="<.0001","***",IF(F75<0.01,"**",IF(F75<0.05,"*","n.s.")))) -> ***
B76: Santé humaine et action sociale | C76: 0.991 | D76: 0.809 | E76: 1.213 | F76: 0.9273 | G76: =IF(ISBLANK(F76),"",IF(F76="<.0001","***",IF(F76<0.01,"**",IF(F76<0.05,"*","n.s.")))) -> n.s.
B77: Transports, énergie, eau | C77: 0.671 | D77: 0.505 | E77: 0.891 | F77: 0.0058 | G77: =IF(ISBLANK(F77),"",IF(F77="<.0001","***",IF(F77<0.01,"**",IF(F77<0.05,"*","n.s.")))) -> **
A78: Remarque: L’interprétation des coefficients (odds ratio) se fait toujours par rapport à un groupe de référence, les autres facteurs contenus dans le modèle restant identiques par ailleurs. Un odds ratio de 1 signifie aucune différence, une valeur inférieure à 1 une chance plus faible et une valeur supérieure à 1 une chance plus grande. Le odds ratio se rapporte toujours à la catégorie de référence.
A79: n.i.: variable dont l'effet n'est pas statistiquement significatif et qui n'a pas été intégrée dans le modèle
A80: n.s.: catégorie qui ne se distingue pas de manière statistiquement significative de la catégorie de référence
A81: Niveau de significativité : *** p<.0001; ** p<0.001 ; * p<0.05
A82: Source: OFS – Microrecensement formation de base et formation continue 2021
A83: Publication: OFS – Microrecensement formation de base et formation continue 2021. Le soutien des employeurs à la formation continue
A84: © OFS 2024
A85: Renseignements: weiterbildung@bfs.admin.ch

Sheet TA2
A1: Modèle de régression sur le soutien à la formation continue à but professionnel, en 2021
A2: Régression logistique binaire, participants à la formation continue à but professionnel dans la population active occupée âgée de 25 à 64 ans | G2: TA2
C3: Odds ratio | D3: Intervalle de confiance à 95% | F3: Valeurs-p
A4: Facteurs socio-démographiques
A5: Sexe
B6: Hommes (référence) | C6: réf.
B7: Femmes | C7: 0.609 | D7: 0.435 | E7: 0.853 | F7: 0.0039 | G7: =IF(ISBLANK(F7),"",IF(F7="<.0001","***",IF(F7<0.01,"**",IF(F7<0.05,"*","n.s.")))) -> **
A8: Classe d'âge | G8: n.i.
A9: Niveau de formation | G9: n.i.
A10: Statut migratoire | G10: =IF(ISBLANK(F10),"",IF(F10="<.0001","***",IF(F10<0.01,"**",IF(F10<0.05,"*","ns"))))
B11: Personne non issue de la migration (référence) | C11: réf. | G11: =IF(ISBLANK(F11),"",IF(F11="<.0001","***",IF(F11<0.01,"**",IF(F11<0.05,"*","ns"))))
B12: Personne issue de la migration: 1e génération | C12: 0.537 | D12: 0.398 | E12: 0.723 | F12: <.0001 | G12: =IF(ISBLANK(F12),"",IF(F12="<.0001","***",IF(F12<0.01,"**",IF(F12<0.05,"*","n.s.")))) -> ***
B13: Personne issue de la migration: 2e génération | C13: 0.743 | D13: 0.439 | E13: 1.26 | F13: 0.2705 | G13: =IF(ISBLANK(F13),"",IF(F13="<.0001","***",IF(F13<0.01,"**",IF(F13<0.05,"*","n.s.")))) -> n.s.
A14: Grande région | G14: n.i.
A15: Facteurs liés à la profession
A16: Situation dans la profession | G16: =IF(ISBLANK(F16),"",IF(F16="<.0001","***",IF(F16<0.01,"**",IF(F16<0.05,"*","ns"))))
B17: Salariés sans fonction dirigeante (référence) | C17: réf. | G17: =IF(ISBLANK(F17),"",IF(F17="<.0001","***",IF(F17<0.01,"**",IF(F17<0.05,"*","ns"))))
B18: Salariés avec fonction dirigeante | C18: 1.141 | D18: 0.766 | E18: 1.698 | F18: 0.5162 | G18: =IF(ISBLANK(F18),"",IF(F18="<.0001","***",IF(F18<0.01,"**",IF(F18<0.05,"*","n.s.")))) -> n.s.
B19: Indépendants | C19: 0.463 | D19: 0.318 | E19: 0.675 | F19: <.0001 | G19: =IF(ISBLANK(F19),"",IF(F19="<.0001","***",IF(F19<0.01,"**",IF(F19<0.05,"*","n.s.")))) -> ***
A20: Taux d'occupation | G20: =IF(ISBLANK(F20),"",IF(F20="<.0001","***",IF(F20<0.01,"**",IF(F20<0.05,"*","ns"))))
B21: Plein temps (de 90% à 100%) (référence) | C21: réf. | G21: =IF(ISBLANK(F21),"",IF(F21="<.0001","***",IF(F21<0.01,"**",IF(F21<0.05,"*","ns"))))
B22: Temps partiel I (50% à 89%) | C22: 0.788 | D22: 0.549 | E22: 1.13 | F22: 0.1951 | G22: =IF(ISBLANK(F22),"",IF(F22="<.0001","***",IF(F22<0.01,"**",IF(F22<0.05,"*","n.s.")))) -> n.s.
B23: Temps partiel II (moins de 50%) | C23: 0.413 | D23: 0.265 | E23: 0.642 | F23: <.0001 | G23: =IF(ISBLANK(F23),"",IF(F23="<.0001","***",IF(F23<0.01,"**",IF(F23<0.05,"*","n.s.")))) -> ***
A24: Ancienneté dans l'entreprise | G24: =IF(ISBLANK(F24),"",IF(F24="<.0001","***",IF(F24<0.01,"**",IF(F24<0.05,"*","ns"))))
B25: Moins de 1 an (référence) | C25: réf. | G25: =IF(ISBLANK(F25),"",IF(F25="<.0001","***",IF(F25<0.01,"**",IF(F25<0.05,"*","ns"))))
B26: de 1 à 3 ans | C26: 4.101 | D26: 2.402 | E26: 7.002 | F26: <.0001 | G26: =IF(ISBLANK(F26),"",IF(F26="<.0001","***",IF(F26<0.01,"**",IF(F26<0.05,"*","n.s.")))) -> ***
B27: de 3 à 5 ans | C27: 4.146 | D27: 2.292 | E27: 7.5 | F27: <.0001 | G27: =IF(ISBLANK(F27),"",IF(F27="<.0001","***",IF(F27<0.01,"**",IF(F27<0.05,"*","n.s.")))) -> ***
B28: de 5 à 10 ans | C28: 5.215 | D28: 3.01 | E28: 9.035 | F28: <.0001 | G28: =IF(ISBLANK(F28),"",IF(F28="<.0001","***",IF(F28<0.01,"**",IF(F28<0.05,"*","n.s.")))) -> ***
B29: 10 ans ou plus | C29: 7.47 | D29: 4.309 | E29: 12.95 | F29: <.0001 | G29: =IF(ISBLANK(F29),"",IF(F29="<.0001","***",IF(F29<0.01,"**",IF(F29<0.05,"*","n.s.")))) -> ***
A30: Profession exercée (grand groupe de professions CH-ISCO-19) | G30: n.i.
A31: Facteurs liés à l'entreprise
A32: Taille de l'entreprise | G32: =IF(ISBLANK(F32),"",IF(F32="<.0001","***",IF(F32<0.01,"**",IF(F32<0.05,"*","ns"))))
B33: Moins de 10 personnes (référence) | C33: réf. | G33: =IF(ISBLANK(F33),"",IF(F33="<.0001","***",IF(F33<0.01,"**",IF(F33<0.05,"*","ns"))))
B34: 10 à 19 personnes | C34: 1.455 | D34: 0.934 | E34: 2.267 | F34: 0.0977 | G34: =IF(ISBLANK(F34),"",IF(F34="<.0001","***",IF(F34<0.01,"**",IF(F34<0.05,"*","n.s.")))) -> n.s.
B35: 20 à 49 personnes | C35: 1.628 | D35: 1.057 | E35: 2.509 | F35: 0.0271 | G35: =IF(ISBLANK(F35),"",IF(F35="<.0001","***",IF(F35<0.01,"**",IF(F35<0.05,"*","n.s.")))) -> *
B36: 50 à 249 personnes | C36: 2.528 | D36: 1.631 | E36: 3.917 | F36: <.0001 | G36: =IF(ISBLANK(F36),"",IF(F36="<.0001","***",IF(F36<0.01,"**",IF(F36<0.05,"*","n.s.")))) -> ***
B37: 250 personnes et plus | C37: 2.372 | D37: 1.522 | E37: 3.696 | F37: 0.0001 | G37: =IF(ISBLANK(F37),"",IF(F37="<.0001","***",IF(F37<0.01,"**",IF(F37<0.05,"*","n.s.")))) -> **
A38: Section économique | G38: n.i.
A39: Remarque: L’interprétation des coefficients (odds ratio) se fait toujours par rapport à un groupe de référence, les autres facteurs contenus dans le modèle restant identiques par ailleurs. Un odds ratio de 1 signifie aucune différence, une valeur inférieure à 1 une chance plus faible et une valeur supérieure à 1 une chance plus grande. Le odds ratio se rapporte toujours à la catégorie de référence.
A40: n.i.: variable dont l'effet n'est pas statistiquement significatif et qui n'a pas été intégrée dans le modèle
A41: n.s.: catégorie qui ne se distingue pas de manière statistiquement significative de la catégorie de référence
A42: Niveau de significativité: *** p<.0001; ** p<0.001 ; * p<0.05
A43: Source: OFS – Microrecensement formation de base et formation continue 2021
A44: Publication: OFS – Microrecensement formation de base et formation continue 2021. Le soutien des employeurs à la formation continue
A45: © OFS 2024
A46: Renseignements: weiterbildung@bfs.admin.ch

Sheet A1
A1: Durée des activités de formation continue selon le soutien de l'employeur et le but, en 2021
A2: Nombre d'heures médian des activités de formation continue suivies par les actifs occupés de 25 à 64 ans | H2: A1
C3: Total | E3: Soutien de l'employeur | G3: Pas de soutien de l'employeur
C4: Heures | D4: ±1 | E4: Heures | F4: ±1 | G4: Heures | H4: ±1
A5: Total
B6: Total | C6: 8.93639 | D6: 7.9897 | E6: 7.99237 | F6: 0.63689 | G6: 15.44976 | H6: 0.77931
B7: Femmes | C7: 9.87198 | D7: 0.46511 | E7: 7.96976 | F7: 0.82642 | G7: 14.79923 | H7: 1.67112
B8: Hommes | C8: 0.58498 | D8: 0.4289 | E8: 9.61874 | F8: 0.43977 | G8: 19.81786 | H8: 2.27831
A9: Activités à but professionnel
B10: Total | C10: 7.99529 | D10: 7.97531 | E10: 7.99009 | F10: 0.64332 | G10: 15.93178 | H10: 1.95466
B11: Femmes | C11: 9.68125 | D11: 0.55441 | E11: 7.96699 | F11: 0.98415 | G11: 15.02134 | H11: 1.98718
B12: Hommes | C12: 0.60009 | D12: 0.44828 | E12: 9.55553 | F12: 0.44793 | G12: 23.51203 | H12: 3.17147
A13: Activités à but extra-professionnel
B14: Total | C14: 14.94647 | D14: 14.30436 | E14: 14.60106 | F14: 2.66794 | G14: 15.03702 | H14: 0.92074
B15: Femmes | C15: 15.39556 | D15: 1.5588 | E15: 11.30883 | F15: 2.61117 | G15: 14.69041 | H15: 1.92197
B16: Hommes | C16: 1.81896 | D16: 1.06196 | E16: 15.5443 | F16: 4.03673 | G16: 15.33023 | H16: 2.01726
A17: Remarque: ces données ne sont pas représentées graphiquement, mais citées dans la publication.
A18: 1 Intervalle de confiance à 95 %
A19: Source: OFS – Microrecensement formation de base et formation continue 2021
A20: Publication: OFS – Microrecensement formation de base et formation continue 2021. Le soutien des employeurs à la formation continue
A21: © OFS 2024
A22: Renseignements: weiterbildung@bfs.admin.ch
