Workbook

Sheet Index
A1: Nichtteilnahme an Weiterbildung
A2: Daten zu den Grafiken und Tabellen
A4: Inhaltsverzeichnis
A5: G1 | B5: ='G1'!A1 -> Zeitpunkt der letzten Weiterbildung, 2021
A6: G2 | B6: ='G2'!A1 -> Zeitpunkt der letzten Weiterbildung nach verschiedenen Merkmalen, 2021
A7: G3 | B7: ='G3'!A1 -> Zusammensetzung der Bevölkerung nach Zeitpunkt der letzten Weiterbildung und Geschlecht, 2021
A8: G4 | B8: ='G4'!A1 -> Zusammensetzung der Bevölkerung nach Zeitpunkt der letzten Weiterbildung und Altersgruppe, 2021
A9: G5 | B9: ='G5'!A1 -> Zusammensetzung der Bevölkerung nach Zeitpunkt der letzten Weiterbildung und Behinderungsstatus, 2021
A10: G6 | B10: ='G6'!A1 -> Zusammensetzung der Bevölkerung nach Zeitpunkt der letzten Weiterbildung und Migrationsstatus, 2021
A11: G7 | B11: ='G7'!A1 -> Zusammensetzung der Bevölkerung nach Zeitpunkt der letzten Weiterbildung und des höchsten Bildungsabschlusses, 2021
A12: G8 | B12: ='G8'!A1 -> Zusammensetzung der Bevölkerung nach Zeitpunkt der letzten Weiterbildung und Bildungsstand, 2021
A13: G9 | B13: ='G9'!A1 -> Zusammensetzung der Bevölkerung nach Zeitpunkt der letzten Weiterbildung und Arbeitsmarktstatus, 2021
A14: G10 | B14: ='G10'!A1 -> Weiterbildungswunsch in den letzten 12 Monaten, 2021
A15: G11 | B15: ='G11'!A1 -> Hauptteilnahmehindernis nach Zeitpunkt der letzten Weiterbildung, 2021
A16: G12 | B16: ='G12'!A1 -> Hauptteilnahmehindernis nach Weiterbildungswunsch, 2021
A17: T1 | B17: ='T1'!A1 -> Logistische Regression zur Nichtteilnahme an Weiterbildungsaktivitäten in den letzten 5 Jahren
A18: T2 | B18: ='T2'!A1 -> Teilnahmewünsche (Mehrfachantworten möglich), 2021
A19: T3 | B19: ='T3'!A1 -> Teilnahmehindernisse, 2021
A21: Publikation: BFS – Mikrozensus Aus- und Weiterbildung BFS 2021. Nichtteilnahme an Weiterbildung
A22: Quelle: BFS – Mikrozensus Aus- und Weiterbildung BFS 2021
A23: Auskunft: weiterbildung@bfs.admin.ch
A24: © BFS 2024

Sheet G1
A1: Zeitpunkt der letzten Weiterbildung, 2021
A2: In Prozent der ständigen Wohnbevölkerung im Alter von 25 bis 64 Jahren | C2: G1
B4: % | C4: ±1
A5: in den letzten 12 Monaten | B5: 49.37 | C5: 1.01
A6: vor 1 bis 4 Jahren | B6: 19.48 | C6: 0.8
A7: vor 5 Jahren oder mehr | B7: 28.56 | C7: 0.91
A8: weiss nicht/keine Antwort | B8: 2.6 | C8: 0.33
A9: 1 95% Konfidenzintervall
A10: Quelle: BFS – Mikrozensus Aus- und Weiterbildung 2021 | C10: © BFS 2024

Sheet G2
A1: Zeitpunkt der letzten Weiterbildung nach verschiedenen Merkmalen, 2021
A2: In Prozent der jeweiligen Gruppe der ständigen Wohnbevölkerung im Alter von 25 bis 64 Jahren | J2: G2
C4: in den letzten 12 Monaten | E4: vor 1 bis 4 Jahren | G4: vor 5 Jahren oder mehr | I4: Weiss nicht/keine Antwort
C5: % | D5: ±1 | E5: % | F5: ±1 | G5: % | H5: ±1 | I5: % | J5: ±1
A6: Geschlecht | B6: Frauen | C6: 49.56 | D6: 1.42 | E6: 18.61 | F6: 1.11 | G6: 28.8 | H6: 1.28 | I6: 3.03 | J6: 0.5
B7: Männer | C7: 49.18 | D7: 1.44 | E7: 20.35 | F7: 1.16 | G7: 28.31 | H7: 1.3 | I7: 2.16 | J7: 0.43
A8: Alter | B8: 25-34 Jahre | C8: 52.65 | D8: 2.17 | E8: 27.1 | F8: 1.94 | G8: 17.83 | H8: 1.66 | I8: 2.42 | J8: 0.68
B9: 35-44 Jahre | C9: 53.01 | D9: 1.97 | E9: 18.47 | F9: 1.51 | G9: 26.14 | H9: 1.73 | I9: 2.38 | J9: 0.62
B10: 45-54 Jahre | C10: 51.22 | D10: 1.93 | E10: 16 | F10: 1.43 | G10: 30.78 | H10: 1.78 | I10: 2 | J10: 0.53
B11: 55-64 Jahre | C11: 40.42 | D11: 1.98 | E11: 16.69 | F11: 1.49 | G11: 39.25 | H11: 1.98 | I11: 3.63 | J11: 0.78
A12: Behinderungsstatus | B12: mit Behinderung | C12: 35.34 | D12: 2.6 | E12: 16.88 | F12: 2.03 | G12: 43.51 | H12: 2.69 | I12: 4.27 | J12: 1.13
B13: ohne Behinderung | C13: 51.74 | D13: 1.09 | E13: 19.92 | F13: 0.88 | G13: 26.14 | H13: 0.95 | I13: 2.21 | J13: 0.33
A14: Migrationshintergrund | B14: mit Migrationshintergrund 1. Generation | C14: 41.52 | D14: 1.64 | E14: 19.73 | F14: 1.33 | G14: 34.59 | H14: 1.58 | I14: 4.15 | J14: 0.69
B15: mit Migrationshintergrund 2. Generation | C15: 46.81 | D15: 3.62 | E15: 23.69 | F15: 3.12 | G15: 28.1 | H15: 3.21 | I15: 1.39 | J15: 0.84
B16: ohne Migrationshintergrund | C16: 55.3 | D16: 1.36 | E16: 18.67 | F16: 1.07 | G16: 24.56 | H16: 1.17 | I16: 1.47 | J16: 0.32
A17: Zeitpunkt formale Ausbildung | B17: Ausbildung in den letzten 12 Monaten besucht | C17: 61.15 | D17: 3.4 | E17: 26.36 | F17: 3.08 | G17: 9.25 | H17: 2.02 | I17: 3.23 | J17: 1.26
B18: höchste Ausbildung vor 1 bis 4 Jahren abgeschlossen | C18: 65.84 | D18: 4.16 | E18: 30.42 | F18: 4.05 | G18: 3.4 | H18: 1.53 | I18: 0.34 | J18: 0.36
B19: höchste Ausbildung vor 5 Jahren und mehr abgeschlossen | C19: 48.49 | D19: 1.11 | E19: 18.04 | F19: 0.86 | G19: 31.5 | H19: 1.03 | I19: 1.96 | J19: 0.31
A20: Bildungsstand | B20: obligatorische Schule | C20: 19.09 | D20: 2.25 | E20: 19.76 | F20: 2.28 | G20: 51.5 | H20: 2.83 | I20: 9.65 | J20: 1.69
B21: Sekundarstufe II: Berufsbildung | C21: 41.45 | D21: 1.73 | E21: 19.82 | F21: 1.4 | G21: 36.77 | H21: 1.68 | I21: 1.96 | J21: 0.49
B22: Sekundarstufe II: Allgemeinbildung | C22: 46.42 | D22: 3.56 | E22: 19.49 | F22: 2.83 | G22: 32.42 | H22: 3.34 | I22: 1.67 | J22: 0.92
B23: höhere Berufsbildung | C23: 60.88 | D23: 2.57 | E23: 21.34 | F23: 2.19 | G23: 16.91 | H23: 1.93 | I23: 0.86 | J23: 0.48
B24: Hochschule | C24: 67.21 | D24: 1.71 | E24: 18.07 | F24: 1.41 | G24: 13.76 | H24: 1.25 | I24: 0.95 | J24: 0.37
A25: Arbeitsmarktstatus | B25: Erwerbstätige | C25: 54.33 | D25: 1.11 | E25: 19.48 | F25: 0.89 | G25: 24.19 | H25: 0.95 | I25: 2 | J25: 0.31
B26: Erwerbslose nach ILO | C26: 42.56 | D26: 5.14 | E26: 26.13 | F26: 4.62 | G26: 28.58 | H26: 4.69 | I26: 2.73 | J26: 1.71
B27: Nichterwerbspersonen | C27: 21 | D27: 2.24 | E27: 17.55 | F27: 2.07 | G27: 55.43 | H27: 2.73 | I27: 6.03 | J27: 1.37
A28: 1 95% Konfidenzintervall
A29: Quelle: BFS – Mikrozensus Aus- und Weiterbildung 2021 | J29: © BFS 2024

Sheet G3
A1: Zusammensetzung der Bevölkerung nach Zeitpunkt der letzten Weiterbildung und Geschlecht, 2021
A2: In Prozent der jeweiligen Gruppe der ständigen Wohnbevölkerung im Alter von 25 bis 64 Jahren | H2: G3
C4: ständige Wohnbevölkerung | E4: letzte Weiterbildung vor 1 bis 4 Jahren | G4: letzte Weiterbildung vor 5 Jahren oder mehr
C5: % | D5: ±1 | E5: % | F5: ±1 | G5: % | H5: ±1
A6: Geschlecht | B6: Frauen | C6: 50.237007 | D6: 1.0116939 | E6: 48.011038 | F6: 2.3005515 | G6: 50.660772 | H6: 1.8844807
B7: Männer | C7: 49.762993 | D7: 1.0116939 | E7: 51.988962 | F7: 2.3005515 | G7: 49.339228 | H7: 1.8844807
A8: 1 95% Konfidenzintervall
A9: Quelle: BFS – Mikrozensus Aus- und Weiterbildung 2021 | H9: © BFS 2024

Sheet G4
A1: Zusammensetzung der Bevölkerung nach Zeitpunkt der letzten Weiterbildung und Altersgruppe, 2021
A2: In Prozent der jeweiligen Gruppe der ständigen Wohnbevölkerung im Alter von 25 bis 64 Jahren | H2: G4
C4: ständige Wohnbevölkerung | E4: letzte Weiterbildung vor 1 bis 4 Jahren | G4: letzte Weiterbildung vor 5 Jahren oder mehr
C5: % | D5: ±1 | E5: % | F5: ±1 | G5: % | H5: ±1
A6: Alter | B6: 25-34 Jahre | C6: 24.166448 | D6: 0.89833331 | E6: 33.63178 | F6: 2.2388595 | G6: 15.088949 | H6: 1.418143
B7: 35-44 Jahre | C7: 25.241078 | D7: 0.8671396 | E7: 23.935261 | F7: 1.9121149 | G7: 23.104312 | H7: 1.5718635
B8: 45-54 Jahre | C8: 26.08532 | D8: 0.87692629 | E8: 21.431602 | F8: 1.8607056 | G8: 28.119899 | H8: 1.6736658
B9: 55-64 Jahre | C9: 24.507155 | D9: 0.86397138 | E9: 21.001357 | F9: 1.8401525 | G9: 33.68684 | H9: 1.7774025
A10: 1 95% Konfidenzintervall
A11: Quelle: BFS – Mikrozensus Aus- und Weiterbildung 2021 | H11: © BFS 2024

Sheet G5
A1: Zusammensetzung der Bevölkerung nach Zeitpunkt der letzten Weiterbildung und Behinderungsstatus, 2021
A2: In Prozent der jeweiligen Gruppe der ständigen Wohnbevölkerung im Alter von 25 bis 64 Jahren | H2: G5
C4: ständige Wohnbevölkerung | E4: letzte Weiterbildung vor 1 bis 4 Jahren | G4: letzte Weiterbildung vor 5 Jahren oder mehr
C5: % | D5: ±1 | E5: % | F5: ±1 | G5: % | H5: ±1
A6: Behinderungsstatus | B6: mit Behinderung | C6: 14.085485 | D6: 0.70871955 | E6: 12.202412 | F6: 1.5092145 | G6: 21.439417 | H6: 1.5546329
B7: ohne Behinderung | C7: 85.914515 | D7: 0.70871955 | E7: 87.797588 | F7: 1.5092145 | G7: 78.560583 | H7: 1.5546329
A8: 1 95% Konfidenzintervall
A9: Quelle: BFS – Mikrozensus Aus- und Weiterbildung 2021 | H9: © BFS 2024

Sheet G6
A1: Zusammensetzung der Bevölkerung nach Zeitpunkt der letzten Weiterbildung und Migrationsstatus, 2021
A2: In Prozent der jeweiligen Gruppe der ständigen Wohnbevölkerung im Alter von 25 bis 64 Jahren | H2: G6
C4: ständige Wohnbevölkerung | E4: letzte Weiterbildung vor 1 bis 4 Jahren | G4: letzte Weiterbildung vor 5 Jahren oder mehr
C5: % | D5: ±1 | E5: % | F5: ±1 | G5: % | H5: ±1
A6: Migrationshintergrund | B6: mit Migrationshintergrund 1. Generation | C6: 37.570091 | D6: 0.97368093 | E6: 38.096899 | F6: 2.247241 | G6: 45.436715 | H6: 1.878136
B7: mit Migrationshintergrund 2. Generation | C7: 7.7551742 | D7: 0.53938377 | E7: 9.440871 | F7: 1.3617836 | G7: 7.6207153 | H7: 0.97723921
B8: ohne Migrationshintergrund | C8: 54.674735 | D8: 0.99557016 | E8: 52.46223 | F8: 2.3036211 | G8: 46.94257 | H8: 1.8759641
A9: 1 95% Konfidenzintervall
A10: Quelle: BFS – Mikrozensus Aus- und Weiterbildung 2021 | H10: © BFS 2024

Sheet G7
A1: Zusammensetzung der Bevölkerung nach Zeitpunkt der letzten Weiterbildung und des höchsten Bildungsabschlusses, 2021
A2: In Prozent der jeweiligen Gruppe der ständigen Wohnbevölkerung im Alter von 25 bis 64 Jahren | H2: G7
C4: ständige Wohnbevölkerung | E4: letzte Weiterbildung vor 1 bis 4 Jahren | G4: letzte Weiterbildung vor 5 Jahren oder mehr
C5: % | D5: ±1 | E5: % | F5: ±1 | G5: % | H5: ±1
A6: Zeitpunkt formale Ausbildung | B6: Ausbildung in den letzten 12 Monaten besucht | C6: 9.1822952 | D6: 0.60542871 | E6: 12.405923 | F6: 1.5787186 | G6: 3.0490796 | H6: 0.68858193
B7: höchste Ausbildung vor 1 bis 4 Jahren abgeschlossen | C7: 5.7036983 | D7: 0.48438569 | E7: 8.8919522 | F7: 1.3573903 | G7: 0.69626231 | H7: 0.31631874
B8: höchste Ausbildung vor 5 Jahren und mehr abgeschlossen | C8: 85.114007 | D8: 0.7437671 | E8: 78.702125 | F8: 1.9509538 | G8: 96.254658 | H8: 0.75338249
A9: 1 95% Konfidenzintervall
A10: Quelle: BFS – Mikrozensus Aus- und Weiterbildung 2021 | H10: © BFS 2024

Sheet G8
A1: Zusammensetzung der Bevölkerung nach Zeitpunkt der letzten Weiterbildung und Bildungsstand, 2021
A2: In Prozent der jeweiligen Gruppe der ständigen Wohnbevölkerung im Alter von 25 bis 64 Jahren | H2: G8
C4: ständige Wohnbevölkerung | E4: letzte Weiterbildung vor 1 bis 4 Jahren | G4: letzte Weiterbildung vor 5 Jahren oder mehr
C5: % | D5: ±1 | E5: % | F5: ±1 | G5: % | H5: ±1
A6: Bildungsstand | B6: obligatorische Schule | C6: 13.181189 | D6: 0.69179283 | E6: 13.364974 | F6: 1.5982878 | G6: 23.785031 | H6: 1.615479
B7: Sekundarstufe II: Berufsbildung | C7: 33.994863 | D7: 0.95875272 | E7: 34.563493 | F7: 2.1969843 | G7: 43.797485 | H7: 1.8704221
B8: Sekundarstufe II: Allgemeinbildung | C8: 8.1011022 | D8: 0.55397063 | E8: 8.1001736 | F8: 1.2540576 | G8: 9.2040251 | H8: 1.0973038
B9: höhere Berufsbildung | C9: 14.913598 | D9: 0.72341395 | E9: 16.330695 | F9: 1.7247657 | G9: 8.8384543 | H9: 1.0504018
B10: Hochschule | C10: 29.809247 | D10: 0.90583327 | E10: 27.640664 | F10: 2.0355339 | G10: 14.375005 | H10: 1.3011521
A11: 1 95% Konfidenzintervall
A12: Quelle: BFS – Mikrozensus Aus- und Weiterbildung 2021 | H12: © BFS 2024

Sheet G9
A1: Zusammensetzung der Bevölkerung nach Zeitpunkt der letzten Weiterbildung und Arbeitsmarktstatus, 2021
A2: In Prozent der jeweiligen Gruppe der ständigen Wohnbevölkerung im Alter von 25 bis 64 Jahren | H2: G9
C4: ständige Wohnbevölkerung | E4: letzte Weiterbildung vor 1 bis 4 Jahren | G4: letzte Weiterbildung vor 5 Jahren oder mehr
C5: % | D5: ±1 | E5: % | F5: ±1 | G5: % | H5: ±1
A6: Arbeitsmarktstatus | B6: Erwerbstätige | C6: 82.745797 | D6: 0.7611559 | E6: 82.745439 | F6: 1.7277642 | G6: 70.144652 | H6: 1.721606
B7: Erwerbslose nach ILO | C7: 3.891741 | D7: 0.39679388 | E7: 5.2193414 | F7: 1.0495648 | G7: 3.8977108 | H7: 0.74032754
B8: Nichterwerbspersonen | C8: 13.362462 | D8: 0.68293794 | E8: 12.03522 | F8: 1.4664397 | G8: 25.957637 | H8: 1.6461986
A9: 1 95% Konfidenzintervall
A10: Quelle: BFS – Mikrozensus Aus- und Weiterbildung 2021 | H10: © BFS 2024

Sheet G10
A1: Weiterbildungswunsch in den letzten 12 Monaten, 2021
A2: In Prozent der jeweiligen Gruppe der ständigen Wohnbevölkerung im Alter von 25 bis 64 Jahren, ohne Weiterbildung in den letzten 12 Monaten | H2: G10
C4: Bildungswunsch | E4: Kein Bildungswunsch aus anderem Grund | G4: Kein Bildungswunsch, da kein Bedarf
C5: % | D5: ±1 | E5: % | F5: ±1 | G5: % | H5: ±1
B6: Total | C6: 27.4423 | D6: 1.279091 | E6: 32.3097 | F6: 1.337487 | G6: 40.248 | H6: 1.394491
A7: Geschlecht | B7: Frauen | C7: 28.76 | D7: 1.82 | E7: 34.86 | F7: 1.91 | G7: 36.38 | H7: 1.92
B8: Männer | C8: 26.12 | D8: 1.79 | E8: 29.76 | F8: 1.87 | G8: 44.13 | H8: 2.01
A9: Alter | B9: 25-34 Jahre | C9: 37.15 | D9: 3.09 | E9: 30.72 | F9: 2.93 | G9: 32.14 | H9: 2.95
B10: 35-44 Jahre | C10: 34.56 | D10: 2.74 | E10: 32.32 | F10: 2.7 | G10: 33.12 | H10: 2.71
B11: 45-54 Jahre | C11: 26.68 | D11: 2.46 | E11: 33.16 | F11: 2.64 | G11: 40.16 | H11: 2.71
B12: 55-64 Jahre | C12: 14.68 | D12: 1.85 | E12: 32.81 | F12: 2.48 | G12: 52.51 | H12: 2.63
A13: Behinderungstatus | B13: mit Behinderung | C13: 24.29 | D13: 2.88 | E13: 43.19 | F13: 3.36 | G13: 32.52 | H13: 3.19
B14: ohne Behinderung | C14: 28.15 | D14: 1.42 | E14: 29.88 | F14: 1.45 | G14: 41.96 | H14: 1.55
A15: Migrationshintergrund | B15: mit Migrationshintergrund 1. Generation | C15: 34.14 | D15: 2.1 | E15: 32.51 | F15: 2.06 | G15: 33.34 | H15: 2.06
B16: mit Migrationshintergrund 2. Generation | C16: 28.93 | D16: 4.51 | E16: 32.85 | F16: 4.64 | G16: 38.21 | H16: 4.81
B17: ohne Migrationshintergrund | C17: 21.15 | D17: 1.66 | E17: 31.97 | F17: 1.91 | G17: 46.88 | H17: 2.03
A18: Bildungsstand | B18: obligatorische Schule | C18: 24.64 | D18: 2.73 | E18: 38.34 | F18: 3.08 | G18: 37.03 | H18: 3.03
B19: Sekundarstufe II: Berufsbildung | C19: 23.69 | D19: 1.94 | E19: 32.64 | F19: 2.16 | G19: 43.68 | H19: 2.26
B20: Sekundarstufe II: Allgemeinbildung | C20: 33.28 | D20: 4.68 | E20: 32.24 | F20: 4.49 | G20: 34.48 | H20: 4.62
B21: höhere Berufsbildung | C21: 27.34 | D21: 3.8 | E21: 33.68 | F21: 4 | G21: 38.98 | H21: 4.09
B22: Hochschulen | C22: 36.02 | D22: 3.08 | E22: 23.84 | F22: 2.68 | G22: 40.14 | H22: 3.14
A23: Arbeitsmarktstatus | B23: Erwerbstätige | C23: 28.58 | D23: 1.5 | E23: 30.1 | F23: 1.52 | G23: 41.32 | H23: 1.62
B24: Erwerbslose nach ILO | C24: 55.62 | D24: 6.86 | E24: 23.27 | F24: 5.78 | G24: 21.1 | H24: 5.7
B25: Nichterwerbspersonen | C25: 17.52 | D25: 2.35 | E25: 42.2 | F25: 3.07 | G25: 40.29 | H25: 3.03
A26: Zeitpunkt der letzten Weiterbildung | B26: Vor 1 bis 4 Jahren | C26: 36.37 | D26: 2.23 | E26: 30.34 | F26: 2.11 | G26: 33.29 | H26: 2.16
B27: Vor 5 Jahren oder mehr | C27: 22.37 | D27: 1.57 | E27: 33.16 | F27: 1.78 | G27: 44.47 | H27: 1.87
A28: 1 95% Konfidenzintervall
A29: Quelle: BFS – Mikrozensus Aus- und Weiterbildung 2021 | H29: © BFS 2024

Sheet G11
A1: Hauptteilnahmehindernis nach Zeitpunkt der letzten Weiterbildung, 2021
A2: In Prozent der jeweiligen Gruppe der ständigen Wohnbevölkerung im Alter von 25 – 64 Jahren, deren letzte Weiterbildung mehr als 12 Monate zurückliegt | D2: G11
C4: % | D4: ±1
A5: letzte Weiterbildung vor 1 bis 4 Jahren | B5: Covid-19 | C5: 30.81 | D5: 2.61
B6: Zeitmangel | C6: 15.53 | D6: 2.07
B7: familiäre Beanspruchung | C7: 11.47 | D7: 1.82
B8: zu hohe Kosten | C8: 10.92 | D8: 1.76
B9: andere persönliche Gründe | C9: 7.75 | D9: 1.58
A10: letzte Weiterbildung vor 5 Jahren oder mehr | B10: familiäre Beanspruchung | C10: 15.11 | D10: 1.8
B11: zu hohe Kosten | C11: 13.91 | D11: 1.79
B12: Zeitmangel | C12: 13.37 | D12: 1.74
B13: Gesundheit | C13: 12.88 | D13: 1.7
B14: andere persönliche Gründe | C14: 12.55 | D14: 1.69
A15: 1 95% Konfidenzintervall
A16: Quelle: BFS – Mikrozensus Aus- und Weiterbildung 2021 | D16: © BFS 2024

Sheet G12
A1: Hauptteilnahmehindernis nach Weiterbildungswunsch, 2021
A2: In Prozent der jeweiligen Gruppe der ständigen Wohnbevölkerung im Alter von 25 – 64 Jahren, deren letzte Weiterbildung mindestens 5 Jahre zurückliegt | D2: G12
C4: % | D4: ±1
A5: möchte Bildungsaktivitäten besuchen | B5: zu hohe Kosten | C5: 23.99 | D5: 3.46
B6: Covid-19 | C6: 13.84 | D6: 2.8
B7: Zeitmangel | C7: 13.49 | D7: 2.74
B8: familiäre Beanspruchung | C8: 13.35 | D8: 2.73
B9: Gesundheit | C9: 7.31 | D9: 2.04
A10: Kein Bildungswunsch aus anderem Grund als kein Bedarf | B10: andere persönliche Gründe | C10: 16.61 | D10: 2.46
B11: Gesundheit | C11: 16.59 | D11: 2.46
B12: familiäre Beanspruchung | C12: 16.36 | D12: 2.4
B13: Alter | C13: 13.93 | D13: 2.34
B14: Zeitmangel | C14: 13.31 | D14: 2.25
A15: 1 95% Konfidenzintervall
A16: Quelle: BFS – Mikrozensus Aus- und Weiterbildung 2021 | D16: © BFS 2024

Sheet T1
A1: Logistische Regression zur Nichtteilnahme an Weiterbildungsaktivitäten in den letzten 5 Jahren
A2: Ständige Wohnbevölkerung im Alter von 25 bis 64 Jahren | G2: T 1
A5: soziodemografische Merkmale | C5: Odds ratio | D5: 95% Konfidenzintervall | F5: p-Werte
A6: Geschlecht
B7: Männer (Referenz) | C7: Ref.
B8: Frauen | C8: 0.859 | D8: 0.776 | E8: 0.951 | F8: 0.0034 | G8: *
A9: Alter | G9: =IF(ISBLANK(F9),"",IF(F9="<.0001","***",IF(F9<0.01,"**",IF(F9<0.05,"*","ns"))))
B10: 25–34 Jahre (Referenz) | C10: Ref. | G10: =IF(ISBLANK(F10),"",IF(F10="<.0001","***",IF(F10<0.01,"**",IF(F10<0.05,"*","ns"))))
B11: 35-44 Jahre | C11: 1.457 | D11: 1.244 | E11: 1.707 | F11: <.0001 | G11: ***
B12: 45–54 Jahre | C12: 1.586 | D12: 1.361 | E12: 1.849 | F12: <.0001 | G12: ***
B13: 55–64 Jahre | C13: 1.967 | D13: 1.682 | E13: 2.301 | F13: <.0001 | G13: ***
A14: Behinderungsstatus | G14: =IF(ISBLANK(F14),"",IF(F14="<.0001","***",IF(F14<0.01,"**",IF(F14<0.05,"*","ns"))))
B15: ohne Behinderung (Referenz) | C15: Ref. | G15: =IF(ISBLANK(F15),"",IF(F15="<.0001","***",IF(F15<0.01,"**",IF(F15<0.05,"*","ns"))))
B16: mit Behinderung | C16: 1.371 | D16: 1.19 | E16: 1.578 | F16: <.0001 | G16: ***
A17: Migrationshintergrund | G17: =IF(ISBLANK(F17),"",IF(F17="<.0001","***",IF(F17<0.01,"**",IF(F17<0.05,"*","ns"))))
B18: ohne Migrationshintergrund (Referenz) | C18: Ref. | G18: =IF(ISBLANK(F18),"",IF(F18="<.0001","***",IF(F18<0.01,"**",IF(F18<0.05,"*","ns"))))
B19: mit Migrationshintergrund 1. Generation | C19: 1.569 | D19: 1.397 | E19: 1.761 | F19: <.0001 | G19: ***
B20: mit Migrationshintergrund 2. Generation | C20: 1.264 | D20: 1.048 | E20: 1.525 | F20: 0.0144 | G20: *
A21: formale Ausbildung besucht in den letzten 12 Monaten
B22: Nein (Referenz) | C22: Ref.
B23: Ja | C23: 0.343 | D23: 0.261 | E23: 0.45 | F23: <.0001 | G23: ***
A24: Bildungsstand | G24: =IF(ISBLANK(F24),"",IF(F24="<.0001","***",IF(F24<0.01,"**",IF(F24<0.05,"*","ns"))))
B25: obligatorische Schule (Referenz) | C25: Ref. | G25: =IF(ISBLANK(F25),"",IF(F25="<.0001","***",IF(F25<0.01,"**",IF(F25<0.05,"*","ns"))))
B26: Sekundarstufe II Berufsbildung | C26: 0.653 | D26: 0.555 | E26: 0.767 | F26: <.0001 | G26: =IF(ISBLANK(F26),"",IF(F26="<.0001","***",IF(F26<0.01,"**",IF(F26<0.05,"*","n.r.")))) -> ***
B27: Sekundarstufe II Allgemeinbildung | C27: 0.528 | D27: 0.427 | E27: 0.653 | F27: <.0001 | G27: =IF(ISBLANK(F27),"",IF(F27="<.0001","***",IF(F27<0.01,"**",IF(F27<0.05,"*","n.r.")))) -> ***
B28: höhere Berufsbildung | C28: 0.244 | D28: 0.2 | E28: 0.297 | F28: <.0001 | G28: =IF(ISBLANK(F28),"",IF(F28="<.0001","***",IF(F28<0.01,"**",IF(F28<0.05,"*","n.r.")))) -> ***
B29: Hochschule | C29: 0.179 | D29: 0.151 | E29: 0.213 | F29: <.0001 | G29: =IF(ISBLANK(F29),"",IF(F29="<.0001","***",IF(F29<0.01,"**",IF(F29<0.05,"*","n.r.")))) -> ***
A30: Arbeitsmarktstatus
B31: Erwerbstätige (Referenz) | C31: Ref.
B32: Erwerbslose nach ILO | C32: 0.887 | D32: 0.671 | E32: 1.173 | F32: 0.4021 | G32: n.s.
B33: Nichterwerbspersonen | C33: 3.237 | D33: 2.789 | E33: 3.756 | F33: <.0001 | G33: ***
A35: Hinweis: Die Interpretation der Koeffizienten (Odds Ratio) erfolgt immer im Vergleich zu einer Referenzgruppe, wobei die anderen im Modell enthaltenen Faktoren ansonsten gleich bleiben. Ein Odds Ratio von 1 bedeutet keinen Unterschied, ein Wert kleiner als 1 eine geringere Chance und ein Wert größer als 1 eine höhere Chance. Das Quotenverhältnis bezieht sich immer auf die Referenzgruppe.
A36: n.s.: Kategorie, die sich statistisch nicht signifikant von der Referenzkategorie unterscheidet
A37: Signifikanzniveaus: *** p<.0001; ** p<0.001 ; * p<0.05
A38: Abhängige Variable: 1 keine Weiterbildung besucht seit fünf Jahren oder mehr, 0 mindestens eine Weiterbildung besucht in den letzten vier Jahren
A39: Quelle: BFS – Mikrozensus Aus- und Weiterbildung 2021 | G39: © BFS 2024

Sheet T2
A1: Teilnahmewünsche (Mehrfachantworten möglich), 2021
A2: In Prozent der ständigen Wohnbevölkerung mit Weiterbildungswunsch im Alter von 25 bis 64 Jahren, deren letzte Weiterbildung mindestens 5 Jahre zurückliegt | C2: T 2
B5: % | C5: ±1
A6: Chancen verbessern, eine neue Arbeit zu finden / den Beruf zu wechseln | B6: 42.646529 | C6: 3.9858007
A7: Karrierechancen verbessern | B7: 41.329372 | C7: 3.9755124
A8: aus persönlichem Interesse am Thema | B8: 36.804761 | C8: 3.8687282
A9: Arbeit besser machen zu können | B9: 31.858021 | C9: 3.7321338
A10: Zertifikat, ein Diplom oder einen anderen Abschluss zu erwerben | B10: 27.725564 | C10: 3.6122036
A11: zum Vergnügen | B11: 16.739751 | C11: 2.92508
A12: organisatorischer und technologischer Wandel am Arbeitsplatz | B12: 15.272554 | C12: 2.8862424
A13: weniger hohes Risiko zu haben, die Stelle zu verlieren | B13: 12.348208 | C13: 2.6436769
A14: Anderer Grund | B14: 7.4733187 | C14: 2.0923216
A15: eigenes Unternehmen zu gründen | B15: 6.2327276 | C15: 1.9250472
A16: Gesundheitsgründen | B16: 5.3804771 | C16: 1.8706962
A17: ehrenamtliche Tätigkeiten / freiwillige Arbeit besser machen zu können | B17: 4.8327054 | C17: 1.7285417
A18: 1 95% Konfidenzintervall
A19: Quelle: BFS – Mikrozensus Aus- und Weiterbildung 2021 | C19: © BFS 2024

Sheet T3
A1: Teilnahmehindernisse, 2021
A2: In Prozent der jeweiligen Gruppe der ständigen Wohnbevölkerung im Alter von 25 bis 64 Jahren, deren letzte Weiterbildung mindestens 5 Jahre zurückliegt | E2: T3
D3: % | E3: ±1
A4: Geschlecht | B4: Frauen | C4: familiäre Beanspruchung | D4: 21.9 | E4: 2.8
C5: zu hohe Kosten | D5: 15.4 | E5: 2.5
C6: Gesundheit | D6: 12.7 | E6: 2.3
B7: Männer | C7: Zeitmangel | D7: 18.6 | E7: 3
C8: andere persönliche Gründe | D8: 14.3 | E8: 2.7
C9: Gesundheit | D9: 13.1 | E9: 2.5
A10: Alter | B10: 25 – 34 Jahre | C10: zu hohe Kosten | D10: 22.4 | E10: 5.5
C11: familiäre Beanspruchung | D11: 21.3 | E11: 5.1
C12: Zeitmangel | D12: 16.5 | E12: 4.7
B13: 35 – 44 Jahre | C13: familiäre Beanspruchung | D13: 21.7 | E13: 4
C14: zu hohe Kosten | D14: 17.7 | E14: 3.7
C15: Zeitmangel | D15: 15.6 | E15: 3.5
B16: 45 – 54 Jahre | C16: Gesundheit | D16: 17.8 | E16: 3.7
C17: Zeitmangel | D17: 14.9 | E17: 3.3
C18: andere persönliche Gründe | D18: 14.1 | E18: 3.4
B19: 55 – 64 Jahre | C19: Alter | D19: 25.6 | E19: 4.3
C20: Gesundheit | D20: 20.8 | E20: 3.9
C21: andere persönliche Gründe | D21: 12.3 | E21: 3.1
A22: Behinderungsstatus | B22: mit Behinderung | C22: Gesundheit | D22: 45.3 | E22: 5
C23: Alter | D23: 10.7 | E23: 3.1
C24: andere persönliche Gründe | D24: 9.9 | E24: 3
B25: ohne Behinderung | C25: familiäre Beanspruchung | D25: 17.8 | E25: 2.2
C26: Zeitmangel | D26: 16 | E26: 2.2
C27: zu hohe Kosten | D27: 15.5 | E27: 2.2
A28: Migrationshintergrund | B28: mit Migrationshintergrund 1. Generation | C28: zu hohe Kosten | D28: 15.6 | E28: 2.6
C29: familiäre Beanspruchung | D29: 14.9 | E29: 2.5
C30: Zeitmangel | D30: 14.1 | E30: 2.5
B31: mit Migrationshintergrund 2. Generation | C31: familiäre Beanspruchung | D31: 20.6 | E31: 7.3
C32: Zeitmangel | D32: 15.8 | E32: 6.6
C33: zu hohe Kosten | D33: 12 | E33: 5.4
B34: ohne Migrationshintergrund | C34: Gesundheit | D34: 16 | E34: 2.9
C35: familiäre Beanspruchung | D35: 14.5 | E35: 2.7
C36: andere persönliche Gründe | D36: 12.7 | E36: 2.7
A37: Bildungsstand | B37: Obligatorische Schule | C37: Gesundheit | D37: 18.9 | E37: 4
C38: familiäre Beanspruchung | D38: 16.2 | E38: 3.9
C39: andere persönliche Gründe | D39: 15.3 | E39: 3.6
B40: Sekundarstufe II Berufsbildung | C40: zu hohe Kosten | D40: 15.2 | E40: 2.9
C41: familiäre Beanspruchung | D41: 13.8 | E41: 2.7
C42: andere persönliche Gründe | D42: 13.5 | E42: 2.8
B43: Sekundarstufe II Allgemeinbildung | C43: zu hohe Kosten | D43: 19.4 | E43: 6.6
C44: Zeitmangel | D44: 15 | E44: 5.5
C45: familiäre Beanspruchung | D45: 14 | E45: 5.3
B46: höhere Berufsbildung | C46: familiäre Beanspruchung | D46: 21.3 | E46: 6.6
C47: Zeitmangel | D47: 17.5 | E47: 7
C48: Gesundheit | D48: 12.7 | E48: 5.7
B49: Hochschule | C49: Zeitmangel | D49: 25.3 | E49: 5.9
C50: familiäre Beanspruchung | D50: 14.5 | E50: 4.5
C51: Covid-19 | D51: 13.9 | E51: 4.6
A52: Arbeitsmarkstatus | B52: Erwerbstätige | C52: Zeitmangel | D52: 18.1 | E52: 2.4
C53: zu hohe Kosten | D53: 15.8 | E53: 2.3
C54: familiäre Beanspruchung | D54: 14 | E54: 2.1
B55: Erwerbslose nach ILO | C55: zu hohe Kosten | D55: 31.9 | E55: 10.2
C56: familiäre Beanspruchung | D56: 13.9 | E56: 8.3
C57: Covid-19 | D57: 12.8 | E57: 7.5
B58: Nichterwerbspersonen | C58: Gesundheit | D58: 33 | E58: 4.5
C59: familiäre Beanspruchung | D59: 18.1 | E59: 3.6
C60: andere persönliche Gründe | D60: 12.3 | E60: 3.1
A61: 1 95% Konfidenzintervall
A62: Quelle: BFS – Mikrozensus Aus- und Weiterbildung 2021 | E62: © BFS 2024
