Workbook

Sheet BAP
A1: Code | B1: ELEM1 | C1: ELEM2 | D1: Délimiteur | E1: 1 | F1: 2 | G1: 3
A2: <CFC_109> | B2: CFC | C2: 109 | D2: _ | E2: Übriges | F2: Divers | G2: Diversi
A3: <CFC_119> | B3: CFC | C3: 119 | D3: _ | E3: Übriges | F3: Divers | G3: Diversi
A4: <CFC_129> | B4: CFC | C4: 129 | D4: _ | E4: Übriges | F4: Divers | G4: Diversi
A5: <CFC_139> | B5: CFC | C5: 139 | D5: _ | E5: Übriges | F5: Divers | G5: Diversi
A6: <CFC_149> | B6: CFC | C6: 149 | D6: _ | E6: Übriges | F6: Divers | G6: Diversi
A7: <CFC_159> | B7: CFC | C7: 159 | D7: _ | E7: Übriges | F7: Divers | G7: Diversi
A8: <CFC_169> | B8: CFC | C8: 169 | D8: _ | E8: Übriges | F8: Divers | G8: Diversi
A9: <CFC_179> | B9: CFC | C9: 179 | D9: _ | E9: Übriges | F9: Divers | G9: Diversi
A10: <CFC_199> | B10: CFC | C10: 199 | D10: _ | E10: Übriges | F10: Divers | G10: Diversi
A11: <CFC_209> | B11: CFC | C11: 209 | D11: _ | E11: Übriges | F11: Divers | G11: Diversi
A12: <CFC_219> | B12: CFC | C12: 219 | D12: _ | E12: Übriges | F12: Divers | G12: Diversi
... A1961: <Navigation_Onglet> | B1961: Navigation | C1961: Onglet | D1961: _ | E1961: Klicken Sie, um zum Datenblatt zu gehen | F1961: Cliquer pour se rendre sur l'onglet | G1961: Clicca per andare al tabellone

Sheet Info
A1: <cc-05.05.01_Titre> | C1: =INDEX(BAP[#All],MATCH(A1,BAP[[#All],[Code]],0),MATCH(TEXT(Info!$B$4,0),BAP[#Headers],0)) -> Indice suisse des prix de la construction - Evolution des prix de la construction
A2: <cc-05.05.01_Sous-tItre> | C2: =INDEX(BAP[#All],MATCH(A2,BAP[[#All],[Code]],0),MATCH(TEXT(Info!$B$4,0),BAP[#Headers],0)) -> Valeurs de l'Indice par grande région et par type d'objet
B4: 2
C5: Sprache / Langue / Lingua
A10: <Navigation_Onglet> | C10: =INDEX(BAP[#All],MATCH(A10,BAP[[#All],[Code]],0),MATCH(TEXT(Info!$B$4,0),BAP[#Headers],0)) -> Cliquer pour se rendre sur l'onglet
A11: <BASE_1998> | C11: =INDEX(BAP[#All],MATCH(A11,BAP[[#All],[Code]],0),MATCH(TEXT(Info!$B$4,0),BAP[#Headers],0)) -> Base octobre 1998 = 100
A12: <BASE_2010> | C12: =INDEX(BAP[#All],MATCH(A12,BAP[[#All],[Code]],0),MATCH(TEXT(Info!$B$4,0),BAP[#Headers],0)) -> Base octobre 2010 = 100
A13: <BASE_2015> | C13: =INDEX(BAP[#All],MATCH(A13,BAP[[#All],[Code]],0),MATCH(TEXT(Info!$B$4,0),BAP[#Headers],0)) -> Base octobre 2015 = 100
A14: <BASE_2020> | C14: =INDEX(BAP[#All],MATCH(A14,BAP[[#All],[Code]],0),MATCH(TEXT(Info!$B$4,0),BAP[#Headers],0)) -> Base octobre 2020 = 100
A17: <Pieds_tableau_2> | C17: =INDEX(BAP[#All],MATCH(A17,BAP[[#All],[Code]],0),MATCH(TEXT(Info!$B$4,0),BAP[#Headers],0)) -> Office fédéral de la statistique, Indice des prix de la construction
A18: <Pieds_tableau_3> | C18: =INDEX(BAP[#All],MATCH(A18,BAP[[#All],[Code]],0),MATCH(TEXT(Info!$B$4,0),BAP[#Headers],0)) -> Renseignements: Hotline BAP, 058 463 63 06, bap@bfs.admin.ch
A19: <Pieds_tableau_4> | C19: =INDEX(BAP[#All],MATCH(A19,BAP[[#All],[Code]],0),MATCH(TEXT(Info!$B$4,0),BAP[#Headers],0)) -> © OFS

Sheet 1998
C1: <POND_02> | D1: <Date_Mois_Octobre> | E1: <Date_Mois_Avril>
A2: <cc-05.05.01_Titre> | B2: =INDEX(BAP[#All],MATCH(A2,BAP[[#All],[Code]],0),MATCH(TEXT(Info!$B$4,0),BAP[#Headers],0)) -> Indice suisse des prix de la construction - Evolution des prix de la construction
A3: <cc-05.05.01_Sous-tItre> | B3: =INDEX(BAP[#All],MATCH(A3,BAP[[#All],[Code]],0),MATCH(TEXT(Info!$B$4,0),BAP[#Headers],0)) -> Valeurs de l'Indice par grande région et par type d'objet
A4: <BASE_1998> | B4: =INDEX(BAP[#All],MATCH(A4,BAP[[#All],[Code]],0),MATCH(TEXT(Info!$B$4,0),BAP[#Headers],0)) -> Base octobre 1998 = 100
C5: =INDEX(BAP[#All],MATCH(C1,BAP[[#All],[Code]],0),MATCH(TEXT(Info!$B$4,0),BAP[#Headers],0)) -> Pondération en % | D5: =INDEX(BAP[#All],MATCH(D1,BAP[[#All],[Code]],0),MATCH(TEXT(Info!$B$4,0),BAP[#Headers],0)) -> Octobre | E5: =INDEX(BAP[#All],MATCH(E1,BAP[[#All],[Code]],0),MATCH(TEXT(Info!$B$4,0),BAP[#Headers],0)) -> Avril | F5: =D5 -> Octobre | G5: =E5 -> Avril | H5: =F5 -> Octobre | I5: =G5 -> Avril | J5: =H5 -> Octobre | K5: =I5 -> Avril | L5: =J5 -> Octobre | M5: =K5 -> Avril | ... BB5: =AZ5 -> Octobre | BC5: =+BA5 -> Avril
D6: 1998 | E6: 1999 | F6: 1999 | G6: 2000 | H6: 2000 | I6: 2001 | J6: 2001 | K6: 2002 | L6: 2002 | M6: 2003 | N6: 2003 | O6: 2004 | P6: 2004 | Q6: 2005 | R6: 2005 | S6: 2006 | T6: 2006 | U6: 2007 | V6: 2007 | W6: 2008 | X6: 2008 | Y6: 2009 | Z6: 2009 | AA6: 2010 | AB6: 2010 | AC6: 2011 | AD6: 2011 | AE6: 2012 | AF6: 2012 | AG6: 2013 | AH6: 2013 | AI6: 2014 | AJ6: 2014 | AK6: 2015 | AL6: 2015 | AM6: 2016 | AN6: 2016 | AO6: 2017 | AP6: 2017 | AQ6: 2018 | AR6: 2018 | AS6: 2019 | AT6: 2019 | AU6: 2020 | AV6: 2020 | AW6: 2021 | AX6: 2021 | AY6: 2022 | AZ6: 2022 | BA6: 2023 | BB6: 2023 | BC6: 2024
A8: <REG_01> | B8: =INDEX(BAP[#All],MATCH(A8,BAP[[#All],[Code]],0),MATCH(TEXT(Info!$B$4,0),BAP[#Headers],0)) -> Suisse
A9: <OBJ_02> | B9: =INDEX(BAP[#All],MATCH(A9,BAP[[#All],[Code]],0),MATCH(TEXT(Info!$B$4,0),BAP[#Headers],0)) -> Construction : total | C9: 100 | D9: 100 | E9: 101 | F9: 103.7 | G9: 105.6 | H9: 108.1 | I9: 110.6 | J9: 110.4 | K9: 109.7 | L9: 108.7 | M9: 107.5 | N9: 107.8 | O9: 108.3 | P9: 110.5 | Q9: 111.1 | R9: 112.6 | S9: 113.9 | T9: 116.8 | U9: 118.9 | V9: 121.1 | W9: 123.3 | X9: 125.5 | Y9: 123 | Z9: 123.1 | AA9: 123.1 | AB9: 124.1 | AC9: 125.9 | AD9: 126.7 | AE9: 126.7 | AF9: 127 | AG9: 127.3 | AH9: 128 | AI9: 127.7 | AJ9: 127.6 | AK9: 126.8 | AL9: 127.4 | AM9: 126.7 | AN9: 126.2 | AO9: 125.7 | AP9: 125.7 | AQ9: 126.2 | AR9: 126.5 | AS9: 127.1 | AT9: 127.1 | AU9: 127.4 | AV9: 127.1 | AW9: 128.9 | AX9: 132.3 | AY9: 138.8 | AZ9: 143.3 | BA9: 144.7 | BB9: 145.6 | BC9: 146.1
A10: <OBJ_03> | B10: =INDEX(BAP[#All],MATCH(A10,BAP[[#All],[Code]],0),MATCH(TEXT(Info!$B$4,0),BAP[#Headers],0)) -> Bâtiment | C10: 76 | D10: 100 | E10: 100.7 | F10: 103.1 | G10: 104.8 | H10: 107 | I10: 109 | J10: 109.2 | K10: 108.9 | L10: 108.1 | M10: 106.6 | N10: 106.8 | O10: 106.7 | P10: 108.6 | Q10: 109.6 | R10: 110.6 | S10: 112.1 | T10: 114.7 | U10: 116.8 | V10: 119 | W10: 121.5 | X10: 123.5 | Y10: 121.8 | Z10: 121.7 | AA10: 121.4 | AB10: 122.7 | AC10: 124.3 | AD10: 125 | AE10: 124.8 | AF10: 125 | AG10: 125.2 | AH10: 125.8 | AI10: 125.8 | AJ10: 125.4 | AK10: 124.7 | AL10: 125.3 | AM10: 124.5 | AN10: 123.8 | AO10: 123.2 | AP10: 123.3 | AQ10: 123.9 | AR10: 124.1 | AS10: 124.8 | AT10: 124.6 | AU10: 124.8 | AV10: 124.5 | AW10: 126.3 | AX10: 130.2 | AY10: 136.6 | AZ10: 140.9 | BA10: 142.3 | BB10: 142.9 | BC10: 143.4
A11: <OBJ_04> | B11: =INDEX(BAP[#All],MATCH(A11,BAP[[#All],[Code]],0),MATCH(TEXT(Info!$B$4,0),BAP[#Headers],0)) -> Nouvelle construction | C11: 49 | D11: 100 | E11: 100.9 | F11: 103.3 | G11: 105.4 | H11: 107.7 | I11: 109.9 | J11: 109.9 | K11: 109.3 | L11: 108.2 | M11: 106.6 | N11: 106.6 | O11: 106.5 | P11: 108.7 | Q11: 109.6 | R11: 110.6 | S11: 112 | T11: 114.9 | U11: 116.7 | V11: 118.9 | W11: 121.4 | X11: 123.7 | Y11: 121.2 | Z11: 120.9 | AA11: 120.5 | AB11: 122.1 | AC11: 123.9 | AD11: 124.2 | AE11: 124 | AF11: 124.1 | AG11: 124.3 | AH11: 124.9 | AI11: 124.9 | AJ11: 124.4 | AK11: 123.5 | AL11: 124.1 | AM11: 123.6 | AN11: 122.9 | AO11: 122.6 | AP11: 123.1 | AQ11: 123.7 | AR11: 123.9 | AS11: 124.4 | AT11: 124.4 | AU11: 124.6 | AV11: 124.5 | AW11: 126.4 | AX11: 130.5 | AY11: 137.1 | AZ11: 141.6 | BA11: 143.3 | BB11: 143.7 | BC11: 144.2
A12: <OBJ_08> | B12: =INDEX(BAP[#All],MATCH(A12,BAP[[#All],[Code]],0),MATCH(TEXT(Info!$B$4,0),BAP[#Headers],0)) -> Construction de bâtiments administratifs | C12: 11 | D12: 100 | E12: 100.8 | F12: 103.9 | G12: 105.2 | H12: 107.4 | I12: 110 | J12: 111.3 | K12: 111.3 | L12: 110.3 | M12: 109.1 | N12: 109.1 | O12: 108.9 | P12: 110.6 | Q12: 111.9 | R12: 112.6 | S12: 114.4 | T12: 117.6 | U12: 120 | V12: 122.7 | W12: 125.3 | X12: 127.4 | Y12: 126.1 | Z12: 125.7 | AA12: 125.3 | AB12: 126.7 | AC12: 129.2 | AD12: 129.7 | AE12: 128.9 | AF12: 129.5 | AG12: 130.6 | AH12: 131 | AI12: 129.6 | AJ12: 129.6 | AK12: 128.1 | AL12: 128.8 | AM12: 127.5 | AN12: 126.7 | AO12: 125.8 | AP12: 125.1 | AQ12: 125.5 | AR12: 125.5 | AS12: 125.9 | AT12: 126.8 | AU12: 126.8 | AV12: 126.3 | AW12: 128.7 | AX12: 132.4 | AY12: 139.9 | AZ12: 145 | BA12: 146.7 | BB12: 147.2 | BC12: 148.5
A13: <OBJ_05> | B13: =INDEX(BAP[#All],MATCH(A13,BAP[[#All],[Code]],0),MATCH(TEXT(Info!$B$4,0),BAP[#Headers],0)) -> Construction de bâtiments à plusieurs logements | C13: 38 | D13: 100 | E13: 101 | F13: 103.1 | G13: 105.5 | H13: 107.8 | I13: 109.8 | J13: 109.5 | K13: 108.7 | L13: 107.5 | M13: 105.8 | N13: 105.9 | O13: 105.9 | P13: 108.2 | Q13: 109 | R13: 110.1 | S13: 111.3 | T13: 114.1 | U13: 115.8 | V13: 117.8 | W13: 120.3 | X13: 122.6 | Y13: 119.7 | Z13: 119.5 | AA13: 119.2 | AB13: 120.8 | AC13: 122.3 | AD13: 122.5 | AE13: 122.3 | AF13: 122.4 | AG13: 122.5 | AH13: 123 | AI13: 123.2 | AJ13: 122.6 | AK13: 121.9 | AL13: 122.5 | AM13: 122.1 | AN13: 121.5 | AO13: 121.3 | AP13: 122 | AQ13: 122.5 | AR13: 122.7 | AS13: 123.2 | AT13: 123.1 | AU13: 123.4 | AV13: 123.1 | AW13: 124.8 | AX13: 128.7 | AY13: 135 | AZ13: 139.8 | BA13: 141.5 | BB13: 142.2 | BC13: 142.4
A14: <OBJ_06> | B14: =INDEX(BAP[#All],MATCH(A14,BAP[[#All],[Code]],0),MATCH(TEXT(Info!$B$4,0),BAP[#Headers],0))&" 1)" -> Construction de bâtiments à plusieurs logements en bois 1) | C14: … | D14: … | E14: … | F14: … | G14: … | H14: … | I14: … | J14: … | K14: … | L14: … | M14: 100 | N14: 100.1 | O14: 99.9 | P14: 101.6 | Q14: 102.3 | R14: 103.1 | S14: 104.4 | T14: 106.8 | U14: 108.9 | V14: 110.5 | W14: 113 | X14: 114.8 | Y14: 112.4 | Z14: 112.4 | AA14: 112 | AB14: 113.7 | AC14: 115.6 | AD14: 116.4 | AE14: 115.7 | AF14: 115.6 | AG14: 115.5 | AH14: 115.9 | AI14: 116 | AJ14: 115.6 | AK14: 115.2 | AL14: 115.8 | AM14: 115.6 | AN14: 114.9 | AO14: 114.9 | AP14: 115 | AQ14: 115.9 | AR14: 116.3 | AS14: 116.5 | AT14: 115.9 | AU14: 116.2 | AV14: 116.7 | AW14: 119.8 | AX14: 124.7 | AY14: 130.9 | AZ14: 134.3 | BA14: 136 | BB14: 135.3 | BC14: 136.1
A15: <OBJ_11> | B15: =INDEX(BAP[#All],MATCH(A15,BAP[[#All],[Code]],0),MATCH(TEXT(Info!$B$4,0),BAP[#Headers],0)) -> Rénovation de bâtiments à plusieurs logements | C15: 27 | D15: 100 | E15: 100.2 | F15: 102.6 | G15: 103.7 | H15: 105.7 | I15: 107.5 | J15: 108 | K15: 108.3 | L15: 107.9 | M15: 106.8 | N15: 107 | O15: 107 | P15: 108.4 | Q15: 109.6 | R15: 110.7 | S15: 112.2 | T15: 114.3 | U15: 117 | V15: 119.1 | W15: 121.7 | X15: 123.2 | Y15: 123.1 | Z15: 123.3 | AA15: 122.9 | AB15: 123.8 | AC15: 125.2 | AD15: 126 | AE15: 125.6 | AF15: 125.7 | AG15: 125.6 | AH15: 126.2 | AI15: 126.5 | AJ15: 126.2 | AK15: 125.7 | AL15: 125.9 | AM15: 124.3 | AN15: 124.1 | AO15: 124.8 | AP15: 125.9 | AQ15: 127 | AR15: 126.9 | AS15: 128.1 | AT15: 129.4 | AU15: 130.1 | AV15: 129.7 | AW15: 131.2 | AX15: 135.1 | AY15: 141.6 | AZ15: 145.7 | BA15: 146.8 | BB15: 147.9 | BC15: 148.1
A16: <OBJ_13> | B16: =INDEX(BAP[#All],MATCH(A16,BAP[[#All],[Code]],0),MATCH(TEXT(Info!$B$4,0),BAP[#Headers],0))&" 2)" -> Génie civil 2) | C16: 24 | D16: 100 | E16: 102 | F16: 105.8 | G16: 108.1 | H16: 111.5 | I16: 115.5 | J16: 114.2 | K16: 112 | L16: 110.7 | M16: 110.2 | N16: 111.2 | O16: 113.4 | P16: 116.3 | Q16: 115.8 | R16: 118.7 | S16: 119.8 | T16: 123.3 | U16: 125.3 | V16: 127.6 | W16: 129.1 | X16: 131.7 | Y16: 126.6 | Z16: 127.3 | AA16: 128.5 | AB16: 128.5 | AC16: 131.2 | AD16: 132.6 | AE16: 133.3 | AF16: 134.1 | AG16: 134.7 | AH16: 135.9 | AI16: 134.6 | AJ16: 135.4 | AK16: 134.5 | AL16: 135 | AM16: 134.8 | AN16: 135.1 | AO16: 135.1 | AP16: 135 | AQ16: 134.6 | AR16: 135.8 | AS16: 135.8 | AT16: 136.7 | AU16: 136.9 | AV16: 137 | AW16: 138.5 | AX16: 140.3 | AY16: 147.3 | AZ16: 152.2 | BA16: 154 | BB16: 155.6 | BC16: 156.6
A17: <OBJ_14> | B17: =INDEX(BAP[#All],MATCH(A17,BAP[[#All],[Code]],0),MATCH(TEXT(Info!$B$4,0),BAP[#Headers],0)) -> Construction de routes | C17: 12 | D17: 100 | E17: 102 | F17: 105.8 | G17: 108.1 | H17: 111.5 | I17: 115.5 | J17: 113.8 | K17: 111.7 | L17: 110.3 | M17: 109.6 | N17: 110.5 | O17: 111.8 | P17: 113.5 | Q17: 113.3 | R17: 115.8 | S17: 117.4 | T17: 121.5 | U17: 122.9 | V17: 125.5 | W17: 126.2 | X17: 127.6 | Y17: 123.2 | Z17: 124.1 | AA17: 125.6 | AB17: 124.8 | AC17: 127.3 | AD17: 128.8 | AE17: 129.5 | AF17: 130.5 | AG17: 131.3 | AH17: 132.5 | AI17: 131.5 | AJ17: 132.2 | AK17: 131.4 | AL17: 132.1 | AM17: 132 | AN17: 132.2 | AO17: 132.5 | AP17: 132.2 | AQ17: 131.8 | AR17: 132.9 | AS17: 132.8 | AT17: 133.6 | AU17: 134 | AV17: 134.3 | AW17: 136.3 | AX17: 138.5 | AY17: 143.8 | AZ17: 148.1 | BA17: 150.2 | BB17: 151.7 | BC17: 153
A18: <OBJ_15> | B18: =INDEX(BAP[#All],MATCH(A18,BAP[[#All],[Code]],0),MATCH(TEXT(Info!$B$4,0),BAP[#Headers],0))&" 3)" -> Construction de passages inférieurs 3) | C18: 12 | D18: … | E18: … | F18: … | G18: … | H18: … | I18: 100 | J18: 99.2 | K18: 97.3 | L18: 96.3 | M18: 95.8 | N18: 96.8 | O18: 99.5 | P18: 103.2 | Q18: 102.4 | R18: 105.3 | S18: 105.8 | T18: 108.4 | U18: 110.6 | V18: 112.3 | W18: 114.2 | X18: 117.6 | Y18: 112.6 | Z18: 113.1 | AA18: 113.8 | AB18: 114.4 | AC18: 117.7 | AD18: 118.5 | AE18: 119 | AF18: 119 | AG18: 118.4 | AH18: 119.2 | AI18: 117.1 | AJ18: 118 | AK18: 116.9 | AL18: 115.9 | AM18: 115.2 | AN18: 115.8 | AO18: 115 | AP18: 115.3 | AQ18: 115.4 | AR18: 116.5 | AS18: 116.7 | AT18: 117.9 | AU18: 117.6 | AV18: 116.8 | AW18: 119.7 | AX18: 122.3 | AY18: 130.9 | AZ18: 134.6 | BA18: 134.5 | BB18: 133.3 | BC18: 133.5
A20: <REG_02> | B20: =INDEX(BAP[#All],MATCH(A20,BAP[[#All],[Code]],0),MATCH(TEXT(Info!$B$4,0),BAP[#Headers],0)) -> Région lémanique
A21: <OBJ_02> | B21: =INDEX(BAP[#All],MATCH(A21,BAP[[#All],[Code]],0),MATCH(TEXT(Info!$B$4,0),BAP[#Headers],0)) -> Construction : total | C21: 100 | D21: 100 | E21: 101.3 | F21: 104.5 | G21: 106.4 | H21: 109.1 | I21: 112.9 | J21: 113.1 | K21: 114.5 | L21: 112.7 | M21: 113.2 | N21: 113 | O21: 114.7 | P21: 117.4 | Q21: 118.8 | R21: 120.5 | S21: 122.7 | T21: 125.4 | U21: 127.7 | V21: 130 | W21: 132.2 | X21: 134 | Y21: 131.3 | Z21: 131.2 | AA21: 131.4 | AB21: 131.3 | AC21: 133.8 | AD21: 134.4 | AE21: 134 | AF21: 134 | AG21: 134.3 | AH21: 135.3 | AI21: 134.5 | AJ21: 134.2 | AK21: 133.3 | AL21: 134.9 | AM21: 133.3 | AN21: 132.3 | AO21: 132.5 | AP21: 132.7 | AQ21: 132.9 | AR21: 132.9 | AS21: 133.2 | AT21: 133.9 | AU21: 133.9 | AV21: 133.5 | AW21: 135 | AX21: 138.4 | AY21: 144.9 | AZ21: 148.4 | BA21: 151.3 | BB21: 152 | BC21: 152.2
A22: <OBJ_03> | B22: =INDEX(BAP[#All],MATCH(A22,BAP[[#All],[Code]],0),MATCH(TEXT(Info!$B$4,0),BAP[#Headers],0)) -> Bâtiment | C22: 76 | D22: 100 | E22: 101.1 | F22: 104 | G22: 106.5 | H22: 108.8 | I22: 111.5 | J22: 111.4 | K22: 113.1 | L22: 112.5 | M22: 112.5 | N22: 111.9 | O22: 113 | P22: 115 | Q22: 117 | R22: 118.6 | S22: 121.2 | T22: 123.7 | U22: 125.9 | V22: 128.6 | W22: 130.9 | X22: 132.7 | Y22: 130.7 | Z22: 130.7 | AA22: 130.6 | AB22: 131.3 | AC22: 133.6 | AD22: 134.4 | AE22: 133.4 | AF22: 133.7 | AG22: 134.1 | AH22: 135 | AI22: 134.7 | AJ22: 134.1 | AK22: 133.2 | AL22: 134.5 | AM22: 132.9 | AN22: 132.1 | AO22: 132.3 | AP22: 132.4 | AQ22: 132.8 | AR22: 132.9 | AS22: 133.1 | AT22: 133.6 | AU22: 133.6 | AV22: 133.3 | AW22: 134.7 | AX22: 138.2 | AY22: 144.6 | AZ22: 148.5 | BA22: 151.2 | BB22: 151.5 | BC22: 151.4
A23: <OBJ_04> | B23: =INDEX(BAP[#All],MATCH(A23,BAP[[#All],[Code]],0),MATCH(TEXT(Info!$B$4,0),BAP[#Headers],0)) -> Nouvelle construction | C23: 49 | D23: 100 | E23: 101.4 | F23: 104.5 | G23: 106.9 | H23: 109.3 | I23: 112.6 | J23: 112.1 | K23: 113.9 | L23: 113 | M23: 112.6 | N23: 111.9 | O23: 113.2 | P23: 115.5 | Q23: 117.1 | R23: 118.8 | S23: 121.3 | T23: 124.1 | U23: 126 | V23: 128.5 | W23: 130.4 | X23: 132.5 | Y23: 130 | Z23: 129.7 | AA23: 129.6 | AB23: 130.5 | AC23: 133.1 | AD23: 133.8 | AE23: 132.8 | AF23: 133 | AG23: 133.3 | AH23: 134 | AI23: 134.1 | AJ23: 133.3 | AK23: 132.3 | AL23: 133.7 | AM23: 132.4 | AN23: 131.6 | AO23: 131.8 | AP23: 131.8 | AQ23: 132.1 | AR23: 132.2 | AS23: 132.3 | AT23: 133.1 | AU23: 133.1 | AV23: 132.6 | AW23: 134.5 | AX23: 138.1 | AY23: 144.5 | AZ23: 148.8 | BA23: 151.2 | BB23: 151.7 | BC23: 151.6
A24: <OBJ_08> | B24: =INDEX(BAP[#All],MATCH(A24,BAP[[#All],[Code]],0),MATCH(TEXT(Info!$B$4,0),BAP[#Headers],0)) -> Construction de bâtiments administratifs | C24: 11 | D24: 100 | E24: 101.3 | F24: 106.1 | G24: 107.4 | H24: 109.7 | I24: 112.7 | J24: 113.6 | K24: 116.9 | L24: 116 | M24: 115.8 | N24: 114.9 | O24: 116 | P24: 117.8 | Q24: 119.5 | R24: 120.6 | S24: 123.2 | T24: 126 | U24: 128.7 | V24: 132.5 | W24: 134.7 | X24: 135.9 | Y24: 134.3 | Z24: 133.7 | AA24: 133.6 | AB24: 135.1 | AC24: 138 | AD24: 138.4 | AE24: 137 | AF24: 137.1 | AG24: 137.5 | AH24: 137.8 | AI24: 136.1 | AJ24: 136 | AK24: 134.1 | AL24: 134.7 | AM24: 134 | AN24: 132.6 | AO24: 132.7 | AP24: 131.4 | AQ24: 130.8 | AR24: 131.9 | AS24: 131.3 | AT24: 134 | AU24: 133.8 | AV24: 133.5 | AW24: 136.3 | AX24: 140.5 | AY24: 148.3 | AZ24: 152.8 | BA24: 154.9 | BB24: 155.4 | BC24: 155.9
A25: <OBJ_05> | B25: =INDEX(BAP[#All],MATCH(A25,BAP[[#All],[Code]],0),MATCH(TEXT(Info!$B$4,0),BAP[#Headers],0)) -> Construction de bâtiments à plusieurs logements | C25: 38 | D25: 100 | E25: 101.4 | F25: 104 | G25: 106.7 | H25: 109.2 | I25: 112.5 | J25: 111.7 | K25: 113 | L25: 112.2 | M25: 111.7 | N25: 111 | O25: 112.3 | P25: 114.9 | Q25: 116.5 | R25: 118.3 | S25: 120.8 | T25: 123.6 | U25: 125.2 | V25: 127.3 | W25: 129.2 | X25: 131.5 | Y25: 128.8 | Z25: 128.6 | AA25: 128.4 | AB25: 129.2 | AC25: 131.7 | AD25: 132.4 | AE25: 131.4 | AF25: 131.9 | AG25: 131.9 | AH25: 132.5 | AI25: 132.8 | AJ25: 131.9 | AK25: 131.1 | AL25: 132.7 | AM25: 131.5 | AN25: 130.7 | AO25: 131.1 | AP25: 131.5 | AQ25: 132.1 | AR25: 132.1 | AS25: 132.2 | AT25: 132.8 | AU25: 133 | AV25: 132.2 | AW25: 134 | AX25: 137.5 | AY25: 143.5 | AZ25: 148.2 | BA25: 150.7 | BB25: 151.3 | BC25: 150.9
A26: <OBJ_06> | B26: =INDEX(BAP[#All],MATCH(A26,BAP[[#All],[Code]],0),MATCH(TEXT(Info!$B$4,0),BAP[#Headers],0))&" 1)" -> Construction de bâtiments à plusieurs logements en bois 1) | C26: … | D26: … | E26: … | F26: … | G26: … | H26: … | I26: … | J26: … | K26: … | L26: … | M26: 100 | N26: 100 | O26: 101.3 | P26: 103.4 | Q26: 104.7 | R26: 106.8 | S26: 109.1 | T26: 110.8 | U26: 112.7 | V26: 115.1 | W26: 117.6 | X26: 119.2 | Y26: 116.5 | Z26: 116.7 | AA26: 116.7 | AB26: 116.9 | AC26: 119.6 | AD26: 121.3 | AE26: 120 | AF26: 119.8 | AG26: 120.7 | AH26: 121.1 | AI26: 121.3 | AJ26: 120.7 | AK26: 119.9 | AL26: 120.7 | AM26: 119.2 | AN26: 118.5 | AO26: 118.6 | AP26: 118.8 | AQ26: 118.7 | AR26: 118.3 | AS26: 119.1 | AT26: 118.3 | AU26: 118.1 | AV26: 118.3 | AW26: 120.5 | AX26: 123.8 | AY26: 129.2 | AZ26: 132.8 | BA26: 135.8 | BB26: 136.1 | BC26: 136.2
A27: <OBJ_11> | B27: =INDEX(BAP[#All],MATCH(A27,BAP[[#All],[Code]],0),MATCH(TEXT(Info!$B$4,0),BAP[#Headers],0)) -> Rénovation de bâtiments à plusieurs logements | C27: 27 | D27: 100 | E27: 100.7 | F27: 103.2 | G27: 105.9 | H27: 107.9 | I27: 109.7 | J27: 110.2 | K27: 111.7 | L27: 111.4 | M27: 112.3 | N27: 111.9 | O27: 112.6 | P27: 114.1 | Q27: 116.8 | R27: 118.2 | S27: 121.1 | T27: 122.9 | U27: 125.9 | V27: 128.7 | W27: 131.8 | X27: 133.1 | Y27: 131.9 | Z27: 132.6 | AA27: 132.4 | AB27: 132.8 | AC27: 135 | AD27: 135.5 | AE27: 134.4 | AF27: 134.8 | AG27: 135.2 | AH27: 136.1 | AI27: 136.1 | AJ27: 135.6 | AK27: 134.9 | AL27: 136.2 | AM27: 133.5 | AN27: 133.4 | AO27: 135.4 | AP27: 137.2 | AQ27: 138.3 | AR27: 138.2 | AS27: 139.4 | AT27: 142.6 | AU27: 143.4 | AV27: 143.4 | AW27: 143.9 | AX27: 147.5 | AY27: 154 | AZ27: 157.1 | BA27: 160.5 | BB27: 160.9 | BC27: 160.4
A28: <OBJ_13> | B28: =INDEX(BAP[#All],MATCH(A28,BAP[[#All],[Code]],0),MATCH(TEXT(Info!$B$4,0),BAP[#Headers],0))&" 2)" -> Génie civil 2) | C28: 24 | D28: 100 | E28: 101.7 | F28: 106 | G28: 106.1 | H28: 109.7 | I28: 117.2 | J28: 118.2 | K28: 119.1 | L28: 113.6 | M28: 115.5 | N28: 116.5 | O28: 120.1 | P28: 125.1 | Q28: 124.4 | R28: 126.4 | S28: 127.2 | T28: 130.7 | U28: 133.2 | V28: 134.6 | W28: 136.5 | X28: 138 | Y28: 133.2 | Z28: 132.6 | AA28: 133.9 | AB28: 131.4 | AC28: 134.3 | AD28: 134.4 | AE28: 136.5 | AF28: 135.2 | AG28: 135.4 | AH28: 136.6 | AI28: 133.6 | AJ28: 134.9 | AK28: 133.8 | AL28: 136.6 | AM28: 135.1 | AN28: 133.2 | AO28: 133.6 | AP28: 134.1 | AQ28: 133.4 | AR28: 133 | AS28: 134.1 | AT28: 135.5 | AU28: 135.3 | AV28: 134.5 | AW28: 136.6 | AX28: 139.3 | AY28: 146.1 | AZ28: 148.7 | BA28: 152.3 | BB28: 154.1 | BC28: 155.4
A29: <OBJ_14> | B29: =INDEX(BAP[#All],MATCH(A29,BAP[[#All],[Code]],0),MATCH(TEXT(Info!$B$4,0),BAP[#Headers],0)) -> Construction de routes | C29: 12 | D29: 100 | E29: 101.7 | F29: 106 | G29: 106.1 | H29: 109.7 | I29: 117.2 | J29: 117.4 | K29: 119.1 | L29: 112.8 | M29: 113.8 | N29: 113.7 | O29: 117.1 | P29: 120 | Q29: 119.9 | R29: 120.4 | S29: 122.1 | T29: 127.4 | U29: 129.4 | V29: 130.8 | W29: 131.7 | X29: 133 | Y29: 129.1 | Z29: 127.8 | AA29: 130.1 | AB29: 126 | AC29: 128.6 | AD29: 128.6 | AE29: 130.7 | AF29: 129.3 | AG29: 129.7 | AH29: 131.1 | AI29: 128.3 | AJ29: 129.6 | AK29: 128.7 | AL29: 131.6 | AM29: 130.3 | AN29: 128.3 | AO29: 129.2 | AP29: 129.6 | AQ29: 128.3 | AR29: 128 | AS29: 128.8 | AT29: 130.1 | AU29: 129.8 | AV29: 129.1 | AW29: 131.2 | AX29: 134.1 | AY29: 139.2 | AZ29: 141.8 | BA29: 145.1 | BB29: 146.8 | BC29: 148.6
A30: <OBJ_15> | B30: =INDEX(BAP[#All],MATCH(A30,BAP[[#All],[Code]],0),MATCH(TEXT(Info!$B$4,0),BAP[#Headers],0))&" 3)" -> Construction de passages inférieurs 3) | C30: 12 | D30: … | E30: … | F30: … | G30: … | H30: … | I30: 100 | J30: 101.5 | K30: 101.5 | L30: 97.7 | M30: 100.1 | N30: 101.8 | O30: 105 | P30: 111.1 | Q30: 110 | R30: 113 | S30: 112.9 | T30: 114.4 | U30: 116.8 | V30: 118.1 | W30: 120.5 | X30: 122.1 | Y30: 117.2 | Z30: 117.2 | AA30: 117.6 | AB30: 116.7 | AC30: 120.3 | AD30: 121.2 | AE30: 122.1 | AF30: 121.5 | AG30: 120.6 | AH30: 120.4 | AI30: 117.4 | AJ30: 118.2 | AK30: 117 | AL30: 118.3 | AM30: 116.3 | AN30: 115 | AO30: 113.8 | AP30: 114.4 | AQ30: 115.7 | AR30: 115.6 | AS30: 117.3 | AT30: 119 | AU30: 118.9 | AV30: 117.9 | AW30: 121.5 | AX30: 124.7 | AY30: 134.5 | AZ30: 136.6 | BA30: 137.2 | BB30: 135.9 | BC30: 136.1
A32: <REG_03> | B32: =INDEX(BAP[#All],MATCH(A32,BAP[[#All],[Code]],0),MATCH(TEXT(Info!$B$4,0),BAP[#Headers],0)) -> Espace Mittelland
A33: <OBJ_02> | B33: =INDEX(BAP[#All],MATCH(A33,BAP[[#All],[Code]],0),MATCH(TEXT(Info!$B$4,0),BAP[#Headers],0)) -> Construction : total | C33: 100 | D33: 100 | E33: 102.1 | F33: 103.9 | G33: 105.6 | H33: 107.8 | I33: 111.6 | J33: 112.5 | K33: 111.6 | L33: 110.1 | M33: 109.1 | N33: 109.3 | O33: 110.5 | P33: 112.7 | Q33: 112.9 | R33: 114.4 | S33: 116.5 | T33: 119.9 | U33: 120.4 | V33: 122.7 | W33: 125.2 | X33: 128 | Y33: 124.4 | Z33: 124.7 | AA33: 124.9 | AB33: 126.2 | AC33: 127.4 | AD33: 128.4 | AE33: 128.6 | AF33: 128.8 | AG33: 128.4 | AH33: 128.8 | AI33: 128 | AJ33: 128.7 | AK33: 127.7 | AL33: 128.2 | AM33: 127.8 | AN33: 127.1 | AO33: 126.3 | AP33: 126.8 | AQ33: 127.1 | AR33: 128.2 | AS33: 128.8 | AT33: 128.7 | AU33: 129.4 | AV33: 129 | AW33: 130.8 | AX33: 134.9 | AY33: 141.3 | AZ33: 145.3 | BA33: 145.7 | BB33: 146.1 | BC33: 147.6
A34: <OBJ_03> | B34: =INDEX(BAP[#All],MATCH(A34,BAP[[#All],[Code]],0),MATCH(TEXT(Info!$B$4,0),BAP[#Headers],0)) -> Bâtiment | C34: 76 | D34: 100 | E34: 101.9 | F34: 103.2 | G34: 104.7 | H34: 106.9 | I34: 109.5 | J34: 110.7 | K34: 110.9 | L34: 109.2 | M34: 108 | N34: 108 | O34: 108.5 | P34: 110.6 | Q34: 110.9 | R34: 111.9 | S34: 113.9 | T34: 116.7 | U34: 117.5 | V34: 119.5 | W34: 122 | X34: 124.4 | Y34: 122.2 | Z34: 122 | AA34: 121.6 | AB34: 123.1 | AC34: 124.5 | AD34: 125.4 | AE34: 125.3 | AF34: 125.5 | AG34: 124.5 | AH34: 124.7 | AI34: 124.1 | AJ34: 124.3 | AK34: 123.6 | AL34: 124.1 | AM34: 124.1 | AN34: 123.1 | AO34: 122.3 | AP34: 122.8 | AQ34: 123.5 | AR34: 124.2 | AS34: 125 | AT34: 124.7 | AU34: 125.2 | AV34: 124.5 | AW34: 126.4 | AX34: 130.7 | AY34: 137.4 | AZ34: 141.1 | BA34: 141.6 | BB34: 141.6 | BC34: 143
A35: <OBJ_04> | B35: =INDEX(BAP[#All],MATCH(A35,BAP[[#All],[Code]],0),MATCH(TEXT(Info!$B$4,0),BAP[#Headers],0)) -> Nouvelle construction | C35: 49 | D35: 100 | E35: 102.2 | F35: 103.4 | G35: 105.4 | H35: 107.5 | I35: 110.3 | J35: 111.4 | K35: 111.9 | L35: 109.7 | M35: 108.6 | N35: 108.7 | O35: 109.3 | P35: 111.5 | Q35: 111.6 | R35: 112.5 | S35: 114.4 | T35: 117.6 | U35: 118.2 | V35: 119.9 | W35: 122.9 | X35: 126 | Y35: 122.5 | Z35: 121.9 | AA35: 121.2 | AB35: 123.2 | AC35: 124.7 | AD35: 125.3 | AE35: 125.4 | AF35: 125.4 | AG35: 124.7 | AH35: 125.1 | AI35: 124.9 | AJ35: 125.1 | AK35: 124.4 | AL35: 124.6 | AM35: 124.5 | AN35: 123.5 | AO35: 123.1 | AP35: 124.1 | AQ35: 124.7 | AR35: 125.2 | AS35: 126.1 | AT35: 126 | AU35: 126.3 | AV35: 126 | AW35: 127.7 | AX35: 132.4 | AY35: 139.2 | AZ35: 143.1 | BA35: 144.3 | BB35: 144 | BC35: 145.5
A36: <OBJ_08> | B36: =INDEX(BAP[#All],MATCH(A36,BAP[[#All],[Code]],0),MATCH(TEXT(Info!$B$4,0),BAP[#Headers],0)) -> Construction de bâtiments administratifs | C36: 11 | D36: 100 | E36: 102.7 | F36: 104.1 | G36: 105 | H36: 107.3 | I36: 110.7 | J36: 112 | K36: 112.9 | L36: 111.1 | M36: 110.4 | N36: 110 | O36: 110.8 | P36: 113 | Q36: 113.1 | R36: 113.9 | S36: 116.3 | T36: 119.4 | U36: 120.6 | V36: 122.3 | W36: 125.3 | X36: 128.2 | Y36: 125.3 | Z36: 124.2 | AA36: 123.6 | AB36: 125.2 | AC36: 128 | AD36: 129.1 | AE36: 129.3 | AF36: 129.8 | AG36: 129.6 | AH36: 129.4 | AI36: 127.3 | AJ36: 127.8 | AK36: 125.3 | AL36: 125.9 | AM36: 124.4 | AN36: 124.5 | AO36: 122.8 | AP36: 122.9 | AQ36: 122.9 | AR36: 123.7 | AS36: 124.9 | AT36: 125.1 | AU36: 125.7 | AV36: 124.4 | AW36: 126 | AX36: 130.5 | AY36: 139.3 | AZ36: 143.8 | BA36: 144.2 | BB36: 144.8 | BC36: 147.8
A37: <OBJ_05> | B37: =INDEX(BAP[#All],MATCH(A37,BAP[[#All],[Code]],0),MATCH(TEXT(Info!$B$4,0),BAP[#Headers],0)) -> Construction de bâtiments à plusieurs logements | C37: 38 | D37: 100 | E37: 102.1 | F37: 103.2 | G37: 105.5 | H37: 107.5 | I37: 110.2 | J37: 111.3 | K37: 111.6 | L37: 109.3 | M37: 108.1 | N37: 108.3 | O37: 108.9 | P37: 111.1 | Q37: 111.1 | R37: 112.1 | S37: 113.8 | T37: 117.1 | U37: 117.5 | V37: 119.2 | W37: 122.3 | X37: 125.3 | Y37: 121.7 | Z37: 121.3 | AA37: 120.5 | AB37: 122.7 | AC37: 123.8 | AD37: 124.3 | AE37: 124.2 | AF37: 124 | AG37: 123.6 | AH37: 123.9 | AI37: 123.8 | AJ37: 124 | AK37: 123.6 | AL37: 124 | AM37: 124.2 | AN37: 123 | AO37: 122.6 | AP37: 124 | AQ37: 124.5 | AR37: 125.1 | AS37: 125.9 | AT37: 126.1 | AU37: 126.3 | AV37: 125.8 | AW37: 127.2 | AX37: 131.7 | AY37: 137.9 | AZ37: 142 | BA37: 143.2 | BB37: 143.3 | BC37: 144.5
A38: <OBJ_06> | B38: =INDEX(BAP[#All],MATCH(A38,BAP[[#All],[Code]],0),MATCH(TEXT(Info!$B$4,0),BAP[#Headers],0))&" 1)" -> Construction de bâtiments à plusieurs logements en bois 1) | C38: … | D38: … | E38: … | F38: … | G38: … | H38: … | I38: … | J38: … | K38: … | L38: … | M38: 100 | N38: 99.7 | O38: 100.6 | P38: 102.3 | Q38: 102.7 | R38: 103.3 | S38: 104.9 | T38: 107.8 | U38: 108.8 | V38: 110.5 | W38: 113.1 | X38: 115 | Y38: 112.4 | Z38: 112.7 | AA38: 110.8 | AB38: 112.9 | AC38: 114.5 | AD38: 115.2 | AE38: 114.4 | AF38: 114.6 | AG38: 113.4 | AH38: 114 | AI38: 114.3 | AJ38: 114.1 | AK38: 113.6 | AL38: 113.8 | AM38: 114.2 | AN38: 113 | AO38: 113.2 | AP38: 113.4 | AQ38: 114.1 | AR38: 114.3 | AS38: 114.8 | AT38: 113.5 | AU38: 113.9 | AV38: 114.8 | AW38: 117.1 | AX38: 122.4 | AY38: 128.6 | AZ38: 131.7 | BA38: 132.8 | BB38: 131.8 | BC38: 132.5
A39: <OBJ_11> | B39: =INDEX(BAP[#All],MATCH(A39,BAP[[#All],[Code]],0),MATCH(TEXT(Info!$B$4,0),BAP[#Headers],0)) -> Rénovation de bâtiments à plusieurs logements | C39: 27 | D39: 100 | E39: 101.3 | F39: 102.7 | G39: 103.4 | H39: 105.8 | I39: 108 | J39: 109.6 | K39: 109.2 | L39: 108.3 | M39: 106.7 | N39: 106.9 | O39: 106.9 | P39: 109 | Q39: 109.7 | R39: 110.7 | S39: 113 | T39: 115.1 | U39: 116.3 | V39: 118.7 | W39: 120.4 | X39: 121.6 | Y39: 121.6 | Z39: 122.1 | AA39: 122.3 | AB39: 122.8 | AC39: 123.8 | AD39: 125.3 | AE39: 124.6 | AF39: 124.8 | AG39: 123.4 | AH39: 123.5 | AI39: 123.4 | AJ39: 123.3 | AK39: 123.3 | AL39: 123.2 | AM39: 122.9 | AN39: 122.1 | AO39: 121 | AP39: 121.9 | AQ39: 123.3 | AR39: 123.6 | AS39: 124.5 | AT39: 124.4 | AU39: 125.3 | AV39: 124.3 | AW39: 126.3 | AX39: 130.5 | AY39: 137.7 | AZ39: 141 | BA39: 140.8 | BB39: 140.9 | BC39: 142.3
A40: <OBJ_13> | B40: =INDEX(BAP[#All],MATCH(A40,BAP[[#All],[Code]],0),MATCH(TEXT(Info!$B$4,0),BAP[#Headers],0))&" 2)" -> Génie civil 2) | C40: 24 | D40: 100 | E40: 102.7 | F40: 106.4 | G40: 108.7 | H40: 110.8 | I40: 118.1 | J40: 117.9 | K40: 113.9 | L40: 113.2 | M40: 112.5 | N40: 113.4 | O40: 116.8 | P40: 119.5 | Q40: 119.2 | R40: 122.3 | S40: 124.9 | T40: 129.7 | U40: 129.7 | V40: 132.6 | W40: 135.1 | X40: 139.3 | Y40: 131.6 | Z40: 133.4 | AA40: 135.5 | AB40: 136 | AC40: 136.4 | AD40: 137.5 | AE40: 139.4 | AF40: 139.7 | AG40: 141.5 | AH40: 143.1 | AI40: 141.2 | AJ40: 143.9 | AK40: 141.9 | AL40: 142.2 | AM40: 140.4 | AN40: 140.9 | AO40: 139.8 | AP40: 140.5 | AQ40: 139.2 | AR40: 142.1 | AS40: 141.4 | AT40: 142.2 | AU40: 143.7 | AV40: 144.6 | AW40: 146.2 | AX40: 149.4 | AY40: 154.5 | AZ40: 160 | BA40: 159.4 | BB40: 161.5 | BC40: 163.5
A41: <OBJ_14> | B41: =INDEX(BAP[#All],MATCH(A41,BAP[[#All],[Code]],0),MATCH(TEXT(Info!$B$4,0),BAP[#Headers],0)) -> Construction de routes | C41: 12 | D41: 100 | E41: 102.7 | F41: 106.4 | G41: 108.7 | H41: 110.8 | I41: 118.1 | J41: 118.6 | K41: 115.2 | L41: 114.1 | M41: 114 | N41: 114.7 | O41: 116.8 | P41: 119.1 | Q41: 118.4 | R41: 121.6 | S41: 125 | T41: 130.2 | U41: 128.9 | V41: 133.3 | W41: 135.7 | X41: 136.6 | Y41: 129.1 | Z41: 130.6 | AA41: 134.7 | AB41: 134.3 | AC41: 134.4 | AD41: 135.5 | AE41: 137.3 | AF41: 137.8 | AG41: 140.1 | AH41: 141.7 | AI41: 140.1 | AJ41: 142.8 | AK41: 140.7 | AL41: 141.3 | AM41: 139.8 | AN41: 140.1 | AO41: 139.2 | AP41: 139.6 | AQ41: 138 | AR41: 141 | AS41: 140 | AT41: 140.9 | AU41: 142.8 | AV41: 143.7 | AW41: 145.4 | AX41: 149 | AY41: 154.5 | AZ41: 160 | BA41: 159.4 | BB41: 161.4 | BC41: 163.6
A42: <OBJ_15> | B42: =INDEX(BAP[#All],MATCH(A42,BAP[[#All],[Code]],0),MATCH(TEXT(Info!$B$4,0),BAP[#Headers],0))&" 3)" -> Construction de passages inférieurs 3) | C42: 12 | D42: … | E42: … | F42: … | G42: … | H42: … | I42: 100 | J42: 99.2 | K42: 95.3 | L42: 95 | M42: 94 | N42: 94.9 | O42: 98.8 | P42: 101.5 | Q42: 101.6 | R42: 104.2 | S42: 105.6 | T42: 109.4 | U42: 110.5 | V42: 111.7 | W42: 113.9 | X42: 120.3 | Y42: 113.5 | Z42: 115.4 | AA42: 115.4 | AB42: 116.6 | AC42: 118.7 | AD42: 119.5 | AE42: 121.2 | AF42: 120.4 | AG42: 120.1 | AH42: 121 | AI42: 118.3 | AJ42: 120.7 | AK42: 119.6 | AL42: 117.6 | AM42: 115.5 | AN42: 116.2 | AO42: 114.5 | AP42: 116.1 | AQ42: 116.7 | AR42: 118.3 | AS42: 118.9 | AT42: 119 | AU42: 118.9 | AV42: 119.6 | AW42: 122.1 | AX42: 125.8 | AY42: 132 | AZ42: 137.1 | BA42: 136.9 | BB42: 136.3 | BC42: 137
A44: <REG_04> | B44: =INDEX(BAP[#All],MATCH(A44,BAP[[#All],[Code]],0),MATCH(TEXT(Info!$B$4,0),BAP[#Headers],0)) -> Suisse du Nord-Ouest
...

Sheet 2010
C1: <POND_02> | D1: <Date_Mois_Octobre> | E1: <Date_Mois_Avril>
A2: <cc-05.05.01_Titre> | B2: =INDEX(BAP[#All],MATCH(A2,BAP[[#All],[Code]],0),MATCH(TEXT(Info!$B$4,0),BAP[#Headers],0)) -> Indice suisse des prix de la construction - Evolution des prix de la construction
A3: <cc-05.05.01_Sous-tItre> | B3: =INDEX(BAP[#All],MATCH(A3,BAP[[#All],[Code]],0),MATCH(TEXT(Info!$B$4,0),BAP[#Headers],0)) -> Valeurs de l'Indice par grande région et par type d'objet
A4: <BASE_2010> | B4: =INDEX(BAP[#All],MATCH(A4,BAP[[#All],[Code]],0),MATCH(TEXT(Info!$B$4,0),BAP[#Headers],0)) -> Base octobre 2010 = 100
C5: =INDEX(BAP[#All],MATCH(C1,BAP[[#All],[Code]],0),MATCH(TEXT(Info!$B$4,0),BAP[#Headers],0)) -> Pondération en % | D5: =INDEX(BAP[#All],MATCH(D1,BAP[[#All],[Code]],0),MATCH(TEXT(Info!$B$4,0),BAP[#Headers],0)) -> Octobre | E5: =INDEX(BAP[#All],MATCH(E1,BAP[[#All],[Code]],0),MATCH(TEXT(Info!$B$4,0),BAP[#Headers],0)) -> Avril | F5: =D5 -> Octobre | G5: =E5 -> Avril | H5: =F5 -> Octobre | I5: =G5 -> Avril | J5: =H5 -> Octobre | K5: =I5 -> Avril | L5: =J5 -> Octobre | M5: =K5 -> Avril | ... BB5: =AZ5 -> Octobre | BC5: =+BA5 -> Avril
D6: 1998 | E6: 1999 | F6: 1999 | G6: 2000 | H6: 2000 | I6: 2001 | J6: 2001 | K6: 2002 | L6: 2002 | M6: 2003 | N6: 2003 | O6: 2004 | P6: 2004 | Q6: 2005 | R6: 2005 | S6: 2006 | T6: 2006 | U6: 2007 | V6: 2007 | W6: 2008 | X6: 2008 | Y6: 2009 | Z6: 2009 | AA6: 2010 | AB6: 2010 | AC6: 2011 | AD6: 2011 | AE6: 2012 | AF6: 2012 | AG6: 2013 | AH6: 2013 | AI6: 2014 | AJ6: 2014 | AK6: 2015 | AL6: 2015 | AM6: 2016 | AN6: 2016 | AO6: 2017 | AP6: 2017 | AQ6: 2018 | AR6: 2018 | AS6: 2019 | AT6: 2019 | AU6: 2020 | AV6: 2020 | AW6: 2021 | AX6: 2021 | AY6: 2022 | AZ6: 2022 | BA6: 2023 | BB6: 2023 | BC6: 2024
A8: <REG_01> | B8: =INDEX(BAP[#All],MATCH(A8,BAP[[#All],[Code]],0),MATCH(TEXT(Info!$B$4,0),BAP[#Headers],0)) -> Suisse
A9: <OBJ_02> | B9: =INDEX(BAP[#All],MATCH(A9,BAP[[#All],[Code]],0),MATCH(TEXT(Info!$B$4,0),BAP[#Headers],0)) -> Construction : total | C9: 100 | D9: 80.6 | E9: 81.4 | F9: 83.6 | G9: 85.1 | H9: 87.1 | I9: 89.1 | J9: 89 | K9: 88.4 | L9: 87.6 | M9: 86.6 | N9: 86.9 | O9: 87.3 | P9: 89 | Q9: 89.5 | R9: 90.7 | S9: 91.8 | T9: 94.1 | U9: 95.8 | V9: 97.6 | W9: 99.4 | X9: 101.1 | Y9: 99.1 | Z9: 99.2 | AA9: 99.2 | AB9: 100 | AC9: 101.5 | AD9: 102.1 | AE9: 102.1 | AF9: 102.4 | AG9: 102.6 | AH9: 103.1 | AI9: 103 | AJ9: 102.8 | AK9: 102.2 | AL9: 102.7 | AM9: 102.1 | AN9: 101.7 | AO9: 101.3 | AP9: 101.3 | AQ9: 101.7 | AR9: 102 | AS9: 102.4 | AT9: 102.4 | AU9: 102.7 | AV9: 102.4 | AW9: 103.9 | AX9: 106.6 | AY9: 111.9 | AZ9: 115.5 | BA9: 116.6 | BB9: 117.3 | BC9: 117.8
A10: <OBJ_03> | B10: =INDEX(BAP[#All],MATCH(A10,BAP[[#All],[Code]],0),MATCH(TEXT(Info!$B$4,0),BAP[#Headers],0)) -> Bâtiment | C10: 80.93 | D10: 81.5 | E10: 82.1 | F10: 84 | G10: 85.4 | H10: 87.2 | I10: 88.8 | J10: 89 | K10: 88.8 | L10: 88.1 | M10: 86.9 | N10: 87 | O10: 87 | P10: 88.5 | Q10: 89.3 | R10: 90.2 | S10: 91.3 | T10: 93.5 | U10: 95.2 | V10: 97 | W10: 99 | X10: 100.7 | Y10: 99.3 | Z10: 99.2 | AA10: 98.9 | AB10: 100 | AC10: 101.3 | AD10: 101.8 | AE10: 101.7 | AF10: 101.9 | AG10: 102 | AH10: 102.5 | AI10: 102.5 | AJ10: 102.2 | AK10: 101.6 | AL10: 102.1 | AM10: 101.5 | AN10: 100.9 | AO10: 100.4 | AP10: 100.5 | AQ10: 101 | AR10: 101.1 | AS10: 101.7 | AT10: 101.5 | AU10: 101.7 | AV10: 101.4 | AW10: 103 | AX10: 106.1 | AY10: 111.3 | AZ10: 114.8 | BA10: 116 | BB10: 116.5 | BC10: 116.8
A11: <OBJ_04> | B11: =INDEX(BAP[#All],MATCH(A11,BAP[[#All],[Code]],0),MATCH(TEXT(Info!$B$4,0),BAP[#Headers],0)) -> Nouvelle construction | C11: 43.37 | D11: … | E11: … | F11: … | G11: … | H11: … | I11: … | J11: … | K11: … | L11: … | M11: … | N11: … | O11: … | P11: … | Q11: … | R11: … | S11: … | T11: … | U11: … | V11: … | W11: … | X11: … | Y11: … | Z11: … | AA11: … | AB11: 100 | AC11: 101.5 | AD11: 101.7 | AE11: 101.5 | AF11: 101.6 | AG11: 101.8 | AH11: 102.3 | AI11: 102.2 | AJ11: 101.8 | AK11: 101.1 | AL11: 101.6 | AM11: 101.2 | AN11: 100.6 | AO11: 100.4 | AP11: 100.8 | AQ11: 101.3 | AR11: 101.5 | AS11: 101.9 | AT11: 101.9 | AU11: 102.1 | AV11: 101.9 | AW11: 103.5 | AX11: 106.9 | AY11: 112.3 | AZ11: 116 | BA11: 117.3 | BB11: 117.7 | BC11: 118.1
A12: <OBJ_05> | B12: =INDEX(BAP[#All],MATCH(A12,BAP[[#All],[Code]],0),MATCH(TEXT(Info!$B$4,0),BAP[#Headers],0)) -> Construction de bâtiments à plusieurs logements | C12: 22.05 | D12: 82.8 | E12: 83.6 | F12: 85.4 | G12: 87.3 | H12: 89.2 | I12: 90.9 | J12: 90.7 | K12: 90 | L12: 89 | M12: 87.6 | N12: 87.7 | O12: 87.6 | P12: 89.6 | Q12: 90.2 | R12: 91.1 | S12: 92.1 | T12: 94.5 | U12: 95.8 | V12: 97.6 | W12: 99.6 | X12: 101.5 | Y12: 99.1 | Z12: 98.9 | AA12: 98.7 | AB12: 100 | AC12: 101.3 | AD12: 101.4 | AE12: 101.3 | AF12: 101.3 | AG12: 101.4 | AH12: 101.8 | AI12: 102 | AJ12: 101.5 | AK12: 100.9 | AL12: 101.4 | AM12: 101.1 | AN12: 100.6 | AO12: 100.4 | AP12: 101 | AQ12: 101.4 | AR12: 101.6 | AS12: 102 | AT12: 101.9 | AU12: 102.1 | AV12: 101.9 | AW12: 103.3 | AX12: 106.5 | AY12: 111.8 | AZ12: 115.7 | BA12: 117.1 | BB12: 117.7 | BC12: 117.9
A13: <OBJ_06> | B13: =INDEX(BAP[#All],MATCH(A13,BAP[[#All],[Code]],0),MATCH(TEXT(Info!$B$4,0),BAP[#Headers],0)) -> Construction de bâtiments à plusieurs logements en bois | C13: 3.19 | D13: … | E13: … | F13: … | G13: … | H13: … | I13: … | J13: … | K13: … | L13: … | M13: 88 | N13: 88 | O13: 87.9 | P13: 89.3 | Q13: 89.9 | R13: 90.7 | S13: 91.8 | T13: 94 | U13: 95.8 | V13: 97.2 | W13: 99.4 | X13: 101 | Y13: 98.9 | Z13: 98.9 | AA13: 98.5 | AB13: 100 | AC13: 101.6 | AD13: 102.4 | AE13: 101.7 | AF13: 101.7 | AG13: 101.6 | AH13: 102 | AI13: 102 | AJ13: 101.7 | AK13: 101.3 | AL13: 101.9 | AM13: 101.7 | AN13: 101.1 | AO13: 101.1 | AP13: 101.1 | AQ13: 102 | AR13: 102.3 | AS13: 102.5 | AT13: 101.9 | AU13: 102.2 | AV13: 102.7 | AW13: 105.4 | AX13: 109.6 | AY13: 115.1 | AZ13: 118.1 | BA13: 119.6 | BB13: 119 | BC13: 119.7
A14: <OBJ_07> | B14: =INDEX(BAP[#All],MATCH(A14,BAP[[#All],[Code]],0),MATCH(TEXT(Info!$B$4,0),BAP[#Headers],0)) -> Construction de maisons individuelles | C14: 8.28 | D14: … | E14: … | F14: … | G14: … | H14: … | I14: … | J14: … | K14: … | L14: … | M14: … | N14: … | O14: … | P14: … | Q14: … | R14: … | S14: … | T14: … | U14: … | V14: … | W14: … | X14: … | Y14: … | Z14: … | AA14: … | AB14: 100 | AC14: 101.4 | AD14: 101.7 | AE14: 101.5 | AF14: 101.7 | AG14: 101.5 | AH14: 102.2 | AI14: 102.8 | AJ14: 102.4 | AK14: 101.5 | AL14: 102 | AM14: 101.7 | AN14: 101 | AO14: 100.5 | AP14: 100.9 | AQ14: 102.1 | AR14: 101.9 | AS14: 102.5 | AT14: 102.4 | AU14: 102.7 | AV14: 102.6 | AW14: 103.5 | AX14: 106.5 | AY14: 111.8 | AZ14: 114.9 | BA14: 116.6 | BB14: 117.1 | BC14: 117.6
A15: <OBJ_08> | B15: =INDEX(BAP[#All],MATCH(A15,BAP[[#All],[Code]],0),MATCH(TEXT(Info!$B$4,0),BAP[#Headers],0)) -> Construction de bâtiments administratifs | C15: 5.65 | D15: 79 | E15: 79.6 | F15: 82.1 | G15: 83.1 | H15: 84.8 | I15: 86.9 | J15: 87.9 | K15: 87.9 | L15: 87.1 | M15: 86.2 | N15: 86.1 | O15: 86 | P15: 87.3 | Q15: 88.3 | R15: 88.9 | S15: 90.3 | T15: 92.8 | U15: 94.7 | V15: 96.9 | W15: 98.9 | X15: 100.6 | Y15: 99.5 | Z15: 99.2 | AA15: 98.9 | AB15: 100 | AC15: 102 | AD15: 102.4 | AE15: 101.7 | AF15: 102.2 | AG15: 103.1 | AH15: 103.4 | AI15: 102.3 | AJ15: 102.3 | AK15: 101.1 | AL15: 101.7 | AM15: 100.6 | AN15: 100 | AO15: 99.3 | AP15: 98.8 | AQ15: 99.1 | AR15: 99.1 | AS15: 99.4 | AT15: 100.1 | AU15: 100.1 | AV15: 99.7 | AW15: 101.6 | AX15: 104.5 | AY15: 110.4 | AZ15: 114.5 | BA15: 115.8 | BB15: 116.2 | BC15: 117.3
A16: <OBJ_09> | B16: =INDEX(BAP[#All],MATCH(A16,BAP[[#All],[Code]],0),MATCH(TEXT(Info!$B$4,0),BAP[#Headers],0)) -> Construction de halles industrielles | C16: 4.2 | D16: … | E16: … | F16: … | G16: … | H16: … | I16: … | J16: … | K16: … | L16: … | M16: … | N16: … | O16: … | P16: … | Q16: … | R16: … | S16: … | T16: … | U16: … | V16: … | W16: … | X16: … | Y16: … | Z16: … | AA16: … | AB16: 100 | AC16: 101.7 | AD16: 102.1 | AE16: 102.5 | AF16: 102.5 | AG16: 102.7 | AH16: 103.2 | AI16: 102.7 | AJ16: 102.3 | AK16: 101.4 | AL16: 101.8 | AM16: 100.9 | AN16: 100.5 | AO16: 100.7 | AP16: 101.9 | AQ16: 102.1 | AR16: 102.2 | AS16: 102.6 | AT16: 102.8 | AU16: 102.8 | AV16: 102.7 | AW16: 105 | AX16: 108.9 | AY16: 115 | AZ16: 117.9 | BA16: 118.4 | BB16: 118.2 | BC16: 119
A17: <OBJ_10> | B17: =INDEX(BAP[#All],MATCH(A17,BAP[[#All],[Code]],0),MATCH(TEXT(Info!$B$4,0),BAP[#Headers],0)) -> Rénovation, transformation | C17: 37.56 | D17: … | E17: … | F17: … | G17: … | H17: … | I17: … | J17: … | K17: … | L17: … | M17: … | N17: … | O17: … | P17: … | Q17: … | R17: … | S17: … | T17: … | U17: … | V17: … | W17: … | X17: … | Y17: … | Z17: … | AA17: … | AB17: 100 | AC17: 101.2 | AD17: 102 | AE17: 101.8 | AF17: 102.1 | AG17: 102.3 | AH17: 102.8 | AI17: 102.8 | AJ17: 102.6 | AK17: 102.3 | AL17: 102.7 | AM17: 101.8 | AN17: 101.1 | AO17: 100.3 | AP17: 99.9 | AQ17: 100.4 | AR17: 100.5 | AS17: 101.3 | AT17: 101 | AU17: 101.2 | AV17: 100.7 | AW17: 102.1 | AX17: 105 | AY17: 109.9 | AZ17: 113.2 | BA17: 114 | BB17: 114.7 | BC17: 115.1
A18: <OBJ_11> | B18: =INDEX(BAP[#All],MATCH(A18,BAP[[#All],[Code]],0),MATCH(TEXT(Info!$B$4,0),BAP[#Headers],0)) -> Rénovation de bâtiments à plusieurs logements | C18: 21.73 | D18: 80.8 | E18: 81 | F18: 82.9 | G18: 83.8 | H18: 85.4 | I18: 86.8 | J18: 87.3 | K18: 87.5 | L18: 87.2 | M18: 86.3 | N18: 86.5 | O18: 86.5 | P18: 87.6 | Q18: 88.5 | R18: 89.4 | S18: 90.6 | T18: 92.4 | U18: 94.5 | V18: 96.2 | W18: 98.3 | X18: 99.5 | Y18: 99.4 | Z18: 99.6 | AA18: 99.3 | AB18: 100 | AC18: 101.2 | AD18: 101.8 | AE18: 101.5 | AF18: 101.6 | AG18: 101.5 | AH18: 101.9 | AI18: 102.2 | AJ18: 101.9 | AK18: 101.6 | AL18: 101.8 | AM18: 100.4 | AN18: 100.3 | AO18: 100.8 | AP18: 101.7 | AQ18: 102.6 | AR18: 102.5 | AS18: 103.5 | AT18: 104.6 | AU18: 105.1 | AV18: 104.8 | AW18: 106 | AX18: 109.2 | AY18: 114.4 | AZ18: 117.7 | BA18: 118.6 | BB18: 119.5 | BC18: 119.6
A19: <OBJ_12> | B19: =INDEX(BAP[#All],MATCH(A19,BAP[[#All],[Code]],0),MATCH(TEXT(Info!$B$4,0),BAP[#Headers],0)) -> Rénovation de bâtiments administratifs | C19: 15.83 | D19: … | E19: … | F19: … | G19: … | H19: … | I19: … | J19: … | K19: … | L19: … | M19: … | N19: … | O19: … | P19: … | Q19: … | R19: … | S19: … | T19: … | U19: … | V19: … | W19: … | X19: … | Y19: … | Z19: … | AA19: … | AB19: 100 | AC19: 101.2 | AD19: 102.2 | AE19: 102.4 | AF19: 102.9 | AG19: 103.4 | AH19: 104 | AI19: 103.7 | AJ19: 103.6 | AK19: 103.2 | AL19: 104 | AM19: 103.4 | AN19: 103 | AO19: 102.2 | AP19: 101.8 | AQ19: 102.3 | AR19: 102.5 | AS19: 103.3 | AT19: 103.8 | AU19: 104 | AV19: 103.8 | AW19: 105.7 | AX19: 108.4 | AY19: 113.1 | AZ19: 116.7 | BA19: 117.6 | BB19: 118.1 | BC19: 118.8
A20: <OBJ_13> | B20: =INDEX(BAP[#All],MATCH(A20,BAP[[#All],[Code]],0),MATCH(TEXT(Info!$B$4,0),BAP[#Headers],0)) -> Génie civil | C20: 19.07 | D20: 77.8 | E20: 79.4 | F20: 82.4 | G20: 84.2 | H20: 86.8 | I20: 89.9 | J20: 88.9 | K20: 87.2 | L20: 86.2 | M20: 85.8 | N20: 86.5 | O20: 88.2 | P20: 90.5 | Q20: 90.1 | R20: 92.4 | S20: 93.3 | T20: 96 | U20: 97.6 | V20: 99.3 | W20: 100.5 | X20: 102.5 | Y20: 98.6 | Z20: 99.1 | AA20: 100 | AB20: 100 | AC20: 102.1 | AD20: 103.2 | AE20: 103.7 | AF20: 104.4 | AG20: 104.8 | AH20: 105.8 | AI20: 104.8 | AJ20: 105.4 | AK20: 104.7 | AL20: 105.1 | AM20: 104.9 | AN20: 105.1 | AO20: 105.2 | AP20: 105.1 | AQ20: 104.8 | AR20: 105.7 | AS20: 105.7 | AT20: 106.4 | AU20: 106.6 | AV20: 106.7 | AW20: 107.8 | AX20: 109.2 | AY20: 114.7 | AZ20: 118.5 | BA20: 119.9 | BB20: 121.1 | BC20: 121.9
A21: <OBJ_14> | B21: =INDEX(BAP[#All],MATCH(A21,BAP[[#All],[Code]],0),MATCH(TEXT(Info!$B$4,0),BAP[#Headers],0)) -> Construction de routes | C21: 15.32 | D21: 80.1 | E21: 81.7 | F21: 84.8 | G21: 86.6 | H21: 89.3 | I21: 92.5 | J21: 91.2 | K21: 89.5 | L21: 88.3 | M21: 87.8 | N21: 88.6 | O21: 89.6 | P21: 90.9 | Q21: 90.8 | R21: 92.8 | S21: 94.1 | T21: 97.3 | U21: 98.5 | V21: 100.5 | W21: 101.1 | X21: 102.2 | Y21: 98.7 | Z21: 99.4 | AA21: 100.6 | AB21: 100 | AC21: 102 | AD21: 103.2 | AE21: 103.8 | AF21: 104.5 | AG21: 105.2 | AH21: 106.2 | AI21: 105.3 | AJ21: 105.9 | AK21: 105.3 | AL21: 105.8 | AM21: 105.8 | AN21: 106 | AO21: 106.1 | AP21: 105.9 | AQ21: 105.6 | AR21: 106.5 | AS21: 106.4 | AT21: 107 | AU21: 107.3 | AV21: 107.6 | AW21: 109.2 | AX21: 111 | AY21: 115.2 | AZ21: 118.7 | BA21: 120.3 | BB21: 121.5 | BC21: 122.6
A22: <OBJ_15> | B22: =INDEX(BAP[#All],MATCH(A22,BAP[[#All],[Code]],0),MATCH(TEXT(Info!$B$4,0),BAP[#Headers],0)) -> Construction de passages inférieurs | C22: 2.97 | D22: … | E22: … | F22: … | G22: … | H22: … | I22: 87.4 | J22: 86.7 | K22: 85 | L22: 84.2 | M22: 83.8 | N22: 84.6 | O22: 87 | P22: 90.2 | Q22: 89.5 | R22: 92.1 | S22: 92.5 | T22: 94.7 | U22: 96.7 | V22: 98.2 | W22: 99.9 | X22: 102.8 | Y22: 98.4 | Z22: 98.9 | AA22: 99.5 | AB22: 100 | AC22: 102.9 | AD22: 103.6 | AE22: 104.1 | AF22: 104 | AG22: 103.5 | AH22: 104.2 | AI22: 102.4 | AJ22: 103.2 | AK22: 102.2 | AL22: 101.4 | AM22: 100.7 | AN22: 101.2 | AO22: 100.5 | AP22: 100.8 | AQ22: 100.9 | AR22: 101.9 | AS22: 102.1 | AT22: 103.1 | AU22: 102.8 | AV22: 102.2 | AW22: 104.6 | AX22: 106.9 | AY22: 114.4 | AZ22: 117.7 | BA22: 117.6 | BB22: 116.5 | BC22: 116.7
A23: <OBJ_16> | B23: =INDEX(BAP[#All],MATCH(A23,BAP[[#All],[Code]],0),MATCH(TEXT(Info!$B$4,0),BAP[#Headers],0)) -> Construction de parois antibruit | C23: 0.78 | D23: … | E23: … | F23: … | G23: … | H23: … | I23: … | J23: … | K23: … | L23: … | M23: … | N23: … | O23: … | P23: … | Q23: … | R23: … | S23: … | T23: … | U23: … | V23: … | W23: … | X23: … | Y23: … | Z23: … | AA23: … | AB23: 100 | AC23: 100.5 | AD23: 101.5 | AE23: 101.8 | AF23: 103.2 | AG23: 103.6 | AH23: 103.6 | AI23: 103.6 | AJ23: 104 | AK23: 102.1 | AL23: 104.1 | AM23: 104.2 | AN23: 104 | AO23: 104.9 | AP23: 106.9 | AQ23: 105.9 | AR23: 107.1 | AS23: 107.7 | AT23: 107.4 | AU23: 108.2 | AV23: 108.4 | AW23: 109.8 | AX23: 111.3 | AY23: 116.7 | AZ23: 120.9 | BA23: 121.9 | BB23: 122.4 | BC23: 120.8
A25: <REG_02> | B25: =INDEX(BAP[#All],MATCH(A25,BAP[[#All],[Code]],0),MATCH(TEXT(Info!$B$4,0),BAP[#Headers],0)) -> Région lémanique
A26: <OBJ_02> | B26: =INDEX(BAP[#All],MATCH(A26,BAP[[#All],[Code]],0),MATCH(TEXT(Info!$B$4,0),BAP[#Headers],0)) -> Construction : total | C26: 100 | D26: 76.1 | E26: 77.1 | F26: 79.6 | G26: 81 | H26: 83 | I26: 86 | J26: 86.1 | K26: 87.2 | L26: 85.8 | M26: 86.2 | N26: 86 | O26: 87.3 | P26: 89.4 | Q26: 90.4 | R26: 91.7 | S26: 93.4 | T26: 95.5 | U26: 97.2 | V26: 99 | W26: 100.7 | X26: 102 | Y26: 100 | Z26: 99.9 | AA26: 100 | AB26: 100 | AC26: 101.8 | AD26: 102.3 | AE26: 102 | AF26: 102 | AG26: 102.3 | AH26: 103 | AI26: 102.4 | AJ26: 102.2 | AK26: 101.5 | AL26: 102.7 | AM26: 101.5 | AN26: 100.7 | AO26: 100.9 | AP26: 101.1 | AQ26: 101.2 | AR26: 101.2 | AS26: 101.4 | AT26: 102 | AU26: 102 | AV26: 101.6 | AW26: 102.8 | AX26: 105.4 | AY26: 110.3 | AZ26: 113 | BA26: 115.2 | BB26: 115.7 | BC26: 115.9
A27: <OBJ_03> | B27: =INDEX(BAP[#All],MATCH(A27,BAP[[#All],[Code]],0),MATCH(TEXT(Info!$B$4,0),BAP[#Headers],0)) -> Bâtiment | C27: 82.73 | D27: 76.1 | E27: 77 | F27: 79.2 | G27: 81.1 | H27: 82.9 | I27: 84.9 | J27: 84.9 | K27: 86.1 | L27: 85.6 | M27: 85.7 | N27: 85.2 | O27: 86 | P27: 87.6 | Q27: 89.1 | R27: 90.3 | S27: 92.3 | T27: 94.2 | U27: 95.9 | V27: 97.9 | W27: 99.7 | X27: 101.1 | Y27: 99.5 | Z27: 99.6 | AA27: 99.4 | AB27: 100 | AC27: 101.8 | AD27: 102.3 | AE27: 101.6 | AF27: 101.8 | AG27: 102.1 | AH27: 102.8 | AI27: 102.6 | AJ27: 102.1 | AK27: 101.4 | AL27: 102.4 | AM27: 101.2 | AN27: 100.6 | AO27: 100.7 | AP27: 100.8 | AQ27: 101.1 | AR27: 101.2 | AS27: 101.3 | AT27: 101.7 | AU27: 101.8 | AV27: 101.5 | AW27: 102.5 | AX27: 105.2 | AY27: 110.1 | AZ27: 113.1 | BA27: 115.1 | BB27: 115.4 | BC27: 115.3
A28: <OBJ_04> | B28: =INDEX(BAP[#All],MATCH(A28,BAP[[#All],[Code]],0),MATCH(TEXT(Info!$B$4,0),BAP[#Headers],0)) -> Nouvelle construction | C28: 43.46 | D28: … | E28: … | F28: … | G28: … | H28: … | I28: … | J28: … | K28: … | L28: … | M28: … | N28: … | O28: … | P28: … | Q28: … | R28: … | S28: … | T28: … | U28: … | V28: … | W28: … | X28: … | Y28: … | Z28: … | AA28: … | AB28: 100 | AC28: 102 | AD28: 102.5 | AE28: 101.8 | AF28: 101.9 | AG28: 102.1 | AH28: 102.7 | AI28: 102.8 | AJ28: 102.1 | AK28: 101.4 | AL28: 102.5 | AM28: 101.5 | AN28: 100.8 | AO28: 100.9 | AP28: 101 | AQ28: 101.2 | AR28: 101.3 | AS28: 101.4 | AT28: 102 | AU28: 102 | AV28: 101.6 | AW28: 103 | AX28: 105.8 | AY28: 110.7 | AZ28: 114 | BA28: 115.8 | BB28: 116.2 | BC28: 116.2
A29: <OBJ_05> | B29: =INDEX(BAP[#All],MATCH(A29,BAP[[#All],[Code]],0),MATCH(TEXT(Info!$B$4,0),BAP[#Headers],0)) -> Construction de bâtiments à plusieurs logements | C29: 19.13 | D29: 77.4 | E29: 78.5 | F29: 80.5 | G29: 82.6 | H29: 84.5 | I29: 87.1 | J29: 86.5 | K29: 87.5 | L29: 86.8 | M29: 86.5 | N29: 85.9 | O29: 87 | P29: 88.9 | Q29: 90.1 | R29: 91.5 | S29: 93.5 | T29: 95.7 | U29: 96.9 | V29: 98.6 | W29: 100 | X29: 101.8 | Y29: 99.7 | Z29: 99.5 | AA29: 99.4 | AB29: 100 | AC29: 101.9 | AD29: 102.5 | AE29: 101.7 | AF29: 102.1 | AG29: 102.1 | AH29: 102.5 | AI29: 102.8 | AJ29: 102.1 | AK29: 101.4 | AL29: 102.7 | AM29: 101.8 | AN29: 101.2 | AO29: 101.4 | AP29: 101.7 | AQ29: 102.2 | AR29: 102.2 | AS29: 102.3 | AT29: 102.7 | AU29: 102.9 | AV29: 102.3 | AW29: 103.7 | AX29: 106.5 | AY29: 111.1 | AZ29: 114.7 | BA29: 116.6 | BB29: 117.1 | BC29: 116.8
A30: <OBJ_06> | B30: =INDEX(BAP[#All],MATCH(A30,BAP[[#All],[Code]],0),MATCH(TEXT(Info!$B$4,0),BAP[#Headers],0)) -> Construction de bâtiments à plusieurs logements en bois | C30: 3.87 | D30: … | E30: … | F30: … | G30: … | H30: … | I30: … | J30: … | K30: … | L30: … | M30: 85.6 | N30: 85.5 | O30: 86.6 | P30: 88.4 | Q30: 89.6 | R30: 91.4 | S30: 93.4 | T30: 94.9 | U30: 96.5 | V30: 98.5 | W30: 100.6 | X30: 102 | Y30: 99.7 | Z30: 99.8 | AA30: 99.8 | AB30: 100 | AC30: 102.3 | AD30: 103.8 | AE30: 102.7 | AF30: 102.5 | AG30: 103.3 | AH30: 103.6 | AI30: 103.8 | AJ30: 103.3 | AK30: 102.6 | AL30: 103.3 | AM30: 102 | AN30: 101.4 | AO30: 101.4 | AP30: 101.7 | AQ30: 101.6 | AR30: 101.2 | AS30: 101.9 | AT30: 101.3 | AU30: 101 | AV30: 101.2 | AW30: 103.1 | AX30: 105.9 | AY30: 110.5 | AZ30: 113.7 | BA30: 116.2 | BB30: 116.4 | BC30: 116.6
A31: <OBJ_07> | B31: =INDEX(BAP[#All],MATCH(A31,BAP[[#All],[Code]],0),MATCH(TEXT(Info!$B$4,0),BAP[#Headers],0)) -> Construction de maisons individuelles | C31: 9.47 | D31: … | E31: … | F31: … | G31: … | H31: … | I31: … | J31: … | K31: … | L31: … | M31: … | N31: … | O31: … | P31: … | Q31: … | R31: … | S31: … | T31: … | U31: … | V31: … | W31: … | X31: … | Y31: … | Z31: … | AA31: … | AB31: 100 | AC31: 101.8 | AD31: 102.3 | AE31: 101.4 | AF31: 101.4 | AG31: 101.5 | AH31: 102.5 | AI31: 103.6 | AJ31: 102.7 | AK31: 102.2 | AL31: 103.6 | AM31: 102.2 | AN31: 101.8 | AO31: 101.4 | AP31: 101.8 | AQ31: 102.1 | AR31: 101.6 | AS31: 101.9 | AT31: 101.7 | AU31: 101.5 | AV31: 101.3 | AW31: 101.6 | AX31: 104 | AY31: 108.5 | AZ31: 111.3 | BA31: 113.3 | BB31: 113.9 | BC31: 113.8
A32: <OBJ_08> | B32: =INDEX(BAP[#All],MATCH(A32,BAP[[#All],[Code]],0),MATCH(TEXT(Info!$B$4,0),BAP[#Headers],0)) -> Construction de bâtiments administratifs | C32: 7.27 | D32: 74 | E32: 75 | F32: 78.6 | G32: 79.5 | H32: 81.3 | I32: 83.5 | J32: 84.1 | K32: 86.5 | L32: 85.9 | M32: 85.7 | N32: 85.1 | O32: 85.9 | P32: 87.2 | Q32: 88.5 | R32: 89.3 | S32: 91.2 | T32: 93.3 | U32: 95.3 | V32: 98.1 | W32: 99.7 | X32: 100.6 | Y32: 99.4 | Z32: 99 | AA32: 98.9 | AB32: 100 | AC32: 102.2 | AD32: 102.5 | AE32: 101.4 | AF32: 101.5 | AG32: 101.8 | AH32: 102 | AI32: 100.7 | AJ32: 100.7 | AK32: 99.3 | AL32: 99.8 | AM32: 99.2 | AN32: 98.2 | AO32: 98.3 | AP32: 97.3 | AQ32: 96.9 | AR32: 97.7 | AS32: 97.2 | AT32: 99.2 | AU32: 99 | AV32: 98.8 | AW32: 100.9 | AX32: 104 | AY32: 109.8 | AZ32: 113.1 | BA32: 114.7 | BB32: 115.1 | BC32: 115.4
A33: <OBJ_09> | B33: =INDEX(BAP[#All],MATCH(A33,BAP[[#All],[Code]],0),MATCH(TEXT(Info!$B$4,0),BAP[#Headers],0)) -> Construction de halles industrielles | C33: 3.72 | D33: … | E33: … | F33: … | G33: … | H33: … | I33: … | J33: … | K33: … | L33: … | M33: … | N33: … | O33: … | P33: … | Q33: … | R33: … | S33: … | T33: … | U33: … | V33: … | W33: … | X33: … | Y33: … | Z33: … | AA33: … | AB33: 100 | AC33: 101.9 | AD33: 102.3 | AE33: 102.6 | AF33: 102.6 | AG33: 103.3 | AH33: 104.1 | AI33: 103.6 | AJ33: 102.9 | AK33: 101.9 | AL33: 102.7 | AM33: 101.3 | AN33: 100.8 | AO33: 100.9 | AP33: 101.4 | AQ33: 101.7 | AR33: 101.6 | AS33: 101.9 | AT33: 102.8 | AU33: 102.3 | AV33: 102.4 | AW33: 104.6 | AX33: 107.7 | AY33: 113.6 | AZ33: 116.2 | BA33: 117.1 | BB33: 116.9 | BC33: 117.5
A34: <OBJ_10> | B34: =INDEX(BAP[#All],MATCH(A34,BAP[[#All],[Code]],0),MATCH(TEXT(Info!$B$4,0),BAP[#Headers],0)) -> Rénovation, transformation | C34: 39.27 | AB34: 100 | AC34: 101.5 | AD34: 102.1 | AE34: 101.4 | AF34: 101.7 | AG34: 102.1 | AH34: 102.9 | AI34: 102.4 | AJ34: 102.1 | AK34: 101.4 | AL34: 102.4 | AM34: 100.9 | AN34: 100.3 | AO34: 100.3 | AP34: 100.3 | AQ34: 100.5 | AR34: 100.6 | AS34: 100.7 | AT34: 100.6 | AU34: 100.7 | AV34: 100.5 | AW34: 101 | AX34: 103.6 | AY34: 108.3 | AZ34: 110.7 | BA34: 113 | BB34: 113.2 | BC34: 112.9
A35: <OBJ_11> | B35: =INDEX(BAP[#All],MATCH(A35,BAP[[#All],[Code]],0),MATCH(TEXT(Info!$B$4,0),BAP[#Headers],0)) -> Rénovation de bâtiments à plusieurs logements | C35: 24.02 | D35: 75.3 | E35: 75.9 | F35: 77.7 | G35: 79.7 | H35: 81.3 | I35: 82.6 | J35: 83 | K35: 84.1 | L35: 83.9 | M35: 84.6 | N35: 84.3 | O35: 84.8 | P35: 85.9 | Q35: 88 | R35: 89.1 | S35: 91.2 | T35: 92.6 | U35: 94.8 | V35: 96.9 | W35: 99.3 | X35: 100.3 | Y35: 99.4 | Z35: 99.8 | AA35: 99.7 | AB35: 100 | AC35: 101.7 | AD35: 102 | AE35: 101.2 | AF35: 101.5 | AG35: 101.8 | AH35: 102.5 | AI35: 102.5 | AJ35: 102.1 | AK35: 101.6 | AL35: 102.6 | AM35: 100.6 | AN35: 100.5 | AO35: 102 | AP35: 103.3 | AQ35: 104.2 | AR35: 104.1 | AS35: 105 | AT35: 107.4 | AU35: 108 | AV35: 108 | AW35: 108.3 | AX35: 111.1 | AY35: 116 | AZ35: 118.3 | BA35: 120.9 | BB35: 121.1 | BC35: 120.8
A36: <OBJ_12> | B36: =INDEX(BAP[#All],MATCH(A36,BAP[[#All],[Code]],0),MATCH(TEXT(Info!$B$4,0),BAP[#Headers],0)) -> Rénovation de bâtiments administratifs | C36: 15.25 | D36: … | E36: … | F36: … | G36: … | H36: … | I36: … | J36: … | K36: … | L36: … | M36: … | N36: … | O36: … | P36: … | Q36: … | R36: … | S36: … | T36: … | U36: … | V36: … | W36: … | X36: … | Y36: … | Z36: … | AA36: … | AB36: 100 | AC36: 101.3 | AD36: 102.2 | AE36: 101.7 | AF36: 101.9 | AG36: 102.6 | AH36: 103.6 | AI36: 102.1 | AJ36: 102.1 | AK36: 101.2 | AL36: 102.2 | AM36: 101.3 | AN36: 100.3 | AO36: 101 | AP36: 100.3 | AQ36: 99.6 | AR36: 100.1 | AS36: 100.5 | AT36: 101.9 | AU36: 102.5 | AV36: 102.9 | AW36: 103.7 | AX36: 106.5 | AY36: 111.8 | AZ36: 114.9 | BA36: 117.1 | BB36: 117 | BC36: 117
A37: <OBJ_13> | B37: =INDEX(BAP[#All],MATCH(A37,BAP[[#All],[Code]],0),MATCH(TEXT(Info!$B$4,0),BAP[#Headers],0)) -> Génie civil | C37: 17.27 | D37: 76.1 | E37: 77.4 | F37: 80.7 | G37: 80.7 | H37: 83.5 | I37: 89.2 | J37: 90 | K37: 90.6 | L37: 86.5 | M37: 88 | N37: 88.7 | O37: 91.4 | P37: 95.2 | Q37: 94.7 | R37: 96.2 | S37: 96.8 | T37: 99.5 | U37: 101.4 | V37: 102.5 | W37: 103.9 | X37: 105.1 | Y37: 101.4 | Z37: 100.9 | AA37: 102 | AB37: 100 | AC37: 102.2 | AD37: 102.3 | AE37: 103.9 | AF37: 102.9 | AG37: 103.1 | AH37: 103.9 | AI37: 101.7 | AJ37: 102.7 | AK37: 101.9 | AL37: 104 | AM37: 102.8 | AN37: 101.4 | AO37: 101.7 | AP37: 102.1 | AQ37: 101.5 | AR37: 101.3 | AS37: 102.1 | AT37: 103.2 | AU37: 103 | AV37: 102.4 | AW37: 104 | AX37: 106 | AY37: 111.2 | AZ37: 113.2 | BA37: 115.9 | BB37: 117.3 | BC37: 118.3
A38: <OBJ_14> | B38: =INDEX(BAP[#All],MATCH(A38,BAP[[#All],[Code]],0),MATCH(TEXT(Info!$B$4,0),BAP[#Headers],0)) -> Construction de routes | C38: 13.87 | D38: 79.4 | E38: 80.7 | F38: 84.1 | G38: 84.2 | H38: 87.1 | I38: 93 | J38: 93.2 | K38: 94.6 | L38: 89.5 | M38: 90.3 | N38: 90.3 | O38: 93 | P38: 95.3 | Q38: 95.2 | R38: 95.5 | S38: 96.9 | T38: 101.2 | U38: 102.7 | V38: 103.8 | W38: 104.5 | X38: 105.6 | Y38: 102.5 | Z38: 101.5 | AA38: 103.3 | AB38: 100 | AC38: 102.1 | AD38: 102.1 | AE38: 103.8 | AF38: 102.7 | AG38: 103 | AH38: 104.1 | AI38: 101.8 | AJ38: 102.9 | AK38: 102.2 | AL38: 104.4 | AM38: 103.4 | AN38: 101.9 | AO38: 102.6 | AP38: 102.9 | AQ38: 101.9 | AR38: 101.6 | AS38: 102.3 | AT38: 103.3 | AU38: 103.1 | AV38: 102.5 | AW38: 104.1 | AX38: 106.5 | AY38: 110.5 | AZ38: 112.6 | BA38: 115.2 | BB38: 116.5 | BC38: 118
A39: <OBJ_15> | B39: =INDEX(BAP[#All],MATCH(A39,BAP[[#All],[Code]],0),MATCH(TEXT(Info!$B$4,0),BAP[#Headers],0)) -> Construction de passages inférieurs | C39: 2.69 | D39: … | E39: … | F39: … | G39: … | H39: … | I39: 85.7 | J39: 87 | K39: 87 | L39: 83.7 | M39: 85.8 | N39: 87.2 | O39: 90 | P39: 95.2 | Q39: 94.3 | R39: 96.8 | S39: 96.7 | T39: 98 | U39: 100.1 | V39: 101.2 | W39: 103.3 | X39: 104.6 | Y39: 100.4 | Z39: 100.4 | AA39: 100.8 | AB39: 100 | AC39: 103.1 | AD39: 103.9 | AE39: 104.7 | AF39: 104.1 | AG39: 103.3 | AH39: 103.2 | AI39: 100.6 | AJ39: 101.3 | AK39: 100.3 | AL39: 101.4 | AM39: 99.7 | AN39: 98.5 | AO39: 97.5 | AP39: 98.1 | AQ39: 99.1 | AR39: 99.1 | AS39: 100.5 | AT39: 101.9 | AU39: 101.9 | AV39: 101 | AW39: 104.1 | AX39: 106.9 | AY39: 115.2 | AZ39: 117.1 | BA39: 117.6 | BB39: 116.4 | BC39: 116.6
A40: <OBJ_16> | B40: =INDEX(BAP[#All],MATCH(A40,BAP[[#All],[Code]],0),MATCH(TEXT(Info!$B$4,0),BAP[#Headers],0)) -> Construction de parois antibruit | C40: 0.71 | D40: … | E40: … | F40: … | G40: … | H40: … | I40: … | J40: … | K40: … | L40: … | M40: … | N40: … | O40: … | P40: … | Q40: … | R40: … | S40: … | T40: … | U40: … | V40: … | W40: … | X40: … | Y40: … | Z40: … | AA40: … | AB40: 100 | AC40: 100.7 | AD40: 101.4 | AE40: 103 | AF40: 104 | AG40: 104.6 | AH40: 104 | AI40: 103.2 | AJ40: 103.8 | AK40: 102 | AL40: 104.5 | AM40: 104.4 | AN40: 103.6 | AO40: 104.3 | AP40: 106.4 | AQ40: 105.3 | AR40: 105.6 | AS40: 106.3 | AT40: 106.1 | AU40: 106.4 | AV40: 106.1 | AW40: 107.7 | AX40: 109.1 | AY40: 114.2 | AZ40: 117.7 | BA40: 118.9 | BB40: 119.2 | BC40: 117.5
A42: <REG_03> | B42: =INDEX(BAP[#All],MATCH(A42,BAP[[#All],[Code]],0),MATCH(TEXT(Info!$B$4,0),BAP[#Headers],0)) -> Espace Mittelland
A43: <OBJ_02> | B43: =INDEX(BAP[#All],MATCH(A43,BAP[[#All],[Code]],0),MATCH(TEXT(Info!$B$4,0),BAP[#Headers],0)) -> Construction : total | C43: 100 | D43: 79.3 | E43: 80.9 | F43: 82.4 | G43: 83.7 | H43: 85.5 | I43: 88.4 | J43: 89.1 | K43: 88.5 | L43: 87.3 | M43: 86.4 | N43: 86.7 | O43: 87.5 | P43: 89.4 | Q43: 89.5 | R43: 90.6 | S43: 92.4 | T43: 95 | U43: 95.5 | V43: 97.2 | W43: 99.2 | X43: 101.4 | Y43: 98.6 | Z43: 98.9 | AA43: 99 | AB43: 100 | AC43: 101 | AD43: 101.8 | AE43: 101.9 | AF43: 102.1 | AG43: 101.7 | AH43: 102.1 | AI43: 101.5 | AJ43: 102 | AK43: 101.2 | AL43: 101.6 | AM43: 101.3 | AN43: 100.7 | AO43: 100.1 | AP43: 100.5 | AQ43: 100.7 | AR43: 101.6 | AS43: 102.1 | AT43: 102 | AU43: 102.5 | AV43: 102.2 | AW43: 103.6 | AX43: 106.9 | AY43: 112 | AZ43: 115.2 | BA43: 115.4 | BB43: 115.8 | BC43: 117
...

Sheet 2015
C1: <POND_02> | D1: <Date_Mois_Octobre> | E1: <Date_Mois_Avril>
A2: <cc-05.05.01_Titre> | B2: =INDEX(BAP[#All],MATCH(A2,BAP[[#All],[Code]],0),MATCH(TEXT(Info!$B$4,0),BAP[#Headers],0)) -> Indice suisse des prix de la construction - Evolution des prix de la construction
A3: <cc-05.05.01_Sous-tItre> | B3: =INDEX(BAP[#All],MATCH(A3,BAP[[#All],[Code]],0),MATCH(TEXT(Info!$B$4,0),BAP[#Headers],0)) -> Valeurs de l'Indice par grande région et par type d'objet
A4: <BASE_2015> | B4: =INDEX(BAP[#All],MATCH(A4,BAP[[#All],[Code]],0),MATCH(TEXT(Info!$B$4,0),BAP[#Headers],0)) -> Base octobre 2015 = 100
C5: =INDEX(BAP[#All],MATCH(C1,BAP[[#All],[Code]],0),MATCH(TEXT(Info!$B$4,0),BAP[#Headers],0)) -> Pondération en % | D5: =INDEX(BAP[#All],MATCH(D1,BAP[[#All],[Code]],0),MATCH(TEXT(Info!$B$4,0),BAP[#Headers],0)) -> Octobre | E5: =INDEX(BAP[#All],MATCH(E1,BAP[[#All],[Code]],0),MATCH(TEXT(Info!$B$4,0),BAP[#Headers],0)) -> Avril | F5: =D5 -> Octobre | G5: =E5 -> Avril | H5: =F5 -> Octobre | I5: =G5 -> Avril | J5: =H5 -> Octobre | K5: =I5 -> Avril | L5: =J5 -> Octobre | M5: =K5 -> Avril | ... BB5: =AZ5 -> Octobre | BC5: =+BA5 -> Avril
D6: 1998 | E6: 1999 | F6: 1999 | G6: 2000 | H6: 2000 | I6: 2001 | J6: 2001 | K6: 2002 | L6: 2002 | M6: 2003 | N6: 2003 | O6: 2004 | P6: 2004 | Q6: 2005 | R6: 2005 | S6: 2006 | T6: 2006 | U6: 2007 | V6: 2007 | W6: 2008 | X6: 2008 | Y6: 2009 | Z6: 2009 | AA6: 2010 | AB6: 2010 | AC6: 2011 | AD6: 2011 | AE6: 2012 | AF6: 2012 | AG6: 2013 | AH6: 2013 | AI6: 2014 | AJ6: 2014 | AK6: 2015 | AL6: 2015 | AM6: 2016 | AN6: 2016 | AO6: 2017 | AP6: 2017 | AQ6: 2018 | AR6: 2018 | AS6: 2019 | AT6: 2019 | AU6: 2020 | AV6: 2020 | AW6: 2021 | AX6: 2021 | AY6: 2022 | AZ6: 2022 | BA6: 2023 | BB6: 2023 | BC6: 2024
A8: <REG_01> | B8: =INDEX(BAP[#All],MATCH(A8,BAP[[#All],[Code]],0),MATCH(TEXT(Info!$B$4,0),BAP[#Headers],0)) -> Suisse
A9: <OBJ_02> | B9: =INDEX(BAP[#All],MATCH(A9,BAP[[#All],[Code]],0),MATCH(TEXT(Info!$B$4,0),BAP[#Headers],0)) -> Construction : total | C9: 100 | D9: 78.5 | E9: 79.3 | F9: 81.4 | G9: 82.9 | H9: 84.8 | I9: 86.8 | J9: 86.7 | K9: 86.1 | L9: 85.3 | M9: 84.4 | N9: 84.6 | O9: 85 | P9: 86.7 | Q9: 87.2 | R9: 88.4 | S9: 89.4 | T9: 91.6 | U9: 93.3 | V9: 95 | W9: 96.8 | X9: 98.5 | Y9: 96.5 | Z9: 96.6 | AA9: 96.6 | AB9: 97.4 | AC9: 98.8 | AD9: 99.4 | AE9: 99.4 | AF9: 99.7 | AG9: 99.9 | AH9: 100.4 | AI9: 100.3 | AJ9: 100.1 | AK9: 99.5 | AL9: 100 | AM9: 99.5 | AN9: 99 | AO9: 98.6 | AP9: 98.7 | AQ9: 99 | AR9: 99.3 | AS9: 99.8 | AT9: 99.7 | AU9: 100 | AV9: 99.7 | AW9: 101.1 | AX9: 103.8 | AY9: 108.9 | AZ9: 112.4 | BA9: 113.6 | BB9: 114.2 | BC9: 114.7
