Workbook

Sheet Index
A1: Compétences en littératie, numératie et résolution de problèmes des adultes en Suisse. Premiers résultats de l'enquête PIAAC 2022/2023
A2: Données des graphiques et des tableaux
A4: Sommaire
A5: G.2.2.1a | B5: ='G.2.2.1a'!A1 -> Littératie – Répartition en pourcentage des niveaux de compétences et score moyen (entre parenthèses) en comparaison internationale
A6: G.2.2.1b | B6: ='G.2.2.1b'!A1 -> Numératie – Répartition en pourcentage des niveaux de compétences et score moyen (entre parenthèses) en comparaison internationale
A7: G.2.2.1c | B7: ='G.2.2.1c'!A1 -> Résolution adaptative de problèmes – Répartition en pourcentage des niveaux de compétences et score moyen (entre parenthèses) en comparaison internationale
A8: G.2.3.1 | B8: ='G.2.3.1'!A1 -> Répartition des scores sur l'échelle de compétences (0 - 500) par région linguistique
A9: G.2.3.2a-c | B9: ='G.2.3.2a-c'!A1 -> Répartition en pourcentage des niveaux de compétences par région linguistique
A10: G.2.3.3 | B10: ='G.2.3.3'!A1 -> Répartition des scores sur l'échelle de compétences (0 - 500) par grande région
A11: G.2.3.4a-c | B11: ='G.2.3.4a-c'!A1 -> Répartition en pourcentage des niveaux de compétences par grande région
A12: G.3.1.1a-c | B12: ='G.3.1.1a-c'!A1 -> Répartition en pourcentage des niveaux de compétences selon l'âge
A13: G.3.1.2 | B13: ='G.3.1.2'!A1 -> Répartition en pourcentage des niveaux de compétences selon le sexe
A14: G.3.1.3 | B14: ='G.3.1.3'!A1 -> Répartition des scores sur l'échelle de compétences (0 - 500) selon l'âge et le sexe
A15: G.3.1.4 | B15: ='G.3.1.4'!A1 -> Répartition en pourcentage des niveaux de compétences selon le niveau de formation
A16: G.3.1.5a-c | B16: ='G.3.1.5a-c'!A1 -> Répartition des scores sur l'échelle de compétences (0 - 500) selon le sexe et le niveau de formation
A17: G.3.1.6 | B17: ='G.3.1.6'!A1 -> Domaine d'études de la plus haute formation achevée de niveau tertiaire, selon le sexe et score moyen en numératie
A18: G.3.1.7a-c | B18: ='G.3.1.7a-c'!A1 -> Répartition des scores sur l'échelle de compétences (0 - 500) selon le niveau de formation et l'âge
A19: G.3.1.8 | B19: ='G.3.1.8'!A1 -> Répartition en pourcentage des niveaux de compétences selon le statut sur le marché du travail
A20: G.3.2.1 | B20: ='G.3.2.1'!A1 -> Répartition en pourcentage des niveaux de compétences selon la région d'origine
A21: G.3.2.2 | B21: ='G.3.2.2'!A1 -> Répartition en pourcentage des niveaux de compétences selon les profils migratoire et linguistique
A22: G.3.2.3a-b | B22: ='G.3.2.3a-b'!A1 -> Répartition des scores sur l'échelle de compétences (0 - 500) selon les profils migratoire et linguistique et le niveau de formation
A23: G.3.2.4a-b | B23: ='G.3.2.4a-b'!A1 -> Répartition des scores sur l'échelle de compétences (0 - 500) selon les profils migratoire et linguistique et le lieu d'obtention du diplôme le plus élevé
A24: G.3.2.5 | B24: ='G.3.2.5'!A1 -> Répartition en pourcentage des niveaux de compétences selon la date d'arrivée en Suisse
A25: G.3.2.6a-b | B25: ='G.3.2.6a-b'!A1 -> Répartition des scores sur l'échelle de compétences (0 - 500) selon la date d'arrivée en Suisse et le niveau de formation
A26: G.3.3.1 | B26: ='G.3.3.1'!A1 -> Proportion de personnes ayant de faibles compétences (niveau inférieur à 1 et niveau 1)
A27: G.3.3.2 | B27: ='G.3.3.2'!A1 -> Répartition en pourcentage des personnes ayant de faibles compétences (niveau inférieur à 1 et niveau 1) et de la population totale par région linguistique
A28: G.3.3.3 | B28: ='G.3.3.3'!A1 -> Répartition en pourcentage des personnes ayant de faibles compétences (niveau inférieur à 1 et niveau 1) et de la population totale par grande région
A29: G.3.3.4 | B29: ='G.3.3.4'!A1 -> Répartition en pourcentage des personnes ayant de faibles compétences (niveau inférieur à 1 et niveau 1) et de la population totale selon le profil linguistique
A30: G.3.3.5 | B30: ='G.3.3.5'!A1 -> Répartition en pourcentage des personnes ayant de faibles compétences (niveau inférieur à 1 et niveau 1) selon le profil linguistique et le sexe
A31: G.3.3.6 | B31: ='G.3.3.6'!A1 -> Répartition en pourcentage des personnes ayant de faibles compétences (niveau inférieur à 1 et niveau 1) selon le profil linguistique et l'âge
A32: G.3.3.7 | B32: ='G.3.3.7'!A1 -> Répartition en pourcentage des personnes ayant de faibles compétences (niveau inférieur à 1 et niveau 1) selon le profil linguistique et la date d'arrivée en Suisse
A33: G.3.3.8 | B33: ='G.3.3.7'!A1 -> Répartition en pourcentage des personnes ayant de faibles compétences (niveau inférieur à 1 et niveau 1) selon le profil linguistique et la date d'arrivée en Suisse
A35: T.3.3.1 | B35: ='T.3.3.1'!A1 -> Proportion de personnes ayant de faibles compétences en littératie (niveau inférieur à 1 et niveau 1) selon différentes dimensions d'analyse
A36: TA A1a | B36: ='TA A1a'!A1 -> Littératie - Répartition des scores sur l'échelle de compétences (0 - 500) selon différentes dimensions d'analyse
A37: TA A1b | B37: ='TA A1b'!A1 -> Numératie - Répartition des scores sur l'échelle de compétences (0 - 500) selon différentes dimensions d'analyse
A38: TA A1c | B38: ='TA A1c'!A1 -> Résolution adaptative de problèmes - Répartition des scores sur l'échelle de compétences (0 - 500) selon différentes dimensions d'analyse
A39: TA A2 | B39: ='TA A2'!A1 -> Régression linéaire sur les scores de compétences sur l'échelle (0 - 500) selon différents caractères socio-démographiques, incl. la région d'origine
A40: TA A3 | B40: ='TA A3'!A1 -> Régression linéaire sur les scores de compétences sur l'échelle (0 - 500) selon différents caractères socio-démographiques, incl. les profils migratoire et linguistique
A41: TA A4 | B41: ='TA A4'!A1 -> Régression linéaire sur les scores de compétences sur l'échelle (0 - 500) selon différents caractères socio-démographiques, incl. la date d'ârrivée en Suisse
A42: TA A5 | B42: ='TA A5'!A1 -> Répartition des caractères socio-démographiques par région d'origine
...

Sheet G.2.2.1a
A1: Littératie – Répartition en pourcentage des niveaux de compétences et score moyen (entre parenthèses) en comparaison internationale
A2: Population résidante permanente agée de 16 à 65 ans | O2: G.2.2.1a
B4: Niveau inférieur à 1 | D4: Niveau 1 | F4: Niveau 2 | H4: Niveau 3 | J4: Niveau 4 | L4: Niveau 5 | N4: Littératie
B5: % | C5: ±1 | D5: % | E5: ±1 | F5: % | G5: ±1 | H5: % | I5: ±1 | J5: % | K5: ±1 | L5: % | M5: ±1 | N5: Score | O5: ±1
A6: Pays de l'OCDE
A7: Autriche | B7: 10.97491 | C7: 1.2392 | D7: 17.97759 | E7: 1.62904 | F7: 31.87356 | G7: 1.75483 | H7: 29.59263 | I7: 1.78693 | J7: 8.79456 | K7: 1.18377 | L7: 0.78675 | M7: 0.36604 | N7: 254.36981 | O7: 1.75208
A8: Canada | B8: 5.91987 | C8: 0.85674 | D8: 13.35271 | E8: 1.4564 | F8: 29.68124 | G8: 2.0736 | H8: 37.14691 | I8: 1.95369 | J8: 12.776 | K8: 1.31043 | L8: 1.12326 | M8: 0.37376 | N8: 270.77031 | O8: 1.73183
A9: Chili | B9: 25.11775 | C9: 3.06414 | D9: 28.27633 | E9: 2.10783 | F9: 30.46401 | G9: 2.44503 | H9: 14.17313 | I9: 2.01006 | J9: 1.89222 | K9: 0.71682 | L9: 0.07656 | M9: 0.12833 | N9: 217.88995 | O9: 4.28474
A10: Tchéquie | B10: 7.06228 | C10: 1.03321 | D10: 17.70928 | E10: 1.65257 | F10: 33.75103 | G10: 1.90638 | H10: 31.74047 | I10: 2.09819 | J10: 9.07145 | K10: 1.28613 | L10: 0.66549 | M10: 0.30419 | N10: 260.20564 | O10: 1.95554
A11: Danemark | B11: 7.40248 | C11: 0.7606 | D11: 10.47272 | E11: 1.2208 | F11: 26.98578 | G11: 1.66363 | H11: 39.81083 | I11: 2.00241 | J11: 14.37109 | K11: 1.28534 | L11: 0.95709 | M11: 0.60378 | N11: 273.03369 | O11: 1.61563
A12: Estonie | B12: 5.50242 | C12: 0.61803 | D12: 14.50857 | E12: 1.02272 | F12: 26.1917 | G12: 1.55232 | H12: 34.99198 | I12: 1.38607 | J12: 16.40625 | K12: 1.03901 | L12: 2.39908 | M12: 0.48536 | N12: 275.54025 | O12: 1.2333
A13: Finlande | B13: 6.08545 | C13: 1.07437 | D13: 6.27613 | E13: 1.08578 | F13: 17.00852 | G13: 1.524 | H13: 35.81209 | I13: 2.15613 | J13: 28.59878 | K13: 1.76099 | L13: 6.21905 | M13: 0.93427 | N13: 296.46861 | O13: 2.39138
A14: France | B14: 10.34833 | C14: 0.78579 | D14: 17.59401 | E14: 1.30882 | F14: 32.15728 | G14: 1.35324 | H14: 31.19395 | I14: 1.14423 | J14: 8.18037 | K14: 0.77037 | L14: 0.52607 | M14: 0.25839 | N14: 254.80425 | O14: 1.12209
A15: Allemagne | B15: 9.35796 | C15: 0.96594 | D15: 13.09262 | E15: 1.34935 | F15: 27.62973 | G15: 1.61289 | H15: 35.47171 | I15: 1.43853 | J15: 13.32792 | K15: 1.05986 | L15: 1.12005 | M15: 0.39792 | N15: 266.0916 | O15: 1.5058
A16: Hongrie | B16: 9.29599 | C16: 1.08878 | D16: 23.20127 | E16: 2.0095 | F16: 35.70664 | G16: 1.91887 | H16: 25.91955 | I16: 1.72492 | J16: 5.50132 | K16: 0.80277 | L16: 0.37523 | M16: 0.22615 | N16: 248.45914 | O16: 1.96319
A17: Irlande | B17: 5.33624 | C17: 1.08487 | D17: 15.74188 | E17: 1.95357 | F17: 37.89883 | G17: 2.64689 | H17: 32.0167 | I17: 2.13628 | J17: 8.40063 | K17: 1.29073 | L17: 0.60572 | M17: 0.37627 | N17: 262.76131 | O17: 2.03619
A18: Israël | B18: 13.78617 | C18: 1.49045 | D18: 22.40634 | E18: 1.54926 | F18: 31.71046 | G18: 1.73756 | H18: 24.84432 | I18: 1.56884 | J18: 6.76443 | K18: 1.01901 | L18: 0.48829 | M18: 0.31165 | N18: 243.60276 | O18: 2.25691
... A33: États-Unis | B33: 11.52435 | C33: 1.30805 | D33: 16.10341 | E33: 1.69022 | F33: 28.50755 | G33: 2.26647 | H33: 30.62228 | I33: 2.08639 | J33: 11.8704 | K33: 1.46352 | L33: 1.37201 | M33: 0.6118 | N33: 258.20852 | O33: 2.84612
A35: Entités sous-nationales
A36: Angleterre (Royaume-Uni) | B36: 6.03976 | C36: 0.98012 | D36: 11.54749 | E36: 1.43397 | F36: 31.50633 | G36: 1.74826 | H36: 36.6182 | I36: 1.96703 | J36: 13.22607 | K36: 1.49032 | L36: 1.06215 | M36: 0.45027 | N36: 271.60693 | O36: 2.05199
A37: Flandre (Belgique) | B37: 7.42103 | C37: 0.91862 | D37: 11.34173 | E37: 1.30613 | F37: 25.64424 | G37: 1.79091 | H37: 37.61263 | I37: 2.0405 | J37: 16.26145 | K37: 1.52439 | L37: 1.71892 | M37: 0.61357 | N37: 274.7403 | O37: 1.89989
A39: Pays partenaires
A40: Croatie | B40: 8.44632 | C40: 1.84586 | D40: 19.1758 | E40: 2.02514 | F40: 36.79237 | G40: 2.43569 | H40: 27.61804 | I40: 1.82787 | J40: 7.45839 | K40: 1.32326 | L40: 0.50908 | M40: 0.32615 | N40: 254.25132 | O40: 3.52715
A41: Singapour | B41: 12.3066 | C41: 0.87968 | D41: 17.38132 | E41: 1.31909 | F41: 29.58783 | G41: 1.63228 | H41: 29.88843 | I41: 1.41775 | J41: 10.12821 | K41: 1.12464 | L41: 0.70761 | M41: 0.38094 | N41: 254.54043 | O41: 1.45458
A43: Moyenne-OCDE | B43: 8.92663 | C43: 0.24602 | D43: 17.12563 | E43: 0.30806 | F43: 31.43881 | G43: 0.37356 | H43: 30.88896 | I43: 0.35743 | J43: 10.55276 | K43: 0.22598 | L43: 1.06722 | M43: 0.08178 | N43: 259.98105 | O43: 0.4192
A44: Remarque: Inclus les personnes qui ont seulement répondu à l'interview courte.
A45: 1Intervalle de confiance à 95%
A46: Source: PIAAC - 2022/23 | O46: © OFS 2024

Sheet G.2.2.1b
A1: Numératie – Répartition en pourcentage des niveaux de compétences et score moyen (entre parenthèses) en comparaison internationale
A2: Population résidante permanente agée de 16 à 65 ans | O2: G.2.2.1b
B4: Niveau inférieur à 1 | D4: Niveau 1 | F4: Niveau 2 | H4: Niveau 3 | J4: Niveau 4 | L4: Niveau 5 | N4: Numératie
B5: % | C5: ±1 | D5: % | E5: ±1 | F5: % | G5: ±1 | H5: % | I5: ±1 | J5: % | K5: ±1 | L5: % | M5: ±1 | N5: Score | O5: ±1
A6: Pays de l'OCDE
A7: Autriche | B7: 7.62715 | C7: 1.02271 | D7: 14.97969 | E7: 1.41369 | F7: 30.05804 | G7: 1.99001 | H7: 32.34195 | I7: 1.89001 | J7: 13.19184 | K7: 1.2456 | L7: 1.80134 | M7: 0.52964 | N7: 267.04456 | O7: 1.80318
A8: Canada | B8: 5.53576 | C8: 1.0594 | D8: 14.55834 | E8: 1.1252 | F8: 30.42775 | G8: 1.77578 | H8: 34.44838 | I8: 1.79579 | J8: 13.47016 | K8: 1.27453 | L8: 1.5596 | M8: 0.50343 | N8: 270.69487 | O8: 1.78856
A9: Chili | B9: 26.54794 | C9: 2.84398 | D9: 29.05109 | E9: 2.1995 | F9: 28.51291 | G9: 2.54473 | H9: 13.57256 | I9: 1.97716 | J9: 2.21516 | K9: 0.78744 | L9: 0.10033 | M9: 0.16726 | N9: 214.34368 | O9: 4.67128
A10: Tchéquie | B10: 6.07418 | C10: 0.96067 | D10: 15.18191 | E10: 1.57478 | F10: 32.71173 | G10: 2.08737 | H10: 31.86775 | I10: 2.24982 | J10: 12.45215 | K10: 1.3226 | L10: 1.71228 | M10: 0.61375 | N10: 267.28 | O10: 2.18293
A11: Danemark | B11: 6.79353 | C11: 0.74573 | D11: 9.82113 | E11: 1.09786 | F11: 24.92463 | G11: 1.77519 | H11: 37.4886 | I11: 2.11863 | J11: 18.54721 | K11: 1.40508 | L11: 2.4249 | M11: 0.70326 | N11: 279.09241 | O11: 1.61186
A12: Estonie | B12: 4.24299 | C12: 0.59419 | D12: 11.63231 | E12: 0.94882 | F12: 26.92678 | G12: 1.37822 | H12: 36.59776 | I12: 1.42986 | J12: 17.72061 | K12: 1.09172 | L12: 2.87955 | M12: 0.54693 | N12: 281.00611 | O12: 1.24142
A13: Finlande | B13: 5.13099 | C13: 1.02991 | D13: 7.05967 | E13: 1.12278 | F13: 20.35844 | G13: 1.9581 | H13: 36.52012 | I13: 2.37898 | J13: 25.58242 | K13: 1.9804 | L13: 5.34835 | M13: 0.91071 | N13: 293.76994 | O13: 2.33883
A14: France | B14: 10.47736 | C14: 0.81285 | D14: 17.28113 | E14: 1.26404 | F14: 30.43739 | G14: 1.44234 | H14: 30.29786 | I14: 1.29472 | J14: 10.36642 | K14: 0.85108 | L14: 1.13985 | M14: 0.32841 | N14: 256.53271 | O14: 1.32315
A15: Allemagne | B15: 8.13678 | C15: 0.95365 | D15: 12.1513 | E15: 1.23337 | F15: 25.8258 | G15: 1.82477 | H15: 35.39453 | I15: 1.66398 | J15: 16.01282 | K15: 1.10028 | L15: 2.47878 | M15: 0.51941 | N15: 272.82498 | O15: 1.46803
A16: Hongrie | B16: 9.33475 | C16: 1.07293 | D16: 19.50943 | E16: 1.60519 | F16: 34.53908 | G16: 2.07582 | H16: 27.30133 | I16: 1.83334 | J16: 8.35781 | K16: 1.37498 | L16: 0.95759 | M16: 0.37521 | N16: 254.35301 | O16: 2.24726
A17: Irlande | B17: 6.74751 | C17: 1.36858 | D17: 17.93512 | E17: 1.87063 | F17: 36.10498 | G17: 2.25207 | H17: 29.0144 | I17: 2.33077 | J17: 9.21015 | K17: 1.31968 | L17: 0.98784 | M17: 0.47827 | N17: 259.6955 | O17: 2.36914
A18: Israël | B18: 12.62744 | C18: 1.23257 | D18: 21.42716 | E18: 1.44669 | F18: 34.03342 | G18: 1.67409 | H18: 23.77464 | I18: 1.46114 | J18: 7.21006 | K18: 1.04998 | L18: 0.92728 | M18: 0.48908 | N18: 245.77488 | O18: 2.41101
... A33: États-Unis | B33: 14.79771 | C33: 1.42942 | D33: 19.4049 | E33: 1.95271 | F33: 27.69303 | G33: 2.33515 | H33: 26.15104 | I33: 2.34309 | J33: 10.12855 | K33: 1.4915 | L33: 1.82478 | M33: 0.63721 | N33: 248.75329 | O33: 3.09094
A35: Entités sous-nationales
A36: Angleterre (Royaume-Uni) | B36: 7.18943 | C36: 1.20547 | D36: 13.70102 | E36: 1.56637 | F36: 30.64923 | G36: 1.8296 | H36: 33.09926 | I36: 2.07732 | J36: 13.67385 | K36: 1.62835 | L36: 1.68722 | M36: 0.61411 | N36: 268.39835 | O36: 2.28711
A37: Flandre (Belgique) | B37: 6.46905 | C37: 0.89053 | D37: 11.22658 | E37: 1.28479 | F37: 24.6263 | G37: 1.78235 | H37: 35.86162 | I37: 1.92196 | J37: 18.83632 | K37: 1.84331 | L37: 2.98013 | M37: 0.66822 | N37: 279.25033 | O37: 1.80004
A39: Pays partenaires
A40: Croatie | B40: 7.73634 | C40: 1.43647 | D40: 19.07619 | E40: 1.89361 | F40: 38.20666 | G40: 2.42045 | H40: 28.57608 | I40: 2.32742 | J40: 6.08407 | K40: 1.2271 | L40: 0.32066 | M40: 0.25983 | N40: 253.58596 | O40: 3.21879
A41: Singapour | B41: 8.50527 | C41: 0.82114 | D41: 13.31982 | E41: 1.24499 | F41: 24.22031 | G41: 1.76937 | H41: 31.67683 | I41: 1.44127 | J41: 18.90551 | K41: 1.27801 | L41: 3.37226 | M41: 0.61488 | N41: 274.10327 | O41: 1.62307
A43: Moyenne-OCDE | B43: 8.56357 | C43: 0.24417 | D43: 16.25512 | E43: 0.30339 | F43: 30.63314 | G43: 0.3802 | H43: 30.60086 | I43: 0.37464 | J43: 12.22754 | K43: 0.24725 | L43: 1.71978 | M43: 0.10288 | N43: 263.02825 | O43: 0.44618
A44: Remarque: Inclus les personnes qui ont seulement répondu à l'interview courte.
A45: 1Intervalle de confiance à 95%
A46: Source: PIAAC - 2022/23 | O46: © OFS 2024

Sheet G.2.2.1c
A1: Résolution adaptative de problèmes – Répartition en pourcentage des niveaux de compétences et score moyen (entre parenthèses) en comparaison internationale
A2: Population résidante permanente agée de 16 à 65 ans | M2: G.2.2.1c
B4: Niveau inférieur à 1 | D4: Niveau 1 | F4: Niveau 2 | H4: Niveau 3 | J4: Niveau 4 | L4: Résolution adaptive de problèmes
B5: % | C5: ±1 | D5: % | E5: ±1 | F5: % | G5: ±1 | H5: % | I5: ±1 | J5: % | K5: ±1 | L5: Score | M5: ±1
A6: Pays de l'OCDE
A7: Autriche | B7: 6.7597 | C7: 1.03212 | D7: 20.2666 | E7: 1.7253 | F7: 39.33753 | G7: 1.93839 | H7: 28.75561 | I7: 1.89288 | J7: 4.88056 | K7: 0.79918 | L7: 252.98655 | M7: 1.35425
A8: Canada | B8: 5.24678 | C8: 0.93847 | D8: 16.80272 | E8: 1.29665 | F8: 38.93116 | G8: 1.87074 | H8: 33.38534 | I8: 1.64975 | J8: 5.63399 | K8: 0.92812 | L8: 259.36268 | M8: 1.45755
A9: Chili | B9: 20.92417 | C9: 2.47989 | D9: 34.66428 | E9: 2.55424 | F9: 32.66193 | G9: 2.68302 | H9: 10.95147 | I9: 1.93881 | J9: 0.79815 | K9: 0.40994 | L9: 217.53559 | M9: 3.77645
A10: Tchéquie | B10: 5.88933 | C10: 1.03108 | D10: 22.99102 | E10: 1.71387 | F10: 41.67839 | G10: 2.09549 | H10: 25.58605 | I10: 1.6799 | J10: 3.85521 | K10: 0.8152 | L10: 250.06072 | M10: 1.70235
A11: Danemark | B11: 7.2936 | C11: 0.80494 | D11: 12.56842 | E11: 1.37532 | F11: 33.91 | G11: 1.9587 | H11: 37.02717 | I11: 1.94372 | J11: 9.2008 | K11: 1.18657 | L11: 264.4339 | M11: 1.47758
A12: Estonie | B12: 4.06261 | C12: 0.54976 | D12: 17.1868 | E12: 1.0822 | F12: 36.31676 | G12: 1.42642 | H12: 35.11213 | I12: 1.56649 | J12: 7.3217 | K12: 0.88216 | L12: 263.23684 | M12: 1.12568
A13: Finlande | B13: 4.66949 | C13: 1.10838 | D13: 9.38751 | E13: 1.36332 | F13: 29.23998 | G13: 1.79437 | H13: 43.50637 | I13: 1.94044 | J13: 13.19665 | K13: 1.41467 | L13: 276.49585 | M13: 1.9474
A14: France | B14: 9.0331 | C14: 0.93788 | D14: 21.30831 | E14: 1.42321 | F14: 38.74091 | G14: 1.61744 | H14: 26.88393 | I14: 1.20272 | J14: 4.03375 | K14: 0.57635 | L14: 247.94366 | M14: 1.02257
A15: Allemagne | B15: 6.8472 | C15: 0.97372 | D15: 15.38475 | E15: 1.33203 | F15: 35.20942 | G15: 1.98448 | H15: 35.05038 | I15: 1.81376 | J15: 7.50824 | K15: 0.97683 | L15: 261.02791 | M15: 1.26585
A16: Hongrie | B16: 8.22992 | C16: 1.02619 | D16: 28.97843 | E16: 1.98735 | F16: 40.47176 | G16: 2.02072 | H16: 19.52169 | I16: 1.45477 | J16: 2.79821 | K16: 0.63732 | L16: 240.54752 | M16: 1.70119
A17: Irlande | B17: 5.64265 | C17: 1.48442 | D17: 22.80936 | E17: 2.26751 | F17: 44.82614 | G17: 2.79347 | H17: 24.15423 | I17: 2.243 | J17: 2.56762 | K17: 0.73363 | L17: 248.71303 | M17: 1.85177
A18: Israël | B18: 12.55332 | C18: 1.34086 | D18: 27.43216 | E18: 1.48295 | F18: 37.16835 | G18: 1.73517 | H18: 19.76979 | I18: 1.46807 | J18: 3.07638 | K18: 0.79849 | L18: 236.16658 | M18: 1.94509
... A33: États-Unis | B33: 10.94832 | C33: 1.55849 | D33: 21.26343 | E33: 2.03429 | F33: 35.41904 | G33: 2.43176 | H33: 26.18262 | I33: 2.04563 | J33: 6.1866 | K33: 1.03447 | L33: 247.45421 | M33: 2.72545
A35: Entités sous-nationales
A36: Angleterre (Royaume-Uni) | B36: 6.36065 | C36: 1.11523 | D36: 14.81835 | E36: 1.59653 | F36: 39.7653 | G36: 2.0463 | H36: 33.54102 | I36: 2.25503 | J36: 5.51467 | K36: 1.12196 | L36: 258.90751 | M36: 1.76409
A37: Flandre (Belgique) | B37: 6.38798 | C37: 0.95614 | D37: 14.78546 | E37: 1.41178 | F37: 36.03077 | G37: 2.02374 | H37: 35.0679 | I37: 1.75453 | J37: 7.72789 | K37: 1.11163 | L37: 261.96758 | M37: 1.56917
A39: Pays partenaires
A40: Croatie | B40: 10.53833 | C40: 1.94143 | D40: 28.17947 | E40: 2.09542 | F40: 43.70067 | G40: 2.54616 | H40: 16.27257 | I40: 1.92966 | J40: 1.30896 | K40: 0.59476 | L40: 234.94382 | M40: 2.99427
A41: Singapour | B41: 8.8977 | C41: 1.09429 | D41: 20.55877 | E41: 1.60833 | F41: 35.75873 | G41: 1.77099 | H41: 28.7503 | I41: 1.39437 | J41: 6.03449 | K41: 0.82094 | L41: 251.82175 | M41: 1.54226
A43: Moyenne-OCDE | B43: 7.71236 | C43: 0.24383 | D43: 21.53968 | E43: 0.34944 | F43: 38.49515 | G43: 0.40467 | H43: 27.27009 | I43: 0.34036 | J43: 4.98272 | K43: 0.16589 | L43: 250.64324 | M43: 0.37669
A44: Remarque: Inclus les personnes qui ont seulement répondu à l'interview courte.
A45: 1Intervalle de confiance à 95%
A46: Source: PIAAC - 2022/23 | M46: © OFS 2024

Sheet G.2.3.1
A1: Répartition des scores sur l'échelle de compétences (0 - 500) par région linguistique
A2: Population résidante permanente agée de 16 à 65 ans | L2: G.2.3.1
C4: Moyenne | E4: 5e centile | G4: 25e centile | I4: 75e centile | K4: 95e centile
C5: Score | D5: ±1 | E5: Score | F5: ±1 | G5: Score | H5: ±1 | I5: Score | J5: ±1 | K5: Score | L5: ±1
A6: Littératie | B6: Suisse alémanique | C6: 266.72084 | D6: 2.15406 | E6: 141.60621 | F6: 9.93098 | G6: 232.74208 | H6: 3.89997 | I6: 310.16704 | J6: 2.83837 | K6: 352.124 | L6: 3.8906
B7: Suisse romande | C7: 265.35975 | D7: 2.32087 | E7: 154.89789 | F7: 9.61887 | G7: 232.8748 | H7: 4.94776 | I7: 304.5288 | J7: 2.98324 | K7: 346.76605 | L7: 4.7325
B8: Suisse italienne | C8: 265.01114 | D8: 5.02836 | E8: 169.17334 | F8: 17.60165 | G8: 232.25808 | H8: 10.05778 | I8: 303.12549 | J8: 5.4123 | K8: 343.0367 | L8: 7.94174
A9: Numératie | B9: Suisse alémanique | C9: 277.88005 | D9: 2.07813 | E9: 156.02675 | F9: 10.59178 | G9: 243.08988 | H9: 3.87269 | I9: 321.62981 | J9: 2.30686 | K9: 365.3699 | L9: 4.18193
B10: Suisse romande | C10: 271.72474 | D10: 2.39223 | E10: 159.39477 | F10: 9.47977 | G10: 238.37567 | H10: 4.57477 | I10: 312.3128 | J10: 3.28239 | K10: 355.90506 | L10: 4.52333
B11: Suisse italienne | C11: 271.6863 | D11: 5.43904 | E11: 175.778 | F11: 16.31057 | G11: 237.34914 | H11: 9.22754 | I11: 309.51112 | J11: 5.44314 | K11: 353.30638 | L11: 8.29896
A12: Résolution adaptative de problèmes | B12: Suisse alémanique | C12: 257.86387 | D12: 2.12805 | E12: 151.12574 | F12: 9.11377 | G12: 227.36015 | H12: 4.15804 | I12: 295.85753 | J12: 2.36495 | K12: 333.46871 | L12: 3.30881
B13: Suisse romande | C13: 255.5193 | D13: 2.67981 | E13: 160.08664 | F13: 9.44837 | G13: 226.93592 | H13: 4.45105 | I13: 289.97175 | J13: 3.82166 | K13: 327.62242 | L13: 5.09825
B14: Suisse italienne | C14: 253.08273 | D14: 4.45067 | E14: 161.2774 | F14: 14.52299 | G14: 221.56636 | H14: 7.30899 | I14: 288.66194 | J14: 5.739 | K14: 322.11893 | L14: 7.28755
A15: Remarque: Inclus les personnes qui ont seulement répondu à l'interview courte.
A16: 1Intervalle de confiance à 95%
A17: Source: PIAAC - 2022/23 | L17: © OFS 2024

Sheet G.2.3.2a-c
A1: Répartition en pourcentage des niveaux de compétences par région linguistique
A2: Population résidante permanente agée de 16 à 65 ans | N2: G.2.3.2a-c
C4: Niveau inférieur à 1 | E4: Niveau 1 | G4: Niveau 2 | I4: Niveau 3 | K4: Niveau 4 | M4: Niveau 5
C5: % | D5: ±1 | E5: % | F5: ±1 | G5: % | H5: ±1 | I5: % | J5: ±1 | K5: % | L5: ±1 | M5: % | N5: ±1
A6: Littératie | B6: Suisse alémanique | C6: 9.67952 | D6: 1.18228 | E6: 12.66195 | F6: 1.63728 | G6: 26.80315 | H6: 2.15437 | I6: 35.80943 | J6: 2.08559 | K6: 13.73431 | L6: 1.38218 | M6: 1.31164 | N6: 0.45961
B7: Suisse romande | C7: 7.9788 | D7: 1.5842 | E7: 14.11289 | F7: 2.24245 | G7: 30.30446 | H7: 2.58616 | I7: 35.08018 | J7: 2.22173 | K7: 11.60227 | L7: 1.37727 | M7: 0.9214 | N7: 0.4676
B8: Suisse italienne | C8: 6.16975 | D8: 2.66959 | E8: 16.63994 | F8: 3.7668 | G8: 30.44763 | H8: 4.37571 | I8: 35.23414 | J8: 4.45216 | K8: 10.92168 | L8: 2.97773 | M8: 0.58686 | N8: 0.58668
A9: Numératie | B9: Suisse alémanique | C9: 7.46157 | D9: 1.09958 | E9: 11.09121 | F9: 1.7599 | G9: 24.21356 | H9: 2.0171 | I9: 35.10714 | J9: 2.25298 | K9: 19.16769 | L9: 1.70397 | M9: 2.95884 | N9: 0.73788
B10: Suisse romande | C10: 7.42429 | D10: 1.40638 | E10: 12.47839 | F10: 2.06574 | G10: 27.46565 | H10: 2.43145 | I10: 35.81505 | J10: 2.74038 | K10: 14.92866 | L10: 2.08545 | M10: 1.88796 | N10: 0.57716
B11: Suisse italienne | C11: 4.97692 | D11: 2.42599 | E11: 14.54842 | F11: 3.82847 | G11: 29.95372 | H11: 3.98906 | I11: 35.86563 | J11: 4.65047 | K11: 13.28738 | L11: 3.21415 | M11: 1.36792 | N11: 1.11137
A12: Résolution adaptative de problèmes | B12: Suisse alémanique | C12: 8.93098 | D12: 1.33216 | E12: 15.46508 | F12: 1.74881 | G12: 33.68045 | H12: 2.57876 | I12: 34.47901 | J12: 2.02795 | K12: 7.44449 | L12: 1.04889 | M12: n.a | N12: n.a
B13: Suisse romande | C13: 7.8672 | D13: 1.75256 | E13: 16.67925 | F13: 2.2768 | G13: 38.16656 | H13: 2.69879 | I13: 31.85006 | J13: 2.62458 | K13: 5.43694 | L13: 1.31742 | M13: n.a | N13: n.a
B14: Suisse italienne | C14: 7.42959 | D14: 2.97235 | E14: 20.15641 | F14: 4.20678 | G14: 36.48976 | H14: 4.78267 | I14: 31.93088 | J14: 4.28832 | K14: 3.99337 | L14: 1.81308 | M14: n.a | N14: n.a
A15: Remarque: Inclus les personnes qui ont seulement répondu à l'interview courte.
A16: 1Intervalle de confiance à 95%
A17: n.a.: ne s'applique pas
A18: Source: PIAAC - 2022/23 | N18: © OFS 2024

Sheet G.2.3.3
A1: Répartition des scores sur l'échelle de compétences (0 - 500) par grande région
A2: Population résidante permanente agée de 16 à 65 ans | L2: G.2.3.3
C4: Moyenne | E4: 5e centile | G4: 25e centile | I4: 75e centile | K4: 95e centile
C5: Score | D5: ±1 | E5: Score | F5: ±1 | G5: Score | H5: ±1 | I5: Score | J5: ±1 | K5: Score | L5: ±1
A6: Littératie | B6: Région lémanique | C6: 263.47394 | D6: 2.69406 | E6: 152.35244 | F6: 9.86724 | G6: 230.45385 | H6: 5.54265 | I6: 303.49175 | J6: 3.49443 | K6: 346.05979 | L6: 5.41041
B7: Espace Mittelland | C7: 270.90613 | D7: 3.75455 | E7: 155.50665 | F7: 17.82562 | G7: 238.22373 | H7: 6.72402 | I7: 310.79356 | J7: 4.6693 | K7: 351.43509 | L7: 6.70657
B8: Suisse du Nord-Ouest | C8: 262.56541 | D8: 6.14568 | E8: 135.30975 | F8: 21.74109 | G8: 226.73784 | H8: 10.57672 | I8: 307.71568 | J8: 6.58342 | K8: 348.24608 | L8: 9.76281
B9: Zurich | C9: 273.09574 | D9: 5.31529 | E9: 137.79216 | F9: 21.47867 | G9: 243.10944 | H9: 9.99828 | I9: 317.62788 | J9: 5.15853 | K9: 359.42142 | L9: 6.68363
B10: Suisse orientale | C10: 256.24721 | D10: 5.431 | E10: 134.63226 | F10: 18.44639 | G10: 221.20476 | H10: 11.81909 | I10: 299.59839 | J10: 6.83461 | K10: 341.32459 | L10: 8.58133
B11: Suisse centrale | C11: 268.36928 | D11: 5.83845 | E11: 156.62023 | F11: 25.18553 | G11: 232.57359 | H11: 11.27491 | I11: 310.0865 | J11: 6.1962 | K11: 352.04481 | L11: 10.33048
B12: Tessin | C12: 266.53282 | D12: 5.23577 | E12: 169.8759 | F12: 18.96387 | G12: 235.28542 | H12: 9.11019 | I12: 303.96858 | J12: 5.57485 | K12: 343.66267 | L12: 8.31848
A13: Numératie | B13: Région lémanique | C13: 269.4664 | D13: 2.78659 | E13: 157.53522 | F13: 12.33393 | G13: 236.27622 | H13: 6.12986 | I13: 309.94974 | J13: 4.02242 | K13: 354.17547 | L13: 5.88333
B14: Espace Mittelland | C14: 280.41762 | D14: 3.65917 | E14: 164.08154 | F14: 16.435 | G14: 246.71203 | H14: 6.63011 | I14: 321.63504 | J14: 3.8862 | K14: 363.88795 | L14: 5.63047
B15: Suisse du Nord-Ouest | C15: 273.90485 | D15: 6.30035 | E15: 149.15789 | F15: 24.63805 | G15: 236.93048 | H15: 11.46081 | I15: 320.49675 | J15: 6.37004 | K15: 362.35923 | L15: 8.63379
B16: Zurich | C16: 283.5038 | D16: 5.68257 | E16: 157.01437 | F16: 25.37182 | G16: 249.88309 | H16: 10.98279 | I16: 329.38948 | J16: 6.54785 | K16: 374.596 | L16: 11.43152
B17: Suisse orientale | C17: 268.66607 | D17: 5.17116 | E17: 149.05224 | F17: 25.46082 | G17: 234.54318 | H17: 10.45785 | I17: 312.72128 | J17: 6.1604 | K17: 355.5575 | L17: 9.53344
B18: Suisse centrale | C18: 280.60203 | D18: 6.00422 | E18: 169.97078 | F18: 25.50221 | G18: 246.32447 | H18: 10.20661 | I18: 321.48309 | J18: 5.89202 | K18: 364.97165 | L18: 9.72667
B19: Tessin | C19: 272.97106 | D19: 5.57732 | E19: 177.50435 | F19: 16.02263 | G19: 239.47186 | H19: 9.83311 | I19: 310.17607 | J19: 5.63758 | K19: 353.98396 | L19: 8.4043
A20: Résolution adaptative de problèmes | B20: Région lémanique | C20: 253.53156 | D20: 2.88051 | E20: 156.5096 | F20: 10.57288 | G20: 224.64953 | H20: 5.33281 | I20: 288.19117 | J20: 4.00125 | K20: 326.53078 | L20: 6.391
B21: Espace Mittelland | C21: 261.6499 | D21: 3.31617 | E21: 161.31502 | F21: 12.75663 | G21: 232.34139 | H21: 6.06995 | I21: 297.55146 | J21: 3.78001 | K21: 334.43758 | L21: 5.7342
B22: Suisse du Nord-Ouest | C22: 254.40358 | D22: 5.7324 | E22: 144.30933 | F22: 23.40356 | G22: 223.59282 | H22: 10.46739 | I22: 293.90076 | J22: 4.8929 | K22: 327.81844 | L22: 6.98122
B23: Zurich | C23: 261.31567 | D23: 4.75216 | E23: 146.97835 | F23: 18.87559 | G23: 230.76542 | H23: 9.30604 | I23: 300.66843 | J23: 5.29212 | K23: 338.50309 | L23: 6.7373
B24: Suisse orientale | C24: 250.93664 | D24: 4.94211 | E24: 148.07206 | F24: 18.92544 | G24: 220.09235 | H24: 9.30483 | I24: 288.58272 | J24: 5.36418 | K24: 326.31066 | L24: 7.85873
B25: Suisse centrale | C25: 259.62689 | D25: 5.36466 | E25: 162.28646 | F25: 24.85105 | G25: 230.22908 | H25: 9.94376 | I25: 295.25677 | J25: 5.38794 | K25: 333.78501 | L25: 8.98983
B26: Tessin | C26: 254.28716 | D26: 4.58611 | E26: 162.32653 | F26: 16.63045 | G26: 223.56809 | H26: 7.12722 | I26: 289.33184 | J26: 5.84007 | K26: 322.79062 | L26: 7.54741
A27: Remarque: Inclus les personnes qui ont seulement répondu à l'interview courte.
A28: 1Intervalle de confiance à 95%
A29: Source: PIAAC - 2022/23 | L29: © OFS 2024

Sheet G.2.3.4a-c
A1: Répartition en pourcentage des niveaux de compétences par grande région
A2: Population résidante permanente agée de 16 à 65 ans | N2: G.2.3.4a-c
C4: Niveau inférieur à 1 | E4: Niveau 1 | G4: Niveau 2 | I4: Niveau 3 | K4: Niveau 4 | M4: Niveau 5
C5: % | D5: ±1 | E5: % | F5: ±1 | G5: % | H5: ±1 | I5: % | J5: ±1 | K5: % | L5: ±1 | M5: % | N5: ±1
A6: Littératie | B6: Région lémanique | C6: 8.96258 | D6: 1.85147 | E6: 14.05687 | F6: 2.58552 | G6: 30.4952 | H6: 3.23985 | I6: 34.51788 | J6: 2.71339 | K6: 10.96814 | L6: 1.91075 | M6: 0.99933 | N6: 0.5831
B7: Espace Mittelland | C7: 7.62691 | D7: 2.09824 | E7: 12.52243 | F7: 2.52302 | G7: 26.76449 | H7: 3.57887 | I7: 37.73322 | J7: 3.81427 | K7: 13.91764 | L7: 2.08956 | M7: 1.43531 | N7: 1.11224
B8: Suisse du Nord-Ouest | C8: 10.7823 | D8: 3.52421 | E8: 13.5892 | F8: 4.31338 | G8: 27.67349 | H8: 4.92173 | I8: 34.4317 | J8: 4.7454 | K8: 12.66642 | L8: 3.47629 | M8: 0.85689 | N8: 1.04226
B9: Zurich | C9: 9.70067 | D9: 2.60296 | E9: 9.63175 | F9: 2.83664 | G9: 24.06241 | H9: 4.08102 | I9: 37.10327 | J9: 4.24049 | K9: 17.67567 | L9: 3.21486 | M9: 1.82623 | N9: 1.33094
B10: Suisse orientale | C10: 11.4287 | D10: 3.40083 | E10: 15.3492 | F10: 3.81054 | G10: 31.0072 | H10: 4.22244 | I10: 32.03247 | J10: 4.78144 | K10: 9.6357 | L10: 2.95449 | M10: 0.54672 | N10: 0.78159
B11: Suisse centrale | C11: 7.28841 | D11: 2.95562 | E11: 15.02929 | F11: 3.95271 | G11: 26.48679 | H11: 4.92019 | I11: 36.78106 | J11: 5.54725 | K11: 13.02194 | L11: 3.54529 | M11: 1.39251 | N11: 1.17291
B12: Tessin | C12: 5.9309 | D12: 2.694 | E12: 15.58942 | F12: 3.8239 | G12: 30.62474 | H12: 4.58348 | I12: 35.94842 | J12: 4.77223 | K12: 11.29028 | L12: 3.06442 | M12: 0.61624 | N12: 0.61622
A13: Numératie | B13: Région lémanique | C13: 7.89741 | D13: 1.57396 | E13: 12.81783 | F13: 2.38433 | G13: 28.49453 | H13: 3.15148 | I13: 35.1846 | J13: 3.21451 | K13: 13.76109 | L13: 2.32389 | M13: 1.84453 | N13: 0.76454
B14: Espace Mittelland | C14: 6.32167 | D14: 1.95267 | E14: 10.72564 | F14: 2.68109 | G14: 23.79841 | H14: 3.81706 | I14: 37.01213 | J14: 3.95416 | K14: 19.50892 | L14: 2.59316 | M14: 2.63323 | N14: 1.06824
B15: Suisse du Nord-Ouest | C15: 8.76217 | D15: 3.08892 | E15: 12.43904 | F15: 3.4982 | G15: 24.28685 | H15: 5.17222 | I15: 33.19524 | J15: 5.12177 | K15: 18.88126 | L15: 4.2186 | M15: 2.43543 | N15: 1.3033
B16: Zurich | C16: 7.20023 | D16: 2.4671 | E16: 10.17246 | F16: 3.53161 | G16: 20.48035 | H16: 3.88558 | I16: 35.20615 | J16: 4.07683 | K16: 22.36619 | L16: 3.7748 | M16: 4.57462 | N16: 2.41184
B17: Suisse orientale | C17: 8.94148 | D17: 3.11669 | E17: 12.32359 | F17: 4.01061 | G17: 28.83399 | H17: 5.08312 | I17: 33.70566 | J17: 4.87096 | K17: 14.68658 | L17: 3.83886 | M17: 1.50871 | N17: 1.15202
B18: Suisse centrale | C18: 5.65307 | D18: 2.4295 | E18: 10.41156 | F18: 3.66719 | G18: 25.56672 | H18: 4.47991 | I18: 36.75155 | J18: 5.42692 | K18: 18.75298 | L18: 3.89268 | M18: 2.86411 | N18: 1.45465
B19: Tessin | C19: 4.70661 | D19: 2.43147 | E19: 13.95767 | F19: 3.89105 | G19: 29.76772 | H19: 3.99477 | I19: 36.56861 | J19: 4.87939 | K19: 13.61331 | L19: 3.45697 | M19: 1.38607 | N19: 1.16846
A20: Résolution adaptative de problèmes | B20: Région lémanique | C20: 8.49399 | D20: 1.9999 | E20: 17.15616 | F20: 2.72234 | G20: 38.93639 | H20: 3.47635 | I20: 30.19586 | J20: 2.84183 | K20: 5.2176 | L20: 1.45183 | M20: n.a | N20: n.a
B21: Espace Mittelland | C21: 7.65643 | D21: 2.21641 | E21: 14.40624 | F21: 2.8751 | G21: 33.59452 | H21: 4.05044 | I21: 36.30584 | J21: 4.11011 | K21: 8.03696 | L21: 1.98977 | M21: n.a | N21: n.a
B22: Suisse du Nord-Ouest | C22: 10.0628 | D22: 3.36157 | E22: 16.10651 | F22: 3.93713 | G22: 33.41329 | H22: 5.1962 | I22: 34.83994 | J22: 4.94173 | K22: 5.57746 | L22: 2.3362 | M22: n.a | N22: n.a
B23: Zurich | C23: 8.91309 | D23: 2.50083 | E23: 14.15853 | F23: 3.32526 | G23: 30.6094 | H23: 5.23133 | I23: 36.83561 | J23: 4.95094 | K23: 9.48337 | L23: 2.67509 | M23: n.a | N23: n.a
B24: Suisse orientale | C24: 10.22068 | D24: 3.7806 | E24: 17.76422 | F24: 4.42645 | G24: 36.94053 | H24: 5.54694 | I24: 30.02594 | J24: 4.26536 | K24: 5.04863 | L24: 2.07062 | M24: n.a | N24: n.a
B25: Suisse centrale | C25: 6.60696 | D25: 2.86634 | E25: 16.35758 | F25: 4.26826 | G25: 36.35571 | H25: 5.2381 | I25: 33.19403 | J25: 4.9595 | K25: 7.48572 | L25: 2.23792 | M25: n.a | N25: n.a
B26: Tessin | C26: 7.15825 | D26: 2.98134 | E26: 19.21694 | F26: 4.33562 | G26: 36.93267 | H26: 4.89974 | I26: 32.5712 | J26: 4.53667 | K26: 4.12094 | L26: 1.92592 | M26: n.a | N26: n.a
A27: Remarque: Inclus les personnes qui ont seulement répondu à l'interview courte.
A28: 1Intervalle de confiance à 95%
A29: n.a.: ne s'applique pas
A30: Source: PIAAC - 2022/23 | N30: © OFS 2024

Sheet G.3.1.1a-c
A1: Répartition en pourcentage des niveaux de compétences selon l'âge
A2: Population résidante permanente agée de 16 à 65 ans | N2: G.3.1.1a-c
C4: Niveau inférieur à 1 | E4: Niveau 1 | G4: Niveau 2 | I4: Niveau 3 | K4: Niveau 4 | M4: Niveau 5
C5: % | D5: ±1 | E5: % | F5: ±1 | G5: % | H5: ±1 | I5: % | J5: ±1 | K5: % | L5: ±1 | M5: % | N5: ±1
A6: Littératie | B6: 16-25 ans | C6: 3.4615 | D6: 1.5846 | E6: 6.9833 | F6: 2.66976 | G6: 27.02925 | H6: 3.95227 | I6: 43.11428 | J6: 4.91693 | K6: 18.003 | L6: 3.75052 | M6: 1.40867 | N6: 1.24312
B7: 26-35 ans | C7: 6.55099 | D7: 2.04441 | E7: 8.13468 | F7: 2.31135 | G7: 23.57512 | H7: 3.57649 | I7: 41.35173 | J7: 3.37795 | K7: 18.02224 | L7: 2.61601 | M7: 2.36524 | N7: 0.93408
B8: 36-45 ans | C8: 10.27407 | D8: 2.01654 | E8: 13.98687 | F8: 2.90891 | G8: 23.27731 | H8: 3.27435 | I8: 35.07484 | J8: 3.60117 | K8: 15.72189 | L8: 2.84559 | M8: 1.66502 | N8: 0.86967
B9: 46-55 ans | C9: 11.81407 | D9: 2.56316 | E9: 15.02125 | F9: 2.74371 | G9: 29.77797 | H9: 3.32524 | I9: 32.77207 | J9: 3.1521 | K9: 10.20726 | L9: 2.04624 | M9: 0.40738 | N9: 0.45251
B10: 56-65 ans | C10: 11.80446 | D10: 2.6547 | E10: 19.86965 | F10: 3.16622 | G10: 35.17458 | H10: 3.36085 | I10: 28.01198 | J10: 3.1926 | K10: 4.96789 | L10: 1.55539 | M10: 0.17144 | N10: 0.25071
A11: Numératie | B11: 16-25 ans | C11: 2.55395 | D11: 1.361 | E11: 8.04193 | F11: 2.86695 | G11: 24.76068 | H11: 4.00628 | I11: 41.34264 | J11: 3.78967 | K11: 20.81294 | L11: 3.52779 | M11: 2.48787 | N11: 1.55525
B12: 26-35 ans | C12: 5.31443 | D12: 2.09171 | E12: 8.23907 | F12: 2.49309 | G12: 20.29444 | H12: 3.30262 | I12: 38.53027 | J12: 4.5456 | K12: 23.13831 | L12: 3.99825 | M12: 4.48347 | N12: 1.62054
B13: 36-45 ans | C13: 8.28512 | D13: 1.74282 | E13: 12.03138 | F13: 2.87876 | G13: 23.19195 | H13: 3.45225 | I13: 33.11893 | J13: 3.4236 | K13: 19.91971 | L13: 2.45954 | M13: 3.4529 | N13: 1.41663
B14: 46-55 ans | C14: 10.23348 | D14: 2.4973 | E14: 12.82829 | F14: 2.99293 | G14: 26.60155 | H14: 3.47557 | I14: 33.03648 | J14: 3.48771 | K14: 15.63499 | L14: 2.33344 | M14: 1.66521 | N14: 0.96644
B15: 56-65 ans | C15: 8.94098 | D15: 2.33371 | E15: 15.62271 | F15: 3.38308 | G15: 31.14271 | H15: 3.99023 | I15: 32.3752 | J15: 3.45129 | K15: 10.85425 | L15: 2.13052 | M15: 1.06414 | N15: 0.62907
A16: Résolution adaptative de problèmes | B16: 16-25 ans | C16: 2.34843 | D16: 1.24082 | E16: 8.45448 | F16: 2.77573 | G16: 34.1959 | H16: 4.87815 | I16: 44.75163 | J16: 4.84445 | K16: 10.24957 | L16: 2.62005 | M16: n.a | N16: n.a
B17: 26-35 ans | C17: 5.46474 | D17: 2.2951 | E17: 10.65637 | F17: 2.76385 | G17: 30.39889 | H17: 3.78336 | I17: 42.30085 | J17: 3.90892 | K17: 11.17916 | L17: 2.62018 | M17: n.a | N17: n.a
B18: 36-45 ans | C18: 9.55353 | D18: 2.19803 | E18: 15.88796 | F18: 3.01976 | G18: 32.25504 | H18: 3.78252 | I18: 34.14149 | J18: 3.63231 | K18: 8.16198 | L18: 1.8668 | M18: n.a | N18: n.a
B19: 46-55 ans | C19: 11.40043 | D19: 2.7964 | E19: 18.86644 | F19: 3.14693 | G19: 36.28205 | H19: 3.16789 | I19: 29.68703 | J19: 2.82928 | K19: 3.76405 | L19: 1.22209 | M19: n.a | N19: n.a
B20: 56-65 ans | C20: 12.4104 | D20: 2.73142 | E20: 23.66532 | F20: 3.75914 | G20: 41.07373 | H20: 4.28843 | I20: 21.09729 | J20: 2.66611 | K20: 1.75326 | L20: 0.84607 | M20: n.a | N20: n.a
A21: Remarque: Inclus les personnes qui ont seulement répondu à l'interview courte.
A22: 1Intervalle de confiance à 95%
A23: n.a.: ne s'applique pas
A24: Source: PIAAC - 2022/23 | N24: © OFS 2024

Sheet G.3.1.2
A1: Répartition en pourcentage des niveaux de compétences selon le sexe
A2: Population résidante permanente agée de 16 à 65 ans | N2: G.3.1.2
C4: Niveau inférieur à 1 | E4: Niveau 1 | G4: Niveau 2 | I4: Niveau 3 | K4: Niveau 4 | M4: Niveau 5
C5: % | D5: ±1 | E5: % | F5: ±1 | G5: % | H5: ±1 | I5: % | J5: ±1 | K5: % | L5: ±1 | M5: % | N5: ±1
A6: Littératie | B6: Hommes | C6: 9.17887 | D6: 1.38771 | E6: 13.28485 | F6: 1.93083 | G6: 26.32705 | H6: 2.27979 | I6: 35.49559 | J6: 2.25672 | K6: 14.36132 | L6: 1.62217 | M6: 1.35232 | N6: 0.50427
B7: Femmes | C7: 9.05559 | D7: 1.32176 | E7: 13.07746 | F7: 1.86519 | G7: 29.31975 | H7: 2.33566 | I7: 35.72034 | J7: 2.40099 | K7: 11.80973 | L7: 1.50926 | M7: 1.01712 | N7: 0.55135
A8: Numératie | B8: Hommes | C8: 6.25676 | D8: 1.17769 | E8: 10.16977 | F8: 1.83525 | G8: 21.52518 | H8: 1.88767 | I8: 35.31982 | J8: 2.44418 | K8: 22.62608 | L8: 1.87313 | M8: 4.1024 | N8: 1.01429
B9: Femmes | C9: 8.45997 | D9: 1.33439 | E9: 13.00117 | F9: 2.04385 | G9: 29.03044 | H9: 2.54716 | I9: 35.30381 | J9: 2.50544 | K9: 13.06942 | L9: 1.66274 | M9: 1.13519 | N9: 0.4672
A10: Résolution adaptative de problèmes | B10: Hommes | C10: 8.30303 | D10: 1.57849 | E10: 15.11781 | F10: 2.07356 | G10: 32.73699 | H10: 2.30257 | I10: 35.46885 | J10: 2.10163 | K10: 8.37332 | L10: 1.29151 | M10: n.a | N10: n.a
B11: Femmes | C11: 8.9186 | D11: 1.44198 | E11: 16.80925 | F11: 1.86798 | G11: 37.08832 | H11: 2.55621 | I11: 31.96253 | J11: 2.09794 | K11: 5.22131 | L11: 1.12442 | M11: n.a | N11: n.a
A12: Remarque: Inclus les personnes qui ont seulement répondu à l'interview courte.
A13: 1Intervalle de confiance à 95%
A14: n.a.: ne s'applique pas
A15: Source: PIAAC - 2022/23 | N15: © OFS 2024

Sheet G.3.1.3
A1: Répartition des scores sur l'échelle de compétences (0 - 500) selon l'âge et le sexe
A2: Population résidante permanente agée de 16 à 65 ans | M2: G.3.1.3
B4: Littératie | F4: Numératie | J4: Résolution adaptative de problèmes
B5: Hommes | D5: Femmes | F5: Hommes | H5: Femmes | J5: Hommes | L5: Femmes
B6: Moyenne | C6: ±1 | D6: Moyenne | E6: ±1 | F6: Moyenne | G6: ±1 | H6: Moyenne | I6: ±1 | J6: Moyenne | K6: ±1 | L6: Moyenne | M6: ±1
A7: 16-20 ans | B7: 281.22682 | C7: 6.89397 | D7: 285.25276 | E7: 7.65285 | F7: 290.44924 | G7: 7.238 | H7: 281.05361 | I7: 8.80479 | J7: 275.18125 | K7: 6.62317 | L7: 273.89237 | M7: 8.61021
A8: 21-25 ans | B8: 286.61315 | C8: 10.01234 | D8: 289.09556 | E8: 7.67601 | F8: 298.76448 | G8: 8.84353 | H8: 287.51415 | I8: 7.03244 | J8: 280.79001 | K8: 7.31522 | L8: 277.79568 | M8: 6.31573
A9: 26-30 ans | B9: 283.91428 | C9: 8.68153 | D9: 287.31797 | E9: 7.68259 | F9: 302.97686 | G9: 8.36352 | H9: 287.17118 | I9: 7.66468 | J9: 279.5623 | K9: 7.7467 | L9: 277.08296 | M9: 6.3457
A10: 31-35 ans | B10: 281.88989 | C10: 9.68431 | D10: 272.00449 | E10: 10.37692 | F10: 297.0081 | G10: 11.0185 | H10: 272.62697 | I10: 10.43925 | J10: 273.21526 | K10: 8.18775 | L10: 260.29709 | M10: 8.52237
A11: 36-40 ans | B11: 269.8618 | C11: 10.71759 | D11: 271.19907 | E11: 8.42582 | F11: 286.56024 | G11: 12.27649 | H11: 272.17557 | I11: 8.77198 | J11: 262.99274 | K11: 10.33887 | L11: 261.59772 | M11: 7.50617
A12: 41-45 ans | B12: 264.13834 | C12: 8.54592 | D12: 264.4465 | E12: 8.97093 | F12: 280.15202 | G12: 8.53628 | H12: 265.69737 | I12: 8.51661 | J12: 254.04465 | K12: 7.95106 | L12: 250.01141 | M12: 7.36237
A13: 46-50 ans | B13: 267.45262 | C13: 7.37679 | D13: 253.69472 | E13: 8.76134 | F13: 283.68853 | G13: 7.7753 | H13: 255.60985 | I13: 8.655 | J13: 258.691 | K13: 6.60424 | L13: 243.63012 | M13: 7.95825
A14: 51-55 ans | B14: 253.13824 | C14: 8.9755 | D14: 255.24094 | E14: 6.49361 | F14: 272.61969 | G14: 9.30014 | H14: 260.10593 | I14: 6.95489 | J14: 245.04547 | K14: 7.89848 | L14: 244.20808 | M14: 5.86057
A15: 56-60 ans | B15: 251.5729 | C15: 7.81005 | D15: 248.57064 | E15: 8.0664 | F15: 274.77217 | G15: 8.51109 | H15: 254.5811 | I15: 8.41172 | J15: 244.69785 | K15: 7.10808 | L15: 240.0255 | M15: 7.27372
A16: 61-65 ans | B16: 247.56163 | C16: 6.45478 | D16: 237.19574 | E16: 7.45373 | F16: 270.29515 | G16: 6.54247 | H16: 246.39723 | I16: 7.33858 | J16: 239.1695 | K16: 5.95471 | L16: 225.71156 | M16: 6.89476
A17: Remarque: Inclus les personnes qui ont seulement répondu à l'interview courte.
A18: 1Intervalle de confiance à 95%
A19: Source: PIAAC - 2022/23 | M19: © OFS 2024

Sheet G.3.1.4
A1: Répartition en pourcentage des niveaux de compétences selon le niveau de formation
A2: Population résidante permanente agée de 16 à 65 ans | N2: G.3.1.4
C4: Niveau inférieur à 1 | E4: Niveau 1 | G4: Niveau 2 | I4: Niveau 3 | K4: Niveau 4 | M4: Niveau 5
C5: % | D5: ±1 | E5: % | F5: ±1 | G5: % | H5: ±1 | I5: % | J5: ±1 | K5: % | L5: ±1 | M5: % | N5: ±1
A6: Littératie | B6: École obligatoire | C6: 21.71387 | D6: 4.20266 | E6: 22.4751 | F6: 4.1723 | G6: 25.92845 | H6: 4.48431 | I6: 22.81021 | J6: 4.02091 | K6: 6.70131 | L6: 2.91827 | M6: 0.37105 | N6: 0.69482
B7: Degré secondaire II: professionnel | C7: 5.61024 | D7: 1.46473 | E7: 17.31228 | F7: 2.77187 | G7: 36.86057 | H7: 3.25345 | I7: 34.13908 | J7: 2.68752 | K7: 5.84316 | L7: 1.57038 | M7: 0.23467 | N7: 0.40476
B8: Degré secondaire II: général | C8: 4.51884 | D8: 2.25659 | E8: 11.6032 | F8: 3.75058 | G8: 25.06007 | H8: 4.62773 | I8: 39.40141 | J8: 5.23154 | K8: 18.0492 | L8: 3.98385 | M8: 1.36728 | N8: 1.66084
B9: Formation professionnelle supérieure | C9: 2.31225 | D9: 1.41367 | E9: 9.6715 | F9: 2.78291 | G9: 33.93097 | H9: 4.39163 | I9: 43.75848 | J9: 4.72234 | K9: 9.84678 | L9: 2.72915 | M9: 0.48003 | N9: 0.69779
B10: Haute école | C10: 1.30932 | D10: 0.6869 | E10: 4.17523 | F10: 1.27566 | G10: 18.68181 | H10: 2.35421 | I10: 44.75161 | J10: 3.16372 | K10: 27.77096 | L10: 2.6372 | M10: 3.31107 | N10: 1.02982
A11: Numératie | B11: École obligatoire | C11: 19.2777 | D11: 4.27611 | E11: 22.17432 | F11: 5.98204 | G11: 28.06603 | H11: 6.07562 | I11: 22.5649 | J11: 4.26034 | K11: 7.37284 | L11: 2.43496 | M11: 0.54421 | N11: 0.93533
B12: Degré secondaire II: professionnel | C12: 4.00255 | D12: 1.18416 | E12: 13.55681 | F12: 2.4937 | G12: 34.61083 | H12: 2.5717 | I12: 36.49167 | J12: 3.52675 | K12: 10.61319 | L12: 1.88203 | M12: 0.72494 | N12: 0.60506
B13: Degré secondaire II: général | C13: 3.54008 | D13: 2.17844 | E13: 10.94552 | F13: 3.7654 | G13: 23.68259 | H13: 4.64571 | I13: 38.37108 | J13: 5.23889 | K13: 20.79461 | L13: 4.64696 | M13: 2.66611 | N13: 1.89189
B14: Formation professionnelle supérieure | C14: 1.32793 | D14: 1.1046 | E14: 6.66919 | F14: 2.22023 | G14: 25.65671 | H14: 4.48737 | I14: 45.44057 | J14: 5.57298 | K14: 19.33832 | L14: 3.52762 | M14: 1.56727 | N14: 1.35438
B15: Haute école | C15: 0.77545 | D15: 0.61015 | E15: 3.44907 | F15: 1.13161 | G15: 14.19451 | H15: 2.23535 | I15: 40.26168 | J15: 2.71053 | K15: 34.17949 | L15: 2.91024 | M15: 7.13981 | N15: 1.76204
A16: Résolution adaptative de problèmes | B16: École obligatoire | C16: 19.79348 | D16: 4.10478 | E16: 25.53447 | F16: 5.55074 | G16: 29.93052 | H16: 5.33835 | I16: 21.36807 | J16: 4.26159 | K16: 3.37346 | L16: 1.70213 | M16: n.a | N16: n.a
B17: Degré secondaire II: professionnel | C17: 5.65609 | D17: 1.65475 | E17: 19.28422 | F17: 2.75109 | G17: 42.1206 | H17: 3.08105 | I17: 29.57904 | J17: 2.53634 | K17: 3.36006 | L17: 1.11944 | M17: n.a | N17: n.a
B18: Degré secondaire II: général | C18: 5.17579 | D18: 2.51771 | E18: 16.36213 | F18: 4.3695 | G18: 33.55864 | H18: 5.47663 | I18: 36.2796 | J18: 5.48228 | K18: 8.62385 | L18: 3.09127 | M18: n.a | N18: n.a
B19: Formation professionnelle supérieure | C19: 1.83151 | D19: 1.33543 | E19: 11.91056 | F19: 2.9576 | G19: 42.01087 | H19: 4.16912 | I19: 39.18691 | J19: 3.87536 | K19: 5.06015 | L19: 2.09264 | M19: n.a | N19: n.a
B20: Haute école | C20: 1.61797 | D20: 0.82532 | E20: 6.77148 | F20: 1.85795 | G20: 29.8239 | H20: 2.74742 | I20: 47.41118 | J20: 2.9211 | K20: 14.37546 | L20: 2.14393 | M20: n.a | N20: n.a
A21: Remarque: N'inclus pas les personnes qui ont seulement répondu à l'interview courte.
A22: 1Intervalle de confiance à 95%
A23: n.a.: ne s'applique pas
A24: Source: PIAAC - 2022/23 | N24: © OFS 2024

Sheet G.3.1.5a-c
A1: Répartition des scores sur l'échelle de compétences (0 - 500) selon le sexe et le niveau de formation
A2: Population résidante permanente agée de 16 à 65 ans | M2: G.3.1.5a-c
D4: Moyenne | F4: 5e centile | H4: 25e centile | J4: 75e centile | L4: 95e centile
D5: Score | E5: ±1 | F5: Score | G5: ±1 | H5: Score | I5: ±1 | J5: Score | K5: ±1 | L5: Score | M5: ±1
A6: Littératie | B6: École obligatoire | C6: Hommes | D6: 224.22343 | E6: 8.28444 | F6: 104.45468 | G6: 19.18842 | H6: 169.71427 | I6: 13.30661 | J6: 283.29241 | K6: 12.42695 | L6: 331.71331 | M6: 12.61603
C7: Femmes | D7: 225.44494 | E7: 7.12288 | F7: 111.24566 | G7: 20.11789 | H7: 174.41952 | I7: 16.78792 | J7: 278.15998 | K7: 11.0471 | L7: 331.9721 | M7: 16.15604
B8: Degré secondaire II | C8: Hommes | D8: 261.26999 | E8: 3.63518 | F8: 168.00808 | G8: 13.01672 | H8: 226.6577 | I8: 6.30693 | J8: 298.27609 | K8: 4.88339 | L8: 340.14497 | M8: 7.38339
C9: Femmes | D9: 262.55709 | E9: 3.41242 | F9: 163.73025 | G9: 14.49931 | H9: 234.0667 | I9: 5.83492 | J9: 297.96582 | K9: 4.06386 | L9: 335.29466 | M9: 5.36715
B10: Degré tertiaire | C10: Hommes | D10: 290.98585 | E10: 3.07148 | F10: 190.30577 | G10: 16.52999 | H10: 265.11991 | I10: 5.09116 | J10: 326.21721 | K10: 3.97512 | L10: 364.03922 | M10: 5.63384
C11: Femmes | D11: 287.49952 | E11: 3.38319 | F11: 189.82534 | G11: 14.40282 | H11: 261.38047 | I11: 5.19895 | J11: 322.17948 | K11: 4.26184 | L11: 360.78152 | M11: 5.73527
A12: Numératie | B12: École obligatoire | C12: Hommes | D12: 234.1069 | E12: 8.42272 | F12: 111.42762 | G12: 38.08924 | H12: 184.09335 | I12: 15.32002 | J12: 288.18471 | K12: 11.3853 | L12: 341.6749 | M12: 11.47652
C13: Femmes | D13: 223.98977 | E13: 7.5565 | F13: 118.70665 | G13: 14.48996 | H13: 172.85564 | I13: 13.93977 | J13: 274.52502 | K13: 12.57303 | L13: 330.08583 | M13: 16.66988
B14: Degré secondaire II | C14: Hommes | D14: 278.80193 | E14: 3.80052 | F14: 184.48919 | G14: 10.48205 | H14: 245.34232 | I14: 6.90668 | J14: 315.78392 | K14: 4.34524 | L14: 357.70668 | M14: 7.01126
C15: Femmes | D15: 264.99685 | E15: 3.30989 | F15: 171.1003 | G15: 11.83579 | H15: 236.12357 | I15: 6.14248 | J15: 299.98082 | K15: 4.48988 | L15: 339.44386 | M15: 4.78184
B16: Degré tertiaire | C16: Hommes | D16: 310.999 | E16: 2.85826 | F16: 213.37984 | G16: 13.84696 | H16: 285.40194 | I16: 4.24097 | J16: 345.46481 | K16: 3.7239 | L16: 383.93153 | M16: 7.72257
C17: Femmes | D17: 291.20599 | E17: 3.3372 | F17: 196.75742 | G17: 13.29954 | H17: 265.99202 | I17: 4.81114 | J17: 324.73705 | K17: 4.12585 | L17: 363.42443 | M17: 6.66475
A18: Résolution adaptative de problèmes | B18: École obligatoire | C18: Hommes | D18: 222.92875 | E18: 7.68478 | F18: 109.45476 | G18: 22.57532 | H18: 176.0213 | I18: 14.57857 | J18: 275.47875 | K18: 9.92647 | L18: 318.03766 | M18: 11.42954
C19: Femmes | D19: 221.41597 | E19: 7.06112 | F19: 116.69055 | G19: 16.14096 | H19: 176.3924 | I19: 14.77639 | J19: 269.76045 | K19: 9.4743 | L19: 315.35969 | M19: 13.42344
B20: Degré secondaire II | C20: Hommes | D20: 256.13292 | E20: 3.52432 | F20: 167.67974 | G20: 11.34594 | H20: 225.7152 | I20: 5.83755 | J20: 290.39378 | K20: 4.24743 | L20: 328.02151 | M20: 6.52619
C21: Femmes | D21: 253.09324 | E21: 3.15764 | F21: 167.20619 | G21: 9.51234 | H21: 225.86299 | I21: 5.50722 | J21: 285.01792 | K21: 4.17722 | L21: 319.42312 | M21: 4.9218
B22: Degré tertiaire | C22: Hommes | D22: 278.83019 | E22: 2.61409 | F22: 192.26543 | G22: 11.28864 | H22: 255.45792 | I22: 3.873 | J22: 308.83661 | K22: 3.39987 | L22: 344.60077 | M22: 6.3989
C23: Femmes | D23: 271.19247 | E23: 3.24511 | F23: 185.51402 | G23: 12.75519 | H23: 247.63971 | I23: 5.29732 | J23: 301.59561 | K23: 3.26045 | L23: 336.44607 | M23: 5.89907
A24: Remarque: Inclus les personnes qui ont seulement répondu à l'interview courte.
A25: 1Intervalle de confiance à 95%
A26: Source: PIAAC - 2022/23 | M26: © OFS 2024

Sheet G.3.1.6
A1: Domaine d'études de la plus haute formation achevée de niveau tertiaire, selon le sexe et score moyen en numératie
A2: Population résidante permanente agée de 16 à 65 ans | M2: G.3.1.6
B4: Hommes | D4: Femmes | F4: Numératie
F5: Hommes | J5: Femmes
B6: % | C6: ±1 | D6: % | E6: ±1 | F6: Moyenne | H6: ±1 | J6: Moyenne | L6: ±1
A7: Sciences naturelles, mathématiques et statistiques (MINT) | B7: 59.64434 | C7: 8.11173 | D7: 40.35566 | E7: 8.11173 | F7: 335.9519 | H7: 10.79296 | J7: 320.64768 | L7: 11.80037
A8: Ingénierie et industrie de transformation (MINT) | B8: 86.01111 | C8: 4.58771 | D8: 13.98889 | E8: 4.58771 | F8: 325.50136 | H8: 7.08868 | J8: 319.22939 | L8: 13.28848
A9: Technologies de l'information et de la communication (MINT) | B9: 80.98698 | C9: 7.69106 | D9: 19.01302 | E9: 7.69106 | F9: 326.93031 | H9: 9.45157 | J9: 295.06634 | L9: 27.0635
A10: Construction (MINT) | B10: 83.86288 | C10: 6.64648 | D10: 16.13712 | E10: 6.64648 | F10: 307.87316 | H10: 8.47106 | J10: 304.0653 | L10: 16.52448
A11: Droit | B11: 48.1069 | C11: 11.296 | D11: 51.8931 | E11: 11.296 | F11: 323.94083 | H11: 16.24612 | J11: 306.8441 | L11: 16.40833
A12: Sciences sociales et du comportement | B12: 35.34277 | C12: 8.48832 | D12: 64.65723 | E12: 8.48832 | F12: 314.76173 | H12: 13.00319 | J12: 310.6189 | L12: 9.89005
A13: Agriculture, sylviculture, pisciculture, pêche et études environnementales | B13: 72.16599 | C13: 14.21404 | D13: 27.83401 | E13: 14.21404 | F13: 307.61637 | H13: 17.09879 | J13: 304.57178 | L13: 23.92202
A14: Sécurité et transport | B14: 92.67676 | C14: 7.02035 | D14: 7.32324 | E14: 7.02035 | F14: 305.10809 | H14: 14.21638 | J14: 284.63097 | L14: 40.32623
A15: Économie, business et administration | B15: 55.64225 | C15: 4.46919 | D15: 44.35775 | E15: 4.46919 | F15: 310.90394 | H15: 5.3596 | J15: 292.96728 | L15: 7.68306
A16: Éducation et formation des enseignants | B16: 27.05545 | C16: 7.29443 | D16: 72.94455 | E16: 7.29443 | F16: 311.49406 | H16: 13.47259 | J16: 299.35136 | L16: 8.10749
A17: Sciences humaines, langues et arts | B17: 43.68826 | C17: 8.50663 | D17: 56.31174 | E17: 8.50663 | F17: 303.184 | H17: 13.41656 | J17: 294.37801 | L17: 9.05103
A18: Santé | B18: 29.42107 | C18: 6.29368 | D18: 70.57893 | E18: 6.29368 | F18: 319.49792 | H18: 12.50095 | J18: 287.97495 | L18: 7.05556
... A22: Pas de domaine d'étude principal ni de spécialisation, mais une formation de culture générale | B22: 60.91545 | C22: 25.26491 | D22: 39.08455 | E22: 25.26491 | F22: 278.46482 | H22: 53.13702 | J22: 255.98428 | L22: 36.64492
A23: Remarque: N'inclus pas les personnes qui ont seulement répondu à l'interview courte.
A24: 1Intervalle de confiance à 95%
A25: Source: PIAAC - 2022/23 | M25: © OFS 2024

Sheet G.3.1.7a-c
A1: Répartition des scores sur l'échelle de compétences (0 - 500) selon le niveau de formation et l'âge
A2: Population résidante permanente agée de 16 à 65 ans | M2: G.3.1.7a-c
D4: Moyenne | F4: 5e centile | H4: 25e centile | J4: 75e centile | L4: 95e centile
D5: Score | E5: ±1 | F5: Score | G5: ±1 | H5: Score | I5: ±1 | J5: Score | K5: ±1 | L5: Score | M5: ±1
A6: Littératie | B6: École obligatoire | C6: 16-25 ans | D6: 278.53191 | E6: 6.07556 | F6: 186.43696 | G6: 37.53766 | H6: 252.40952 | I6: 8.46318 | J6: 311.62256 | K6: 8.35507 | L6: 349.20403 | M6: 12.86701
C7: 26-35 ans | D7: 200.05036 | E7: 23.70766 | F7: 79.938111 | G7: 47.71667 | H7: 140.4562 | I7: 56.13563 | J7: 253.9563 | K7: 30.40926 | L7: 308.17782 | M7: 73.53444
C8: 36-45 ans | D8: 185.94272 | E8: 14.15541 | F8: 80.856251 | G8: 45.19494 | H8: 149.43228 | I8: 27.85586 | J8: 225.45433 | K8: 21.54344 | L8: 280.22846 | M8: 46.81009
C9: 46-55 ans | D9: 183.26721 | E9: 10.66091 | F9: 103.55557 | G9: 22.68006 | H9: 142.94227 | I9: 17.49241 | J9: 220.08699 | K9: 17.50734 | L9: 271.34552 | M9: 22.5097
C10: 56-65 ans | D10: 189.42659 | E10: 10.43994 | F10: 99.523433 | G10: 22.02017 | H10: 150.33431 | I10: 18.51041 | J10: 225.75541 | K10: 15.83286 | L10: 291.68365 | M10: 51.14725
B11: Degré secondaire II | C11: 16-25 ans | D11: 288.4442 | E11: 6.13336 | F11: 200.5442 | G11: 20.26018 | H11: 261.90434 | I11: 7.65775 | J11: 321.55563 | K11: 6.89554 | L11: 358.36085 | M11: 10.96259
C12: 26-35 ans | D12: 272.58909 | E12: 4.94443 | F12: 182.30325 | G12: 31.35904 | H12: 246.70365 | I12: 8.59895 | J12: 305.20537 | K12: 5.88355 | L12: 338.85123 | M12: 10.3273
C13: 36-45 ans | D13: 256.97812 | E13: 6.54189 | F13: 154.13673 | G13: 27.232 | H13: 220.81434 | I13: 10.62089 | J13: 295.89188 | K13: 7.12688 | L13: 335.54262 | M13: 12.07159
C14: 46-55 ans | D14: 256.03004 | E14: 5.31206 | F14: 164.62715 | G14: 22.41016 | H14: 226.47313 | I14: 9.60147 | J14: 290.9917 | K14: 6.11805 | L14: 329.33702 | M14: 10.8809
C15: 56-65 ans | D15: 243.96558 | E15: 4.72227 | F15: 157.73656 | G15: 12.53925 | H15: 214.81845 | I15: 8.45578 | J15: 277.98489 | K15: 5.50103 | L15: 313.57777 | M15: 9.91
B16: Degré tertiaire | C16: 16-25 ans | D16: 305.01912 | E16: 10.78316 | F16: 229.85259 | G16: 83.41449 | H16: 282.18118 | I16: 18.44303 | J16: 334.66193 | K16: 9.16753 | L16: 366.3571 | M16: 21.05817
C17: 26-35 ans | D17: 300.14059 | E17: 4.91329 | F17: 197.67971 | G17: 28.09019 | H17: 277.01687 | I17: 7.35336 | J17: 334.64867 | K17: 5.19525 | L17: 372.30616 | M17: 7.62118
C18: 36-45 ans | D18: 294.07345 | E18: 4.01628 | F18: 183.85142 | G18: 25.99732 | H18: 268.75802 | I18: 7.60308 | J18: 330.07482 | K18: 4.50494 | L18: 368.14777 | M18: 8.28708
C19: 46-55 ans | D19: 284.32031 | E19: 4.99895 | F19: 190.5159 | G19: 29.13598 | H19: 258.66621 | I19: 7.22796 | J19: 318.9161 | K19: 5.38644 | L19: 352.79894 | M19: 7.97613
C20: 56-65 ans | D20: 272.33586 | E20: 4.23638 | F20: 187.81745 | G20: 18.56663 | H20: 248.54539 | I20: 6.89217 | J20: 303.35352 | K20: 5.31557 | L20: 338.14979 | M20: 8.33912
A21: Numératie | B21: École obligatoire | C21: 16-25 ans | D21: 279.71528 | E21: 6.25665 | F21: 194.11274 | G21: 20.22194 | H21: 250.07206 | I21: 10.35149 | J21: 313.81809 | K21: 7.88706 | L21: 353.38181 | M21: 10.36134
C22: 26-35 ans | D22: 203.12119 | E22: 25.39816 | F22: 73.15437 | G22: 58.45832 | H22: 154.20675 | I22: 44.53004 | J22: 255.11044 | K22: 28.47205 | L22: 308.82277 | M22: 88.88165
C23: 36-45 ans | D23: 193.14891 | E23: 16.01117 | F23: 65.613428 | G23: 154.09482 | H23: 153.07775 | I23: 27.87422 | J23: 243.51887 | K23: 23.2241 | L23: 285.61889 | M23: 44.44358
C24: 46-55 ans | D24: 188.38267 | E24: 11.9019 | F24: 111.34859 | G24: 22.48812 | H24: 147.32926 | I24: 19.88289 | J24: 226.44208 | K24: 18.15544 | L24: 273.29413 | M24: 29.83493
C25: 56-65 ans | D25: 196.88011 | E25: 10.81276 | F25: 106.26237 | G25: 44.82325 | H25: 159.20142 | I25: 17.99679 | J25: 237.47203 | K25: 19.52884 | L25: 286.94169 | M25: 30.61322
B26: Degré secondaire II | C26: 16-25 ans | D26: 294.54594 | E26: 5.55687 | F26: 208.85936 | G26: 15.88786 | H26: 265.50938 | I26: 8.98625 | J26: 328.69251 | K26: 6.72573 | L26: 367.60883 | M26: 12.2397
C27: 26-35 ans | D27: 280.03499 | E27: 5.22151 | F27: 188.54113 | G27: 24.13673 | H27: 249.70247 | I27: 9.81353 | J27: 314.40719 | K27: 6.2274 | L27: 353.70072 | M27: 10.5315
C28: 36-45 ans | D28: 265.52626 | E28: 6.35359 | F28: 167.49579 | G28: 18.76118 | H28: 232.02471 | I28: 12.42417 | J28: 304.63358 | K28: 7.30038 | L28: 345.99235 | M28: 10.88258
C29: 46-55 ans | D29: 265.42436 | E29: 5.34245 | F29: 169.16936 | G29: 21.45406 | H29: 235.85065 | I29: 7.64295 | J29: 300.78503 | K29: 5.65941 | L29: 340.312 | M29: 10.41657
C30: 56-65 ans | D30: 258.79659 | E30: 4.17423 | F30: 175.23074 | G30: 14.03415 | H30: 230.36909 | I30: 8.13841 | J30: 290.80347 | K30: 5.58173 | L30: 330.34774 | M30: 9.66548
B31: Degré tertiaire | C31: 16-25 ans | D31: 312.50239 | E31: 10.51751 | F31: 219.2383 | G31: 51.95634 | H31: 288.57697 | I31: 16.00105 | J31: 342.14549 | K31: 11.20788 | L31: 379.98489 | M31: 20.39767
C32: 26-35 ans | D32: 310.66861 | E32: 5.10149 | F32: 216.05483 | G32: 19.33611 | H32: 284.80654 | I32: 6.33666 | J32: 344.25753 | K32: 6.10312 | L32: 385.09854 | M32: 12.00068
C33: 36-45 ans | D33: 303.64227 | E33: 4.11338 | F33: 201.35482 | G33: 20.13078 | H33: 276.02456 | I33: 7.60292 | J33: 341.44854 | K33: 4.8243 | L33: 380.67675 | M33: 9.68365
C34: 46-55 ans | D34: 298.10222 | E34: 4.73251 | F34: 203.27072 | G34: 20.27658 | H34: 271.31475 | I34: 7.06585 | J34: 332.64872 | K34: 5.7485 | L34: 369.23123 | M34: 9.0697
C35: 56-65 ans | D35: 291.19979 | E35: 4.37947 | F35: 197.91549 | G35: 22.76612 | H35: 265.50329 | I35: 8.18151 | J35: 323.70838 | K35: 5.17709 | L35: 363.69842 | M35: 9.69127
A36: Résolution adaptative de problèmes | B36: École obligatoire | C36: 16-25 ans | D36: 270.25565 | E36: 5.81702 | F36: 195.16775 | G36: 23.45023 | H36: 245.53885 | I36: 7.95077 | J36: 299.3784 | K36: 8.85818 | L36: 331.53139 | M36: 9.22539
C37: 26-35 ans | D37: 201.29899 | E37: 20.35782 | F37: 104.70704 | G37: 48.67782 | H37: 160.1099 | I37: 35.38422 | J37: 244.92009 | K37: 26.91873 | L37: 296.11813 | M37: 39.8156
C38: 36-45 ans | D38: 188.01466 | E38: 11.86035 | F38: 77.545284 | G38: 66.35595 | H38: 152.29012 | I38: 28.0318 | J38: 225.21088 | K38: 15.73907 | L38: 267.99311 | M38: 29.12804
C39: 46-55 ans | D39: 186.47537 | E39: 12.09354 | F39: 107.79257 | G39: 18.95145 | H39: 147.68437 | I39: 20.92275 | J39: 220.67689 | K39: 19.79204 | L39: 278.79559 | M39: 29.50319
C40: 56-65 ans | D40: 187.67619 | E40: 10.35127 | F40: 101.23341 | G40: 34.04759 | H40: 153.54004 | I40: 18.31002 | J40: 226.03537 | K40: 16.27986 | L40: 272.10939 | M40: 25.00007
B41: Degré secondaire II | C41: 16-25 ans | D41: 280.56119 | E41: 4.75522 | F41: 207.82476 | G41: 16.65607 | H41: 257.75936 | I41: 6.73507 | J41: 308.59264 | K41: 6.8815 | L41: 341.41827 | M41: 8.85318
...

Sheet G.3.1.8
A1: Répartition en pourcentage des niveaux de compétences selon le statut sur le marché du travail
A2: Population résidante permanente agée de 16 à 65 ans | N2: G.3.1.8
C4: Niveau inférieur à 1 | E4: Niveau 1 | G4: Niveau 2 | I4: Niveau 3 | K4: Niveau 4 | M4: Niveau 5
C5: % | D5: ±1 | E5: % | F5: ±1 | G5: % | H5: ±1 | I5: % | J5: ±1 | K5: % | L5: ±1 | M5: % | N5: ±1
A6: Littératie | B6: Personnes actives occupées | C6: 5.69255 | D6: 0.89609 | E6: 12.06834 | F6: 1.36148 | G6: 28.51218 | H6: 1.84674 | I6: 38.2206 | J6: 1.80024 | K6: 14.22646 | L6: 1.37782 | M6: 1.27988 | N6: 0.41008
B7: Personnes au chômage | C7: 10.20081 | D7: 7.20085 | E7: 24.35064 | F7: 9.7167 | G7: 32.57477 | H7: 10.10559 | I7: 27.0575 | J7: 8.15672 | K7: 5.16002 | L7: 4.41836 | M7: 0.65626 | N7: 1.0677
B8: Personnes non actives | C8: 11.14557 | D8: 3.2799 | E8: 16.91926 | F8: 3.86266 | G8: 28.77528 | H8: 4.15285 | I8: 30.88773 | J8: 5.03624 | K8: 11.26191 | L8: 3.15013 | M8: 1.01024 | N8: 0.87072
A9: Numératie | B9: Personnes actives occupées | C9: 4.44902 | D9: 0.86449 | E9: 10.20321 | F9: 1.41088 | G9: 25.04254 | H9: 1.65942 | I9: 37.50505 | J9: 2.09407 | K9: 19.84383 | L9: 1.62835 | M9: 2.95635 | N9: 0.66149
