Workbook

Sheet Index
A1: Compétences en littératie, numératie et résolution de problèmes des adultes en Suisse. Premiers résultats de l'enquête PIAAC 2022/2023
A2: Données des graphiques et des tableaux
A4: Sommaire
A5: G.2.2.1a | B5: ='G.2.2.1a'!A1 -> Littératie – Répartition en pourcentage des niveaux de compétences et score moyen (entre parenthèses) en comparaison internationale
A6: G.2.2.1b | B6: ='G.2.2.1b'!A1 -> Numératie – Répartition en pourcentage des niveaux de compétences et score moyen (entre parenthèses) en comparaison internationale
A7: G.2.2.1c | B7: ='G.2.2.1c'!A1 -> Résolution adaptative de problèmes – Répartition en pourcentage des niveaux de compétences et score moyen (entre parenthèses) en comparaison internationale
A8: G.2.3.1 | B8: ='G.2.3.1'!A1 -> Répartition des scores sur l'échelle de compétences (0 - 500) par région linguistique
A9: G.2.3.2a-c | B9: ='G.2.3.2a-c'!A1 -> Répartition en pourcentage des niveaux de compétences par région linguistique
A10: G.2.3.3 | B10: ='G.2.3.3'!A1 -> Répartition des scores sur l'échelle de compétences (0 - 500) par grande région
A11: G.2.3.4a-c | B11: ='G.2.3.4a-c'!A1 -> Répartition en pourcentage des niveaux de compétences par grande région
A12: G.3.1.1a-c | B12: ='G.3.1.1a-c'!A1 -> Répartition en pourcentage des niveaux de compétences selon l'âge
A13: G.3.1.2 | B13: ='G.3.1.2'!A1 -> Répartition en pourcentage des niveaux de compétences selon le sexe
A14: G.3.1.3 | B14: ='G.3.1.3'!A1 -> Répartition des scores sur l'échelle de compétences (0 - 500) selon l'âge et le sexe
A15: G.3.1.4 | B15: ='G.3.1.4'!A1 -> Répartition en pourcentage des niveaux de compétences selon le niveau de formation
A16: G.3.1.5a-c | B16: ='G.3.1.5a-c'!A1 -> Répartition des scores sur l'échelle de compétences (0 - 500) selon le sexe et le niveau de formation
A17: G.3.1.6 | B17: ='G.3.1.6'!A1 -> Domaine d'études de la plus haute formation achevée de niveau tertiaire, selon le sexe et score moyen en numératie
A18: G.3.1.7a-c | B18: ='G.3.1.7a-c'!A1 -> Répartition des scores sur l'échelle de compétences (0 - 500) selon le niveau de formation et l'âge
A19: G.3.1.8 | B19: ='G.3.1.8'!A1 -> Répartition en pourcentage des niveaux de compétences selon le statut sur le marché du travail
A20: G.3.2.1 | B20: ='G.3.2.1'!A1 -> Répartition en pourcentage des niveaux de compétences selon la région d'origine
A21: G.3.2.2 | B21: ='G.3.2.2'!A1 -> Répartition en pourcentage des niveaux de compétences selon les profils migratoire et linguistique
A22: G.3.2.3a-b | B22: ='G.3.2.3a-b'!A1 -> Répartition des scores sur l'échelle de compétences (0 - 500) selon les profils migratoire et linguistique et le niveau de formation
A23: G.3.2.4a-b | B23: ='G.3.2.4a-b'!A1 -> Répartition des scores sur l'échelle de compétences (0 - 500) selon les profils migratoire et linguistique et le lieu d'obtention du diplôme le plus élevé
A24: G.3.2.5 | B24: ='G.3.2.5'!A1 -> Répartition en pourcentage des niveaux de compétences selon la date d'arrivée en Suisse
A25: G.3.2.6a-b | B25: ='G.3.2.6a-b'!A1 -> Répartition des scores sur l'échelle de compétences (0 - 500) selon la date d'arrivée en Suisse et le niveau de formation
A26: G.3.3.1 | B26: ='G.3.3.1'!A1 -> Proportion de personnes ayant de faibles compétences (niveau inférieur à 1 et niveau 1)
A27: G.3.3.2 | B27: ='G.3.3.2'!A1 -> Répartition en pourcentage des personnes ayant de faibles compétences (niveau inférieur à 1 et niveau 1) et de la population totale par région linguistique
A28: G.3.3.3 | B28: ='G.3.3.3'!A1 -> Répartition en pourcentage des personnes ayant de faibles compétences (niveau inférieur à 1 et niveau 1) et de la population totale par grande région
A29: G.3.3.4 | B29: ='G.3.3.4'!A1 -> Répartition en pourcentage des personnes ayant de faibles compétences (niveau inférieur à 1 et niveau 1) et de la population totale selon le profil linguistique
A30: G.3.3.5 | B30: ='G.3.3.5'!A1 -> Répartition en pourcentage des personnes ayant de faibles compétences (niveau inférieur à 1 et niveau 1) selon le profil linguistique et le sexe
A31: G.3.3.6 | B31: ='G.3.3.6'!A1 -> Répartition en pourcentage des personnes ayant de faibles compétences (niveau inférieur à 1 et niveau 1) selon le profil linguistique et l'âge
A32: G.3.3.7 | B32: ='G.3.3.7'!A1 -> Répartition en pourcentage des personnes ayant de faibles compétences (niveau inférieur à 1 et niveau 1) selon le profil linguistique et la date d'arrivée en Suisse
A33: G.3.3.8 | B33: ='G.3.3.7'!A1 -> Répartition en pourcentage des personnes ayant de faibles compétences (niveau inférieur à 1 et niveau 1) selon le profil linguistique et la date d'arrivée en Suisse
A35: T.3.3.1 | B35: ='T.3.3.1'!A1 -> Proportion de personnes ayant de faibles compétences en littératie (niveau inférieur à 1 et niveau 1) selon différentes dimensions d'analyse
A36: TA A1a | B36: ='TA A1a'!A1 -> Littératie - Répartition des scores sur l'échelle de compétences (0 - 500) selon différentes dimensions d'analyse
A37: TA A1b | B37: ='TA A1b'!A1 -> Numératie - Répartition des scores sur l'échelle de compétences (0 - 500) selon différentes dimensions d'analyse
A38: TA A1c | B38: ='TA A1c'!A1 -> Résolution adaptative de problèmes - Répartition des scores sur l'échelle de compétences (0 - 500) selon différentes dimensions d'analyse
A39: TA A2 | B39: ='TA A2'!A1 -> Régression linéaire sur les scores de compétences sur l'échelle (0 - 500) selon différents caractères socio-démographiques, incl. la région d'origine
A40: TA A3 | B40: ='TA A3'!A1 -> Régression linéaire sur les scores de compétences sur l'échelle (0 - 500) selon différents caractères socio-démographiques, incl. les profils migratoire et linguistique
A41: TA A4 | B41: ='TA A4'!A1 -> Régression linéaire sur les scores de compétences sur l'échelle (0 - 500) selon différents caractères socio-démographiques, incl. la date d'ârrivée en Suisse
A42: TA A5 | B42: ='TA A5'!A1 -> Répartition des caractères socio-démographiques par région d'origine
A43: TA A6 | B43: ='TA A6'!A1 -> Répartition des caractères socio-démographiques selon les profils migratoire et linguistique
A44: TA A7 | B44: ='TA A7'!A1 -> Répartition des caractères socio-démographiques selon la date d'arrivée en Suisse
A45: TA A8 | B45: ='TA A8'!A1 -> Proportion de personnes ayant de faibles compétences (niveau inférieur à 1 et niveau 1) selon différentes dimensions d'analyse
A47: Publication: OFS – Compétences en littératie, numératie et résolution de problèmes des adultes en Suisse. Premiers résultats de l'enquête PIAAC 2022/2023
A48: Source: PIAAC – 2022/23
A49: Renseignements: piaac@bfs.admin.ch
A50: © OFS 2024

Sheet G.2.2.1a
A1: Littératie – Répartition en pourcentage des niveaux de compétences et score moyen (entre parenthèses) en comparaison internationale
A2: Population résidante permanente agée de 16 à 65 ans | O2: G.2.2.1a
B4: Niveau inférieur à 1 | D4: Niveau 1 | F4: Niveau 2 | H4: Niveau 3 | J4: Niveau 4 | L4: Niveau 5 | N4: Littératie
B5: % | C5: ±1 | D5: % | E5: ±1 | F5: % | G5: ±1 | H5: % | I5: ±1 | J5: % | K5: ±1 | L5: % | M5: ±1 | N5: Score | O5: ±1
A6: Pays de l'OCDE
A7: Autriche | B7: 10.97491 | C7: 1.2392 | D7: 17.97759 | E7: 1.62904 | F7: 31.87356 | G7: 1.75483 | H7: 29.59263 | I7: 1.78693 | J7: 8.79456 | K7: 1.18377 | L7: 0.78675 | M7: 0.36604 | N7: 254.36981 | O7: 1.75208
A8: Canada | B8: 5.91987 | C8: 0.85674 | D8: 13.35271 | E8: 1.4564 | F8: 29.68124 | G8: 2.0736 | H8: 37.14691 | I8: 1.95369 | J8: 12.776 | K8: 1.31043 | L8: 1.12326 | M8: 0.37376 | N8: 270.77031 | O8: 1.73183
A9: Chili | B9: 25.11775 | C9: 3.06414 | D9: 28.27633 | E9: 2.10783 | F9: 30.46401 | G9: 2.44503 | H9: 14.17313 | I9: 2.01006 | J9: 1.89222 | K9: 0.71682 | L9: 0.07656 | M9: 0.12833 | N9: 217.88995 | O9: 4.28474
A10: Tchéquie | B10: 7.06228 | C10: 1.03321 | D10: 17.70928 | E10: 1.65257 | F10: 33.75103 | G10: 1.90638 | H10: 31.74047 | I10: 2.09819 | J10: 9.07145 | K10: 1.28613 | L10: 0.66549 | M10: 0.30419 | N10: 260.20564 | O10: 1.95554
A11: Danemark | B11: 7.40248 | C11: 0.7606 | D11: 10.47272 | E11: 1.2208 | F11: 26.98578 | G11: 1.66363 | H11: 39.81083 | I11: 2.00241 | J11: 14.37109 | K11: 1.28534 | L11: 0.95709 | M11: 0.60378 | N11: 273.03369 | O11: 1.61563
A12: Estonie | B12: 5.50242 | C12: 0.61803 | D12: 14.50857 | E12: 1.02272 | F12: 26.1917 | G12: 1.55232 | H12: 34.99198 | I12: 1.38607 | J12: 16.40625 | K12: 1.03901 | L12: 2.39908 | M12: 0.48536 | N12: 275.54025 | O12: 1.2333
A13: Finlande | B13: 6.08545 | C13: 1.07437 | D13: 6.27613 | E13: 1.08578 | F13: 17.00852 | G13: 1.524 | H13: 35.81209 | I13: 2.15613 | J13: 28.59878 | K13: 1.76099 | L13: 6.21905 | M13: 0.93427 | N13: 296.46861 | O13: 2.39138
A14: France | B14: 10.34833 | C14: 0.78579 | D14: 17.59401 | E14: 1.30882 | F14: 32.15728 | G14: 1.35324 | H14: 31.19395 | I14: 1.14423 | J14: 8.18037 | K14: 0.77037 | L14: 0.52607 | M14: 0.25839 | N14: 254.80425 | O14: 1.12209
A15: Allemagne | B15: 9.35796 | C15: 0.96594 | D15: 13.09262 | E15: 1.34935 | F15: 27.62973 | G15: 1.61289 | H15: 35.47171 | I15: 1.43853 | J15: 13.32792 | K15: 1.05986 | L15: 1.12005 | M15: 0.39792 | N15: 266.0916 | O15: 1.5058
A16: Hongrie | B16: 9.29599 | C16: 1.08878 | D16: 23.20127 | E16: 2.0095 | F16: 35.70664 | G16: 1.91887 | H16: 25.91955 | I16: 1.72492 | J16: 5.50132 | K16: 0.80277 | L16: 0.37523 | M16: 0.22615 | N16: 248.45914 | O16: 1.96319
A17: Irlande | B17: 5.33624 | C17: 1.08487 | D17: 15.74188 | E17: 1.95357 | F17: 37.89883 | G17: 2.64689 | H17: 32.0167 | I17: 2.13628 | J17: 8.40063 | K17: 1.29073 | L17: 0.60572 | M17: 0.37627 | N17: 262.76131 | O17: 2.03619
A18: Israël | B18: 13.78617 | C18: 1.49045 | D18: 22.40634 | E18: 1.54926 | F18: 31.71046 | G18: 1.73756 | H18: 24.84432 | I18: 1.56884 | J18: 6.76443 | K18: 1.01901 | L18: 0.48829 | M18: 0.31165 | N18: 243.60276 | O18: 2.25691
... A33: États-Unis | B33: 11.52435 | C33: 1.30805 | D33: 16.10341 | E33: 1.69022 | F33: 28.50755 | G33: 2.26647 | H33: 30.62228 | I33: 2.08639 | J33: 11.8704 | K33: 1.46352 | L33: 1.37201 | M33: 0.6118 | N33: 258.20852 | O33: 2.84612
A35: Entités sous-nationales
A36: Angleterre (Royaume-Uni) | B36: 6.03976 | C36: 0.98012 | D36: 11.54749 | E36: 1.43397 | F36: 31.50633 | G36: 1.74826 | H36: 36.6182 | I36: 1.96703 | J36: 13.22607 | K36: 1.49032 | L36: 1.06215 | M36: 0.45027 | N36: 271.60693 | O36: 2.05199
A37: Flandre (Belgique) | B37: 7.42103 | C37: 0.91862 | D37: 11.34173 | E37: 1.30613 | F37: 25.64424 | G37: 1.79091 | H37: 37.61263 | I37: 2.0405 | J37: 16.26145 | K37: 1.52439 | L37: 1.71892 | M37: 0.61357 | N37: 274.7403 | O37: 1.89989
A39: Pays partenaires
A40: Croatie | B40: 8.44632 | C40: 1.84586 | D40: 19.1758 | E40: 2.02514 | F40: 36.79237 | G40: 2.43569 | H40: 27.61804 | I40: 1.82787 | J40: 7.45839 | K40: 1.32326 | L40: 0.50908 | M40: 0.32615 | N40: 254.25132 | O40: 3.52715
A41: Singapour | B41: 12.3066 | C41: 0.87968 | D41: 17.38132 | E41: 1.31909 | F41: 29.58783 | G41: 1.63228 | H41: 29.88843 | I41: 1.41775 | J41: 10.12821 | K41: 1.12464 | L41: 0.70761 | M41: 0.38094 | N41: 254.54043 | O41: 1.45458
A43: Moyenne-OCDE | B43: 8.92663 | C43: 0.24602 | D43: 17.12563 | E43: 0.30806 | F43: 31.43881 | G43: 0.37356 | H43: 30.88896 | I43: 0.35743 | J43: 10.55276 | K43: 0.22598 | L43: 1.06722 | M43: 0.08178 | N43: 259.98105 | O43: 0.4192
A44: Remarque: Inclus les personnes qui ont seulement répondu à l'interview courte.
A45: 1Intervalle de confiance à 95%
A46: Source: PIAAC - 2022/23 | O46: © OFS 2024

Sheet G.2.2.1b
A1: Numératie – Répartition en pourcentage des niveaux de compétences et score moyen (entre parenthèses) en comparaison internationale
A2: Population résidante permanente agée de 16 à 65 ans | O2: G.2.2.1b
B4: Niveau inférieur à 1 | D4: Niveau 1 | F4: Niveau 2 | H4: Niveau 3 | J4: Niveau 4 | L4: Niveau 5 | N4: Numératie
B5: % | C5: ±1 | D5: % | E5: ±1 | F5: % | G5: ±1 | H5: % | I5: ±1 | J5: % | K5: ±1 | L5: % | M5: ±1 | N5: Score | O5: ±1
A6: Pays de l'OCDE
A7: Autriche | B7: 7.62715 | C7: 1.02271 | D7: 14.97969 | E7: 1.41369 | F7: 30.05804 | G7: 1.99001 | H7: 32.34195 | I7: 1.89001 | J7: 13.19184 | K7: 1.2456 | L7: 1.80134 | M7: 0.52964 | N7: 267.04456 | O7: 1.80318
A8: Canada | B8: 5.53576 | C8: 1.0594 | D8: 14.55834 | E8: 1.1252 | F8: 30.42775 | G8: 1.77578 | H8: 34.44838 | I8: 1.79579 | J8: 13.47016 | K8: 1.27453 | L8: 1.5596 | M8: 0.50343 | N8: 270.69487 | O8: 1.78856
A9: Chili | B9: 26.54794 | C9: 2.84398 | D9: 29.05109 | E9: 2.1995 | F9: 28.51291 | G9: 2.54473 | H9: 13.57256 | I9: 1.97716 | J9: 2.21516 | K9: 0.78744 | L9: 0.10033 | M9: 0.16726 | N9: 214.34368 | O9: 4.67128
A10: Tchéquie | B10: 6.07418 | C10: 0.96067 | D10: 15.18191 | E10: 1.57478 | F10: 32.71173 | G10: 2.08737 | H10: 31.86775 | I10: 2.24982 | J10: 12.45215 | K10: 1.3226 | L10: 1.71228 | M10: 0.61375 | N10: 267.28 | O10: 2.18293
A11: Danemark | B11: 6.79353 | C11: 0.74573 | D11: 9.82113 | E11: 1.09786 | F11: 24.92463 | G11: 1.77519 | H11: 37.4886 | I11: 2.11863 | J11: 18.54721 | K11: 1.40508 | L11: 2.4249 | M11: 0.70326 | N11: 279.09241 | O11: 1.61186
A12: Estonie | B12: 4.24299 | C12: 0.59419 | D12: 11.63231 | E12: 0.94882 | F12: 26.92678 | G12: 1.37822 | H12: 36.59776 | I12: 1.42986 | J12: 17.72061 | K12: 1.09172 | L12: 2.87955 | M12: 0.54693 | N12: 281.00611 | O12: 1.24142
A13: Finlande | B13: 5.13099 | C13: 1.02991 | D13: 7.05967 | E13: 1.12278 | F13: 20.35844 | G13: 1.9581 | H13: 36.52012 | I13: 2.37898 | J13: 25.58242 | K13: 1.9804 | L13: 5.34835 | M13: 0.91071 | N13: 293.76994 | O13: 2.33883
A14: France | B14: 10.47736 | C14: 0.81285 | D14: 17.28113 | E14: 1.26404 | F14: 30.43739 | G14: 1.44234 | H14: 30.29786 | I14: 1.29472 | J14: 10.36642 | K14: 0.85108 | L14: 1.13985 | M14: 0.32841 | N14: 256.53271 | O14: 1.32315
A15: Allemagne | B15: 8.13678 | C15: 0.95365 | D15: 12.1513 | E15: 1.23337 | F15: 25.8258 | G15: 1.82477 | H15: 35.39453 | I15: 1.66398 | J15: 16.01282 | K15: 1.10028 | L15: 2.47878 | M15: 0.51941 | N15: 272.82498 | O15: 1.46803
A16: Hongrie | B16: 9.33475 | C16: 1.07293 | D16: 19.50943 | E16: 1.60519 | F16: 34.53908 | G16: 2.07582 | H16: 27.30133 | I16: 1.83334 | J16: 8.35781 | K16: 1.37498 | L16: 0.95759 | M16: 0.37521 | N16: 254.35301 | O16: 2.24726
A17: Irlande | B17: 6.74751 | C17: 1.36858 | D17: 17.93512 | E17: 1.87063 | F17: 36.10498 | G17: 2.25207 | H17: 29.0144 | I17: 2.33077 | J17: 9.21015 | K17: 1.31968 | L17: 0.98784 | M17: 0.47827 | N17: 259.6955 | O17: 2.36914
A18: Israël | B18: 12.62744 | C18: 1.23257 | D18: 21.42716 | E18: 1.44669 | F18: 34.03342 | G18: 1.67409 | H18: 23.77464 | I18: 1.46114 | J18: 7.21006 | K18: 1.04998 | L18: 0.92728 | M18: 0.48908 | N18: 245.77488 | O18: 2.41101
... A33: États-Unis | B33: 14.79771 | C33: 1.42942 | D33: 19.4049 | E33: 1.95271 | F33: 27.69303 | G33: 2.33515 | H33: 26.15104 | I33: 2.34309 | J33: 10.12855 | K33: 1.4915 | L33: 1.82478 | M33: 0.63721 | N33: 248.75329 | O33: 3.09094
A35: Entités sous-nationales
A36: Angleterre (Royaume-Uni) | B36: 7.18943 | C36: 1.20547 | D36: 13.70102 | E36: 1.56637 | F36: 30.64923 | G36: 1.8296 | H36: 33.09926 | I36: 2.07732 | J36: 13.67385 | K36: 1.62835 | L36: 1.68722 | M36: 0.61411 | N36: 268.39835 | O36: 2.28711
A37: Flandre (Belgique) | B37: 6.46905 | C37: 0.89053 | D37: 11.22658 | E37: 1.28479 | F37: 24.6263 | G37: 1.78235 | H37: 35.86162 | I37: 1.92196 | J37: 18.83632 | K37: 1.84331 | L37: 2.98013 | M37: 0.66822 | N37: 279.25033 | O37: 1.80004
A39: Pays partenaires
A40: Croatie | B40: 7.73634 | C40: 1.43647 | D40: 19.07619 | E40: 1.89361 | F40: 38.20666 | G40: 2.42045 | H40: 28.57608 | I40: 2.32742 | J40: 6.08407 | K40: 1.2271 | L40: 0.32066 | M40: 0.25983 | N40: 253.58596 | O40: 3.21879
A41: Singapour | B41: 8.50527 | C41: 0.82114 | D41: 13.31982 | E41: 1.24499 | F41: 24.22031 | G41: 1.76937 | H41: 31.67683 | I41: 1.44127 | J41: 18.90551 | K41: 1.27801 | L41: 3.37226 | M41: 0.61488 | N41: 274.10327 | O41: 1.62307
A43: Moyenne-OCDE | B43: 8.56357 | C43: 0.24417 | D43: 16.25512 | E43: 0.30339 | F43: 30.63314 | G43: 0.3802 | H43: 30.60086 | I43: 0.37464 | J43: 12.22754 | K43: 0.24725 | L43: 1.71978 | M43: 0.10288 | N43: 263.02825 | O43: 0.44618
A44: Remarque: Inclus les personnes qui ont seulement répondu à l'interview courte.
A45: 1Intervalle de confiance à 95%
A46: Source: PIAAC - 2022/23 | O46: © OFS 2024

Sheet G.2.2.1c
A1: Résolution adaptative de problèmes – Répartition en pourcentage des niveaux de compétences et score moyen (entre parenthèses) en comparaison internationale
A2: Population résidante permanente agée de 16 à 65 ans | M2: G.2.2.1c
B4: Niveau inférieur à 1 | D4: Niveau 1 | F4: Niveau 2 | H4: Niveau 3 | J4: Niveau 4 | L4: Résolution adaptive de problèmes
B5: % | C5: ±1 | D5: % | E5: ±1 | F5: % | G5: ±1 | H5: % | I5: ±1 | J5: % | K5: ±1 | L5: Score | M5: ±1
A6: Pays de l'OCDE
A7: Autriche | B7: 6.7597 | C7: 1.03212 | D7: 20.2666 | E7: 1.7253 | F7: 39.33753 | G7: 1.93839 | H7: 28.75561 | I7: 1.89288 | J7: 4.88056 | K7: 0.79918 | L7: 252.98655 | M7: 1.35425
A8: Canada | B8: 5.24678 | C8: 0.93847 | D8: 16.80272 | E8: 1.29665 | F8: 38.93116 | G8: 1.87074 | H8: 33.38534 | I8: 1.64975 | J8: 5.63399 | K8: 0.92812 | L8: 259.36268 | M8: 1.45755
A9: Chili | B9: 20.92417 | C9: 2.47989 | D9: 34.66428 | E9: 2.55424 | F9: 32.66193 | G9: 2.68302 | H9: 10.95147 | I9: 1.93881 | J9: 0.79815 | K9: 0.40994 | L9: 217.53559 | M9: 3.77645
A10: Tchéquie | B10: 5.88933 | C10: 1.03108 | D10: 22.99102 | E10: 1.71387 | F10: 41.67839 | G10: 2.09549 | H10: 25.58605 | I10: 1.6799 | J10: 3.85521 | K10: 0.8152 | L10: 250.06072 | M10: 1.70235
A11: Danemark | B11: 7.2936 | C11: 0.80494 | D11: 12.56842 | E11: 1.37532 | F11: 33.91 | G11: 1.9587 | H11: 37.02717 | I11: 1.94372 | J11: 9.2008 | K11: 1.18657 | L11: 264.4339 | M11: 1.47758
A12: Estonie | B12: 4.06261 | C12: 0.54976 | D12: 17.1868 | E12: 1.0822 | F12: 36.31676 | G12: 1.42642 | H12: 35.11213 | I12: 1.56649 | J12: 7.3217 | K12: 0.88216 | L12: 263.23684 | M12: 1.12568
A13: Finlande | B13: 4.66949 | C13: 1.10838 | D13: 9.38751 | E13: 1.36332 | F13: 29.23998 | G13: 1.79437 | H13: 43.50637 | I13: 1.94044 | J13: 13.19665 | K13: 1.41467 | L13: 276.49585 | M13: 1.9474
A14: France | B14: 9.0331 | C14: 0.93788 | D14: 21.30831 | E14: 1.42321 | F14: 38.74091 | G14: 1.61744 | H14: 26.88393 | I14: 1.20272 | J14: 4.03375 | K14: 0.57635 | L14: 247.94366 | M14: 1.02257
A15: Allemagne | B15: 6.8472 | C15: 0.97372 | D15: 15.38475 | E15: 1.33203 | F15: 35.20942 | G15: 1.98448 | H15: 35.05038 | I15: 1.81376 | J15: 7.50824 | K15: 0.97683 | L15: 261.02791 | M15: 1.26585
A16: Hongrie | B16: 8.22992 | C16: 1.02619 | D16: 28.97843 | E16: 1.98735 | F16: 40.47176 | G16: 2.02072 | H16: 19.52169 | I16: 1.45477 | J16: 2.79821 | K16: 0.63732 | L16: 240.54752 | M16: 1.70119
A17: Irlande | B17: 5.64265 | C17: 1.48442 | D17: 22.80936 | E17: 2.26751 | F17: 44.82614 | G17: 2.79347 | H17: 24.15423 | I17: 2.243 | J17: 2.56762 | K17: 0.73363 | L17: 248.71303 | M17: 1.85177
A18: Israël | B18: 12.55332 | C18: 1.34086 | D18: 27.43216 | E18: 1.48295 | F18: 37.16835 | G18: 1.73517 | H18: 19.76979 | I18: 1.46807 | J18: 3.07638 | K18: 0.79849 | L18: 236.16658 | M18: 1.94509
... A33: États-Unis | B33: 10.94832 | C33: 1.55849 | D33: 21.26343 | E33: 2.03429 | F33: 35.41904 | G33: 2.43176 | H33: 26.18262 | I33: 2.04563 | J33: 6.1866 | K33: 1.03447 | L33: 247.45421 | M33: 2.72545
A35: Entités sous-nationales
A36: Angleterre (Royaume-Uni) | B36: 6.36065 | C36: 1.11523 | D36: 14.81835 | E36: 1.59653 | F36: 39.7653 | G36: 2.0463 | H36: 33.54102 | I36: 2.25503 | J36: 5.51467 | K36: 1.12196 | L36: 258.90751 | M36: 1.76409
A37: Flandre (Belgique) | B37: 6.38798 | C37: 0.95614 | D37: 14.78546 | E37: 1.41178 | F37: 36.03077 | G37: 2.02374 | H37: 35.0679 | I37: 1.75453 | J37: 7.72789 | K37: 1.11163 | L37: 261.96758 | M37: 1.56917
A39: Pays partenaires
A40: Croatie | B40: 10.53833 | C40: 1.94143 | D40: 28.17947 | E40: 2.09542 | F40: 43.70067 | G40: 2.54616 | H40: 16.27257 | I40: 1.92966 | J40: 1.30896 | K40: 0.59476 | L40: 234.94382 | M40: 2.99427
A41: Singapour | B41: 8.8977 | C41: 1.09429 | D41: 20.55877 | E41: 1.60833 | F41: 35.75873 | G41: 1.77099 | H41: 28.7503 | I41: 1.39437 | J41: 6.03449 | K41: 0.82094 | L41: 251.82175 | M41: 1.54226
A43: Moyenne-OCDE | B43: 7.71236 | C43: 0.24383 | D43: 21.53968 | E43: 0.34944 | F43: 38.49515 | G43: 0.40467 | H43: 27.27009 | I43: 0.34036 | J43: 4.98272 | K43: 0.16589 | L43: 250.64324 | M43: 0.37669
A44: Remarque: Inclus les personnes qui ont seulement répondu à l'interview courte.
A45: 1Intervalle de confiance à 95%
A46: Source: PIAAC - 2022/23 | M46: © OFS 2024

Sheet G.2.3.1
A1: Répartition des scores sur l'échelle de compétences (0 - 500) par région linguistique
A2: Population résidante permanente agée de 16 à 65 ans | L2: G.2.3.1
C4: Moyenne | E4: 5e centile | G4: 25e centile | I4: 75e centile | K4: 95e centile
C5: Score | D5: ±1 | E5: Score | F5: ±1 | G5: Score | H5: ±1 | I5: Score | J5: ±1 | K5: Score | L5: ±1
A6: Littératie | B6: Suisse alémanique | C6: 266.72084 | D6: 2.15406 | E6: 141.60621 | F6: 9.93098 | G6: 232.74208 | H6: 3.89997 | I6: 310.16704 | J6: 2.83837 | K6: 352.124 | L6: 3.8906
B7: Suisse romande | C7: 265.35975 | D7: 2.32087 | E7: 154.89789 | F7: 9.61887 | G7: 232.8748 | H7: 4.94776 | I7: 304.5288 | J7: 2.98324 | K7: 346.76605 | L7: 4.7325
B8: Suisse italienne | C8: 265.01114 | D8: 5.02836 | E8: 169.17334 | F8: 17.60165 | G8: 232.25808 | H8: 10.05778 | I8: 303.12549 | J8: 5.4123 | K8: 343.0367 | L8: 7.94174
A9: Numératie | B9: Suisse alémanique | C9: 277.88005 | D9: 2.07813 | E9: 156.02675 | F9: 10.59178 | G9: 243.08988 | H9: 3.87269 | I9: 321.62981 | J9: 2.30686 | K9: 365.3699 | L9: 4.18193
B10: Suisse romande | C10: 271.72474 | D10: 2.39223 | E10: 159.39477 | F10: 9.47977 | G10: 238.37567 | H10: 4.57477 | I10: 312.3128 | J10: 3.28239 | K10: 355.90506 | L10: 4.52333
B11: Suisse italienne | C11: 271.6863 | D11: 5.43904 | E11: 175.778 | F11: 16.31057 | G11: 237.34914 | H11: 9.22754 | I11: 309.51112 | J11: 5.44314 | K11: 353.30638 | L11: 8.29896
A12: Résolution adaptative de problèmes | B12: Suisse alémanique | C12: 257.86387 | D12: 2.12805 | E12: 151.12574 | F12: 9.11377 | G12: 227.36015 | H12: 4.15804 | I12: 295.85753 | J12: 2.36495 | K12: 333.46871 | L12: 3.30881
B13: Suisse romande | C13: 255.5193 | D13: 2.67981 | E13: 160.08664 | F13: 9.44837 | G13: 226.93592 | H13: 4.45105 | I13: 289.97175 | J13: 3.82166 | K13: 327.62242 | L13: 5.09825
B14: Suisse italienne | C14: 253.08273 | D14: 4.45067 | E14: 161.2774 | F14: 14.52299 | G14: 221.56636 | H14: 7.30899 | I14: 288.66194 | J14: 5.739 | K14: 322.11893 | L14: 7.28755
A15: Remarque: Inclus les personnes qui ont seulement répondu à l'interview courte.
A16: 1Intervalle de confiance à 95%
A17: Source: PIAAC - 2022/23 | L17: © OFS 2024

Sheet G.2.3.2a-c
A1: Répartition en pourcentage des niveaux de compétences par région linguistique
A2: Population résidante permanente agée de 16 à 65 ans | N2: G.2.3.2a-c
C4: Niveau inférieur à 1 | E4: Niveau 1 | G4: Niveau 2 | I4: Niveau 3 | K4: Niveau 4 | M4: Niveau 5
C5: % | D5: ±1 | E5: % | F5: ±1 | G5: % | H5: ±1 | I5: % | J5: ±1 | K5: % | L5: ±1 | M5: % | N5: ±1
A6: Littératie | B6: Suisse alémanique | C6: 9.67952 | D6: 1.18228 | E6: 12.66195 | F6: 1.63728 | G6: 26.80315 | H6: 2.15437 | I6: 35.80943 | J6: 2.08559 | K6: 13.73431 | L6: 1.38218 | M6: 1.31164 | N6: 0.45961
B7: Suisse romande | C7: 7.9788 | D7: 1.5842 | E7: 14.11289 | F7: 2.24245 | G7: 30.30446 | H7: 2.58616 | I7: 35.08018 | J7: 2.22173 | K7: 11.60227 | L7: 1.37727 | M7: 0.9214 | N7: 0.4676
B8: Suisse italienne | C8: 6.16975 | D8: 2.66959 | E8: 16.63994 | F8: 3.7668 | G8: 30.44763 | H8: 4.37571 | I8: 35.23414 | J8: 4.45216 | K8: 10.92168 | L8: 2.97773 | M8: 0.58686 | N8: 0.58668
A9: Numératie | B9: Suisse alémanique | C9: 7.46157 | D9: 1.09958 | E9: 11.09121 | F9: 1.7599 | G9: 24.21356 | H9: 2.0171 | I9: 35.10714 | J9: 2.25298 | K9: 19.16769 | L9: 1.70397 | M9: 2.95884 | N9: 0.73788
B10: Suisse romande | C10: 7.42429 | D10: 1.40638 | E10: 12.47839 | F10: 2.06574 | G10: 27.46565 | H10: 2.43145 | I10: 35.81505 | J10: 2.74038 | K10: 14.92866 | L10: 2.08545 | M10: 1.88796 | N10: 0.57716
B11: Suisse italienne | C11: 4.97692 | D11: 2.42599 | E11: 14.54842 | F11: 3.82847 | G11: 29.95372 | H11: 3.98906 | I11: 35.86563 | J11: 4.65047 | K11: 13.28738 | L11: 3.21415 | M11: 1.36792 | N11: 1.11137
A12: Résolution adaptative de problèmes | B12: Suisse alémanique | C12: 8.93098 | D12: 1.33216 | E12: 15.46508 | F12: 1.74881 | G12: 33.68045 | H12: 2.57876 | I12: 34.47901 | J12: 2.02795 | K12: 7.44449 | L12: 1.04889 | M12: n.a | N12: n.a
B13: Suisse romande | C13: 7.8672 | D13: 1.75256 | E13: 16.67925 | F13: 2.2768 | G13: 38.16656 | H13: 2.69879 | I13: 31.85006 | J13: 2.62458 | K13: 5.43694 | L13: 1.31742 | M13: n.a | N13: n.a
B14: Suisse italienne | C14: 7.42959 | D14: 2.97235 | E14: 20.15641 | F14: 4.20678 | G14: 36.48976 | H14: 4.78267 | I14: 31.93088 | J14: 4.28832 | K14: 3.99337 | L14: 1.81308 | M14: n.a | N14: n.a
A15: Remarque: Inclus les personnes qui ont seulement répondu à l'interview courte.
A16: 1Intervalle de confiance à 95%
A17: n.a.: ne s'applique pas
A18: Source: PIAAC - 2022/23 | N18: © OFS 2024

Sheet G.2.3.3
A1: Répartition des scores sur l'échelle de compétences (0 - 500) par grande région
A2: Population résidante permanente agée de 16 à 65 ans | L2: G.2.3.3
C4: Moyenne | E4: 5e centile | G4: 25e centile | I4: 75e centile | K4: 95e centile
C5: Score | D5: ±1 | E5: Score | F5: ±1 | G5: Score | H5: ±1 | I5: Score | J5: ±1 | K5: Score | L5: ±1
A6: Littératie | B6: Région lémanique | C6: 263.47394 | D6: 2.69406 | E6: 152.35244 | F6: 9.86724 | G6: 230.45385 | H6: 5.54265 | I6: 303.49175 | J6: 3.49443 | K6: 346.05979 | L6: 5.41041
B7: Espace Mittelland | C7: 270.90613 | D7: 3.75455 | E7: 155.50665 | F7: 17.82562 | G7: 238.22373 | H7: 6.72402 | I7: 310.79356 | J7: 4.6693 | K7: 351.43509 | L7: 6.70657
B8: Suisse du Nord-Ouest | C8: 262.56541 | D8: 6.14568 | E8: 135.30975 | F8: 21.74109 | G8: 226.73784 | H8: 10.57672 | I8: 307.71568 | J8: 6.58342 | K8: 348.24608 | L8: 9.76281
B9: Zurich | C9: 273.09574 | D9: 5.31529 | E9: 137.79216 | F9: 21.47867 | G9: 243.10944 | H9: 9.99828 | I9: 317.62788 | J9: 5.15853 | K9: 359.42142 | L9: 6.68363
B10: Suisse orientale | C10: 256.24721 | D10: 5.431 | E10: 134.63226 | F10: 18.44639 | G10: 221.20476 | H10: 11.81909 | I10: 299.59839 | J10: 6.83461 | K10: 341.32459 | L10: 8.58133
B11: Suisse centrale | C11: 268.36928 | D11: 5.83845 | E11: 156.62023 | F11: 25.18553 | G11: 232.57359 | H11: 11.27491 | I11: 310.0865 | J11: 6.1962 | K11: 352.04481 | L11: 10.33048
B12: Tessin | C12: 266.53282 | D12: 5.23577 | E12: 169.8759 | F12: 18.96387 | G12: 235.28542 | H12: 9.11019 | I12: 303.96858 | J12: 5.57485 | K12: 343.66267 | L12: 8.31848
A13: Numératie | B13: Région lémanique | C13: 269.4664 | D13: 2.78659 | E13: 157.53522 | F13: 12.33393 | G13: 236.27622 | H13: 6.12986 | I13: 309.94974 | J13: 4.02242 | K13: 354.17547 | L13: 5.88333
B14: Espace Mittelland | C14: 280.41762 | D14: 3.65917 | E14: 164.08154 | F14: 16.435 | G14: 246.71203 | H14: 6.63011 | I14: 321.63504 | J14: 3.8862 | K14: 363.88795 | L14: 5.63047
B15: Suisse du Nord-Ouest | C15: 273.90485 | D15: 6.30035 | E15: 149.15789 | F15: 24.63805 | G15: 236.93048 | H15: 11.46081 | I15: 320.49675 | J15: 6.37004 | K15: 362.35923 | L15: 8.63379
B16: Zurich | C16: 283.5038 | D16: 5.68257 | E16: 157.01437 | F16: 25.37182 | G16: 249.88309 | H16: 10.98279 | I16: 329.38948 | J16: 6.54785 | K16: 374.596 | L16: 11.43152
B17: Suisse orientale | C17: 268.66607 | D17: 5.17116 | E17: 149.05224 | F17: 25.46082 | G17: 234.54318 | H17: 10.45785 | I17: 312.72128 | J17: 6.1604 | K17: 355.5575 | L17: 9.53344
B18: Suisse centrale | C18: 280.60203 | D18: 6.00422 | E18: 169.97078 | F18: 25.50221 | G18: 246.32447 | H18: 10.20661 | I18: 321.48309 | J18: 5.89202 | K18: 364.97165 | L18: 9.72667
B19: Tessin | C19: 272.97106 | D19: 5.57732 | E19: 177.50435 | F19: 16.02263 | G19: 239.47186 | H19: 9.83311 | I19: 310.17607 | J19: 5.63758 | K19: 353.98396 | L19: 8.4043
A20: Résolution adaptative de problèmes | B20: Région lémanique | C20: 253.53156 | D20: 2.88051 | E20: 156.5096 | F20: 10.57288 | G20: 224.64953 | H20: 5.33281 | I20: 288.19117 | J20: 4.00125 | K20: 326.53078 | L20: 6.391
B21: Espace Mittelland | C21: 261.6499 | D21: 3.31617 | E21: 161.31502 | F21: 12.75663 | G21: 232.34139 | H21: 6.06995 | I21: 297.55146 | J21: 3.78001 | K21: 334.43758 | L21: 5.7342
B22: Suisse du Nord-Ouest | C22: 254.40358 | D22: 5.7324 | E22: 144.30933 | F22: 23.40356 | G22: 223.59282 | H22: 10.46739 | I22: 293.90076 | J22: 4.8929 | K22: 327.81844 | L22: 6.98122
B23: Zurich | C23: 261.31567 | D23: 4.75216 | E23: 146.97835 | F23: 18.87559 | G23: 230.76542 | H23: 9.30604 | I23: 300.66843 | J23: 5.29212 | K23: 338.50309 | L23: 6.7373
B24: Suisse orientale | C24: 250.93664 | D24: 4.94211 | E24: 148.07206 | F24: 18.92544 | G24: 220.09235 | H24: 9.30483 | I24: 288.58272 | J24: 5.36418 | K24: 326.31066 | L24: 7.85873
B25: Suisse centrale | C25: 259.62689 | D25: 5.36466 | E25: 162.28646 | F25: 24.85105 | G25: 230.22908 | H25: 9.94376 | I25: 295.25677 | J25: 5.38794 | K25: 333.78501 | L25: 8.98983
B26: Tessin | C26: 254.28716 | D26: 4.58611 | E26: 162.32653 | F26: 16.63045 | G26: 223.56809 | H26: 7.12722 | I26: 289.33184 | J26: 5.84007 | K26: 322.79062 | L26: 7.54741
A27: Remarque: Inclus les personnes qui ont seulement répondu à l'interview courte.
A28: 1Intervalle de confiance à 95%
A29: Source: PIAAC - 2022/23 | L29: © OFS 2024

Sheet G.2.3.4a-c
A1: Répartition en pourcentage des niveaux de compétences par grande région
A2: Population résidante permanente agée de 16 à 65 ans | N2: G.2.3.4a-c
C4: Niveau inférieur à 1 | E4: Niveau 1 | G4: Niveau 2 | I4: Niveau 3 | K4: Niveau 4 | M4: Niveau 5
C5: % | D5: ±1 | E5: % | F5: ±1 | G5: % | H5: ±1 | I5: % | J5: ±1 | K5: % | L5: ±1 | M5: % | N5: ±1
A6: Littératie | B6: Région lémanique | C6: 8.96258 | D6: 1.85147 | E6: 14.05687 | F6: 2.58552 | G6: 30.4952 | H6: 3.23985 | I6: 34.51788 | J6: 2.71339 | K6: 10.96814 | L6: 1.91075 | M6: 0.99933 | N6: 0.5831
B7: Espace Mittelland | C7: 7.62691 | D7: 2.09824 | E7: 12.52243 | F7: 2.52302 | G7: 26.76449 | H7: 3.57887 | I7: 37.73322 | J7: 3.81427 | K7: 13.91764 | L7: 2.08956 | M7: 1.43531 | N7: 1.11224
B8: Suisse du Nord-Ouest | C8: 10.7823 | D8: 3.52421 | E8: 13.5892 | F8: 4.31338 | G8: 27.67349 | H8: 4.92173 | I8: 34.4317 | J8: 4.7454 | K8: 12.66642 | L8: 3.47629 | M8: 0.85689 | N8: 1.04226
B9: Zurich | C9: 9.70067 | D9: 2.60296 | E9: 9.63175 | F9: 2.83664 | G9: 24.06241 | H9: 4.08102 | I9: 37.10327 | J9: 4.24049 | K9: 17.67567 | L9: 3.21486 | M9: 1.82623 | N9: 1.33094
B10: Suisse orientale | C10: 11.4287 | D10: 3.40083 | E10: 15.3492 | F10: 3.81054 | G10: 31.0072 | H10: 4.22244 | I10: 32.03247 | J10: 4.78144 | K10: 9.6357 | L10: 2.95449 | M10: 0.54672 | N10: 0.78159
B11: Suisse centrale | C11: 7.28841 | D11: 2.95562 | E11: 15.02929 | F11: 3.95271 | G11: 26.48679 | H11: 4.92019 | I11: 36.78106 | J11: 5.54725 | K11: 13.02194 | L11: 3.54529 | M11: 1.39251 | N11: 1.17291
B12: Tessin | C12: 5.9309 | D12: 2.694 | E12: 15.58942 | F12: 3.8239 | G12: 30.62474 | H12: 4.58348 | I12: 35.94842 | J12: 4.77223 | K12: 11.29028 | L12: 3.06442 | M12: 0.61624 | N12: 0.61622
A13: Numératie | B13: Région lémanique | C13: 7.89741 | D13: 1.57396 | E13: 12.81783 | F13: 2.38433 | G13: 28.49453 | H13: 3.15148 | I13: 35.1846 | J13: 3.21451 | K13: 13.76109 | L13: 2.32389 | M13: 1.84453 | N13: 0.76454
B14: Espace Mittelland | C14: 6.32167 | D14: 1.95267 | E14: 10.72564 | F14: 2.68109 | G14: 23.79841 | H14: 3.81706 | I14: 37.01213 | J14: 3.95416 | K14: 19.50892 | L14: 2.59316 | M14: 2.63323 | N14: 1.06824
B15: Suisse du Nord-Ouest | C15: 8.76217 | D15: 3.08892 | E15: 12.43904 | F15: 3.4982 | G15: 24.28685 | H15: 5.17222 | I15: 33.19524 | J15: 5.12177 | K15: 18.88126 | L15: 4.2186 | M15: 2.43543 | N15: 1.3033
B16: Zurich | C16: 7.20023 | D16: 2.4671 | E16: 10.17246 | F16: 3.53161 | G16: 20.48035 | H16: 3.88558 | I16: 35.20615 | J16: 4.07683 | K16: 22.36619 | L16: 3.7748 | M16: 4.57462 | N16: 2.41184
B17: Suisse orientale | C17: 8.94148 | D17: 3.11669 | E17: 12.32359 | F17: 4.01061 | G17: 28.83399 | H17: 5.08312 | I17: 33.70566 | J17: 4.87096 | K17: 14.68658 | L17: 3.83886 | M17: 1.50871 | N17: 1.15202
B18: Suisse centrale | C18: 5.65307 | D18: 2.4295 | E18: 10.41156 | F18: 3.66719 | G18: 25.56672 | H18: 4.47991 | I18: 36.75155 | J18: 5.42692 | K18: 18.75298 | L18: 3.89268 | M18: 2.86411 | N18: 1.45465
B19: Tessin | C19: 4.70661 | D19: 2.43147 | E19: 13.95767 | F19: 3.89105 | G19: 29.76772 | H19: 3.99477 | I19: 36.56861 | J19: 4.87939 | K19: 13.61331 | L19: 3.45697 | M19: 1.38607 | N19: 1.16846
A20: Résolution adaptative de problèmes | B20: Région lémanique | C20: 8.49399 | D20: 1.9999 | E20: 17.15616 | F20: 2.72234 | G20: 38.93639 | H20: 3.47635 | I20: 30.19586 | J20: 2.84183 | K20: 5.2176 | L20: 1.45183 | M20: n.a | N20: n.a
B21: Espace Mittelland | C21: 7.65643 | D21: 2.21641 | E21: 14.40624 | F21: 2.8751 | G21: 33.59452 | H21: 4.05044 | I21: 36.30584 | J21: 4.11011 | K21: 8.03696 | L21: 1.98977 | M21: n.a | N21: n.a
B22: Suisse du Nord-Ouest | C22: 10.0628 | D22: 3.36157 | E22: 16.10651 | F22: 3.93713 | G22: 33.41329 | H22: 5.1962 | I22: 34.83994 | J22: 4.94173 | K22: 5.57746 | L22: 2.3362 | M22: n.a | N22: n.a
B23: Zurich | C23: 8.91309 | D23: 2.50083 | E23: 14.15853 | F23: 3.32526 | G23: 30.6094 | H23: 5.23133 | I23: 36.83561 | J23: 4.95094 | K23: 9.48337 | L23: 2.67509 | M23: n.a | N23: n.a
B24: Suisse orientale | C24: 10.22068 | D24: 3.7806 | E24: 17.76422 | F24: 4.42645 | G24: 36.94053 | H24: 5.54694 | I24: 30.02594 | J24: 4.26536 | K24: 5.04863 | L24: 2.07062 | M24: n.a | N24: n.a
B25: Suisse centrale | C25: 6.60696 | D25: 2.86634 | E25: 16.35758 | F25: 4.26826 | G25: 36.35571 | H25: 5.2381 | I25: 33.19403 | J25: 4.9595 | K25: 7.48572 | L25: 2.23792 | M25: n.a | N25: n.a
B26: Tessin | C26: 7.15825 | D26: 2.98134 | E26: 19.21694 | F26: 4.33562 | G26: 36.93267 | H26: 4.89974 | I26: 32.5712 | J26: 4.53667 | K26: 4.12094 | L26: 1.92592 | M26: n.a | N26: n.a
A27: Remarque: Inclus les personnes qui ont seulement répondu à l'interview courte.
A28: 1Intervalle de confiance à 95%
A29: n.a.: ne s'applique pas
A30: Source: PIAAC - 2022/23 | N30: © OFS 2024

Sheet G.3.1.1a-c
A1: Répartition en pourcentage des niveaux de compétences selon l'âge
A2: Population résidante permanente agée de 16 à 65 ans | N2: G.3.1.1a-c
C4: Niveau inférieur à 1 | E4: Niveau 1 | G4: Niveau 2 | I4: Niveau 3 | K4: Niveau 4 | M4: Niveau 5
C5: % | D5: ±1 | E5: % | F5: ±1 | G5: % | H5: ±1 | I5: % | J5: ±1 | K5: % | L5: ±1 | M5: % | N5: ±1
A6: Littératie | B6: 16-25 ans | C6: 3.4615 | D6: 1.5846 | E6: 6.9833 | F6: 2.66976 | G6: 27.02925 | H6: 3.95227 | I6: 43.11428 | J6: 4.91693 | K6: 18.003 | L6: 3.75052 | M6: 1.40867 | N6: 1.24312
B7: 26-35 ans | C7: 6.55099 | D7: 2.04441 | E7: 8.13468 | F7: 2.31135 | G7: 23.57512 | H7: 3.57649 | I7: 41.35173 | J7: 3.37795 | K7: 18.02224 | L7: 2.61601 | M7: 2.36524 | N7: 0.93408
B8: 36-45 ans | C8: 10.27407 | D8: 2.01654 | E8: 13.98687 | F8: 2.90891 | G8: 23.27731 | H8: 3.27435 | I8: 35.07484 | J8: 3.60117 | K8: 15.72189 | L8: 2.84559 | M8: 1.66502 | N8: 0.86967
B9: 46-55 ans | C9: 11.81407 | D9: 2.56316 | E9: 15.02125 | F9: 2.74371 | G9: 29.77797 | H9: 3.32524 | I9: 32.77207 | J9: 3.1521 | K9: 10.20726 | L9: 2.04624 | M9: 0.40738 | N9: 0.45251
B10: 56-65 ans | C10: 11.80446 | D10: 2.6547 | E10: 19.86965 | F10: 3.16622 | G10: 35.17458 | H10: 3.36085 | I10: 28.01198 | J10: 3.1926 | K10: 4.96789 | L10: 1.55539 | M10: 0.17144 | N10: 0.25071
A11: Numératie | B11: 16-25 ans | C11: 2.55395 | D11: 1.361 | E11: 8.04193 | F11: 2.86695 | G11: 24.76068 | H11: 4.00628 | I11: 41.34264 | J11: 3.78967 | K11: 20.81294 | L11: 3.52779 | M11: 2.48787 | N11: 1.55525
B12: 26-35 ans | C12: 5.31443 | D12: 2.09171 | E12: 8.23907 | F12: 2.49309 | G12: 20.29444 | H12: 3.30262 | I12: 38.53027 | J12: 4.5456 | K12: 23.13831 | L12: 3.99825 | M12: 4.48347 | N12: 1.62054
B13: 36-45 ans | C13: 8.28512 | D13: 1.74282 | E13: 12.03138 | F13: 2.87876 | G13: 23.19195 | H13: 3.45225 | I13: 33.11893 | J13: 3.4236 | K13: 19.91971 | L13: 2.45954 | M13: 3.4529 | N13: 1.41663
B14: 46-55 ans | C14: 10.23348 | D14: 2.4973 | E14: 12.82829 | F14: 2.99293 | G14: 26.60155 | H14: 3.47557 | I14: 33.03648 | J14: 3.48771 | K14: 15.63499 | L14: 2.33344 | M14: 1.66521 | N14: 0.96644
B15: 56-65 ans | C15: 8.94098 | D15: 2.33371 | E15: 15.62271 | F15: 3.38308 | G15: 31.14271 | H15: 3.99023 | I15: 32.3752 | J15: 3.45129 | K15: 10.85425 | L15: 2.13052 | M15: 1.06414 | N15: 0.62907
A16: Résolution adaptative de problèmes | B16: 16-25 ans | C16: 2.34843 | D16: 1.24082 | E16: 8.45448 | F16: 2.77573 | G16: 34.1959 | H16: 4.87815 | I16: 44.75163 | J16: 4.84445 | K16: 10.24957 | L16: 2.62005 | M16: n.a | N16: n.a
B17: 26-35 ans | C17: 5.46474 | D17: 2.2951 | E17: 10.65637 | F17: 2.76385 | G17: 30.39889 | H17: 3.78336 | I17: 42.30085 | J17: 3.90892 | K17: 11.17916 | L17: 2.62018 | M17: n.a | N17: n.a
B18: 36-45 ans | C18: 9.55353 | D18: 2.19803 | E18: 15.88796 | F18: 3.01976 | G18: 32.25504 | H18: 3.78252 | I18: 34.14149 | J18: 3.63231 | K18: 8.16198 | L18: 1.8668 | M18: n.a | N18: n.a
B19: 46-55 ans | C19: 11.40043 | D19: 2.7964 | E19: 18.86644 | F19: 3.14693 | G19: 36.28205 | H19: 3.16789 | I19: 29.68703 | J19: 2.82928 | K19: 3.76405 | L19: 1.22209 | M19: n.a | N19: n.a
B20: 56-65 ans | C20: 12.4104 | D20: 2.73142 | E20: 23.66532 | F20: 3.75914 | G20: 41.07373 | H20: 4.28843 | I20: 21.09729 | J20: 2.66611 | K20: 1.75326 | L20: 0.84607 | M20: n.a | N20: n.a
A21: Remarque: Inclus les personnes qui ont seulement répondu à l'interview courte.
A22: 1Intervalle de confiance à 95%
A23: n.a.: ne s'applique pas
A24: Source: PIAAC - 2022/23 | N24: © OFS 2024

Sheet G.3.1.2
A1: Répartition en pourcentage des niveaux de compétences selon le sexe
A2: Population résidante permanente agée de 16 à 65 ans | N2: G.3.1.2
C4: Niveau inférieur à 1 | E4: Niveau 1 | G4: Niveau 2 | I4: Niveau 3 | K4: Niveau 4 | M4: Niveau 5
C5: % | D5: ±1 | E5: % | F5: ±1 | G5: % | H5: ±1 | I5: % | J5: ±1 | K5: % | L5: ±1 | M5: % | N5: ±1
A6: Littératie | B6: Hommes | C6: 9.17887 | D6: 1.38771 | E6: 13.28485 | F6: 1.93083 | G6: 26.32705 | H6: 2.27979 | I6: 35.49559 | J6: 2.25672 | K6: 14.36132 | L6: 1.62217 | M6: 1.35232 | N6: 0.50427
B7: Femmes | C7: 9.05559 | D7: 1.32176 | E7: 13.07746 | F7: 1.86519 | G7: 29.31975 | H7: 2.33566 | I7: 35.72034 | J7: 2.40099 | K7: 11.80973 | L7: 1.50926 | M7: 1.01712 | N7: 0.55135
A8: Numératie | B8: Hommes | C8: 6.25676 | D8: 1.17769 | E8: 10.16977 | F8: 1.83525 | G8: 21.52518 | H8: 1.88767 | I8: 35.31982 | J8: 2.44418 | K8: 22.62608 | L8: 1.87313 | M8: 4.1024 | N8: 1.01429
B9: Femmes | C9: 8.45997 | D9: 1.33439 | E9: 13.00117 | F9: 2.04385 | G9: 29.03044 | H9: 2.54716 | I9: 35.30381 | J9: 2.50544 | K9: 13.06942 | L9: 1.66274 | M9: 1.13519 | N9: 0.4672
A10: Résolution adaptative de problèmes | B10: Hommes | C10: 8.30303 | D10: 1.57849 | E10: 15.11781 | F10: 2.07356 | G10: 32.73699 | H10: 2.30257 | I10: 35.46885 | J10: 2.10163 | K10: 8.37332 | L10: 1.29151 | M10: n.a | N10: n.a
B11: Femmes | C11: 8.9186 | D11: 1.44198 | E11: 16.80925 | F11: 1.86798 | G11: 37.08832 | H11: 2.55621 | I11: 31.96253 | J11: 2.09794 | K11: 5.22131 | L11: 1.12442 | M11: n.a | N11: n.a
A12: Remarque: Inclus les personnes qui ont seulement répondu à l'interview courte.
A13: 1Intervalle de confiance à 95%
A14: n.a.: ne s'applique pas
A15: Source: PIAAC - 2022/23 | N15: © OFS 2024

Sheet G.3.1.3
A1: Répartition des scores sur l'échelle de compétences (0 - 500) selon l'âge et le sexe
A2: Population résidante permanente agée de 16 à 65 ans | M2: G.3.1.3
B4: Littératie | F4: Numératie | J4: Résolution adaptative de problèmes
B5: Hommes | D5: Femmes | F5: Hommes | H5: Femmes | J5: Hommes | L5: Femmes
B6: Moyenne | C6: ±1 | D6: Moyenne | E6: ±1 | F6: Moyenne | G6: ±1 | H6: Moyenne | I6: ±1 | J6: Moyenne | K6: ±1 | L6: Moyenne | M6: ±1
A7: 16-20 ans | B7: 281.22682 | C7: 6.89397 | D7: 285.25276 | E7: 7.65285 | F7: 290.44924 | G7: 7.238 | H7: 281.05361 | I7: 8.80479 | J7: 275.18125 | K7: 6.62317 | L7: 273.89237 | M7: 8.61021
A8: 21-25 ans | B8: 286.61315 | C8: 10.01234 | D8: 289.09556 | E8: 7.67601 | F8: 298.76448 | G8: 8.84353 | H8: 287.51415 | I8: 7.03244 | J8: 280.79001 | K8: 7.31522 | L8: 277.79568 | M8: 6.31573
A9: 26-30 ans | B9: 283.91428 | C9: 8.68153 | D9: 287.31797 | E9: 7.68259 | F9: 302.97686 | G9: 8.36352 | H9: 287.17118 | I9: 7.66468 | J9: 279.5623 | K9: 7.7467 | L9: 277.08296 | M9: 6.3457
A10: 31-35 ans | B10: 281.88989 | C10: 9.68431 | D10: 272.00449 | E10: 10.37692 | F10: 297.0081 | G10: 11.0185 | H10: 272.62697 | I10: 10.43925 | J10: 273.21526 | K10: 8.18775 | L10: 260.29709 | M10: 8.52237
A11: 36-40 ans | B11: 269.8618 | C11: 10.71759 | D11: 271.19907 | E11: 8.42582 | F11: 286.56024 | G11: 12.27649 | H11: 272.17557 | I11: 8.77198 | J11: 262.99274 | K11: 10.33887 | L11: 261.59772 | M11: 7.50617
A12: 41-45 ans | B12: 264.13834 | C12: 8.54592 | D12: 264.4465 | E12: 8.97093 | F12: 280.15202 | G12: 8.53628 | H12: 265.69737 | I12: 8.51661 | J12: 254.04465 | K12: 7.95106 | L12: 250.01141 | M12: 7.36237
A13: 46-50 ans | B13: 267.45262 | C13: 7.37679 | D13: 253.69472 | E13: 8.76134 | F13: 283.68853 | G13: 7.7753 | H13: 255.60985 | I13: 8.655 | J13: 258.691 | K13: 6.60424 | L13: 243.63012 | M13: 7.95825
A14: 51-55 ans | B14: 253.13824 | C14: 8.9755 | D14: 255.24094 | E14: 6.49361 | F14: 272.61969 | G14: 9.30014 | H14: 260.10593 | I14: 6.95489 | J14: 245.04547 | K14: 7.89848 | L14: 244.20808 | M14: 5.86057
A15: 56-60 ans | B15: 251.5729 | C15: 7.81005 | D15: 248.57064 | E15: 8.0664 | F15: 274.77217 | G15: 8.51109 | H15: 254.5811 | I15: 8.41172 | J15: 244.69785 | K15: 7.10808 | L15: 240.0255 | M15: 7.27372
A16: 61-65 ans | B16: 247.56163 | C16: 6.45478 | D16: 237.19574 | E16: 7.45373 | F16: 270.29515 | G16: 6.54247 | H16: 246.39723 | I16: 7.33858 | J16: 239.1695 | K16: 5.95471 | L16: 225.71156 | M16: 6.89476
A17: Remarque: Inclus les personnes qui ont seulement répondu à l'interview courte.
A18: 1Intervalle de confiance à 95%
A19: Source: PIAAC - 2022/23 | M19: © OFS 2024

Sheet G.3.1.4
A1: Répartition en pourcentage des niveaux de compétences selon le niveau de formation
A2: Population résidante permanente agée de 16 à 65 ans | N2: G.3.1.4
C4: Niveau inférieur à 1 | E4: Niveau 1 | G4: Niveau 2 | I4: Niveau 3 | K4: Niveau 4 | M4: Niveau 5
C5: % | D5: ±1 | E5: % | F5: ±1 | G5: % | H5: ±1 | I5: % | J5: ±1 | K5: % | L5: ±1 | M5: % | N5: ±1
A6: Littératie | B6: École obligatoire | C6: 21.71387 | D6: 4.20266 | E6: 22.4751 | F6: 4.1723 | G6: 25.92845 | H6: 4.48431 | I6: 22.81021 | J6: 4.02091 | K6: 6.70131 | L6: 2.91827 | M6: 0.37105 | N6: 0.69482
B7: Degré secondaire II: professionnel | C7: 5.61024 | D7: 1.46473 | E7: 17.31228 | F7: 2.77187 | G7: 36.86057 | H7: 3.25345 | I7: 34.13908 | J7: 2.68752 | K7: 5.84316 | L7: 1.57038 | M7: 0.23467 | N7: 0.40476
B8: Degré secondaire II: général | C8: 4.51884 | D8: 2.25659 | E8: 11.6032 | F8: 3.75058 | G8: 25.06007 | H8: 4.62773 | I8: 39.40141 | J8: 5.23154 | K8: 18.0492 | L8: 3.98385 | M8: 1.36728 | N8: 1.66084
B9: Formation professionnelle supérieure | C9: 2.31225 | D9: 1.41367 | E9: 9.6715 | F9: 2.78291 | G9: 33.93097 | H9: 4.39163 | I9: 43.75848 | J9: 4.72234 | K9: 9.84678 | L9: 2.72915 | M9: 0.48003 | N9: 0.69779
B10: Haute école | C10: 1.30932 | D10: 0.6869 | E10: 4.17523 | F10: 1.27566 | G10: 18.68181 | H10: 2.35421 | I10: 44.75161 | J10: 3.16372 | K10: 27.77096 | L10: 2.6372 | M10: 3.31107 | N10: 1.02982
A11: Numératie | B11: École obligatoire | C11: 19.2777 | D11: 4.27611 | E11: 22.17432 | F11: 5.98204 | G11: 28.06603 | H11: 6.07562 | I11: 22.5649 | J11: 4.26034 | K11: 7.37284 | L11: 2.43496 | M11: 0.54421 | N11: 0.93533
B12: Degré secondaire II: professionnel | C12: 4.00255 | D12: 1.18416 | E12: 13.55681 | F12: 2.4937 | G12: 34.61083 | H12: 2.5717 | I12: 36.49167 | J12: 3.52675 | K12: 10.61319 | L12: 1.88203 | M12: 0.72494 | N12: 0.60506
B13: Degré secondaire II: général | C13: 3.54008 | D13: 2.17844 | E13: 10.94552 | F13: 3.7654 | G13: 23.68259 | H13: 4.64571 | I13: 38.37108 | J13: 5.23889 | K13: 20.79461 | L13: 4.64696 | M13: 2.66611 | N13: 1.89189
B14: Formation professionnelle supérieure | C14: 1.32793 | D14: 1.1046 | E14: 6.66919 | F14: 2.22023 | G14: 25.65671 | H14: 4.48737 | I14: 45.44057 | J14: 5.57298 | K14: 19.33832 | L14: 3.52762 | M14: 1.56727 | N14: 1.35438
B15: Haute école | C15: 0.77545 | D15: 0.61015 | E15: 3.44907 | F15: 1.13161 | G15: 14.19451 | H15: 2.23535 | I15: 40.26168 | J15: 2.71053 | K15: 34.17949 | L15: 2.91024 | M15: 7.13981 | N15: 1.76204
A16: Résolution adaptative de problèmes | B16: École obligatoire | C16: 19.79348 | D16: 4.10478 | E16: 25.53447 | F16: 5.55074 | G16: 29.93052 | H16: 5.33835 | I16: 21.36807 | J16: 4.26159 | K16: 3.37346 | L16: 1.70213 | M16: n.a | N16: n.a
B17: Degré secondaire II: professionnel | C17: 5.65609 | D17: 1.65475 | E17: 19.28422 | F17: 2.75109 | G17: 42.1206 | H17: 3.08105 | I17: 29.57904 | J17: 2.53634 | K17: 3.36006 | L17: 1.11944 | M17: n.a | N17: n.a
B18: Degré secondaire II: général | C18: 5.17579 | D18: 2.51771 | E18: 16.36213 | F18: 4.3695 | G18: 33.55864 | H18: 5.47663 | I18: 36.2796 | J18: 5.48228 | K18: 8.62385 | L18: 3.09127 | M18: n.a | N18: n.a
B19: Formation professionnelle supérieure | C19: 1.83151 | D19: 1.33543 | E19: 11.91056 | F19: 2.9576 | G19: 42.01087 | H19: 4.16912 | I19: 39.18691 | J19: 3.87536 | K19: 5.06015 | L19: 2.09264 | M19: n.a | N19: n.a
B20: Haute école | C20: 1.61797 | D20: 0.82532 | E20: 6.77148 | F20: 1.85795 | G20: 29.8239 | H20: 2.74742 | I20: 47.41118 | J20: 2.9211 | K20: 14.37546 | L20: 2.14393 | M20: n.a | N20: n.a
A21: Remarque: N'inclus pas les personnes qui ont seulement répondu à l'interview courte.
A22: 1Intervalle de confiance à 95%
A23: n.a.: ne s'applique pas
A24: Source: PIAAC - 2022/23 | N24: © OFS 2024

Sheet G.3.1.5a-c
A1: Répartition des scores sur l'échelle de compétences (0 - 500) selon le sexe et le niveau de formation
A2: Population résidante permanente agée de 16 à 65 ans | M2: G.3.1.5a-c
D4: Moyenne | F4: 5e centile | H4: 25e centile | J4: 75e centile | L4: 95e centile
D5: Score | E5: ±1 | F5: Score | G5: ±1 | H5: Score | I5: ±1 | J5: Score | K5: ±1 | L5: Score | M5: ±1
A6: Littératie | B6: École obligatoire | C6: Hommes | D6: 224.22343 | E6: 8.28444 | F6: 104.45468 | G6: 19.18842 | H6: 169.71427 | I6: 13.30661 | J6: 283.29241 | K6: 12.42695 | L6: 331.71331 | M6: 12.61603
C7: Femmes | D7: 225.44494 | E7: 7.12288 | F7: 111.24566 | G7: 20.11789 | H7: 174.41952 | I7: 16.78792 | J7: 278.15998 | K7: 11.0471 | L7: 331.9721 | M7: 16.15604
B8: Degré secondaire II | C8: Hommes | D8: 261.26999 | E8: 3.63518 | F8: 168.00808 | G8: 13.01672 | H8: 226.6577 | I8: 6.30693 | J8: 298.27609 | K8: 4.88339 | L8: 340.14497 | M8: 7.38339
C9: Femmes | D9: 262.55709 | E9: 3.41242 | F9: 163.73025 | G9: 14.49931 | H9: 234.0667 | I9: 5.83492 | J9: 297.96582 | K9: 4.06386 | L9: 335.29466 | M9: 5.36715
B10: Degré tertiaire | C10: Hommes | D10: 290.98585 | E10: 3.07148 | F10: 190.30577 | G10: 16.52999 | H10: 265.11991 | I10: 5.09116 | J10: 326.21721 | K10: 3.97512 | L10: 364.03922 | M10: 5.63384
C11: Femmes | D11: 287.49952 | E11: 3.38319 | F11: 189.82534 | G11: 14.40282 | H11: 261.38047 | I11: 5.19895 | J11: 322.17948 | K11: 4.26184 | L11: 360.78152 | M11: 5.73527
A12: Numératie | B12: École obligatoire | C12: Hommes | D12: 234.1069 | E12: 8.42272 | F12: 111.42762 | G12: 38.08924 | H12: 184.09335 | I12: 15.32002 | J12: 288.18471 | K12: 11.3853 | L12: 341.6749 | M12: 11.47652
C13: Femmes | D13: 223.98977 | E13: 7.5565 | F13: 118.70665 | G13: 14.48996 | H13: 172.85564 | I13: 13.93977 | J13: 274.52502 | K13: 12.57303 | L13: 330.08583 | M13: 16.66988
B14: Degré secondaire II | C14: Hommes | D14: 278.80193 | E14: 3.80052 | F14: 184.48919 | G14: 10.48205 | H14: 245.34232 | I14: 6.90668 | J14: 315.78392 | K14: 4.34524 | L14: 357.70668 | M14: 7.01126
C15: Femmes | D15: 264.99685 | E15: 3.30989 | F15: 171.1003 | G15: 11.83579 | H15: 236.12357 | I15: 6.14248 | J15: 299.98082 | K15: 4.48988 | L15: 339.44386 | M15: 4.78184
B16: Degré tertiaire | C16: Hommes | D16: 310.999 | E16: 2.85826 | F16: 213.37984 | G16: 13.84696 | H16: 285.40194 | I16: 4.24097 | J16: 345.46481 | K16: 3.7239 | L16: 383.93153 | M16: 7.72257
C17: Femmes | D17: 291.20599 | E17: 3.3372 | F17: 196.75742 | G17: 13.29954 | H17: 265.99202 | I17: 4.81114 | J17: 324.73705 | K17: 4.12585 | L17: 363.42443 | M17: 6.66475
A18: Résolution adaptative de problèmes | B18: École obligatoire | C18: Hommes | D18: 222.92875 | E18: 7.68478 | F18: 109.45476 | G18: 22.57532 | H18: 176.0213 | I18: 14.57857 | J18: 275.47875 | K18: 9.92647 | L18: 318.03766 | M18: 11.42954
C19: Femmes | D19: 221.41597 | E19: 7.06112 | F19: 116.69055 | G19: 16.14096 | H19: 176.3924 | I19: 14.77639 | J19: 269.76045 | K19: 9.4743 | L19: 315.35969 | M19: 13.42344
B20: Degré secondaire II | C20: Hommes | D20: 256.13292 | E20: 3.52432 | F20: 167.67974 | G20: 11.34594 | H20: 225.7152 | I20: 5.83755 | J20: 290.39378 | K20: 4.24743 | L20: 328.02151 | M20: 6.52619
C21: Femmes | D21: 253.09324 | E21: 3.15764 | F21: 167.20619 | G21: 9.51234 | H21: 225.86299 | I21: 5.50722 | J21: 285.01792 | K21: 4.17722 | L21: 319.42312 | M21: 4.9218
B22: Degré tertiaire | C22: Hommes | D22: 278.83019 | E22: 2.61409 | F22: 192.26543 | G22: 11.28864 | H22: 255.45792 | I22: 3.873 | J22: 308.83661 | K22: 3.39987 | L22: 344.60077 | M22: 6.3989
C23: Femmes | D23: 271.19247 | E23: 3.24511 | F23: 185.51402 | G23: 12.75519 | H23: 247.63971 | I23: 5.29732 | J23: 301.59561 | K23: 3.26045 | L23: 336.44607 | M23: 5.89907
A24: Remarque: Inclus les personnes qui ont seulement répondu à l'interview courte.
A25: 1Intervalle de confiance à 95%
A26: Source: PIAAC - 2022/23 | M26: © OFS 2024

Sheet G.3.1.6
A1: Domaine d'études de la plus haute formation achevée de niveau tertiaire, selon le sexe et score moyen en numératie
A2: Population résidante permanente agée de 16 à 65 ans | M2: G.3.1.6
B4: Hommes | D4: Femmes | F4: Numératie
F5: Hommes | J5: Femmes
B6: % | C6: ±1 | D6: % | E6: ±1 | F6: Moyenne | H6: ±1 | J6: Moyenne | L6: ±1
A7: Sciences naturelles, mathématiques et statistiques (MINT) | B7: 59.64434 | C7: 8.11173 | D7: 40.35566 | E7: 8.11173 | F7: 335.9519 | H7: 10.79296 | J7: 320.64768 | L7: 11.80037
A8: Ingénierie et industrie de transformation (MINT) | B8: 86.01111 | C8: 4.58771 | D8: 13.98889 | E8: 4.58771 | F8: 325.50136 | H8: 7.08868 | J8: 319.22939 | L8: 13.28848
A9: Technologies de l'information et de la communication (MINT) | B9: 80.98698 | C9: 7.69106 | D9: 19.01302 | E9: 7.69106 | F9: 326.93031 | H9: 9.45157 | J9: 295.06634 | L9: 27.0635
A10: Construction (MINT) | B10: 83.86288 | C10: 6.64648 | D10: 16.13712 | E10: 6.64648 | F10: 307.87316 | H10: 8.47106 | J10: 304.0653 | L10: 16.52448
A11: Droit | B11: 48.1069 | C11: 11.296 | D11: 51.8931 | E11: 11.296 | F11: 323.94083 | H11: 16.24612 | J11: 306.8441 | L11: 16.40833
A12: Sciences sociales et du comportement | B12: 35.34277 | C12: 8.48832 | D12: 64.65723 | E12: 8.48832 | F12: 314.76173 | H12: 13.00319 | J12: 310.6189 | L12: 9.89005
A13: Agriculture, sylviculture, pisciculture, pêche et études environnementales | B13: 72.16599 | C13: 14.21404 | D13: 27.83401 | E13: 14.21404 | F13: 307.61637 | H13: 17.09879 | J13: 304.57178 | L13: 23.92202
A14: Sécurité et transport | B14: 92.67676 | C14: 7.02035 | D14: 7.32324 | E14: 7.02035 | F14: 305.10809 | H14: 14.21638 | J14: 284.63097 | L14: 40.32623
A15: Économie, business et administration | B15: 55.64225 | C15: 4.46919 | D15: 44.35775 | E15: 4.46919 | F15: 310.90394 | H15: 5.3596 | J15: 292.96728 | L15: 7.68306
A16: Éducation et formation des enseignants | B16: 27.05545 | C16: 7.29443 | D16: 72.94455 | E16: 7.29443 | F16: 311.49406 | H16: 13.47259 | J16: 299.35136 | L16: 8.10749
A17: Sciences humaines, langues et arts | B17: 43.68826 | C17: 8.50663 | D17: 56.31174 | E17: 8.50663 | F17: 303.184 | H17: 13.41656 | J17: 294.37801 | L17: 9.05103
A18: Santé | B18: 29.42107 | C18: 6.29368 | D18: 70.57893 | E18: 6.29368 | F18: 319.49792 | H18: 12.50095 | J18: 287.97495 | L18: 7.05556
... A22: Pas de domaine d'étude principal ni de spécialisation, mais une formation de culture générale | B22: 60.91545 | C22: 25.26491 | D22: 39.08455 | E22: 25.26491 | F22: 278.46482 | H22: 53.13702 | J22: 255.98428 | L22: 36.64492
A23: Remarque: N'inclus pas les personnes qui ont seulement répondu à l'interview courte.
A24: 1Intervalle de confiance à 95%
A25: Source: PIAAC - 2022/23 | M25: © OFS 2024

Sheet G.3.1.7a-c
A1: Répartition des scores sur l'échelle de compétences (0 - 500) selon le niveau de formation et l'âge
A2: Population résidante permanente agée de 16 à 65 ans | M2: G.3.1.7a-c
D4: Moyenne | F4: 5e centile | H4: 25e centile | J4: 75e centile | L4: 95e centile
D5: Score | E5: ±1 | F5: Score | G5: ±1 | H5: Score | I5: ±1 | J5: Score | K5: ±1 | L5: Score | M5: ±1
A6: Littératie | B6: École obligatoire | C6: 16-25 ans | D6: 278.53191 | E6: 6.07556 | F6: 186.43696 | G6: 37.53766 | H6: 252.40952 | I6: 8.46318 | J6: 311.62256 | K6: 8.35507 | L6: 349.20403 | M6: 12.86701
C7: 26-35 ans | D7: 200.05036 | E7: 23.70766 | F7: 79.938111 | G7: 47.71667 | H7: 140.4562 | I7: 56.13563 | J7: 253.9563 | K7: 30.40926 | L7: 308.17782 | M7: 73.53444
C8: 36-45 ans | D8: 185.94272 | E8: 14.15541 | F8: 80.856251 | G8: 45.19494 | H8: 149.43228 | I8: 27.85586 | J8: 225.45433 | K8: 21.54344 | L8: 280.22846 | M8: 46.81009
C9: 46-55 ans | D9: 183.26721 | E9: 10.66091 | F9: 103.55557 | G9: 22.68006 | H9: 142.94227 | I9: 17.49241 | J9: 220.08699 | K9: 17.50734 | L9: 271.34552 | M9: 22.5097
C10: 56-65 ans | D10: 189.42659 | E10: 10.43994 | F10: 99.523433 | G10: 22.02017 | H10: 150.33431 | I10: 18.51041 | J10: 225.75541 | K10: 15.83286 | L10: 291.68365 | M10: 51.14725
B11: Degré secondaire II | C11: 16-25 ans | D11: 288.4442 | E11: 6.13336 | F11: 200.5442 | G11: 20.26018 | H11: 261.90434 | I11: 7.65775 | J11: 321.55563 | K11: 6.89554 | L11: 358.36085 | M11: 10.96259
C12: 26-35 ans | D12: 272.58909 | E12: 4.94443 | F12: 182.30325 | G12: 31.35904 | H12: 246.70365 | I12: 8.59895 | J12: 305.20537 | K12: 5.88355 | L12: 338.85123 | M12: 10.3273
C13: 36-45 ans | D13: 256.97812 | E13: 6.54189 | F13: 154.13673 | G13: 27.232 | H13: 220.81434 | I13: 10.62089 | J13: 295.89188 | K13: 7.12688 | L13: 335.54262 | M13: 12.07159
C14: 46-55 ans | D14: 256.03004 | E14: 5.31206 | F14: 164.62715 | G14: 22.41016 | H14: 226.47313 | I14: 9.60147 | J14: 290.9917 | K14: 6.11805 | L14: 329.33702 | M14: 10.8809
C15: 56-65 ans | D15: 243.96558 | E15: 4.72227 | F15: 157.73656 | G15: 12.53925 | H15: 214.81845 | I15: 8.45578 | J15: 277.98489 | K15: 5.50103 | L15: 313.57777 | M15: 9.91
B16: Degré tertiaire | C16: 16-25 ans | D16: 305.01912 | E16: 10.78316 | F16: 229.85259 | G16: 83.41449 | H16: 282.18118 | I16: 18.44303 | J16: 334.66193 | K16: 9.16753 | L16: 366.3571 | M16: 21.05817
C17: 26-35 ans | D17: 300.14059 | E17: 4.91329 | F17: 197.67971 | G17: 28.09019 | H17: 277.01687 | I17: 7.35336 | J17: 334.64867 | K17: 5.19525 | L17: 372.30616 | M17: 7.62118
C18: 36-45 ans | D18: 294.07345 | E18: 4.01628 | F18: 183.85142 | G18: 25.99732 | H18: 268.75802 | I18: 7.60308 | J18: 330.07482 | K18: 4.50494 | L18: 368.14777 | M18: 8.28708
C19: 46-55 ans | D19: 284.32031 | E19: 4.99895 | F19: 190.5159 | G19: 29.13598 | H19: 258.66621 | I19: 7.22796 | J19: 318.9161 | K19: 5.38644 | L19: 352.79894 | M19: 7.97613
C20: 56-65 ans | D20: 272.33586 | E20: 4.23638 | F20: 187.81745 | G20: 18.56663 | H20: 248.54539 | I20: 6.89217 | J20: 303.35352 | K20: 5.31557 | L20: 338.14979 | M20: 8.33912
A21: Numératie | B21: École obligatoire | C21: 16-25 ans | D21: 279.71528 | E21: 6.25665 | F21: 194.11274 | G21: 20.22194 | H21: 250.07206 | I21: 10.35149 | J21: 313.81809 | K21: 7.88706 | L21: 353.38181 | M21: 10.36134
C22: 26-35 ans | D22: 203.12119 | E22: 25.39816 | F22: 73.15437 | G22: 58.45832 | H22: 154.20675 | I22: 44.53004 | J22: 255.11044 | K22: 28.47205 | L22: 308.82277 | M22: 88.88165
C23: 36-45 ans | D23: 193.14891 | E23: 16.01117 | F23: 65.613428 | G23: 154.09482 | H23: 153.07775 | I23: 27.87422 | J23: 243.51887 | K23: 23.2241 | L23: 285.61889 | M23: 44.44358
C24: 46-55 ans | D24: 188.38267 | E24: 11.9019 | F24: 111.34859 | G24: 22.48812 | H24: 147.32926 | I24: 19.88289 | J24: 226.44208 | K24: 18.15544 | L24: 273.29413 | M24: 29.83493
C25: 56-65 ans | D25: 196.88011 | E25: 10.81276 | F25: 106.26237 | G25: 44.82325 | H25: 159.20142 | I25: 17.99679 | J25: 237.47203 | K25: 19.52884 | L25: 286.94169 | M25: 30.61322
B26: Degré secondaire II | C26: 16-25 ans | D26: 294.54594 | E26: 5.55687 | F26: 208.85936 | G26: 15.88786 | H26: 265.50938 | I26: 8.98625 | J26: 328.69251 | K26: 6.72573 | L26: 367.60883 | M26: 12.2397
C27: 26-35 ans | D27: 280.03499 | E27: 5.22151 | F27: 188.54113 | G27: 24.13673 | H27: 249.70247 | I27: 9.81353 | J27: 314.40719 | K27: 6.2274 | L27: 353.70072 | M27: 10.5315
C28: 36-45 ans | D28: 265.52626 | E28: 6.35359 | F28: 167.49579 | G28: 18.76118 | H28: 232.02471 | I28: 12.42417 | J28: 304.63358 | K28: 7.30038 | L28: 345.99235 | M28: 10.88258
C29: 46-55 ans | D29: 265.42436 | E29: 5.34245 | F29: 169.16936 | G29: 21.45406 | H29: 235.85065 | I29: 7.64295 | J29: 300.78503 | K29: 5.65941 | L29: 340.312 | M29: 10.41657
C30: 56-65 ans | D30: 258.79659 | E30: 4.17423 | F30: 175.23074 | G30: 14.03415 | H30: 230.36909 | I30: 8.13841 | J30: 290.80347 | K30: 5.58173 | L30: 330.34774 | M30: 9.66548
B31: Degré tertiaire | C31: 16-25 ans | D31: 312.50239 | E31: 10.51751 | F31: 219.2383 | G31: 51.95634 | H31: 288.57697 | I31: 16.00105 | J31: 342.14549 | K31: 11.20788 | L31: 379.98489 | M31: 20.39767
C32: 26-35 ans | D32: 310.66861 | E32: 5.10149 | F32: 216.05483 | G32: 19.33611 | H32: 284.80654 | I32: 6.33666 | J32: 344.25753 | K32: 6.10312 | L32: 385.09854 | M32: 12.00068
C33: 36-45 ans | D33: 303.64227 | E33: 4.11338 | F33: 201.35482 | G33: 20.13078 | H33: 276.02456 | I33: 7.60292 | J33: 341.44854 | K33: 4.8243 | L33: 380.67675 | M33: 9.68365
C34: 46-55 ans | D34: 298.10222 | E34: 4.73251 | F34: 203.27072 | G34: 20.27658 | H34: 271.31475 | I34: 7.06585 | J34: 332.64872 | K34: 5.7485 | L34: 369.23123 | M34: 9.0697
C35: 56-65 ans | D35: 291.19979 | E35: 4.37947 | F35: 197.91549 | G35: 22.76612 | H35: 265.50329 | I35: 8.18151 | J35: 323.70838 | K35: 5.17709 | L35: 363.69842 | M35: 9.69127
A36: Résolution adaptative de problèmes | B36: École obligatoire | C36: 16-25 ans | D36: 270.25565 | E36: 5.81702 | F36: 195.16775 | G36: 23.45023 | H36: 245.53885 | I36: 7.95077 | J36: 299.3784 | K36: 8.85818 | L36: 331.53139 | M36: 9.22539
C37: 26-35 ans | D37: 201.29899 | E37: 20.35782 | F37: 104.70704 | G37: 48.67782 | H37: 160.1099 | I37: 35.38422 | J37: 244.92009 | K37: 26.91873 | L37: 296.11813 | M37: 39.8156
C38: 36-45 ans | D38: 188.01466 | E38: 11.86035 | F38: 77.545284 | G38: 66.35595 | H38: 152.29012 | I38: 28.0318 | J38: 225.21088 | K38: 15.73907 | L38: 267.99311 | M38: 29.12804
C39: 46-55 ans | D39: 186.47537 | E39: 12.09354 | F39: 107.79257 | G39: 18.95145 | H39: 147.68437 | I39: 20.92275 | J39: 220.67689 | K39: 19.79204 | L39: 278.79559 | M39: 29.50319
C40: 56-65 ans | D40: 187.67619 | E40: 10.35127 | F40: 101.23341 | G40: 34.04759 | H40: 153.54004 | I40: 18.31002 | J40: 226.03537 | K40: 16.27986 | L40: 272.10939 | M40: 25.00007
B41: Degré secondaire II | C41: 16-25 ans | D41: 280.56119 | E41: 4.75522 | F41: 207.82476 | G41: 16.65607 | H41: 257.75936 | I41: 6.73507 | J41: 308.59264 | K41: 6.8815 | L41: 341.41827 | M41: 8.85318
C42: 26-35 ans | D42: 267.4226 | E42: 4.61794 | F42: 188.4764 | G42: 20.79765 | H42: 243.78594 | I42: 8.69753 | J42: 297.02988 | K42: 6.61377 | L42: 330.18592 | M42: 11.87077
C43: 36-45 ans | D43: 250.2008 | E43: 6.14608 | F43: 158.74572 | G43: 19.51489 | H43: 220.47854 | I43: 11.25055 | J43: 284.80962 | K43: 7.09906 | L43: 319.09923 | M43: 10.41181
C44: 46-55 ans | D44: 247.14921 | E44: 4.6531 | F44: 165.73516 | G44: 12.94355 | H44: 220.2931 | I44: 7.64869 | J44: 278.89224 | K44: 6.19867 | L44: 312.65027 | M44: 8.71731
C45: 56-65 ans | D45: 235.70192 | E45: 4.83982 | F45: 158.13998 | G45: 14.90137 | H45: 209.6525 | I45: 8.6523 | J45: 266.47766 | K45: 5.15782 | L45: 299.07209 | M45: 8.01685
B46: Degré tertiaire | C46: 16-25 ans | D46: 291.36716 | E46: 9.81295 | F46: 216.60312 | G46: 43.46742 | H46: 271.04106 | I46: 16.36595 | J46: 316.83727 | K46: 11.03823 | L46: 349.56862 | M46: 23.60115
C47: 26-35 ans | D47: 286.88942 | E47: 4.29042 | F47: 201.99701 | G47: 18.39811 | H47: 265.68075 | I47: 5.73673 | J47: 315.2954 | K47: 5.27919 | L47: 352.63706 | M47: 11.03819
C48: 36-45 ans | D48: 278.35474 | E48: 4.23359 | F48: 183.26073 | G48: 17.12171 | H48: 256.27858 | I48: 6.49404 | J48: 309.53463 | K48: 5.29262 | L48: 344.63798 | M48: 8.18444
C49: 46-55 ans | D49: 269.73454 | E49: 3.75621 | F49: 183.85476 | G49: 18.21782 | H49: 246.25852 | I49: 6.74721 | J49: 300.27933 | K49: 4.33693 | L49: 331.43558 | M49: 6.90986
C50: 56-65 ans | D50: 260.07633 | E50: 3.76245 | F50: 186.44004 | G50: 17.5212 | H50: 236.513 | I50: 6.71197 | J50: 288.44667 | K50: 4.80043 | L50: 320.95653 | M50: 9.35656
A51: Remarque: Inclus les personnes qui ont seulement répondu à l'interview courte.
A52: 1Intervalle de confiance à 95%
A53: Source: PIAAC - 2022/23 | M53: © OFS 2024

Sheet G.3.1.8
A1: Répartition en pourcentage des niveaux de compétences selon le statut sur le marché du travail
A2: Population résidante permanente agée de 16 à 65 ans | N2: G.3.1.8
C4: Niveau inférieur à 1 | E4: Niveau 1 | G4: Niveau 2 | I4: Niveau 3 | K4: Niveau 4 | M4: Niveau 5
C5: % | D5: ±1 | E5: % | F5: ±1 | G5: % | H5: ±1 | I5: % | J5: ±1 | K5: % | L5: ±1 | M5: % | N5: ±1
A6: Littératie | B6: Personnes actives occupées | C6: 5.69255 | D6: 0.89609 | E6: 12.06834 | F6: 1.36148 | G6: 28.51218 | H6: 1.84674 | I6: 38.2206 | J6: 1.80024 | K6: 14.22646 | L6: 1.37782 | M6: 1.27988 | N6: 0.41008
B7: Personnes au chômage | C7: 10.20081 | D7: 7.20085 | E7: 24.35064 | F7: 9.7167 | G7: 32.57477 | H7: 10.10559 | I7: 27.0575 | J7: 8.15672 | K7: 5.16002 | L7: 4.41836 | M7: 0.65626 | N7: 1.0677
B8: Personnes non actives | C8: 11.14557 | D8: 3.2799 | E8: 16.91926 | F8: 3.86266 | G8: 28.77528 | H8: 4.15285 | I8: 30.88773 | J8: 5.03624 | K8: 11.26191 | L8: 3.15013 | M8: 1.01024 | N8: 0.87072
A9: Numératie | B9: Personnes actives occupées | C9: 4.44902 | D9: 0.86449 | E9: 10.20321 | F9: 1.41088 | G9: 25.04254 | H9: 1.65942 | I9: 37.50505 | J9: 2.09407 | K9: 19.84383 | L9: 1.62835 | M9: 2.95635 | N9: 0.66149
B10: Personnes au chômage | C10: 7.09299 | D10: 6.73281 | E10: 24.89695 | F10: 11.90738 | G10: 33.47062 | H10: 13.52014 | I10: 27.58561 | J10: 8.92195 | K10: 5.81945 | L10: 4.5978 | M10: 1.13439 | N10: 1.52307
B11: Personnes non actives | C11: 9.75456 | D11: 2.87442 | E11: 13.77522 | F11: 3.99277 | G11: 28.92021 | H11: 4.1313 | I11: 32.53167 | J11: 4.15141 | K11: 13.33732 | L11: 2.57149 | M11: 1.68102 | N11: 1.34006
A12: Résolution adaptative de problèmes | B12: Personnes actives occupées | C12: 5.2716 | D12: 0.97295 | E12: 14.07365 | F12: 1.56981 | G12: 36.43319 | H12: 2.07874 | I12: 36.76232 | J12: 1.5252 | K12: 7.45924 | L12: 0.90773 | M12: n.a | N12: n.a
B13: Personnes au chômage | C13: 10.35332 | D13: 7.29543 | E13: 30.95443 | F13: 10.65948 | G13: 36.14815 | H13: 11.16123 | I13: 20.2231 | J13: 9.1857 | K13: 2.32099 | L13: 2.67182 | M13: n.a | N13: n.a
B14: Personnes non actives | C14: 11.9576 | D14: 3.32351 | E14: 22.13859 | F14: 4.29626 | G14: 33.33658 | H14: 4.30088 | I14: 26.96374 | J14: 4.01994 | K14: 5.6035 | L14: 2.19892 | M14: n.a | N14: n.a
A15: Remarque: N'inclus pas les personnes qui ont seulement répondu à l'interview courte.
A16: 1Intervalle de confiance à 95%
A17: n.a.: ne s'applique pas
A18: Source: PIAAC - 2022/23 | N18: © OFS 2024

Sheet G.3.2.1
A1: Répartition en pourcentage des niveaux de compétences selon la région d'origine
A2: Population résidante permanente agée de 16 à 65 ans | O2: G.3.2.1
D4: Niveau inférieur à 1 | F4: Niveau 1 | H4: Niveau 2 | J4: Niveau 3 | L4: Niveau 4 | N4: Niveau 5
D5: % | E5: ±1 | F5: % | G5: ±1 | H5: % | I5: ±1 | J5: % | K5: ±1 | L5: % | M5: ±1 | N5: % | O5: ±1
A6: Littératie | B6: Nationalité suisse ou nés en Suisse | D6: 4.21631 | E6: 0.81829 | F6: 10.68934 | G6: 1.27255 | H6: 28.9292 | I6: 1.85221 | J6: 40.02217 | K6: 1.86942 | L6: 14.84793 | M6: 1.25476 | N6: 1.29505 | O6: 0.43276
B7: Immigrés | C7: Pays voisin | D7: 7.27044 | E7: 3.56728 | F7: 11.54726 | G7: 4.03244 | H7: 23.75843 | I7: 4.91424 | J7: 39.21961 | K7: 6.14388 | L7: 16.29571 | M7: 4.16886 | N7: 1.90855 | O7: 1.51526
C8: Autre pays de l'UE27+AELE | D8: 25.04292 | E8: 4.84449 | F8: 24.55928 | G8: 6.15043 | H8: 28.86744 | I8: 6.64936 | J8: 16.51508 | K8: 5.03922 | L8: 4.56955 | M8: 2.65461 | N8: 0.44574 | O8: 0.99875
C9: Reste du monde | D9: 40.4625 | E9: 6.2015 | F9: 27.42178 | G9: 6.56056 | H9: 21.83557 | I9: 7.23262 | J9: 8.87097 | K9: 3.91043 | L9: 1.34338 | M9: 1.39379 | N9: 0.06581 | O9: 0.21322
A10: Numératie | B10: Nationalité suisse ou nés en Suisse | D10: 3.30193 | E10: 0.71027 | F10: 9.11832 | G10: 1.37611 | H10: 24.9195 | I10: 1.70907 | J10: 39.39089 | K10: 1.96472 | L10: 20.39806 | M10: 1.52277 | N10: 2.87129 | O10: 0.66166
B11: Immigrés | C11: Pays voisin | D11: 5.8588 | E11: 3.32726 | F11: 10.54742 | G11: 4.10406 | H11: 22.30724 | I11: 5.5601 | J11: 35.96215 | K11: 6.62868 | L11: 21.03349 | M11: 5.22357 | N11: 4.2909 | O11: 2.2868
C12: Autre pays de l'UE27+AELE | D12: 21.4374 | E12: 4.95864 | F12: 21.14341 | G12: 6.35676 | H12: 30.24946 | I12: 6.14252 | J12: 20.06987 | K12: 5.56988 | L12: 6.27775 | M12: 3.18391 | N12: 0.82211 | O12: 1.46863
C13: Reste du monde | D13: 32.5319 | E13: 6.09866 | F13: 26.24184 | G13: 6.78375 | H13: 27.31902 | I13: 6.56025 | J13: 11.59901 | K13: 4.56894 | L13: 2.08111 | M13: 2.33534 | N13: 0.22711 | O13: 0.43284
A14: Résolution adaptative de problèmes | B14: Nationalité suisse ou nés en Suisse | D14: 4.37427 | E14: 0.84455 | F14: 12.95404 | G14: 1.42973 | H14: 36.81715 | I14: 2.27503 | J14: 38.13107 | K14: 1.72353 | L14: 7.72347 | M14: 1.06517 | N14: n.a | O14: n.a
B15: Immigrés | C15: Pays voisin | D15: 6.87773 | E15: 3.5109 | F15: 13.87726 | G15: 4.28366 | H15: 33.80909 | I15: 5.82812 | J15: 37.35183 | K15: 6.62432 | L15: 8.08409 | M15: 3.18962 | N15: n.a | O15: n.a
C16: Autre pays de l'UE27+AELE | D16: 22.43113 | E16: 5.3115 | F16: 29.33429 | G16: 7.4879 | H16: 32.26073 | I16: 6.79296 | J16: 13.21153 | K16: 4.56719 | L16: 2.76232 | M16: 2.36079 | N16: n.a | O16: n.a
C17: Reste du monde | D17: 35.79293 | E17: 7.79114 | F17: 33.63741 | G17: 8.56986 | H17: 21.55904 | I17: 6.69524 | J17: 8.2226 | K17: 4.25132 | L17: 0.78801 | M17: 1.08618 | N17: n.a | O17: n.a
A18: Remarque: Inclus les personnes qui ont seulement répondu à l'interview courte. N'inclus pas les apatrides.
A19: 1Intervalle de confiance à 95%
A20: n.a.: ne s'applique pas
A21: Source: PIAAC - 2022/23 | O21: © OFS 2024

Sheet G.3.2.2
A1: Répartition en pourcentage des niveaux de compétences selon les profils migratoire et linguistique
A2: Population résidante permanente agée de 16 à 65 ans | O2: G.3.2.2
D4: Niveau inférieur à 1 | F4: Niveau 1 | H4: Niveau 2 | J4: Niveau 3 | L4: Niveau 4 | N4: Niveau 5
D5: % | E5: ±1 | F5: % | G5: ±1 | H5: % | I5: ±1 | J5: % | K5: ±1 | L5: % | M5: ±1 | N5: % | O5: ±1
A6: Littératie | B6: Nationalité suisse ou nés en Suisse | C6: Homoglottes | D6: 2.43018 | E6: 0.72697 | F6: 9.64432 | G6: 1.26244 | H6: 28.7674 | I6: 1.9956 | J6: 41.83704 | K6: 2.04515 | L6: 15.90589 | M6: 1.32771 | N6: 1.41516 | O6: 0.48276
C7: Alloglottes | D7: 19.06532 | E7: 4.84726 | F7: 19.37712 | G7: 5.59933 | H7: 30.2743 | I7: 5.6224 | J7: 24.93427 | K7: 5.21021 | L7: 6.05253 | M7: 2.32781 | N7: 0.29646 | O7: 0.5209
B8: Immigrés | C8: Homoglottes | D8: 8.11254 | E8: 3.83846 | F8: 13.78257 | G8: 4.8752 | H8: 26.1762 | I8: 5.42459 | J8: 35.16224 | K8: 5.69036 | L8: 14.99006 | M8: 3.74125 | N8: 1.77639 | O8: 1.31584
C9: Alloglottes | D9: 35.62177 | E9: 4.31082 | F9: 25.84082 | G9: 4.80511 | H9: 23.14172 | I9: 4.84026 | J9: 12.72858 | K9: 2.88418 | L9: 2.48926 | M9: 1.45142 | N9: 0.17786 | O9: 0.38535
A10: Numératie | B10: Nationalité suisse ou nés en Suisse | C10: Homoglottes | D10: 1.85057 | E10: 0.65055 | F10: 7.61761 | G10: 1.17026 | H10: 24.79766 | I10: 1.70868 | J10: 40.95092 | K10: 2.09312 | L10: 21.67116 | M10: 1.67691 | N10: 3.11209 | O10: 0.74633
C11: Alloglottes | D11: 15.36791 | E11: 4.59549 | F11: 21.59454 | G11: 6.55534 | H11: 25.93242 | I11: 5.81246 | J11: 26.42157 | K11: 5.51829 | L11: 9.81413 | M11: 2.97028 | N11: 0.86943 | O11: 1.0495
B12: Immigrés | C12: Homoglottes | D12: 7.24197 | E12: 3.5597 | F12: 11.0465 | G12: 3.72879 | H12: 26.37219 | I12: 5.17311 | J12: 32.81672 | K12: 6.12588 | L12: 18.76901 | M12: 4.87399 | N12: 3.75361 | O12: 1.98344
C13: Alloglottes | D13: 28.70338 | E13: 4.3914 | F13: 24.87094 | G13: 5.73828 | H13: 26.14247 | I13: 4.89504 | J13: 15.71224 | K13: 3.54938 | L13: 4.03272 | M13: 2.13655 | N13: 0.53825 | O13: 0.83918
A14: Résolution adaptative de problèmes | B14: Nationalité suisse ou nés en Suisse | C14: Homoglottes | D14: 2.64612 | E14: 0.81498 | F14: 11.7531 | G14: 1.34171 | H14: 37.13477 | I14: 2.46404 | J14: 40.19469 | K14: 1.8194 | L14: 8.27131 | M14: 1.15087 | N14: n.a | O14: n.a
C15: Alloglottes | D15: 18.74123 | E15: 4.55547 | F15: 22.9381 | G15: 5.82909 | H15: 34.17664 | I15: 5.48581 | J15: 20.97508 | K15: 4.98956 | L15: 3.16896 | M15: 1.84196 | N15: n.a | O15: n.a
B16: Immigrés | C16: Homoglottes | D16: 7.67139 | E16: 3.91577 | F16: 16.8518 | G16: 5.01682 | H16: 33.86529 | I16: 5.52026 | J16: 34.23239 | K16: 6.12926 | L16: 7.37912 | M16: 3.11014 | N16: n.a | O16: n.a
C17: Alloglottes | D17: 31.55432 | E17: 5.06405 | F17: 31.07906 | G17: 6.15878 | H17: 25.55219 | I17: 4.79647 | J17: 10.22544 | K17: 3.00885 | L17: 1.58899 | M17: 1.3339 | N17: n.a | O17: n.a
A18: Remarque: Inclus les personnes qui ont seulement répondu à l'interview courte dans la catégorie alloglottes.
A19: 1Intervalle de confiance à 95%
A20: n.a.: ne s'applique pas
A21: Source: PIAAC - 2022/23 | O21: © OFS 2024

Sheet G.3.2.3a-b
A1: Répartition des scores sur l'échelle de compétences (0 - 500) selon les profils migratoire et linguistique et le niveau de formation
A2: Population résidante permanente agée de 16 à 65 ans | N2: G.3.2.3a-b
E4: Moyenne | G4: 5e centile | I4: 25e centile | K4: 75e centile | M4: 95e centile
E5: Score | F5: ±1 | G5: Score | H5: ±1 | I5: Score | J5: ±1 | K5: Score | L5: ±1 | M5: Score | N5: ±1
A6: Littératie | B6: École obligatoire | C6: Nationalité suisse ou nés en Suisse | D6: Homoglottes | E6: 265.14215 | F6: 6.43987 | G6: 167.01936 | H6: 16.84152 | I6: 228.07536 | J6: 12.2662 | K6: 305.12651 | L6: 7.92597 | M6: 344.79813 | N6: 14.27835
D7: Alloglottes | E7: 203.75114 | F7: 15.55498 | G7: 104.47962 | H7: 27.02237 | I7: 152.18407 | J7: 26.89107 | K7: 254.99244 | L7: 21.1318 | M7: 309.1483 | N7: 30.58814
C8: Immigrés | D8: Homoglottes | E8: 208.69681 | F8: 21.91154 | G8: 110.4835 | H8: 30.02619 | I8: 149.96816 | J8: 36.16428 | K8: 258.16537 | L8: 39.18046 | M8: 331.14566 | N8: 49.52201
D9: Alloglottes | E9: 177.49415 | F9: 9.72945 | G9: 75.719878 | H9: 24.14784 | I9: 133.91008 | J9: 15.33329 | K9: 223.43946 | L9: 16.43415 | M9: 274.29746 | N9: 21.81716
B10: Degré secondaire II | C10: Nationalité suisse ou nés en Suisse | D10: Homoglottes | E10: 271.67881 | F10: 2.43683 | G10: 190.42082 | H10: 7.58052 | I10: 243.5227 | J10: 4.46128 | K10: 302.85078 | L10: 2.97088 | M10: 340.28507 | N10: 5.04887
D11: Alloglottes | E11: 249.04903 | F11: 9.8103 | G11: 145.18016 | H11: 26.67873 | I11: 211.74953 | J11: 23.91536 | K11: 287.57309 | L11: 12.04709 | M11: 333.3558 | N11: 22.80275
C12: Immigrés | D12: Homoglottes | E12: 255.45375 | F12: 8.30627 | G12: 182.78899 | H12: 17.43066 | I12: 219.99752 | J12: 15.68501 | K12: 288.5348 | L12: 12.73786 | M12: 332.84185 | N12: 18.68956
D13: Alloglottes | E13: 203.81333 | F13: 8.5362 | G13: 106.64141 | H13: 17.55831 | I13: 161.39989 | J13: 17.77976 | K13: 243.32076 | L13: 12.86605 | M13: 295.25046 | N13: 18.76054
B14: Degré tertiaire | C14: Nationalité suisse ou nés en Suisse | D14: Homoglottes | E14: 300.71458 | F14: 2.24798 | G14: 230.08301 | H14: 6.10989 | I14: 274.70899 | J14: 3.85982 | K14: 328.94694 | L14: 2.74279 | M14: 365.32119 | N14: 4.38015
D15: Alloglottes | E15: 260.47858 | F15: 9.1903 | G15: 143.69016 | H15: 49.49788 | I15: 230.00331 | J15: 17.71233 | K15: 301.53712 | L15: 9.79103 | M15: 340.2442 | N15: 16.21285
C16: Immigrés | D16: Homoglottes | E16: 297.85353 | F16: 5.56984 | G16: 221.83962 | H16: 19.84489 | I16: 272.8975 | J16: 8.27142 | K16: 326.96282 | L16: 7.18714 | M16: 366.64318 | N16: 12.14986
D17: Alloglottes | E17: 231.49812 | F17: 9.43862 | G17: 103.89925 | H17: 20.16954 | I17: 178.22681 | J17: 17.34429 | K17: 288.43733 | L17: 12.06358 | M17: 335.21302 | N17: 16.31761
A18: Numératie | B18: École obligatoire | C18: Nationalité suisse ou nés en Suisse | D18: Homoglottes | E18: 264.58464 | F18: 6.4208 | G18: 167.74251 | H18: 17.84328 | I18: 227.67509 | J18: 12.57742 | K18: 306.37232 | L18: 9.06297 | M18: 348.13083 | N18: 11.84517
D19: Alloglottes | E19: 211.03723 | F19: 14.65939 | G19: 114.867 | H19: 31.68642 | I19: 164.2533 | J19: 25.00281 | K19: 257.40314 | L19: 25.15997 | M19: 316.1234 | N19: 29.21638
C20: Immigrés | D20: Homoglottes | E20: 211.92569 | F20: 23.33435 | G20: 111.83923 | H20: 87.09125 | I20: 155.31052 | J20: 37.63895 | K20: 266.43428 | L20: 37.07616 | M20: 331.73256 | N20: 71.10495
D21: Alloglottes | E21: 187.47703 | F21: 10.95847 | G21: 82.011575 | H21: 37.37523 | I21: 144.86777 | J21: 14.72274 | K21: 238.09773 | L21: 18.05233 | M21: 284.45851 | N21: 17.41947
B22: Degré secondaire II | C22: Nationalité suisse ou nés en Suisse | D22: Homoglottes | E22: 281.32237 | F22: 2.35399 | G22: 202.89206 | H22: 7.97984 | I22: 251.93661 | J22: 4.2655 | K22: 313.11132 | L22: 3.41311 | M22: 352.40799 | N22: 5.05139
D23: Alloglottes | E23: 258.06614 | F23: 10.4938 | G23: 162.78323 | H23: 18.56747 | I23: 218.20469 | J23: 23.77796 | K23: 296.69839 | L23: 12.50025 | M23: 344.98258 | N23: 24.23741
C24: Immigrés | D24: Homoglottes | E24: 264.20508 | F24: 8.67761 | G24: 187.05574 | H24: 24.95397 | I24: 232.3175 | J24: 15.45338 | K24: 296.88635 | L24: 15.00295 | M24: 345.58781 | N24: 23.52638
D25: Alloglottes | E25: 213.78417 | F25: 8.56982 | G25: 106.6672 | H25: 29.28448 | I25: 176.80408 | J25: 15.51937 | K25: 254.2384 | L25: 12.93035 | M25: 302.94789 | N25: 18.2604
B26: Degré tertiaire | C26: Nationalité suisse ou nés en Suisse | D26: Homoglottes | E26: 313.28413 | F26: 2.15942 | G26: 242.49912 | H26: 6.73234 | I26: 286.68676 | J26: 2.86815 | K26: 341.54722 | L26: 3.01509 | M26: 379.55975 | N26: 5.65164
D27: Alloglottes | E27: 272.3196 | F27: 8.97344 | G27: 168.33613 | H27: 39.9032 | I27: 231.77231 | J27: 16.38765 | K27: 314.10275 | L27: 13.82165 | M27: 357.95474 | N27: 18.81595
C28: Immigrés | D28: Homoglottes | E28: 307.17306 | F28: 6.05881 | G28: 227.178 | H28: 18.32935 | I28: 278.45009 | J28: 8.08618 | K28: 339.64962 | L28: 9.74412 | M28: 379.21602 | N28: 13.23683
D29: Alloglottes | E29: 248.4964 | F29: 9.26718 | G29: 118.81361 | H29: 18.49915 | I29: 198.24912 | J29: 17.24045 | K29: 303.71883 | L29: 12.93149 | M29: 352.1567 | N29: 21.43682
A30: Résolution adaptative de problèmes | B30: École obligatoire | C30: Nationalité suisse ou nés en Suisse | D30: Homoglottes | E30: 256.34037 | F30: 6.21406 | G30: 161.34883 | H30: 20.4781 | I30: 225.38181 | J30: 11.07838 | K30: 292.66237 | L30: 7.13449 | M30: 327.69521 | N30: 8.61808
D31: Alloglottes | E31: 202.48939 | F31: 14.03367 | G31: 108.24131 | H31: 22.41425 | I31: 158.16288 | J31: 27.31422 | K31: 246.58499 | L31: 20.7634 | M31: 302.58052 | N31: 34.49676
C32: Immigrés | D32: Homoglottes | E32: 206.22173 | F32: 18.58743 | G32: 113.14333 | H32: 42.63804 | I32: 158.57413 | J32: 44.02666 | K32: 251.34056 | L32: 28.44862 | M32: 312.38561 | N32: 41.83446
D33: Alloglottes | E33: 183.59696 | F33: 10.24688 | G33: 89.999599 | H33: 32.71345 | I33: 143.38937 | J33: 19.30164 | K33: 222.42921 | L33: 15.12398 | M33: 273.87636 | N33: 19.76575
B34: Degré secondaire II | C34: Nationalité suisse ou nés en Suisse | D34: Homoglottes | E34: 262.67274 | F34: 2.35947 | G34: 188.49411 | H34: 8.34206 | I34: 236.75183 | J34: 3.72344 | K34: 291.53722 | L34: 3.75758 | M34: 326.22542 | N34: 4.84095
D35: Alloglottes | E35: 243.84113 | F35: 10.09165 | G35: 157.40953 | H35: 19.31536 | I35: 202.65127 | J35: 22.02939 | K35: 280.0008 | L35: 11.54772 | M35: 317.37125 | N35: 19.14643
C36: Immigrés | D36: Homoglottes | E36: 249.73698 | F36: 8.84262 | G36: 174.77085 | H36: 23.76568 | I36: 217.60753 | J36: 14.31456 | K36: 282.85323 | L36: 13.38093 | M36: 323.5832 | N36: 20.00532
D37: Alloglottes | E37: 205.30537 | F37: 8.08334 | G37: 111.82394 | H37: 23.45354 | I37: 169.45106 | J37: 14.25584 | K37: 243.54674 | L37: 12.63034 | M37: 286.37082 | N37: 15.7419
B38: Degré tertiaire | C38: Nationalité suisse ou nés en Suisse | D38: Homoglottes | E38: 285.18635 | F38: 2.1273 | G38: 221.17532 | H38: 5.52491 | I38: 262.11845 | J38: 2.94091 | K38: 309.95347 | L38: 2.78987 | M38: 344.17178 | N38: 5.47484
D39: Alloglottes | E39: 248.62972 | F39: 8.00246 | G39: 151.58655 | H39: 36.73092 | I39: 220.06746 | J39: 16.92996 | K39: 283.96448 | L39: 10.34347 | M39: 323.85239 | N39: 20.41017
C40: Immigrés | D40: Homoglottes | E40: 280.58803 | F40: 5.1528 | G40: 207.20655 | H40: 22.65287 | I40: 259.02902 | J40: 7.28315 | K40: 306.12334 | L40: 6.12124 | M40: 341.91811 | N40: 10.55458
D41: Alloglottes | E41: 228.44522 | F41: 8.46435 | G41: 122.72216 | H41: 20.48922 | I41: 185.19236 | J41: 13.24387 | K41: 274.0774 | L41: 12.46978 | M41: 320.30688 | N41: 19.17779
A42: Remarque: Inclus les personnes qui ont seulement répondu à l'interview courte dans la catégorie alloglottes.
A43: 1Intervalle de confiance à 95%
A44: Source: PIAAC - 2022/23 | N44: © OFS 2024

Sheet G.3.2.4a-b
A1: Répartition des scores sur l'échelle de compétences (0 - 500) selon les profils migratoire et linguistique et le lieu d'obtention du diplôme le plus élevé
A2: Population résidante permanente agée de 16 à 65 ans | N2: G.3.2.4a-b
E4: Moyenne | G4: 5e centile | I4: 25e centile | K4: 75e centile | M4: 95e centile
E5: Score | F5: ±1 | G5: Score | H5: ±1 | I5: Score | J5: ±1 | K5: Score | L5: ±1 | M5: Score | N5: ±1
A6: Littératie | B6: Diplôme obtenu en Suisse | C6: Nationalité suisse ou nés en Suisse | D6: Homoglottes | E6: 283.03283 | F6: 1.57403 | G6: 198.73791 | H6: 6.79414 | I6: 254.49769 | J6: 2.73071 | K6: 315.21585 | L6: 2.10349 | M6: 354.78506 | N6: 3.64893
D7: Alloglottes | E7: 264.25563 | F7: 7.38485 | G7: 163.71987 | H7: 40.77657 | I7: 235.48346 | J7: 13.95359 | K7: 300.10046 | L7: 9.58612 | M7: 339.67048 | N7: 12.2281
C8: Immigrés | D8: Homoglottes | E8: 276.72031 | F8: 13.94661 | G8: 180.43433 | H8: 86.23823 | I8: 246.31862 | J8: 20.30395 | K8: 313.15055 | L8: 14.76176 | M8: 358.9083 | N8: 23.49958
D9: Alloglottes | E9: 238.5176 | F9: 9.48044 | G9: 151.18327 | H9: 28.89376 | I9: 207.33574 | J9: 13.54034 | K9: 274.71162 | L9: 16.90007 | M9: 316.13119 | N9: 18.10024
B10: Diplôme obtenu à l'étranger | C10: Nationalité suisse ou nés en Suisse | D10: Homoglottes | E10: 275.24114 | F10: 8.20165 | G10: 163.9486 | H10: 28.0951 | I10: 248.07846 | J10: 14.88712 | K10: 315.76364 | L10: 9.51281 | M10: 350.09787 | N10: 13.56267
D11: Alloglottes | E11: 213.56206 | F11: 10.69682 | G11: 116.48846 | H11: 22.17293 | I11: 171.39308 | J11: 17.47305 | K11: 260.31571 | L11: 14.00356 | M11: 312.17863 | N11: 20.49264
C12: Immigrés | D12: Homoglottes | E12: 268.52353 | F12: 7.89892 | G12: 146.01598 | H12: 33.9491 | I12: 229.08772 | J12: 17.69256 | K12: 312.69913 | L12: 6.60985 | M12: 356.04736 | N12: 10.94012
D13: Alloglottes | E13: 216.86417 | F13: 8.05384 | G13: 115.63218 | H13: 18.60604 | I13: 171.85595 | J13: 12.81036 | K13: 259.41489 | L13: 11.74421 | M13: 319.31657 | N13: 13.38798
A14: Numératie | B14: Diplôme obtenu en Suisse | C14: Nationalité suisse ou nés en Suisse | D14: Homoglottes | E14: 292.7793 | F14: 1.46383 | G14: 208.34234 | H14: 5.7272 | I14: 262.69353 | J14: 2.87737 | K14: 325.84176 | L14: 2.30863 | M14: 366.48881 | N14: 4.19292
D15: Alloglottes | E15: 273.19851 | F15: 7.50648 | G15: 183.4972 | H15: 23.81325 | I15: 239.31468 | J15: 16.1626 | K15: 310.48052 | L15: 9.31438 | M15: 354.81169 | N15: 15.27053
C16: Immigrés | D16: Homoglottes | E16: 281.30921 | F16: 14.16247 | G16: 168.83541 | H16: 81.64955 | I16: 247.41976 | J16: 21.76722 | K16: 321.83912 | L16: 15.63527 | M16: 367.42814 | N16: 25.72152
D17: Alloglottes | E17: 246.43278 | F17: 11.04903 | G17: 145.75486 | H17: 37.61311 | I17: 214.20427 | J17: 18.37087 | K17: 283.37069 | L17: 17.05896 | M17: 329.39001 | N17: 21.03231
B18: Diplôme obtenu à l'étranger | C18: Nationalité suisse ou nés en Suisse | D18: Homoglottes | E18: 282.1699 | F18: 9.588 | G18: 168.16449 | H18: 34.23591 | I18: 247.87813 | J18: 17.66457 | K18: 325.06971 | L18: 12.15353 | M18: 364.61897 | N18: 17.06198
D19: Alloglottes | E19: 221.75429 | F19: 12.2668 | G19: 130.09996 | H19: 30.63356 | I19: 175.72821 | J19: 15.79797 | K19: 269.39908 | L19: 18.79231 | M19: 320.9595 | N19: 23.23555
C20: Immigrés | D20: Homoglottes | E20: 277.69975 | F20: 7.7149 | G20: 154.26341 | H20: 33.98802 | I20: 241.38482 | J20: 12.38357 | K20: 322.00886 | L20: 9.84867 | M20: 372.16976 | N20: 12.32364
D21: Alloglottes | E21: 227.85515 | F21: 8.92829 | G21: 119.27279 | H21: 33.34995 | I21: 184.15198 | J21: 14.45926 | K21: 274.83024 | L21: 12.90559 | M21: 330.42967 | N21: 16.05671
A22: Résolution adaptative de problèmes | B22: Diplôme obtenu en Suisse | C22: Nationalité suisse ou nés en Suisse | D22: Homoglottes | E22: 271.66051 | F22: 1.49737 | G22: 195.89596 | H22: 6.31652 | I22: 246.54123 | J22: 2.18326 | K22: 300.53163 | L22: 2.61355 | M22: 335.84145 | N22: 3.05676
D23: Alloglottes | E23: 256.29144 | F23: 7.16169 | G23: 175.0971 | H23: 23.9232 | I23: 230.87526 | J23: 12.87552 | K23: 287.20136 | L23: 8.39674 | M23: 324.74191 | N23: 16.22762
C24: Immigrés | D24: Homoglottes | E24: 264.74469 | F24: 12.69513 | G24: 170.03817 | H24: 67.23988 | I24: 242.39273 | J24: 22.75588 | K24: 297.73719 | L24: 13.8039 | M24: 331.26631 | N24: 17.58551
D25: Alloglottes | E25: 235.12546 | F25: 10.44866 | G25: 154.18978 | H25: 30.19489 | I25: 206.51525 | J25: 14.1126 | K25: 269.02436 | L25: 14.35877 | M25: 310.02306 | N25: 22.39441
B26: Diplôme obtenu à l'étranger | C26: Nationalité suisse ou nés en Suisse | D26: Homoglottes | E26: 259.26934 | F26: 7.50623 | G26: 169.12066 | H26: 33.44257 | I26: 230.97368 | J26: 13.73172 | K26: 292.69377 | L26: 9.43281 | M26: 325.09393 | N26: 14.16329
D27: Alloglottes | E27: 206.42202 | F27: 10.13851 | G27: 114.68558 | H27: 29.10113 | I27: 168.56304 | J27: 15.32087 | K27: 245.08418 | L27: 16.32888 | M27: 297.72495 | N27: 17.56707
C28: Immigrés | D28: Homoglottes | E28: 257.45752 | F28: 6.90034 | G28: 155.66877 | H28: 29.71895 | I28: 224.41381 | J28: 11.58875 | K28: 295.88793 | L28: 6.30396 | M28: 334.0204 | N28: 10.53703
D29: Alloglottes | E29: 214.67685 | F29: 7.52857 | G29: 118.81418 | H29: 25.41348 | I29: 178.07857 | J29: 12.20103 | K29: 255.95124 | L29: 11.28057 | M29: 304.912 | N29: 17.73705
A30: Remarque: N'inclus pas les personnes qui ont seulement répondu à l'interview courte et celles sans information sur le lieu d'obtention du diplôme.
A31: 1Intervalle de confiance à 95%
A32: Source: PIAAC - 2022/23 | N32: © OFS 2024

Sheet G.3.2.5
A1: Répartition en pourcentage des niveaux de compétences selon la date d'arrivée en Suisse
A2: Population résidante permanente agée de 16 à 65 ans | N2: G.3.2.5
C4: Niveau inférieur à 1 | E4: Niveau 1 | G4: Niveau 2 | I4: Niveau 3 | K4: Niveau 4 | M4: Niveau 5
C5: % | D5: ±1 | E5: % | F5: ±1 | G5: % | H5: ±1 | I5: % | J5: ±1 | K5: % | L5: ±1 | M5: % | N5: ±1
A6: Littératie | B6: Nationalité suisse ou nés en Suisse | C6: 4.21631 | D6: 0.81829 | E6: 10.68934 | F6: 1.27255 | G6: 28.9292 | H6: 1.85221 | I6: 40.02217 | J6: 1.86942 | K6: 14.84793 | L6: 1.25476 | M6: 1.29505 | N6: 0.43276
B7: Immigrés depuis 5 ans ou moins | C7: 21.48114 | D7: 5.61949 | E7: 17.01753 | F7: 5.92013 | G7: 23.67068 | H7: 6.25364 | I7: 25.60696 | J7: 5.43598 | K7: 10.78487 | L7: 3.54519 | M7: 1.43882 | N7: 1.52932
B8: Immigrés depuis plus de 5 ans | C8: 25.13695 | D8: 3.93996 | E8: 21.8675 | F8: 4.50589 | G8: 24.72667 | H8: 4.29906 | I8: 21.05195 | J8: 3.15685 | K8: 6.59601 | L8: 1.9238 | M8: 0.62092 | N8: 0.66086
A9: Numératie | B9: Nationalité suisse ou nés en Suisse | C9: 3.30193 | D9: 0.71027 | E9: 9.11832 | F9: 1.37611 | G9: 24.9195 | H9: 1.70907 | I9: 39.39089 | J9: 1.96472 | K9: 20.39806 | L9: 1.52277 | M9: 2.87129 | N9: 0.66166
B10: Immigrés depuis 5 ans ou moins | C10: 14.84226 | D10: 4.62088 | E10: 17.92086 | F10: 6.36712 | G10: 21.79715 | H10: 6.52343 | I10: 27.60222 | J10: 6.25128 | K10: 14.83926 | L10: 4.99013 | M10: 2.99825 | N10: 2.22001
B11: Immigrés depuis plus de 5 ans | C11: 21.73868 | D11: 3.62762 | E11: 19.2498 | F11: 3.95259 | G11: 27.87595 | H11: 3.95365 | I11: 21.17732 | J11: 4.08271 | K11: 8.49384 | L11: 2.67382 | M11: 1.46441 | N11: 0.97182
A12: Résolution adaptative de problèmes | B12: Nationalité suisse ou nés en Suisse | C12: 4.37427 | D12: 0.84455 | E12: 12.95404 | F12: 1.42973 | G12: 36.81715 | H12: 2.27503 | I12: 38.13107 | J12: 1.72353 | K12: 7.72347 | L12: 1.06517 | M12: n.a | N12: n.a
B13: Immigrés depuis 5 ans ou moins | C13: 17.13379 | D13: 4.88708 | E13: 21.08313 | F13: 5.89679 | G13: 27.75624 | H13: 6.75383 | I13: 27.10012 | J13: 6.38836 | K13: 6.92672 | L13: 3.40734 | M13: n.a | N13: n.a
B14: Immigrés depuis plus de 5 ans | C14: 23.3786 | D14: 4.15543 | E14: 26.31377 | F14: 4.87471 | G14: 29.63745 | H14: 4.00444 | I14: 17.79045 | J14: 3.21764 | K14: 2.87974 | L14: 1.3277 | M14: n.a | N14: n.a
A15: Remarque: Inclus les personnes qui ont seulement répondu à l'interview courte. N'inclus pas les personnes sans information sur la date d'arrivée en Suisse.
A16: 1Intervalle de confiance à 95%
A17: n.a.: ne s'applique pas
A18: Source: PIAAC - 2022/23 | N18: © OFS 2024

Sheet G.3.2.6a-b
A1: Répartition des scores sur l'échelle de compétences (0 - 500) selon la date d'arrivée en Suisse et le niveau de formation
A2: Population résidante permanente agée de 16 à 65 ans | M2: G.3.2.6a-b
D4: Moyenne | F4: 5e centile | H4: 25e centile | J4: 75e centile | L4: 95e centile
D5: Score | E5: ±1 | F5: Score | G5: ±1 | H5: Score | I5: ±1 | J5: Score | K5: ±1 | L5: Score | M5: ±1
A6: Littératie | B6: École obligatoire | C6: Nationalité suisse ou nés en Suisse | D6: 250.007 | E6: 6.81207 | F6: 135.07922 | G6: 17.73478 | H6: 204.86278 | I6: 15.75365 | J6: 297.72989 | K6: 7.84713 | L6: 340.32027 | M6: 12.02003
C7: Immigrés depuis 5 ans ou moins | D7: 185.44689 | E7: 26.19227 | F7: 70.049533 | G7: 44.52586 | H7: 127.63795 | I7: 62.42147 | J7: 249.3451 | K7: 30.578 | L7: 294.23349 | M7: 23.50689
C8: Immigrés depuis plus de 5 ans | D8: 185.10663 | E8: 10.08761 | F8: 96.169712 | G8: 16.89204 | H8: 138.58508 | I8: 16.08034 | J8: 226.29418 | K8: 16.15118 | L8: 288.87072 | M8: 33.93253
B9: Degré secondaire II | C9: Nationalité suisse ou nés en Suisse | D9: 269.94001 | E9: 2.36343 | F9: 185.18301 | G9: 6.97181 | H9: 241.93194 | I9: 3.89966 | J9: 301.94992 | K9: 2.93058 | L9: 339.86343 | M9: 4.95312
C10: Immigrés depuis 5 ans ou moins | D10: 229.99486 | E10: 12.41635 | F10: 131.92148 | G10: 22.23104 | H10: 189.58097 | I10: 19.27975 | J10: 272.5842 | K10: 21.21899 | L10: 332.34926 | M10: 32.26511
C11: Immigrés depuis plus de 5 ans | D11: 225.3741 | E11: 7.38798 | F11: 116.5707 | G11: 21.9911 | H11: 190.92672 | I11: 13.2995 | J11: 267.82395 | K11: 10.64771 | L11: 313.04018 | M11: 12.5281
B12: Degré tertiaire | C12: Nationalité suisse ou nés en Suisse | D12: 297.01414 | E12: 2.22204 | F12: 220.50855 | G12: 6.69609 | H12: 270.79423 | I12: 3.56782 | J12: 327.07972 | K12: 2.59239 | L12: 363.98074 | M12: 4.39639
C13: Immigrés depuis 5 ans ou moins | D13: 264.34008 | E13: 9.37709 | F13: 126.16147 | G13: 21.70195 | H13: 222.21089 | I13: 20.97212 | J13: 315.67917 | K13: 10.43097 | L13: 360.70643 | M13: 17.23368
C14: Immigrés depuis plus de 5 ans | D14: 270.04464 | E14: 6.98819 | F14: 132.06822 | G14: 25.49755 | H14: 240.26726 | I14: 14.02252 | J14: 314.06027 | K14: 7.88438 | L14: 355.11902 | M14: 12.63128
A15: Numératie2 | B15: École obligatoire | C15: Nationalité suisse ou nés en Suisse | D15: 251.38322 | E15: 6.35166 | F15: 135.07922 | G15: 17.73478 | H15: 204.86278 | I15: 15.75365 | J15: 297.72989 | K15: 7.84713 | L15: 340.32027 | M15: 12.02003
C16: Immigrés depuis 5 ans ou moins | D16: 210.09818 | E16: 22.35777 | F16: 63.558646 | G16: 52.72831 | H16: 149.72697 | I16: 46.24697 | J16: 252.34749 | K16: 28.70237 | L16: 294.83943 | M16: 23.54081
C17: Immigrés depuis plus de 5 ans | D17: 192.7199 | E17: 9.43195 | F17: 96.169712 | G17: 16.89204 | H17: 138.58508 | I17: 16.08034 | J17: 226.29418 | K17: 16.15118 | L17: 288.87072 | M17: 33.93253
B18: Degré secondaire II | C18: Nationalité suisse ou nés en Suisse | D18: 279.53544 | E18: 2.27928 | F18: 185.18301 | G18: 6.97181 | H18: 241.93194 | I18: 3.89966 | J18: 301.94992 | K18: 2.93058 | L18: 339.86343 | M18: 4.95312
C19: Immigrés depuis 5 ans ou moins | D19: 243.55847 | E19: 12.37955 | F19: 131.92148 | G19: 22.23104 | H19: 189.58097 | I19: 19.27975 | J19: 272.5842 | K19: 21.21899 | L19: 332.34926 | M19: 32.26511
C20: Immigrés depuis plus de 5 ans | D20: 233.66374 | E20: 7.53903 | F20: 116.5707 | G20: 21.9911 | H20: 190.92672 | I20: 13.2995 | J20: 267.82395 | K20: 10.64771 | L20: 313.04018 | M20: 12.5281
B21: Degré tertiaire | C21: Nationalité suisse ou nés en Suisse | D21: 309.51668 | E21: 1.99186 | F21: 220.50855 | G21: 6.69609 | H21: 270.79423 | I21: 3.56782 | J21: 327.07972 | K21: 2.59239 | L21: 363.98074 | M21: 4.39639
C22: Immigrés depuis 5 ans ou moins | D22: 280.9236 | E22: 9.65914 | F22: 126.16147 | G22: 21.70195 | H22: 222.21089 | I22: 20.97212 | J22: 315.67917 | K22: 10.43097 | L22: 360.70643 | M22: 17.23368
C23: Immigrés depuis plus de 5 ans | D23: 280.18719 | E23: 6.83204 | F23: 132.06822 | G23: 25.49755 | H23: 240.26726 | I23: 14.02252 | J23: 314.06027 | K23: 7.88438 | L23: 355.11902 | M23: 12.63128
A24: Résolution adaptative de problèmes | B24: École obligatoire | C24: Nationalité suisse ou nés en Suisse | D24: 243.06411 | E24: 6.25744 | F24: 136.3621 | G24: 17.77854 | H24: 204.61754 | I24: 13.48699 | J24: 285.90682 | K24: 7.15581 | L24: 324.22427 | M24: 10.89251
C25: Immigrés depuis 5 ans ou moins | D25: 192.1894 | E25: 26.23544 | F25: 72.740898 | G25: 66.25749 | H25: 137.92338 | I25: 48.93373 | J25: 245.74545 | K25: 38.62937 | L25: 304.92303 | M25: 41.90438
C26: Immigrés depuis plus de 5 ans | D26: 188.42853 | E26: 8.83191 | F26: 100.20457 | G26: 27.13635 | H26: 149.30638 | I26: 16.84779 | J26: 225.24365 | K26: 12.50883 | L26: 275.12378 | M26: 18.26637
B27: Degré secondaire II | C27: Nationalité suisse ou nés en Suisse | D27: 261.22578 | E27: 2.21943 | F27: 182.88511 | G27: 8.26021 | H27: 235.13583 | I27: 3.82125 | J27: 290.80332 | K27: 3.62349 | L27: 325.73255 | M27: 4.73124
C28: Immigrés depuis 5 ans ou moins | D28: 235.55812 | E28: 11.45252 | F28: 149.51182 | G28: 30.70294 | H28: 201.34632 | I28: 19.9927 | J28: 273.84239 | K28: 18.30703 | L28: 320.40514 | M28: 25.42834
C29: Immigrés depuis plus de 5 ans | D29: 221.57576 | E29: 7.21672 | F29: 125.7385 | G29: 20.54781 | H29: 187.20521 | I29: 12.65418 | J29: 260.35931 | K29: 10.96155 | L29: 305.63163 | M29: 15.83168
B30: Degré tertiaire | C30: Nationalité suisse ou nés en Suisse | D30: 281.82429 | E30: 2.08524 | F30: 212.47552 | G30: 6.87383 | H30: 258.4079 | I30: 2.79317 | J30: 308.21706 | K30: 2.83117 | L30: 343.00241 | M30: 5.29291
C31: Immigrés depuis 5 ans ou moins | D31: 258.46969 | E31: 7.96026 | F31: 146.23827 | G31: 22.29003 | H31: 220.18874 | I31: 22.37022 | J31: 301.28469 | K31: 9.0615 | L31: 339.60082 | M31: 14.16328
C32: Immigrés depuis plus de 5 ans | D32: 255.68422 | E32: 6.10482 | F32: 144.9322 | G32: 18.64317 | H32: 227.23061 | I32: 13.62524 | J32: 293.42107 | K32: 7.66293 | L32: 330.09292 | M32: 10.58836
A33: Remarque: Inclus les personnes qui ont seulement répondu à l'interview courte. N'inclus pas les personnes sans information sur la date d'arrivée en Suisse.
A34: 1Intervalle de confiance à 95%
A35: 2Un cas aberrant a été exclu de l'analyse.
A36: Source: PIAAC - 2022/23 | M36: © OFS 2024

Sheet G.3.3.1
A1: Proportion de personnes ayant de faibles compétences (niveau inférieur à 1 et niveau 1)
A2: Population résidante permanente agée de 16 à 65 ans | D2: G.3.3.1
C4: % | D4: ±1
A5: Scores faibles dans au moins une compétence | C5: 29.70019 | D5: 1.35279
A7: Scores faibles dans toutes les compétences | C7: 15.00607 | D7: 1.17527
A9: Scores faibles dans deux compétences | C9: 6.07598 | D9: 1.08621
A10: Littératie et résolution adaptative de problèmes | C10: 3.64192 | D10: 0.94331
A11: Littératie et numératie | C11: 1.19819 | D11: 0.42712
A12: Numératie et résolution adaptative de problèmes | C12: 1.23587 | D12: 0.43385
A14: Scores faibles dans une compétence | C14: 8.61814 | D14: 0.93286
A15: seulement en littératie | C15: 2.45354 | D15: 0.50743
A16: seulement en numératie | C16: 1.48342 | D16: 0.41457
A17: seulement en résolution adaptative de problèmes | C17: 4.68118 | D17: 0.8924
A19: Total avec des scores faibles en littératie | C19: 22.29972 | D19: 1.2794
A20: Total avec des scores faibles en numératie | C20: 18.92355 | D20: 1.38892
A21: Total avec des scores faibles en résolution adaptative de problèmes | C21: 24.56505 | D21: 1.28302
A22: Remarque: Inclus les personnes qui ont seulement répondu à l'interview courte.
A23: 1Intervalle de confiance à 95%
A24: Source: PIAAC - 2022/23 | D24: © OFS 2024

Sheet G.3.3.2
A1: Répartition en pourcentage des personnes ayant de faibles compétences (niveau inférieur à 1 et niveau 1) et de la population totale par région linguistique
A2: Population résidante permanente agée de 16 à 65 ans | G2: G.3.3.2
B4: Suisse alémanique | D4: Suisse romande | F4: Suisse italienne
B5: % | C5: ±1 | D5: % | E5: ±1 | F5: % | G5: ±1
A6: Littératie | B6: 71.50528 | C6: 2.65543 | D6: 24.25503 | E6: 2.59853 | F6: 4.23969 | G6: 0.74558
A7: Numératie | B7: 69.97629 | C7: 2.9608 | D7: 25.74742 | E7: 2.75516 | F7: 4.27629 | G7: 0.9376
A8: Résolution adaptative de problèmes | B8: 70.88115 | C8: 2.37815 | D8: 24.46479 | E8: 2.26247 | F8: 4.65406 | G8: 0.72182
A9: Toutes les compétences | B9: 71.24651 | C9: 3.57246 | D9: 24.5769 | E9: 3.51593 | F9: 4.17659 | G9: 1.00611
A10: Population totale | B10: 71.37485 | C10: 0 | D10: 24.48158 | E10: 0.05801 | F10: 4.14357 | G10: 0.05801
A11: Remarque: Inclus les personnes qui ont seulement répondu à l'interview courte.
A12: 1Intervalle de confiance à 95%
A13: Source: PIAAC - 2022/23 | G13: © OFS 2024

Sheet G.3.3.3
A1: Répartition en pourcentage des personnes ayant de faibles compétences (niveau inférieur à 1 et niveau 1) et de la population totale par grande région
A2: Population résidante permanente agée de 16 à 65 ans | O2: G.3.3.3
B4: Région Lémanique | D4: Espace Mittelland | F4: Suisse du Nord-Ouest | H4: Zurich | J4: Suisse orientale | L4: Suisse centrale | N4: Tessin
B5: % | C5: ±1 | D5: % | E5: ±1 | F5: % | G5: ±1 | H5: % | I5: ±1 | J5: % | K5: ±1 | L5: % | M5: ±1 | N5: % | O5: ±1
A6: Littératie | B6: 19.61212 | C6: 2.21086 | D6: 19.49102 | E6: 2.4158 | F6: 15.02065 | G6: 2.62903 | H6: 15.89767 | I6: 2.51727 | J6: 16.50921 | K6: 2.57154 | L6: 9.6599 | M6: 1.97154 | N6: 3.80944 | O6: 0.71323
A7: Numératie | B7: 20.79404 | C7: 2.26148 | D7: 19.43414 | E7: 3.14715 | F7: 15.40425 | G7: 2.68475 | H7: 16.83626 | I7: 3.04474 | J7: 15.44672 | K7: 2.92914 | L7: 8.19207 | M7: 2.08433 | N7: 3.89253 | O7: 0.89304
A8: Résolution adaptative de problèmes | B8: 19.83703 | C8: 1.94603 | D8: 19.37435 | E8: 2.28508 | F8: 14.64452 | G8: 2.25554 | H8: 17.2231 | I8: 2.64812 | J8: 15.65944 | K8: 2.41933 | L8: 9.02377 | M8: 1.89224 | N8: 4.23778 | O8: 0.69478
A9: Toutes les compétences | B9: 19.99428 | C9: 2.87027 | D9: 19.03138 | E9: 3.43908 | F9: 15.57826 | G9: 3.24816 | H9: 17.5047 | I9: 3.26085 | J9: 15.74856 | K9: 3.61192 | L9: 8.3926 | M9: 2.4126 | N9: 3.75022 | O9: 0.94652
A10: Population totale | B10: 18.99727 | C10: 0.05978 | D10: 21.57213 | E10: 0.18034 | F10: 13.74735 | G10: 0.21805 | H10: 18.33953 | I10: 0.11555 | J10: 13.7455 | K10: 0.03677 | L10: 9.65222 | M10: 0.17976 | N10: 3.94601 | O10: 0.0101
A11: Remarque: Inclus les personnes qui ont seulement répondu à l'interview courte.
A12: 1Intervalle de confiance à 95%
A13: Source: PIAAC - 2022/23 | O13: © OFS 2024

Sheet G.3.3.4
A1: Répartition en pourcentage des personnes ayant de faibles compétences (niveau inférieur à 1 et niveau 1) et de la population totale selon le profil linguistique
A2: Population résidante permanente agée de 16 à 65 ans | G2: G.3.3.4
B4: Connaissances insuffisantes de la langue du test (interview courte) | D4: Homoglottes | F4: Alloglottes
B5: % | C5: ±1 | D5: % | E5: ±1 | F5: % | G5: ±1
A6: Littératie | B6: 14.34515 | C6: 1.76289 | D6: 46.67512 | E6: 3.51646 | F6: 38.97972 | G6: 3.2418
A7: Numératie | B7: 15.94328 | C7: 2.14245 | D7: 43.75772 | E7: 3.89545 | F7: 40.299 | G7: 3.63786
A8: Résolution adaptative de problèmes | B8: 12.88852 | C8: 1.57789 | D8: 49.84875 | E8: 3.39088 | F8: 37.26273 | G8: 3.2714
A9: Toutes les compétences | B9: 19.78216 | C9: 2.79043 | D9: 37.80076 | E9: 4.81051 | F9: 42.41708 | G9: 4.35335
A10: Population totale | B10: 3.28737 | C10: 0.35601 | D10: 77.63195 | E10: 1.05554 | F10: 19.08067 | G10: 1.03899
A11: Remarque: Inclus les personnes qui ont seulement répondu à l'interview courte.
A12: 1Intervalle de confiance à 95%
A13: Source: PIAAC - 2022/23 | G13: © OFS 2024

Sheet G.3.3.5
A1: Répartition en pourcentage des personnes ayant de faibles compétences (niveau inférieur à 1 et niveau 1) selon le profil linguistique et le sexe
A2: Population résidante permanente agée de 16 à 65 ans | F2: G.3.3.5
C4: Hommes | E4: Femmes
C5: % | D5: ±1 | E5: % | F5: ±1
A6: Connaissances insuffisantes de la langue du test (interview courte) | B6: Faibles compétences en littératie | C6: 44.1503 | D6: 7.61919 | E6: 55.8497 | F6: 7.61919
B7: Faibles compétences en numératie | C7: 42.93742 | D7: 8.06988 | E7: 57.06258 | F7: 8.06988
B8: Faibles compétences en résolution adaptative de problèmes | C8: 43.66633 | D8: 7.59812 | E8: 56.33367 | F8: 7.59812
B9: Faibles compétences dans tous les domaines | C9: 43.0627 | D9: 8.11768 | E9: 56.9373 | F9: 8.11768
B10: Population totale | C10: 43.75288 | D10: 7.32347 | E10: 56.24712 | F10: 7.32347
A11: Alloglottes | B11: Faibles compétences en littératie | C11: 49.8402 | D11: 6.32207 | E11: 50.1598 | F11: 6.32207
B12: Faibles compétences en numératie | C12: 44.46265 | D12: 6.74376 | E12: 55.53735 | F12: 6.74376
B13: Faibles compétences en résolution adaptative de problèmes | C13: 48.54148 | D13: 6.26526 | E13: 51.45852 | F13: 6.26526
B14: Faibles compétences dans tous les domaines | C14: 48.00987 | D14: 7.60085 | E14: 51.99013 | F14: 7.60085
B15: Population totale | C15: 47.24946 | D15: 4.103 | E15: 52.75054 | F15: 4.103
A16: Homoglottes | B16: Faibles compétences en littératie | C16: 53.58481 | D16: 5.01439 | E16: 46.41519 | F16: 5.01439
B17: Faibles compétences en numératie | C17: 43.37958 | D17: 6.5889 | E17: 56.62042 | F17: 6.5889
B18: Faibles compétences en résolution adaptative de problèmes | C18: 48.82655 | D18: 4.63883 | E18: 51.17345 | F18: 4.63883
B19: Faibles compétences dans tous les domaines | C19: 47.65983 | D19: 7.56056 | E19: 52.34017 | F19: 7.56056
B20: Population totale | C20: 51.45954 | D20: 1.00115 | E20: 48.54046 | F20: 1.00115
A21: Remarque: Inclus les personnes qui ont seulement répondu à l'interview courte.
A22: 1Intervalle de confiance à 95%
A23: Source: PIAAC - 2022/23 | F23: © OFS 2024

Sheet G.3.3.6
A1: Répartition en pourcentage des personnes ayant de faibles compétences (niveau inférieur à 1 et niveau 1) selon le profil linguistique et l'âge
A2: Population résidante permanente agée de 16 à 65 ans | H2: G.3.3.6
C4: 16-25 ans | E4: 26-45 ans | G4: 46-65 ans
C5: % | D5: ±1 | E5: % | F5: ±1 | G5: % | H5: ±1
A6: Connaissances insuffisantes de la langue du test (interview courte) | B6: Faibles compétences en littératie | C6: 5.21236 | D6: 2.74481 | E6: 48.09158 | F6: 7.67862 | G6: 46.69607 | H6: 7.58262
B7: Faibles compétences en numératie | C7: 5.23844 | D7: 2.90108 | E7: 47.80069 | F7: 8.05511 | G7: 46.96087 | H7: 7.90389
B8: Faibles compétences en résolution adaptative de problèmes | C8: 5.18446 | D8: 2.77556 | E8: 47.80449 | F8: 7.80806 | G8: 47.01105 | H8: 7.72273
B9: Faibles compétences dans tous les domaines | C9: 5.26102 | D9: 2.94694 | E9: 47.56551 | F9: 8.17836 | G9: 47.17347 | H9: 8.03329
B10: Population totale | C10: 5.26085 | D10: 2.69644 | E10: 48.11325 | F10: 7.4779 | G10: 46.62589 | H10: 7.39499
A11: Alloglottes | B11: Faibles compétences en littératie | C11: 6.56466 | D11: 3.6801 | E11: 46.21745 | F11: 5.85432 | G11: 47.21789 | H11: 6.05742
B12: Faibles compétences en numératie | C12: 7.04791 | D12: 3.69923 | E12: 43.91687 | F12: 6.52734 | G12: 49.03522 | H12: 6.80144
B13: Faibles compétences en résolution adaptative de problèmes | C13: 6.18336 | D13: 3.49656 | E13: 45.19765 | F13: 5.63527 | G13: 48.61899 | H13: 6.00529
B14: Faibles compétences dans tous les domaines | C14: 4.91527 | D14: 3.4261 | E14: 42.83045 | F14: 7.0007 | G14: 52.25429 | H14: 7.55993
B15: Population totale | C15: 13.42585 | D15: 2.51477 | E15: 49.38228 | F15: 3.5938 | G15: 37.19187 | H15: 3.47835
A16: Homoglottes | B16: Faibles compétences en littératie | C16: 8.3176 | D16: 2.67202 | E16: 26.39294 | F16: 4.6038 | G16: 65.28946 | H16: 5.10706
B17: Faibles compétences en numératie | C17: 11.23564 | D17: 3.94233 | E17: 29.221 | F17: 6.11807 | G17: 59.54337 | H17: 6.84956
B18: Faibles compétences en résolution adaptative de problèmes | C18: 7.57317 | D18: 2.64767 | E18: 26.18151 | F18: 4.15919 | G18: 66.24532 | H18: 4.04146
B19: Faibles compétences dans tous les domaines | C19: 8.3667 | D19: 3.85817 | E19: 26.4441 | F19: 6.96996 | G19: 65.1892 | H19: 7.40898
B20: Population totale | C20: 16.25365 | D20: 0.61878 | E20: 40.30821 | F20: 0.94561 | G20: 43.43814 | H20: 0.98618
A21: Remarque: Inclus les personnes qui ont seulement répondu à l'interview courte.
A22: 1Intervalle de confiance à 95%
A23: Source: PIAAC - 2022/23 | H23: © OFS 2024

Sheet G.3.3.7
A1: Répartition en pourcentage des personnes ayant de faibles compétences (niveau inférieur à 1 et niveau 1) selon le profil linguistique et la date d'arrivée en Suisse
A2: Population résidante permanente agée de 16 à 65 ans | H2: G.3.3.7
C4: Nationalité suisse ou nés en Suisse | E4: Immigrés depuis 5 ans ou moins | G4: Immigrés depuis plus de 5 ans
C5: % | D5: ±1 | E5: % | F5: ±1 | G5: % | H5: ±1
A6: Connaissances insuffisantes de la langue du test (interview courte) | B6: Faibles compétences en littératie | C6: 11.85362 | D6: 5.70172 | E6: 36.13116 | F6: 6.98294 | G6: 52.01522 | H6: 6.9978
B7: Faibles compétences en numératie | C7: 12.43416 | D7: 6.04861 | E7: 34.30493 | F7: 7.09782 | G7: 53.26091 | H7: 7.13679
B8: Faibles compétences en résolution adaptative de problèmes | C8: 11.89825 | D8: 5.75673 | E8: 35.52472 | F8: 7.07724 | G8: 52.57704 | H8: 7.05362
B9: Faibles compétences dans tous les domaines | C9: 12.58587 | D9: 6.14679 | E9: 33.87644 | F9: 7.16894 | G9: 53.53769 | H9: 7.21648
B10: Population totale | C10: 11.68471 | D10: 5.55795 | E10: 36.43813 | F10: 6.83256 | G10: 51.87715 | H10: 6.89745
A11: Alloglottes | B11: Faibles compétences en littératie | C11: 31.66814 | D11: 6.57491 | E11: 13.5321 | F11: 4.47859 | G11: 54.79976 | H11: 6.5157
B12: Faibles compétences en numératie | C12: 34.39734 | D12: 7.06974 | E12: 12.21486 | F12: 5.1674 | G12: 53.3878 | H12: 6.97582
B13: Faibles compétences en résolution adaptative de problèmes | C13: 33.00195 | D13: 6.14942 | E13: 12.68429 | F13: 4.48672 | G13: 54.31376 | H13: 6.37749
B14: Faibles compétences dans tous les domaines | C14: 33.718 | D14: 7.54151 | E14: 11.33398 | F14: 5.75421 | G14: 54.94803 | H14: 7.79759
B15: Population totale | C15: 40.57422 | D15: 3.69365 | E15: 15.30721 | F15: 2.5434 | G15: 44.11857 | H15: 3.3699
A16: Homoglottes | B16: Faibles compétences en littératie | C16: 78.1261 | D16: 5.61748 | E16: 4.99317 | F16: 2.20694 | G16: 16.88073 | H16: 5.18411
B17: Faibles compétences en numératie | C17: 77.06843 | D17: 6.01042 | E17: 5.49474 | F17: 2.71195 | G17: 17.43684 | H17: 5.58079
B18: Faibles compétences en résolution adaptative de problèmes | C18: 79.07768 | D18: 4.65494 | E18: 4.43806 | F18: 2.06375 | G18: 16.48426 | H18: 4.32633
B19: Faibles compétences dans tous les domaines | C19: 73.75696 | D19: 7.53063 | E19: 6.43167 | F19: 3.52911 | G19: 19.81137 | H19: 7.13563
B20: Population totale | C20: 86.49637 | D20: 0.87067 | E20: 4.19348 | F20: 0.58223 | G20: 9.31015 | H20: 0.87366
A21: Remarque: Inclus les personnes qui ont seulement répondu à l'interview courte. N'inclus pas les personnes sans information sur la date d'arrivée en Suisse.
A22: 1Intervalle de confiance à 95%
A23: Source: PIAAC - 2022/23 | H23: © OFS 2024

Sheet G.3.3.8
A1: Répartition en pourcentage des personnes ayant de faibles compétences (niveau inférieur à 1 et niveau 1) selon le profil linguistique et le niveau de formation
A2: Population résidante permanente agée de 16 à 65 ans | H2: G.3.3.8
C4: École obligatoire | E4: Degré secondaire II | G4: Degré tertiaire
C5: % | D5: ±1 | E5: % | F5: ±1 | G5: % | H5: ±1
A6: Connaissances insuffisantes de la langue du test (interview courte) | B6: Faibles compétences en littératie | C6: 46.06214 | D6: 7.79495 | E6: 16.61322 | F6: 4.86951 | G6: 37.32464 | H6: 6.94801
B7: Faibles compétences en numératie | C7: 47.81953 | D7: 7.99337 | E7: 16.70178 | F7: 5.19101 | G7: 35.47869 | H7: 6.93891
B8: Faibles compétences en résolution adaptative de problèmes | C8: 46.28497 | D8: 7.72448 | E8: 16.73358 | F8: 4.91046 | G8: 36.98146 | H8: 6.8826
B9: Faibles compétences dans tous les domaines | C9: 47.69288 | D9: 7.97383 | E9: 16.87693 | F9: 5.30552 | G9: 35.43019 | H9: 6.99756
B10: Population totale | C10: 46.35141 | D10: 7.58596 | E10: 16.37009 | F10: 4.72126 | G10: 37.2785 | H10: 6.70505
A11: Alloglottes | B11: Faibles compétences en littératie | C11: 48.04837 | D11: 5.64977 | E11: 35.16095 | F11: 5.90967 | G11: 16.79067 | H11: 3.91866
B12: Faibles compétences en numératie | C12: 49.75622 | D12: 6.45639 | E12: 35.08262 | F12: 5.8844 | G12: 15.16116 | H12: 4.60537
B13: Faibles compétences en résolution adaptative de problèmes | C13: 46.10093 | D13: 6.18181 | E13: 34.5176 | F13: 5.65101 | G13: 19.38146 | H13: 4.3491
B14: Faibles compétences dans tous les domaines | C14: 51.95574 | D14: 7.03633 | E14: 34.43896 | F14: 6.48017 | G14: 13.6053 | H14: 4.36502
B15: Population totale | C15: 33.36891 | D15: 3.16618 | E15: 34.07058 | F15: 3.25188 | G15: 32.56051 | H15: 2.77188
A16: Homoglottes | B16: Faibles compétences en littératie | C16: 28.78179 | D16: 5.04479 | E16: 57.16467 | F16: 5.06347 | G16: 14.05354 | H16: 3.43021
B17: Faibles compétences en numératie | C17: 35.41644 | D17: 6.30249 | E17: 53.17702 | F17: 6.51719 | G17: 11.40654 | H17: 3.25571
B18: Faibles compétences en résolution adaptative de problèmes | C18: 25.60702 | D18: 4.39902 | E18: 56.99153 | F18: 4.73476 | G18: 17.40146 | H18: 3.4763
B19: Faibles compétences dans tous les domaines | C19: 39.49104 | D19: 7.42927 | E19: 51.25732 | F19: 7.52212 | G19: 9.25163 | H19: 3.70154
B20: Population totale | C20: 12.70438 | D20: 0.82134 | E20: 45.47384 | F20: 0.78051 | G20: 41.82178 | H20: 0.70896
A21: Remarque: Inclus les personnes qui ont seulement répondu à l'interview courte.
A22: 1Intervalle de confiance à 95%
A23: Source: PIAAC - 2022/23 | H23: © OFS 2024

Sheet T.3.3.1
A1: Proportion de personnes ayant de faibles compétences en littératie (niveau inférieur à 1 et niveau 1) selon différentes dimensions d'analyse
A2: Population résidante permanente agée de 16 à 65 ans | E2: T.3.3.1
C4: Faibles compétences en littératie
C5: % | D5: ±1 | E5: en 1 000
A6: Total | C6: 22.29972 | D6: 1.2794 | E6: 1253.8626
A7: Sexe | B7: Hommes | C7: 22.46373 | D7: 1.93223 | E7: 636.63081
B8: Femmes | C8: 22.13305 | D8: 2.05049 | E8: 617.23176
A9: Âge | B9: 16-25 ans | C9: 10.4448 | D9: 3.12652 | E9: 90.16453
B10: 26-35 ans | C10: 14.68567 | D10: 2.61145 | E10: 168.69252
B11: 36-45 ans | C11: 24.26094 | D11: 3.03651 | E11: 298.29557
B12: 46-55 ans | C12: 26.83532 | D12: 3.13461 | E12: 319.15114
B13: 56-65 ans | C13: 31.67411 | D13: 3.41963 | E13: 377.55882
A14: Niveau de formation2 | B14: École obligatoire | C14: 44.18897 | D14: 4.58114 | E14: 403.24971
B15: Degré secondaire II: professionnel | C15: 22.92253 | D15: 2.88767 | E15: 429.88898
B16: Degré secondaire II: général | C16: 16.12204 | D16: 4.14277 | E16: 76.59497
B17: Formation professionnelle supérieure | C17: 11.98374 | D17: 2.91829 | E17: 82.9868
B18: Haute école | C18: 5.48455 | D18: 1.34045 | E18: 81.30205
A19: Statut sur le marché du travail2 | B19: Personnes actives occupées | C19: 17,8 | D19: 1,4 | E19: 797
B20: Personnes au chômage | C20: 34,6 | D20: 10,1 | E20: 53
B21: Personnes non actives | C21: 28,1 | D21: 4,3 | E21: 222
A22: Profils migratoire et linguistique3 | B22: Nationalité suisse ou nés en Suisse
B23: Homoglottes | C23: 12.0745 | D23: 1.31023 | E23: 455.46107
B24: Alloglottes | C24: 38.44243 | D24: 6.19541 | E24: 174.42484
B25: Immigrés
B26: Homoglottes | C26: 21.89511 | D26: 5.88677 | E26: 129.83325
B27: Alloglottes | C27: 61.46259 | D27: 4.97515 | E27: 494.14342
A28: Date d'arrivée en Suisse4 | B28: Nationalité suisse ou nés en Suisse | C28: 14.90565 | D28: 1.3934 | E28: 629.88591
B29: Immigrés depuis 5 ans ou moins | C29: 38.49866 | D29: 6.31454 | E29: 158.80984
B30: Immigrés depuis plus de 5 ans | C30: 47.00444 | D30: 4.44699 | E30: 456.35095
A31: 1 Intervalle de confiance à 95% 2 N'inclus pas les personnes qui ont seulement répondu à l'interview courte. 3 Les personnes qui ont seulement répondu à l'interview courte sont considérées comme alloglottes. Il s'agit de 0.5% des personnes de nationalité suisse ou nées en Suisse et de 12% des immigrés. 4 N'inclus pas les personnes sans information sur la date d'arrivée en Suisse.
A32: Source: PIAAC - 2022/23 | E32: © OFS 2024

Sheet TA A1a
A1: Littératie - Répartition des scores sur l'échelle de compétences (0 - 500) selon différentes dimensions d'analyse
A2: Population résidante permanente agée de 16 à 65 ans | R2: TA.1a
C4: Moyenne | E4: 5e centile | G4: 10e centile | I4: 25e centile | K4: Médiane | M4: 75e centile | O4: 90e centile | Q4: 95e centile
C5: Score | D5: ±1 | E5: Score | F5: ±1 | G5: Score | H5: ±1 | I5: Score | J5: ±1 | K5: Score | L5: ±1 | M5: Score | N5: ±1 | O5: Score | P5: ±1 | Q5: Score | R5: ±1
A6: Suisse | C6: 266.31678 | D6: 1.44363 | E6: 146.24801 | F6: 7.24523 | G6: 181.43847 | H6: 5.5398 | I6: 232.75169 | J6: 2.69398 | K6: 275.83887 | L6: 2.11791 | M6: 308.56821 | N6: 2.09787 | O6: 335.16408 | P6: 2.54575 | Q6: 350.54317 | R6: 2.85325
A7: Région linguistique | B7: Suisse alémanique | C7: 266.72084 | D7: 2.15406 | E7: 141.60621 | F7: 9.93098 | G7: 178.11029 | H7: 8.26335 | I7: 232.74208 | J7: 3.89997 | K7: 277.2799 | L7: 2.92409 | M7: 310.16704 | N7: 2.83837 | O7: 336.72261 | P7: 3.34879 | Q7: 352.124 | R7: 3.8906
B8: Suisse romande | C8: 265.35975 | D8: 2.32087 | E8: 154.89789 | F8: 9.61887 | G8: 186.21863 | H8: 8.93358 | I8: 232.8748 | J8: 4.94776 | K8: 273.02096 | L8: 2.78605 | M8: 304.5288 | N8: 2.98324 | O8: 331.50547 | P8: 3.5945 | Q8: 346.76605 | R8: 4.7325
B9: Suisse italienne | C9: 265.01114 | D9: 5.02836 | E9: 169.17334 | F9: 17.60165 | G9: 189.78646 | H9: 10.28027 | I9: 232.25808 | J9: 10.05778 | K9: 271.75739 | L9: 5.82075 | M9: 303.12549 | N9: 5.4123 | O9: 329.47724 | P9: 6.42322 | Q9: 343.0367 | R9: 7.94174
A10: Grande région | B10: Région lémanique | C10: 263.47394 | D10: 2.69406 | E10: 152.35244 | F10: 9.86724 | G10: 181.91067 | H10: 10.40611 | I10: 230.45385 | J10: 5.54265 | K10: 271.53626 | L10: 3.62358 | M10: 303.49175 | N10: 3.49443 | O10: 330.30017 | P10: 4.25693 | Q10: 346.05979 | R10: 5.41041
B11: Espace Mittelland | C11: 270.90613 | D11: 3.75455 | E11: 155.50665 | F11: 17.82562 | G11: 190.97512 | H11: 12.26213 | I11: 238.22373 | J11: 6.72402 | K11: 280.10265 | L11: 4.44078 | M11: 310.79356 | N11: 4.6693 | O11: 337.44813 | P11: 4.31974 | Q11: 351.43509 | R11: 6.70657
B12: Suisse du Nord-Ouest | C12: 262.56541 | D12: 6.14568 | E12: 135.30975 | F12: 21.74109 | G12: 170.96581 | H12: 21.83052 | I12: 226.73784 | J12: 10.57672 | K12: 272.3127 | L12: 8.63716 | M12: 307.71568 | N12: 6.58342 | O12: 332.88446 | P12: 7.8363 | Q12: 348.24608 | R12: 9.76281
B13: Zurich | C13: 273.09574 | D13: 5.31529 | E13: 137.79216 | F13: 21.47867 | G13: 178.0076 | H13: 19.96309 | I13: 243.10944 | J13: 9.99828 | K13: 285.04768 | L13: 6.17659 | M13: 317.62788 | N13: 5.15853 | O13: 344.26797 | P13: 7.35308 | Q13: 359.42142 | R13: 6.68363
B14: Suisse orientale | C14: 256.24721 | D14: 5.431 | E14: 134.63226 | F14: 18.44639 | G14: 168.81808 | H14: 22.20812 | I14: 221.20476 | J14: 11.81909 | K14: 264.60773 | L14: 7.34338 | M14: 299.59839 | N14: 6.83461 | O14: 326.68037 | P14: 8.36641 | Q14: 341.32459 | R14: 8.58133
B15: Suisse centrale | C15: 268.36928 | D15: 5.83845 | E15: 156.62023 | F15: 25.18553 | G15: 191.08142 | H15: 15.38648 | I15: 232.57359 | J15: 11.27491 | K15: 278.08233 | L15: 8.37549 | M15: 310.0865 | N15: 6.1962 | O15: 336.06876 | P15: 7.4091 | Q15: 352.04481 | R15: 10.33048
B16: Tessin | C16: 266.53282 | D16: 5.23577 | E16: 169.8759 | F16: 18.96387 | G16: 191.92008 | H16: 11.26804 | I16: 235.28542 | J16: 9.11019 | K16: 273.2431 | L16: 6.72699 | M16: 303.96858 | N16: 5.57485 | O16: 330.14157 | P16: 6.12681 | Q16: 343.66267 | R16: 8.31848
A17: Âge | B17: 16-25 ans | C17: 285.25016 | D17: 4.09123 | E17: 195.41408 | F17: 19.83942 | G17: 223.35494 | H17: 12.33908 | I17: 258.48962 | J17: 5.67845 | K17: 290.37494 | L17: 4.68512 | M17: 318.48057 | N17: 4.5901 | O17: 341.25273 | P17: 6.25387 | Q17: 355.44747 | R17: 8.27265
B18: 26-35 ans | C18: 281.17142 | D18: 4.45806 | E18: 154.74133 | F18: 27.77666 | G18: 204.23866 | H18: 12.45056 | I18: 253.30339 | J18: 7.02663 | K18: 290.99415 | L18: 4.80407 | M18: 319.41286 | N18: 4.2307 | O18: 346.02111 | P18: 5.43349 | Q18: 361.98522 | R18: 6.38481
B19: 36-45 ans | C19: 267.37095 | D19: 3.93538 | E19: 138.78172 | F19: 18.79376 | G19: 174.62521 | H19: 12.32773 | I19: 227.766 | J19: 8.75968 | K19: 279.66323 | L19: 4.62857 | M19: 314.35313 | N19: 4.39143 | O19: 340.93414 | P19: 5.7907 | Q19: 356.25963 | R19: 6.9573
B20: 46-55 ans | C20: 257.12833 | D20: 4.15735 | E20: 137.78282 | F20: 13.8176 | G20: 167.6788 | H20: 12.2864 | I20: 221.44497 | J20: 8.24694 | K20: 266.75352 | L20: 5.06403 | M20: 300.67042 | N20: 4.3401 | O20: 327.50532 | P20: 4.79318 | Q20: 341.85587 | R20: 5.48883
B21: 56-65 ans | C21: 246.37071 | D21: 3.79248 | E21: 140.50428 | F21: 16.04132 | G21: 167.8517 | H21: 13.01962 | I21: 212.49505 | J21: 6.83441 | K21: 254.47229 | L21: 4.40336 | M21: 287.09303 | N21: 3.61697 | O21: 312.28573 | P21: 5.54459 | Q21: 326.5478 | R21: 5.9004
A22: Sexe | B22: Hommes | C22: 267.72596 | D22: 2.73777 | E22: 147.58065 | F22: 11.88359 | G22: 180.37382 | H22: 7.61775 | I22: 232.57736 | J22: 4.76108 | K22: 277.78857 | L22: 3.5478 | M22: 311.13584 | N22: 3.49791 | O22: 337.70902 | P22: 3.64463 | Q22: 352.97992 | R22: 4.47263
B23: Femmes | C23: 264.8847 | D23: 2.64182 | E23: 145.19218 | F23: 9.65935 | G23: 182.84097 | H23: 8.32396 | I23: 232.80604 | J23: 4.56888 | K23: 273.93557 | L23: 3.51377 | M23: 305.96041 | N23: 2.89803 | O23: 332.35517 | P23: 3.52987 | Q23: 347.77668 | R23: 4.17837
A24: Niveau de formation2 | B24: École obligatoire | C24: 234.11209 | D24: 5.4374 | E24: 125.03772 | F24: 13.77502 | G24: 143.41227 | H24: 13.24783 | I24: 184.82 | J24: 12.65878 | K24: 237.91512 | L24: 9.32212 | M24: 285.24496 | N24: 7.25238 | O24: 317.1288 | P24: 7.66256 | Q24: 333.78161 | R24: 9.78069
B25: Degré secondaire II: professionnel | C25: 259.4752 | D25: 2.89605 | E25: 172.0881 | F25: 10.46678 | G25: 195.51556 | H25: 6.40565 | I25: 229.53421 | J25: 5.20572 | K25: 265.00324 | L25: 3.31678 | M25: 293.12681 | N25: 3.12286 | O25: 316.03251 | P25: 4.11142 | Q25: 329.98833 | R25: 6.10487
B26: Degré secondaire II: général | C26: 280.13558 | D26: 5.75125 | E26: 179.12164 | F26: 18.83015 | G26: 202.47483 | H26: 15.95458 | I26: 248.12246 | J26: 10.17751 | K26: 288.76252 | L26: 6.73828 | M26: 318.22262 | N26: 6.28957 | O26: 341.67157 | P26: 6.57112 | Q26: 355.7051 | R26: 10.23539
B27: Formation professionnelle supérieure | C27: 276.04435 | D27: 3.72938 | E27: 198.04903 | F27: 12.09613 | G27: 220.54427 | H27: 9.32284 | I27: 251.21653 | J27: 5.86679 | K27: 280.23886 | L27: 4.67731 | M27: 304.77414 | N27: 4.82372 | O27: 326.40423 | P27: 5.41429 | Q27: 339.29303 | R27: 6.69191
B28: Haute école | C28: 302.54456 | D28: 2.40406 | E28: 222.85054 | F28: 9.22818 | G28: 244.91299 | H28: 5.90385 | I28: 277.17647 | J28: 3.83942 | K28: 306.58725 | L28: 3.42666 | M28: 332.64002 | N28: 3.11163 | O28: 355.13394 | P28: 4.0556 | Q28: 368.95204 | R28: 4.66601
A29: Statut sur le marché du travail2 | B29: Personnes actives occupées | C29: 273.96597 | D29: 1.60686 | E29: 170.7892 | F29: 7.06087 | G29: 200.73985 | H29: 4.94444 | I29: 242.90528 | J29: 2.9629 | K29: 280.75747 | L29: 2.02196 | M29: 311.57054 | N29: 2.17237 | O29: 337.36649 | P29: 2.64645 | Q29: 352.62946 | R29: 3.34675
B30: Personnes au chômage | C30: 247.2917 | D30: 10.4609 | E30: 154.48053 | F30: 32.06646 | G30: 173.06664 | H30: 21.22281 | I30: 212.48727 | J30: 18.45547 | K30: 247.47227 | L30: 13.34292 | M30: 287.22173 | N30: 13.13841 | O30: 312.79037 | P30: 17.44002 | Q30: 329.48861 | R30: 17.93473
B31: Personnes non actives | C31: 258.0392 | D31: 4.88213 | E31: 144.43803 | F31: 16.93621 | G31: 171.76966 | H31: 14.15064 | I31: 218.38247 | J31: 11.88801 | K31: 265.3377 | L31: 6.58041 | M31: 302.46415 | N31: 4.87179 | O31: 331.01407 | P31: 6.76204 | Q31: 345.71811 | R31: 7.51448
A32: Région d'origine3 | B32: Nationalité suisse ou nés en Suisse | C32: 277.74675 | D32: 1.60879 | E32: 182.58764 | F32: 6.80301 | G32: 209.26046 | H32: 5.15831 | I32: 248.70254 | J32: 2.53988 | K32: 283.42857 | L32: 2.09515 | M32: 313.02422 | N32: 2.15098 | O32: 337.9666 | P32: 2.38161 | Q32: 352.9098 | R32: 3.3907
B33: Pays voisin | C33: 276.07648 | D33: 6.76244 | E33: 157.81501 | F33: 32.1183 | G33: 192.28448 | H33: 20.26743 | I33: 245.45955 | J33: 13.84473 | K33: 285.58366 | L33: 6.98429 | M33: 316.45121 | N33: 6.80597 | O33: 342.88782 | P33: 8.89576 | Q33: 358.59855 | R33: 9.83954
B34: Autre pays de l'UE27+AELE | C34: 220.96451 | D34: 6.69678 | E34: 100.04988 | F34: 25.00792 | G34: 127.03547 | H34: 16.37958 | I34: 176.11434 | J34: 16.44765 | K34: 226.60604 | L34: 10.70473 | M34: 268.388 | N34: 10.83159 | O34: 306.50803 | P34: 14.45885 | Q34: 326.0189 | R34: 15.20858
B35: Reste du monde | C35: 193.64521 | D35: 7.99975 | E35: 94.409101 | F35: 16.78586 | G35: 111.57649 | H35: 11.33497 | I35: 145.75166 | J35: 14.26781 | K35: 194.66055 | L35: 12.26532 | M35: 239.79406 | N35: 12.64118 | O35: 276.47441 | P35: 17.05059 | Q35: 296.01248 | R35: 16.86689
A36: Profils migratoire et linguistique4 | B36: Nationalité suisse ou nés en Suisse
B37: Homoglottes | C37: 282.54421 | D37: 1.56427 | E37: 196.90881 | F37: 6.05231 | G37: 219.27521 | H37: 5.00105 | I37: 254.00453 | J37: 2.63345 | K37: 286.55963 | L37: 2.11126 | M37: 315.18459 | N37: 2.05789 | O37: 339.54871 | P37: 2.55366 | Q37: 354.4296 | R37: 3.63769
B38: Alloglottes | C38: 237.86298 | D38: 6.79074 | E38: 119.99231 | F38: 17.66642 | G38: 142.38876 | H38: 17.96099 | I38: 192.44143 | J38: 14.20574 | K38: 248.82474 | L38: 10.03368 | M38: 285.46434 | N38: 8.06423 | O38: 315.15374 | P38: 7.10966 | Q38: 331.71835 | R38: 8.90859
B39: Immigrés
B40: Homoglottes | C40: 270.24506 | D40: 7.11022 | E40: 148.30666 | F40: 33.73741 | G40: 187.72095 | H40: 21.27468 | I40: 234.37942 | J40: 14.53031 | K40: 279.03003 | L40: 7.65653 | M40: 312.71726 | N40: 6.2837 | O40: 340.36122 | P40: 8.76048 | Q40: 356.56054 | R40: 9.57771
B41: Alloglottes | C41: 203.34167 | D41: 5.86293 | E41: 93.595461 | F41: 13.66954 | G41: 113.95511 | H41: 9.26703 | I41: 153.79999 | J41: 9.56295 | K41: 206.6522 | L41: 8.64453 | M41: 251.80938 | N41: 8.3181 | O41: 291.30906 | P41: 9.35978 | Q41: 312.32391 | R41: 11.51756
A42: Date d'arrivée en Suisse5 | B42: Nationalité suisse ou nés en Suisse | C42: 277.74675 | D42: 1.60879 | E42: 182.58764 | F42: 6.80301 | G42: 209.26046 | H42: 5.15831 | I42: 248.70254 | J42: 2.53988 | K42: 283.42857 | L42: 2.09515 | M42: 313.02422 | N42: 2.15098 | O42: 337.9666 | P42: 2.38161 | Q42: 352.9098 | R42: 3.3907
B43: Immigrés depuis 5 ans ou moins | C43: 241.28774 | D43: 8.24078 | E43: 101.50289 | F43: 28.64556 | G43: 133.31347 | H43: 19.925 | I43: 186.53322 | J43: 19.42067 | K43: 251.06266 | L43: 12.57774 | M43: 300.3316 | N43: 8.97652 | O43: 332.08921 | P43: 10.72443 | Q43: 350.0346 | R43: 11.39443
B44: Immigrés depuis plus de 5 ans | C44: 227.90114 | D44: 5.13094 | E44: 109.18747 | F44: 8.53378 | G44: 128.41865 | H44: 10.16193 | I44: 176.06119 | J44: 12.24724 | K44: 231.88496 | L44: 8.91338 | M44: 282.51753 | N44: 6.74026 | O44: 316.93516 | P44: 6.978 | Q44: 335.42584 | R44: 9.4445
A45: 1 Intervalle de confiance à 95% 2 N'inclus pas les personnes qui ont seulement répondu à l'interview courte. 3 N'inclus pas les apatrides. 4 Les personnes qui ont seulement répondu à l'interview courte sont considérées comme alloglottes. Il s'agit de 0.5% des personnes de nationalité suisse ou nées en Suisse, et de 12% des immigrés. 5 N'inclus pas les personnes sans information sur la date d'arrivée en Suisse.
A46: Source: PIAAC - 2022/23 | R46: © BFS 2024

Sheet TA A1b
A1: Numératie - Répartition des scores sur l'échelle de compétences (0 - 500) selon différentes dimensions d'analyse
A2: Population résidante permanente agée de 16 à 65 ans | R2: TA.1b
C4: Moyenne | E4: 5e centile | G4: 10e centile | I4: 25e centile | K4: Médiane | M4: 75e centile | O4: 90e centile | Q4: 95e centile
C5: Score | D5: ±1 | E5: Score | F5: ±1 | G5: Score | H5: ±1 | I5: Score | J5: ±1 | K5: Score | L5: ±1 | M5: Score | N5: ±1 | O5: Score | P5: ±1 | Q5: Score | R5: ±1
A6: Suisse | C6: 276.11649 | D6: 1.42562 | E6: 158.31281 | F6: 6.96554 | G6: 191.48238 | H6: 5.49122 | I6: 241.57562 | J6: 2.61814 | K6: 284.48402 | L6: 1.84875 | M6: 319.11697 | N6: 2.0336 | O6: 347.11478 | P6: 2.26078 | Q6: 362.95731 | R6: 2.80587
A7: Région linguistique | B7: Suisse alémanique | C7: 277.88005 | D7: 2.07813 | E7: 156.02675 | F7: 10.59178 | G7: 191.289 | H7: 7.6331 | I7: 243.08988 | J7: 3.87269 | K7: 286.97006 | L7: 2.61349 | M7: 321.62981 | N7: 2.30686 | O7: 349.86222 | P7: 3.05416 | Q7: 365.36989 | R7: 4.18193
B8: Suisse romande | C8: 271.72474 | D8: 2.39223 | E8: 159.39477 | F8: 9.47977 | G8: 190.15206 | H8: 8.88 | I8: 238.37567 | J8: 4.57477 | K8: 279.28425 | L8: 2.8713 | M8: 312.3128 | N8: 3.28239 | O8: 340.16938 | P8: 3.45827 | Q8: 355.90506 | R8: 4.52333
B9: Suisse italienne | C9: 271.6863 | D9: 5.43904 | E9: 175.778 | F9: 16.31057 | G9: 200.22617 | H9: 13.23146 | I9: 237.34914 | J9: 9.22754 | K9: 276.71916 | L9: 6.5592 | M9: 309.51112 | N9: 5.44314 | O9: 336.9603 | P9: 6.89195 | Q9: 353.30638 | R9: 8.29896
A10: Grande région | B10: Région lémanique | C10: 269.4664 | D10: 2.78659 | E10: 157.53522 | F10: 12.33393 | G10: 187.11402 | H10: 9.31393 | I10: 236.27622 | J10: 6.12986 | K10: 277.02295 | L10: 3.72154 | M10: 309.94973 | N10: 4.02242 | O10: 338.31122 | P10: 4.41798 | Q10: 354.17546 | R10: 5.88333
B11: Espace Mittelland | C11: 280.41762 | D11: 3.65917 | E11: 164.08154 | F11: 16.435 | G11: 199.29097 | H11: 14.00358 | I11: 246.71203 | J11: 6.63011 | K11: 288.9144 | L11: 4.49175 | M11: 321.63504 | N11: 3.8862 | O11: 348.52015 | P11: 4.7091 | Q11: 363.88795 | R11: 5.63047
B12: Suisse du Nord-Ouest | C12: 273.90485 | D12: 6.30035 | E12: 149.15789 | F12: 24.63805 | G12: 183.63996 | H12: 19.21367 | I12: 236.93048 | J12: 11.46081 | K12: 282.72223 | L12: 8.8111 | M12: 320.49675 | N12: 6.37004 | O12: 347.29087 | P12: 7.38453 | Q12: 362.35923 | R12: 8.63379
B13: Zurich | C13: 283.5038 | D13: 5.68257 | E13: 157.01437 | F13: 25.37182 | G13: 191.18524 | H13: 14.7801 | I13: 249.88309 | J13: 10.98279 | K13: 294.49222 | L13: 6.58344 | M13: 329.38948 | N13: 6.54785 | O13: 358.0214 | P13: 6.68566 | Q13: 374.596 | R13: 11.43152
B14: Suisse orientale | C14: 268.66607 | D14: 5.17116 | E14: 149.05224 | F14: 25.46082 | G14: 182.44425 | H14: 18.83206 | I14: 234.54317 | J14: 10.45785 | K14: 275.81642 | L14: 6.3474 | M14: 312.72128 | N14: 6.1604 | O14: 340.47364 | P14: 7.04707 | Q14: 355.5575 | R14: 9.53344
B15: Suisse centrale | C15: 280.60203 | D15: 6.00422 | E15: 169.97078 | F15: 25.50221 | G15: 203.20538 | H15: 16.87114 | I15: 246.32447 | J15: 10.20661 | K15: 289.0739 | L15: 7.2274 | M15: 321.48309 | N15: 5.89202 | O15: 347.82816 | P15: 6.70549 | Q15: 364.97165 | R15: 9.72667
B16: Tessin | C16: 272.97106 | D16: 5.57732 | E16: 177.50435 | F16: 16.02263 | G16: 202.14833 | H16: 13.73928 | I16: 239.47186 | J16: 9.83311 | K16: 277.98354 | L16: 6.79195 | M16: 310.17607 | N16: 5.63758 | O16: 337.57513 | P16: 6.74599 | Q16: 353.98395 | R16: 8.4043
A17: Âge | B17: 16-25 ans | C17: 289.16822 | D17: 4.24964 | E17: 201.1155 | F17: 12.52946 | G17: 223.26276 | H17: 11.13082 | I17: 258.76853 | J17: 6.63904 | K17: 294.41148 | L17: 5.07144 | M17: 323.76109 | N17: 5.15084 | O17: 348.53428 | P17: 5.77915 | Q17: 363.39437 | R17: 8.60516
B18: 26-35 ans | C18: 289.85982 | D18: 4.46486 | E18: 172.19763 | F18: 24.74084 | G18: 210.93272 | H18: 12.36513 | I18: 259.46534 | J18: 6.85479 | K18: 298.38952 | L18: 4.58217 | M18: 329.74644 | N18: 5.66666 | O18: 357.39414 | P18: 6.38909 | Q18: 373.16518 | R18: 8.56042
B19: 36-45 ans | C19: 276.27612 | D19: 4.0757 | E19: 149.20526 | F19: 17.71948 | G19: 185.88091 | H19: 10.29994 | I19: 239.23301 | J19: 7.03277 | K19: 286.55158 | L19: 4.8938 | M19: 323.42508 | N19: 3.62289 | O19: 352.34171 | P19: 4.64997 | Q19: 368.41665 | R19: 7.02565
B20: 46-55 ans | C20: 267.75167 | D20: 4.42103 | E20: 144.3846 | F20: 16.04117 | G20: 175.02771 | H20: 15.02547 | I20: 230.67701 | J20: 7.94675 | K20: 276.46606 | L20: 5.42545 | M20: 313.17821 | N20: 4.40305 | O20: 341.5353 | P20: 5.22744 | Q20: 356.85796 | R20: 6.57421
B21: 56-65 ans | C21: 261.60177 | D21: 3.83869 | E21: 153.68649 | F21: 15.17181 | G21: 180.69593 | H21: 10.62657 | I21: 226.87811 | J21: 8.31093 | K21: 268.61543 | L21: 4.18814 | M21: 302.73604 | N21: 4.77278 | O21: 330.55477 | P21: 5.31643 | Q21: 346.64019 | R21: 6.46988
A22: Sexe | B22: Hommes | C22: 285.01431 | D22: 2.64781 | E22: 165.34075 | F22: 10.09774 | G22: 199.4795 | H22: 8.16683 | I22: 249.45938 | J22: 4.49455 | K22: 295.06674 | L22: 3.00008 | M22: 328.57718 | N22: 2.92005 | O22: 356.12237 | P22: 3.31061 | Q22: 372.05962 | R22: 4.79618
B23: Femmes | C23: 267.07411 | D23: 2.75152 | E23: 151.67875 | F23: 10.45029 | G23: 184.63659 | H23: 8.04205 | I23: 234.37624 | J23: 5.41579 | K23: 275.3178 | L23: 3.37445 | M23: 308.04578 | N23: 3.35387 | O23: 335.48998 | P23: 3.64198 | Q23: 350.176 | R23: 4.08027
A24: Niveau de formation2 | B24: École obligatoire | C24: 236.66317 | D24: 5.84728 | E24: 127.93483 | F24: 13.37642 | G24: 146.00022 | H24: 14.60814 | I24: 190.28646 | J24: 10.86406 | K24: 242.58936 | L24: 8.29136 | M24: 286.17716 | N24: 7.95668 | O24: 319.97283 | P24: 7.50842 | Q24: 338.80753 | R24: 8.0956
B25: Degré secondaire II: professionnel | C25: 269.85312 | D25: 2.90009 | E25: 183.45197 | F25: 9.01378 | G25: 206.30631 | H25: 6.87208 | I25: 239.87484 | J25: 4.55004 | K25: 273.25506 | L25: 3.80842 | M25: 303.99511 | N25: 3.02683 | O25: 329.30639 | P25: 4.48652 | Q25: 344.53149 | R25: 5.90169
B26: Degré secondaire II: général | C26: 285.91134 | D26: 5.79142 | E26: 186.41514 | F26: 16.27661 | G26: 210.11047 | H26: 15.18602 | I26: 251.7176 | J26: 10.66665 | K26: 292.99536 | L26: 7.74307 | M26: 323.67517 | N26: 5.99464 | O26: 348.23301 | P26: 7.50366 | Q26: 364.18127 | R26: 12.71553
B27: Formation professionnelle supérieure | C27: 291.11632 | D27: 3.4533 | E27: 212.74847 | F27: 12.07534 | G27: 233.38461 | H27: 8.9432 | I27: 264.35632 | J27: 6.64776 | K27: 294.81674 | L27: 4.37339 | M27: 321.05451 | N27: 4.48321 | O27: 344.53347 | P27: 6.41151 | Q27: 356.76713 | R27: 7.46849
B28: Haute école | C28: 313.35325 | D28: 2.73627 | E28: 231.55043 | F28: 8.23812 | G28: 255.27201 | H28: 6.44192 | I28: 286.78966 | J28: 3.75401 | K28: 316.54584 | L28: 3.78029 | M28: 344.55516 | N28: 3.16772 | O28: 368.44169 | P28: 4.85927 | Q28: 383.40253 | R28: 7.29906
A29: Statut sur le marché du travail2 | B29: Personnes actives occupées | C29: 283.87157 | D29: 1.5413 | E29: 181.02978 | F29: 7.51383 | G29: 209.54703 | H29: 4.85956 | I29: 251.11887 | J29: 2.91531 | K29: 290.20577 | L29: 1.90274 | M29: 322.70992 | N29: 2.25043 | O29: 350.06145 | P29: 2.71763 | Q29: 365.48513 | R29: 3.9148
B30: Personnes au chômage | C30: 252.55664 | D30: 10.53992 | E30: 169.34484 | F30: 26.04471 | G30: 184.65637 | H30: 23.14519 | I30: 214.8836 | J30: 17.76308 | K30: 253.36629 | L30: 14.09387 | M30: 290.1573 | N30: 13.42697 | O30: 317.4232 | P30: 14.46825 | Q30: 334.45777 | R30: 19.14698
B31: Personnes non actives | C31: 265.25536 | D31: 4.73487 | E31: 149.78597 | F31: 17.40774 | G31: 177.38849 | H31: 13.01618 | I31: 229.81674 | J31: 9.70073 | K31: 271.63086 | L31: 7.3475 | M31: 308.57275 | N31: 5.31536 | O31: 337.77358 | P31: 5.69837 | Q31: 354.29302 | R31: 8.59408
A32: Région d'origine3 | B32: Nationalité suisse ou nés en Suisse | C32: 287.30071 | D32: 1.51408 | E32: 190.48239 | F32: 7.02276 | G32: 217.26351 | H32: 5.07684 | I32: 256.07209 | J32: 2.63223 | K32: 292.53894 | L32: 1.98359 | M32: 323.55414 | N32: 2.04407 | O32: 349.85921 | P32: 2.5597 | Q32: 364.79107 | R32: 3.5087
B33: Pays voisin | C33: 284.81469 | D33: 7.18888 | E33: 167.66896 | F33: 34.82059 | G33: 202.71544 | H33: 18.40038 | I33: 250.80154 | J33: 13.66038 | K33: 291.86096 | L33: 7.77689 | M33: 326.72662 | N33: 8.26629 | O33: 356.71245 | P33: 9.43134 | Q33: 373.73726 | R33: 9.54268
B34: Autre pays de l'UE27+AELE | C34: 232.36331 | D34: 6.90824 | E34: 113.89777 | F34: 19.34385 | G34: 136.54147 | H34: 17.20195 | I34: 185.76759 | J34: 13.93843 | K34: 238.85072 | L34: 11.30734 | M34: 281.17749 | N34: 13.38994 | O34: 316.71891 | P34: 13.32871 | Q34: 335.95186 | R34: 19.34798
B35: Reste du monde | C35: 205.25414 | D35: 8.98784 | E35: 94.346255 | F35: 31.10446 | G35: 122.28201 | H35: 16.52838 | I35: 158.71839 | J35: 14.09716 | K35: 209.69887 | L35: 12.036 | M35: 253.81513 | N35: 10.94404 | O35: 286.58869 | P35: 13.91877 | Q35: 309.10765 | R35: 18.01304
A36: Profils migratoire et linguistique4 | B36: Nationalité suisse ou nés en Suisse
B37: Homoglottes | C37: 292.11705 | D37: 1.44514 | E37: 206.00083 | F37: 6.16311 | G37: 227.75544 | H37: 4.23817 | I37: 261.95851 | J37: 2.76045 | K37: 295.80162 | L37: 1.95989 | M37: 325.74575 | N37: 2.27688 | O37: 351.52503 | P37: 2.86693 | Q37: 366.42098 | R37: 4.00449
B38: Alloglottes | C38: 247.26006 | D38: 7.25576 | E38: 135.06686 | F38: 15.86695 | G38: 157.94819 | H38: 18.03946 | I38: 200.17083 | J38: 13.9155 | K38: 253.86539 | L38: 11.62241 | M38: 296.14255 | N38: 7.9417 | O38: 328.57077 | P38: 9.69758 | Q38: 346.12539 | R38: 11.14416
B39: Immigrés
B40: Homoglottes | C40: 278.42038 | D40: 7.15267 | E40: 160.51839 | F40: 28.04713 | G40: 197.16356 | H40: 20.33465 | I40: 242.88956 | J40: 11.40066 | K40: 284.37593 | L40: 7.8472 | M40: 321.80486 | N40: 7.96278 | O40: 353.49007 | P40: 9.35737 | Q40: 371.14168 | R40: 9.57436
B41: Alloglottes | C41: 215.63115 | D41: 6.05861 | E41: 101.94087 | F41: 19.46057 | G41: 125.01856 | H41: 11.05837 | I41: 166.65442 | J41: 10.01683 | K41: 218.68605 | L41: 10.79621 | M41: 264.70062 | N41: 8.19862 | O41: 304.88375 | P41: 10.93762 | Q41: 323.70634 | R41: 10.86588
A42: Date d'arrivée en Suisse5 | B42: Nationalité suisse ou nés en Suisse | C42: 287.30071 | D42: 1.51408 | E42: 190.48239 | F42: 7.02276 | G42: 217.26351 | H42: 5.07684 | I42: 256.07209 | J42: 2.63223 | K42: 292.53894 | L42: 1.98359 | M42: 323.55414 | N42: 2.04407 | O42: 349.85921 | P42: 2.5597 | Q42: 364.79107 | R42: 3.5087
B43: Immigrés depuis 5 ans ou moins | C43: 256.21976 | D43: 9.4826 | E43: 119.68549 | F43: 32.69751 | G43: 153.35301 | H43: 22.32833 | I43: 208.94826 | J43: 14.18802 | K43: 267.26053 | L43: 13.91495 | M43: 311.11526 | N43: 11.14594 | O43: 345.9876 | P43: 11.09748 | Q43: 364.50271 | R43: 13.4352
B44: Immigrés depuis plus de 5 ans | C44: 236.60959 | D44: 5.19176 | E44: 116.57362 | F44: 12.70396 | G44: 137.84631 | H44: 11.48572 | I44: 185.1835 | J44: 10.3095 | K44: 243.4711 | L44: 6.97792 | M44: 288.79416 | N44: 7.26306 | O44: 325.94671 | P44: 7.84028 | Q44: 348.2823 | R44: 11.25069
A45: 1 Intervalle de confiance à 95% 2 N'inclus pas les personnes qui ont seulement répondu à l'interview courte. 3 N'inclus pas les apatrides. 4 Les personnes qui ont seulement répondu à l'interview courte sont considérées comme alloglottes. Il s'agit de 0.5% des personnes de nationalité suisse ou nées en Suisse, et de 12% des immigrés. 5 N'inclus pas les personnes sans information sur la date d'arrivée en Suisse.
A46: Source: PIAAC - 2022/23 | R46: © BFS 2024

Sheet TA A1c
A1: Résolution adaptative de problèmes - Répartition des scores sur l'échelle de compétences (0 - 500) selon différentes dimensions d'analyse
A2: Population résidante permanente agée de 16 à 65 ans | R2: TA.1c
C4: Moyenne | E4: 5e centile | G4: 10e centile | I4: 25e centile | K4: Médiane | M4: 75e centile | O4: 90e centile | Q4: 95e centile
C5: Score | D5: ±1 | E5: Score | F5: ±1 | G5: Score | H5: ±1 | I5: Score | J5: ±1 | K5: Score | L5: ±1 | M5: Score | N5: ±1 | O5: Score | P5: ±1 | Q5: Score | R5: ±1
A6: Suisse | C6: 257.09177 | D6: 1.47281 | E6: 153.86294 | F6: 7.12432 | G6: 182.71767 | H6: 5.70966 | I6: 226.97996 | J6: 2.78383 | K6: 265.27581 | L6: 1.57807 | M6: 294.36256 | N6: 1.89678 | O6: 317.88784 | P6: 2.3402 | Q6: 331.83945 | R6: 2.75178
A7: Région linguistique | B7: Suisse alémanique | C7: 257.86387 | D7: 2.12805 | E7: 151.12573 | F7: 9.11377 | G7: 181.1614 | H7: 7.50663 | I7: 227.36015 | J7: 4.15804 | K7: 266.68426 | L7: 2.3984 | M7: 295.85753 | N7: 2.36495 | O7: 319.78298 | P7: 2.66567 | Q7: 333.46871 | R7: 3.30881
B8: Suisse romande | C8: 255.5193 | D8: 2.67981 | E8: 160.08664 | F8: 9.44837 | G8: 186.71482 | H8: 8.33619 | I8: 226.93592 | J8: 4.45105 | K8: 262.44972 | L8: 2.87413 | M8: 289.97175 | N8: 3.82166 | O8: 313.60906 | P8: 4.65066 | Q8: 327.62242 | R8: 5.09825
B9: Suisse italienne | C9: 253.08273 | D9: 4.45067 | E9: 161.2774 | F9: 14.52299 | G9: 184.89949 | H9: 10.80221 | I9: 221.56636 | J9: 7.30899 | K9: 259.85761 | L9: 5.76946 | M9: 288.66194 | N9: 5.739 | O9: 309.80075 | P9: 5.90805 | Q9: 322.11893 | R9: 7.28755
A10: Grande région | B10: Région lémanique | C10: 253.53156 | D10: 2.88051 | E10: 156.5096 | F10: 10.57288 | G10: 183.41353 | H10: 9.50204 | I10: 224.64953 | J10: 5.33281 | K10: 260.4543 | L10: 3.09946 | M10: 288.19117 | N10: 4.00125 | O10: 312.27565 | P10: 5.35777 | Q10: 326.53078 | R10: 6.391
B11: Espace Mittelland | C11: 261.6499 | D11: 3.31617 | E11: 161.31502 | F11: 12.75663 | G11: 188.3757 | H11: 11.4036 | I11: 232.34139 | J11: 6.06995 | K11: 269.61628 | L11: 3.87883 | M11: 297.55145 | N11: 3.78001 | O11: 321.14011 | P11: 4.62029 | Q11: 334.43758 | R11: 5.7342
B12: Suisse du Nord-Ouest | C12: 254.40358 | D12: 5.7324 | E12: 144.30933 | F12: 23.40356 | G12: 176.12312 | H12: 17.28263 | I12: 223.59282 | J12: 10.46739 | K12: 264.87021 | L12: 7.08715 | M12: 293.90076 | N12: 4.8929 | O12: 315.22501 | P12: 5.87475 | Q12: 327.81844 | R12: 6.98122
B13: Zurich | C13: 261.31567 | D13: 4.75216 | E13: 146.97835 | F13: 18.87559 | G13: 183.18706 | H13: 15.66663 | I13: 230.76542 | J13: 9.30604 | K13: 272.06447 | L13: 5.43658 | M13: 300.66843 | N13: 5.29212 | O13: 324.68521 | P13: 6.61321 | Q13: 338.50309 | R13: 6.7373
B14: Suisse orientale | C14: 250.93664 | D14: 4.94211 | E14: 148.07206 | F14: 18.92544 | G14: 174.83157 | H14: 18.62099 | I14: 220.09235 | J14: 9.30483 | K14: 258.64482 | L14: 5.91078 | M14: 288.58272 | N14: 5.36418 | O14: 312.94667 | P14: 7.27623 | Q14: 326.31066 | R14: 7.85873
B15: Suisse centrale | C15: 259.62689 | D15: 5.36466 | E15: 162.28646 | F15: 24.85105 | G15: 191.68873 | H15: 13.66293 | I15: 230.22908 | J15: 9.94376 | K15: 265.25935 | L15: 6.05019 | M15: 295.25677 | N15: 5.38794 | O15: 319.89339 | P15: 5.46784 | Q15: 333.78501 | R15: 8.98983
B16: Tessin | C16: 254.28716 | D16: 4.58611 | E16: 162.32653 | F16: 16.63045 | G16: 186.68732 | H16: 11.49442 | I16: 223.56809 | J16: 7.12722 | K16: 261.36149 | L16: 6.32989 | M16: 289.33184 | N16: 5.84007 | O16: 310.46808 | P16: 6.20141 | Q16: 322.79062 | R16: 7.54741
A17: Âge | B17: 16-25 ans | C17: 276.67802 | D17: 3.63932 | E17: 202.06736 | F17: 11.69471 | G17: 223.66221 | H17: 9.44277 | I17: 252.68438 | J17: 5.81694 | K17: 280.85008 | L17: 4.42219 | M17: 305.38106 | N17: 4.01424 | O17: 326.34795 | P17: 4.60494 | Q17: 337.64451 | R17: 5.76128
B18: 26-35 ans | C18: 272.36351 | D18: 3.6861 | E18: 173.0466 | F18: 19.74648 | G18: 203.25273 | H18: 11.11358 | I18: 248.46051 | J18: 5.71906 | K18: 279.66546 | L18: 3.96246 | M18: 305.56817 | N18: 4.53453 | O18: 328.41289 | P18: 5.8915 | Q18: 342.62716 | R18: 7.37958
B19: 36-45 ans | C19: 257.12881 | D19: 3.67139 | E19: 146.1043 | F19: 15.02523 | G19: 177.98802 | H19: 11.31457 | I19: 225.09612 | J19: 7.33284 | K19: 266.91026 | L19: 4.44351 | M19: 297.04017 | N19: 4.85146 | O19: 321.53369 | P19: 4.93631 | Q19: 335.15944 | R19: 5.67604
B20: 46-55 ans | C20: 247.63553 | D20: 3.72025 | E20: 143.18211 | F20: 14.27429 | G20: 170.41624 | H20: 11.4085 | I20: 215.95454 | J20: 6.6385 | K20: 255.59238 | L20: 4.35862 | M20: 286.52276 | N20: 3.7208 | O20: 309.31488 | P20: 4.02187 | Q20: 321.45219 | R20: 4.97384
B21: 56-65 ans | C21: 237.58731 | D21: 3.73057 | E21: 143.21288 | F21: 13.14559 | G21: 166.61444 | H21: 10.4713 | I21: 208.50428 | J21: 7.47781 | K21: 244.49649 | L21: 4.99129 | M21: 273.45437 | N21: 3.58906 | O21: 295.63467 | P21: 4.26615 | Q21: 308.73404 | R21: 4.85135
A22: Sexe | B22: Hommes | C22: 260.22085 | D22: 2.46961 | E22: 155.68491 | F22: 9.49988 | G22: 184.42806 | H22: 8.17638 | I22: 229.83816 | J22: 5.09556 | K22: 268.8132 | L22: 2.84593 | M22: 297.94408 | N22: 2.58762 | O22: 321.9388 | P22: 3.09578 | Q22: 335.87659 | R22: 3.55941
B23: Femmes | C23: 253.91186 | D23: 2.53759 | E23: 151.30666 | F23: 10.82135 | G23: 181.21383 | H23: 7.54459 | I23: 224.65998 | J23: 4.14012 | K23: 262.16581 | L23: 2.77747 | M23: 290.22381 | N23: 3.20344 | O23: 313.53456 | P23: 3.47371 | Q23: 326.65484 | R23: 3.8755
A24: Niveau de formation2 | B24: École obligatoire | C24: 229.41934 | D24: 5.18837 | E24: 122.74315 | F24: 17.64821 | G24: 146.57668 | H24: 14.09623 | I24: 188.54181 | J24: 9.71354 | K24: 234.01118 | L24: 7.7717 | M24: 275.62292 | N24: 7.03136 | O24: 304.43153 | P24: 6.97688 | Q24: 318.40378 | R24: 8.19157
B25: Degré secondaire II: professionnel | C25: 253.71649 | D25: 2.5722 | E25: 171.8854 | F25: 10.53494 | G25: 194.18126 | H25: 7.33439 | I25: 226.16199 | J25: 4.13682 | K25: 258.30566 | L25: 3.03144 | M25: 284.96246 | N25: 3.37815 | O25: 307.00834 | P25: 4.342 | Q25: 319.75925 | R25: 4.52325
B26: Degré secondaire II: général | C26: 264.53517 | D26: 5.21677 | E26: 175.70591 | F26: 14.05988 | G26: 194.92245 | H26: 14.23306 | I26: 233.15878 | J26: 10.84693 | K26: 270.1812 | L26: 6.14134 | M26: 298.99606 | N26: 6.15327 | O26: 322.72272 | P26: 7.63353 | Q26: 336.94802 | R26: 8.24613
B27: Formation professionnelle supérieure | C27: 267.85381 | D27: 3.09447 | E27: 199.47955 | F27: 11.24393 | G27: 216.75858 | H27: 8.44607 | I27: 246.06379 | J27: 5.68765 | K27: 271.54941 | L27: 3.55289 | M27: 293.26533 | N27: 5.18939 | O27: 312.65832 | P27: 5.60272 | Q27: 326.20614 | R27: 7.36724
B28: Haute école | C28: 284.31313 | D28: 2.39331 | E28: 209.78572 | F28: 9.2957 | G28: 231.47282 | H28: 6.46828 | I28: 260.50469 | J28: 3.34296 | K28: 287.63492 | L28: 3.01025 | M28: 312.07789 | N28: 3.01406 | O28: 333.61069 | P28: 3.80669 | Q28: 346.63042 | R28: 5.5987
A29: Statut sur le marché du travail2 | B29: Personnes actives occupées | C29: 264.1988 | D29: 1.42317 | E29: 173.87904 | F29: 7.52298 | G29: 199.47959 | H29: 5.07135 | I29: 237.27991 | J29: 2.529 | K29: 270.03383 | L29: 1.68916 | M29: 296.99649 | N29: 2.33114 | O29: 320.01305 | P29: 2.40673 | Q29: 333.59559 | R29: 2.7816
B30: Personnes au chômage | C30: 237.3921 | D30: 9.86729 | E30: 154.95101 | F30: 24.97014 | G30: 175.35011 | H30: 24.51966 | I30: 206.88468 | J30: 16.82931 | K30: 236.58214 | L30: 13.12019 | M30: 272.48716 | N30: 16.48405 | O30: 298.82207 | P30: 12.71212 | Q30: 312.10912 | R30: 17.2181
B31: Personnes non actives | C31: 245.64931 | D31: 4.39009 | E31: 143.50932 | F31: 13.59713 | G31: 167.80048 | H31: 13.9746 | I31: 208.96837 | J31: 9.12103 | K31: 251.99382 | L31: 6.29116 | M31: 285.70088 | N31: 4.94558 | O31: 313.21407 | P31: 6.98386 | Q31: 327.49135 | R31: 7.99999
A32: Région d'origine3 | B32: Nationalité suisse ou nés en Suisse | C32: 266.73168 | D32: 1.52477 | E32: 180.78578 | F32: 6.63572 | G32: 205.13124 | H32: 5.0801 | I32: 240.64985 | J32: 2.47068 | K32: 271.89595 | L32: 1.81147 | M32: 298.08568 | N32: 2.46371 | O32: 320.65326 | P32: 2.59666 | Q32: 334.18714 | R32: 2.9121
B33: Pays voisin | C33: 263.23593 | D33: 5.90717 | E33: 159.95801 | F33: 30.5206 | G33: 192.3714 | H33: 18.74684 | I33: 236.0959 | J33: 10.1011 | K33: 271.00871 | L33: 6.29592 | M33: 299.28139 | N33: 5.52849 | O33: 321.58023 | P33: 8.18078 | Q33: 335.09897 | R33: 8.00406
B34: Autre pays de l'UE27+AELE | C34: 219.94195 | D34: 6.82801 | E34: 116.03267 | F34: 20.09452 | G34: 139.61275 | H34: 17.03128 | I34: 182.48141 | J34: 14.78143 | K34: 223.14026 | L34: 10.75401 | M34: 260.25463 | N34: 9.2471 | O34: 291.35406 | P34: 13.40705 | Q34: 311.44221 | R34: 20.18845
B35: Reste du monde | C35: 197.05499 | D35: 8.19946 | E35: 102.20484 | F35: 23.12642 | G35: 123.19114 | H35: 17.81574 | I35: 158.26662 | J35: 14.02323 | K35: 197.23468 | L35: 10.28331 | M35: 237.48689 | N35: 13.52473 | O35: 273.37494 | P35: 13.45927 | Q35: 289.61591 | R35: 13.15371
A36: Profils migratoire et linguistique4 | B36: Nationalité suisse ou nés en Suisse
B37: Homoglottes | C37: 270.9431 | D37: 1.44694 | E37: 194.01639 | F37: 6.44509 | G37: 214.65216 | H37: 4.56699 | I37: 245.62098 | J37: 2.2023 | K37: 274.54281 | L37: 1.8501 | M37: 300.0809 | N37: 2.61961 | O37: 322.10288 | P37: 2.64881 | Q37: 335.45464 | R37: 2.87451
B38: Alloglottes | C38: 231.72006 | D38: 6.50294 | E38: 126.0446 | F38: 21.02289 | G38: 149.79568 | H38: 20.42481 | I38: 189.77771 | J38: 12.32633 | K38: 239.68128 | L38: 9.11506 | M38: 274.95112 | N38: 6.69413 | O38: 300.84574 | P38: 9.19698 | Q38: 315.61784 | R38: 10.4988
B39: Immigrés
B40: Homoglottes | C40: 258.99812 | D40: 6.13347 | E40: 157.88834 | F40: 28.40548 | G40: 187.11159 | H40: 19.92333 | I40: 227.73767 | J40: 11.69117 | K40: 266.04513 | L40: 6.74415 | M40: 296.10668 | N40: 5.47978 | O40: 319.58032 | P40: 8.01388 | Q40: 333.57904 | R40: 8.70206
B41: Alloglottes | C41: 205.01679 | D41: 5.78695 | E41: 105.69112 | F41: 17.71497 | G41: 125.79184 | H41: 14.77441 | I41: 163.72248 | J41: 9.00279 | K41: 206.55784 | L41: 7.70113 | M41: 248.17854 | N41: 7.90311 | O41: 280.94129 | P41: 8.46205 | Q41: 299.48579 | R41: 12.46054
A42: Date d'arrivée en Suisse5 | B42: Nationalité suisse ou nés en Suisse | C42: 266.73168 | D42: 1.52477 | E42: 180.78578 | F42: 6.63572 | G42: 205.13124 | H42: 5.0801 | I42: 240.64985 | J42: 2.47068 | K42: 271.89595 | L42: 1.81147 | M42: 298.08568 | N42: 2.46371 | O42: 320.65326 | P42: 2.59666 | Q42: 334.18714 | R42: 2.9121
B43: Immigrés depuis 5 ans ou moins | C43: 240.52279 | D43: 7.40126 | E43: 121.11657 | F43: 28.35632 | G43: 149.98374 | H43: 22.29498 | I43: 196.28066 | J43: 15.45055 | K43: 249.27466 | L43: 10.83358 | M43: 288.99007 | N43: 8.5922 | O43: 317.20339 | P43: 9.71177 | Q43: 332.61789 | R43: 11.88893
B44: Immigrés depuis plus de 5 ans | C44: 222.74684 | D44: 4.6845 | E44: 117.19462 | F44: 14.24734 | G44: 137.37319 | H44: 12.2661 | I44: 179.86872 | J44: 10.77104 | K44: 226.4457 | L44: 7.38661 | M44: 269.01067 | N44: 5.98358 | O44: 299.27375 | P44: 6.14192 | Q44: 315.08693 | R44: 7.33177
A45: 1 Intervalle de confiance à 95% 2 N'inclus pas les personnes qui ont seulement répondu à l'interview courte. 3 N'inclus pas les apatrides. 4 Les personnes qui ont seulement répondu à l'interview courte sont considérées comme alloglottes. Il s'agit de 0.5% des personnes de nationalité suisse ou nées en Suisse, et de 12% des immigrés. 5 N'inclus pas les personnes sans information sur la date d'arrivée en Suisse.
A46: Source: PIAAC - 2022/23 | R46: © BFS 2024

Sheet TA A2
A1: Régression linéaire sur les scores de compétences sur l'échelle (0 - 500) selon différents caractères socio-démographiques, incl. la région d'origine
A2: Population résidante permanente agée de 16 à 65 ans | M2: TA.2
C4: Littératie | G4: Numératie | K4: Résolution adaptative de problèmes
C5: Coefficient | E5: ±1 | G5: Coefficient | I5: ±1 | K5: Coefficient | M5: ±1
B6: Constante | C6: 277.19011 | D6: *** | E6: 7.64612 | G6: 296.83333 | H6: *** | I6: 8.03337 | K6: 265.89787 | L6: *** | M6: 7.3027
A7: Sexe
B8: Hommes (référence) | C8: Réf. | G8: Réf. | K8: Réf.
B9: Femmes | C9: 0.32317 | E9: 3.01222 | G9: -14.91037 | H9: *** | I9: 3.23016 | K9: -3.07774 | L9: * | M9: 3.01903
A10: Âge
B11: 16-25 ans | C11: 19.04239 | D11: *** | E11: 4.95345 | G11: 19.12326 | H11: *** | I11: 5.40989 | K11: 23.14673 | L11: *** | M11: 4.9246
B12: 26-35 ans | C12: 3.91632 | E12: 4.40633 | G12: 4.02149 | I12: 4.91536 | K12: 7.03571 | L12: ** | M12: 4.35534
B13: 36-45 ans (référence) | C13: Réf. | G13: Réf. | K13: Réf.
B14: 46-55 ans | C14: -9.7491 | D14: *** | E14: 4.55216 | G14: -7.64614 | H14: ** | I14: 4.68499 | K14: -9.37238 | L14: *** | M14: 4.02902
B15: 56-65 ans | C15: -21.04404 | D15: *** | E15: 4.38697 | G15: -14.10643 | H15: *** | I15: 4.50341 | K15: -19.54244 | L15: *** | M15: 4.1086
A16: Niveau de formation
B17: École obligatoire | C17: -56.62916 | D17: *** | E17: 6.4426 | G17: -65.99664 | H17: *** | I17: 6.36905 | K17: -46.31883 | L17: *** | M17: 5.54238
B18: Degré secondaire II: professionnel | C18: -41.18569 | D18: *** | E18: 3.62875 | G18: -43.45183 | H18: *** | I18: 3.78628 | K18: -29.402 | L18: *** | M18: 3.14741
B19: Degré secondaire II: général | C19: -23.08816 | D19: *** | E19: 5.29756 | G19: -27.13697 | H19: *** | I19: 5.25841 | K19: -20.87252 | L19: *** | M19: 5.09245
B20: Formation professionnelle supérieure | C20: -24.63133 | D20: *** | E20: 4.17807 | G20: -24.32797 | H20: *** | I20: 4.59751 | K20: -14.7952 | L20: *** | M20: 3.93129
B21: Haute école (référence) | C21: Réf. | G21: Réf. | K21: Réf.
A22: Statut sur le marché de travail
B23: Personnes actives occupées (référence) | C23: Réf. | G23: Réf. | K23: Réf.
B24: Personnes au chômage | C24: -9.38393 | E24: 9.49499 | G24: -11.87998 | H24: * | I24: 10.47314 | K24: -12.96075 | L24: ** | M24: 9.07553
B25: Personnes non actives | C25: -4.27452 | D25: * | E25: 4.16186 | G25: -3.4704 | I25: 4.26985 | K25: -8.81382 | L25: *** | M25: 4.01897
B26: Sans indication | C26: n. R. | G26: n. R. | K26: n. R.
A27: Niveau de formation des parents
B28: Aucun des parents n'a terminé le degré secondaire II (référence) | C28: Réf. | G28: Réf. | K28: Réf.
B29: Au moins un des parents a un diplôme du degré secondaire II, mais pas du degré tertiaire | C29: 18.09906 | D29: *** | E29: 5.95151 | G29: 16.57603 | H29: *** | I29: 5.78053 | K29: 13.82492 | L29: *** | M29: 4.86664
B30: Au moins un des parents a un diplôme du degré tertiaire | C30: 28.34823 | D30: *** | E30: 6.36646 | G30: 22.43837 | H30: *** | I30: 6.07414 | K30: 21.20334 | L30: *** | M30: 5.35407
A31: Lieu d'obtention du diplôme
B32: Diplôme obtenu à l'étranger (référence) | C32: Réf. | G32: Réf. | K32: Réf.
B33: Diplôme obtenu en Suisse | C33: 19.3712 | D33: *** | E33: 4.53297 | G33: 20.149 | H33: *** | I33: 5.34273 | K33: 16.75027 | L33: *** | M33: 5.01927
A34: Profil linguistique
B35: Homoglottes (Referenz) | C35: Réf. | G35: Réf. | K35: Réf.
B36: Alloglottes | C36: -21.76692 | D36: *** | E36: 5.41939 | G36: -19.17701 | H36: *** | I36: 5.79816 | K36: -19.057 | L36: *** | M36: 4.88895
A37: Région d'origine
B38: Nationalité suisse ou nés en Suisse (référence) | C38: Réf. | G38: Réf. | K38: Réf.
B39: Pays voisin | C39: 3.75417 | E39: 5.90146 | G39: 2.59957 | I39: 6.91347 | K39: 2.54599 | M39: 5.48204
B40: Autre pays de l'UE27+AELE | C40: -4.1715 | E40: 7.23854 | G40: -3.49307 | I40: 7.53377 | K40: -1.46169 | M40: 7.19145
B41: Reste du monde | C41: -29.61495 | D41: *** | E41: 8.77321 | G41: -27.47839 | H41: *** | I41: 8.90926 | K41: -23.14601 | L41: *** | M41: 8.2868
B42: Apatride | C42: n. R. | G42: n. R. | K42: n. R.
A43: Interview courte
B44: Interview courte non effectuée (référence) | C44: Réf. | G44: Réf. | K44: Réf.
B45: Interview courte effectuée | C45: -102.49284 | D45: *** | E45: 14.10993 | G45: -97.06836 | H45: *** | I45: 12.80007 | K45: -79.42501 | L45: *** | M45: 14.48704
A46: Remarque: Inclus les personnes qui ont seulement répondu à l'interview courte. La catégorie «sans indication» de la variable «niveau de formation des parents» et de la variable «lieu d'obtention du diplôme» est incluse dans les modèles. Les coefficients ne sont pas significatifs et ne son pas présentés.
A47: Les coefficients des variables sociodémographiques indiquent la différence moyenne des scores de compétences par rapport à la catégorie de référence.
A48: 1Intervalle de confiance à 95%
A49: n. R. : groupe exclu des analyses à cause de la taille trop petite
A50: Niveaux de significativité: * p < 0,05; ** p < 0,01; *** p < 0,001
A51: Source: PIAAC - 2022/23 | M51: © OFS 2024

Sheet TA A3
A1: Régression linéaire sur les scores de compétences sur l'échelle (0 - 500) selon différents caractères socio-démographiques, incl. les profils migratoire et linguistique
A2: Population résidante permanente agée de 16 à 65 ans | M2: TA.3
C4: Littératie | G4: Numératie | K4: Résolution adaptative de problèmes
C5: Coefficient | E5: ±1 | G5: Coefficient | I5: ±1 | K5: Coefficient | M5: ±1
B6: Constante | C6: 278.72664 | D6: *** | E6: 7.70725 | G6: 298.34751 | H6: *** | I6: 8.03717 | K6: 267.07166 | L6: *** | M6: 7.29444
A7: Sexe
B8: Hommes (référence) | C8: Réf. | G8: Réf. | K8: Réf.
B9: Femmes | C9: 0.12073 | E9: 3.04253 | G9: -15.08686 | H9: *** | I9: 3.2406 | K9: -3.21961 | L9: * | M9: 3.01817
A10: Âge
B11: 16-25 ans | C11: 20.47203 | D11: *** | E11: 5.03845 | G11: 20.43724 | H11: *** | I11: 5.42385 | K11: 24.2634 | L11: *** | M11: 4.96263
B12: 26-35 ans | C12: 4.47322 | D12: * | E12: 4.38583 | G12: 4.5373 | I12: 4.84607 | K12: 7.46281 | L12: ** | M12: 4.37966
B13: 36-45 ans (référence) | C13: Réf. | G13: Réf. | K13: Réf.
B14: 46-55 ans | C14: -8.51457 | D14: *** | E14: 4.6605 | G14: -6.5011 | H14: ** | I14: 4.79155 | K14: -8.36789 | L14: *** | M14: 4.16976
B15: 56-65 ans | C15: -19.72672 | D15: *** | E15: 4.31247 | G15: -12.89675 | H15: *** | I15: 4.48476 | K15: -18.49235 | L15: *** | M15: 4.11998
A16: Niveau de formation
B17: École obligatoire | C17: -57.68981 | D17: *** | E17: 6.47697 | G17: -66.93719 | H17: *** | I17: 6.45051 | K17: -47.08988 | L17: *** | M17: 5.56505
B18: Degré secondaire II: professionnel | C18: -41.58301 | D18: *** | E18: 3.70164 | G18: -43.82276 | H18: *** | I18: 3.88227 | K18: -29.71013 | L18: *** | M18: 3.22682
B19: Degré secondaire II: général | C19: -23.73175 | D19: *** | E19: 5.50826 | G19: -27.73762 | H19: *** | I19: 5.46972 | K19: -21.3666 | L19: *** | M19: 5.24664
B20: Formation professionnelle supérieure | C20: -24.79612 | D20: *** | E20: 4.14749 | G20: -24.48325 | H20: *** | I20: 4.59511 | K20: -14.92146 | L20: *** | M20: 3.92934
B21: Haute école (référence) | C21: Réf. | G21: Réf. | K21: Réf.
A22: Statut sur le marché de travail
B23: Personnes actives occupées (référence) | C23: Réf. | G23: Réf. | K23: Réf.
B24: Personnes au chômage | C24: -10.82396 | D24: * | E24: 9.31423 | G24: -13.21807 | H24: * | I24: 10.14728 | K24: -14.14414 | L24: ** | M24: 8.92204
B25: Personnes non actives | C25: -4.78058 | D25: * | E25: 4.30992 | G25: -3.94035 | I25: 4.35452 | K25: -9.23891 | L25: *** | M25: 4.09626
B26: Sans indication | C26: n. R. | G26: n. R. | K26: n. R.
A27: Niveau de formation des parents
B28: Aucun des parents n'a terminé le degré secondaire II (référence) | C28: Réf. | G28: Réf. | K28: Réf.
B29: Au moins un des parents a un diplôme du degré secondaire II, mais pas du degré tertiaire | C29: 18.90375 | D29: *** | E29: 6.11908 | G29: 17.29224 | H29: *** | I29: 5.90554 | K29: 14.44443 | L29: *** | M29: 5.00041
B30: Au moins un des parents a un diplôme du degré tertiaire | C30: 29.24174 | D30: *** | E30: 6.54332 | G30: 23.23632 | H30: *** | I30: 6.21436 | K30: 21.88235 | L30: *** | M30: 5.50155
A31: Lieu d'obtention du diplôme
B32: Diplôme obtenu à l'étranger (référence) | C32: Réf. | G32: Réf. | K32: Réf.
B33: Diplôme obtenu en Suisse | C33: 16.95245 | D33: *** | E33: 4.83891 | G33: 17.86547 | H33: *** | I33: 5.54403 | K33: 14.87911 | L33: *** | M33: 5.27183
A34: Profils migratoire et linguistique
B35: Nationalité suisse ou nés en Suisse
B36: Homoglottes (référence) | C36: Réf. | G36: Réf. | K36: Réf.
B37: Alloglottes | C37: -23.91514 | D37: *** | E37: 5.88583 | G37: -21.52564 | H37: *** | I37: 6.51392 | K37: -20.7911 | L37: *** | M37: 5.71266
B38: Immigrés
B39: Homoglottes | C39: -4.12216 | E39: 6.75979 | G39: -4.73482 | I39: 6.93 | K39: -3.34414 | M39: 6.09611
B40: Alloglottes | C40: -38.19423 | D40: *** | E40: 6.44237 | G40: -34.19005 | H40: *** | I40: 6.83276 | K40: -31.11536 | L40: *** | M40: 6.07444
A41: Interview courte
B42: Interview courte non effectuée (référence) | C42: Réf. | G42: Réf. | K42: Réf.
B43: Interview courte effectuée | C43: -106.09554 | D43: *** | E43: 13.83302 | G43: -100.53998 | H43: *** | I43: 12.94801 | K43: -82.26565 | L43: *** | M43: 14.31511
A44: Remarque: Inclus les personnes qui ont seulement répondu à l'interview courte. La catégorie «sans indication» de la variable «niveau de formation des parents» et de la variable «lieu d'obtention du diplôme» est incluse dans les modèles. Les coefficients ne sont pas significatifs et ne son pas présentés.
A45: Les coefficients des variables sociodémographiques indiquent la différence moyenne des scores de compétences par rapport à la catégorie de référence.
A46: 1Intervalle de confiance à 95%
A47: n. R. : groupe exclu des analyses à cause de la taille trop petite
A48: Niveaux de significativité: * p < 0,05; ** p < 0,01; *** p < 0,001
A49: Source: PIAAC - 2022/23 | M49: © OFS 2024

Sheet TA A4
A1: Régression linéaire sur les scores de compétences sur l'échelle (0 - 500) selon différents caractères socio-démographiques, incl. la date d'ârrivée en Suisse
A2: Population résidante permanente agée de 16 à 65 ans | M2: TA.4
C4: Littératie | G4: Numératie | K4: Résolution adaptative de problèmes
C5: Coefficient | E5: ±1 | G5: Coefficient | I5: ±1 | K5: Coefficient | M5: ±1
B6: Constante | C6: 280.20028 | D6: *** | E6: 7.59126 | G6: 298.79788 | H6: *** | I6: 7.8164 | K6: 267.62073 | L6: *** | M6: 7.27341
A7: Sexe
B8: Hommes (référence) | C8: Réf. | G8: Réf. | K8: Réf.
B9: Femmes | C9: 0.13977 | E9: 3.03917 | G9: -15.03437 | H9: *** | I9: 3.23306 | K9: -3.176 | L9: * | M9: 3.00545
A10: Âge
B11: 16-25 ans | C11: 20.72008 | D11: *** | E11: 5.05836 | G11: 20.24352 | H11: *** | I11: 5.63953 | K11: 24.04895 | L11: *** | M11: 5.04305
B12: 26-35 ans | C12: 4.71351 | D12: * | E12: 4.48147 | G12: 4.23926 | I12: 5.02659 | K12: 7.15784 | L12: ** | M12: 4.46888
B13: 36-45 ans (référence) | C13: Réf. | G13: Réf. | K13: Réf.
B14: 46-55 ans | C14: -8.43701 | D14: *** | E14: 4.65985 | G14: -6.30214 | H14: * | I14: 4.79471 | K14: -8.20538 | L14: *** | M14: 4.1809
B15: 56-65 ans | C15: -19.61884 | D15: *** | E15: 4.2814 | G15: -12.61252 | H15: *** | I15: 4.45656 | K15: -18.2598 | L15: *** | M15: 4.0894
A16: Niveau de formation
B17: École obligatoire | C17: -57.75337 | D17: *** | E17: 6.3398 | G17: -66.52741 | H17: *** | I17: 6.39735 | K17: -46.6931 | L17: *** | M17: 5.54762
B18: Degré secondaire II: professionnel | C18: -41.75266 | D18: *** | E18: 3.7047 | G18: -43.7208 | H18: *** | I18: 3.85892 | K18: -29.59837 | L18: *** | M18: 3.24793
B19: Degré secondaire II: général | C19: -23.96531 | D19: *** | E19: 5.5944 | G19: -27.74735 | H19: *** | I19: 5.50348 | K19: -21.36798 | L19: *** | M19: 5.3114
B20: Formation professionnelle supérieure | C20: -24.8881 | D20: *** | E20: 4.15356 | G20: -24.44988 | H20: *** | I20: 4.56455 | K20: -14.88592 | L20: *** | M20: 3.94359
B21: Haute école (référence) | C21: Réf. | G21: Réf. | K21: Réf.
A22: Statut sur le marché de travail
B23: Personnes actives occupées (référence) | C23: Réf. | G23: Réf. | K23: Réf.
B24: Personnes au chômage | C24: -10.80575 | D24: * | E24: 9.22981 | G24: -13.78948 | H24: ** | I24: 10.26594 | K24: -14.6882 | L24: ** | M24: 8.93098
B25: Personnes non actives | C25: -4.79491 | D25: * | E25: 4.26013 | G25: -4.09749 | I25: 4.33439 | K25: -9.38794 | L25: *** | M25: 4.07574
B26: Sans indication | C26: n. R. | G26: n. R. | K26: n. R.
A27: Niveau de formation des parents
B28: Aucun des parents n'a terminé le degré secondaire II (référence) | C28: Réf. | G28: Réf. | K28: Réf.
B29: Au moins un des parents a un diplôme du degré secondaire II, mais pas du degré tertiaire | C29: 18.81304 | D29: *** | E29: 6.09518 | G29: 17.02801 | H29: *** | I29: 5.87946 | K29: 14.17958 | L29: *** | M29: 5.00034
B30: Au moins un des parents a un diplôme du degré tertiaire | C30: 29.22005 | D30: *** | E30: 6.51453 | G30: 23.05887 | H30: *** | I30: 6.19021 | K30: 21.70179 | L30: *** | M30: 5.49607
A31: Lieu d'obtention du diplôme
B32: Diplôme obtenu à l'étranger (référence) | C32: Réf. | G32: Réf. | K32: Réf.
B33: Diplôme obtenu en Suisse | C33: 15.85539 | D33: *** | E33: 4.65059 | G33: 17.80208 | H33: *** | I33: 5.32662 | K33: 14.72275 | L33: *** | M33: 5.05757
A34: Profil linguistique
B35: Homoglottes (référence) | C35: Réf. | G35: Réf. | K35: Réf.
B36: Alloglottes | C36: -28.71887 | D36: *** | E36: 5.00556 | G36: -25.17637 | H36: *** | I36: 5.18623 | K36: -23.93998 | L36: *** | M36: 4.66028
A37: Date d'arrivée en Suisse
B38: Nationalité suisse ou nés en Suisse (référence) | C38: Réf. | G38: Réf. | K38: Réf.
B39: Immigrés depuis 5 ans ou moins | C39: -8.2293 | D39: * | E39: 7.83102 | G39: -2.82615 | I39: 9.58274 | K39: -1.50133 | M39: 7.68103
B40: Immigrés depuis plus de 5 ans | C40: -7.90661 | D40: ** | E40: 5.03686 | G40: -8.88035 | H40: ** | I40: 5.1965 | K40: -7.39505 | L40: ** | M40: 4.44776
B41: Immigrés sans information sur la date d'arrivée en Suisse | C41: n. R. | G41: n. R. | K41: n. R.
A42: Interview courte
B43: Interview courte non effectuée (référence) | C43: Réf. | G43: Réf. | K43: Réf.
B44: Interview courte effectuée | C44: -108.49997 | D44: *** | E44: 13.46251 | G44: -103.04492 | H44: *** | I44: 12.3944 | K44: -84.51127 | L44: *** | M44: 14.23764
A45: Remarque: Inclus les personnes qui ont seulement répondu à l'interview courte. La catégorie «sans indication» de la variable «niveau de formation des parents» et de la variable «lieu d'obtention du diplôme» est incluse dans les modèles. Les coefficients ne sont pas significatifs et ne son pas présentés.
A46: Les coefficients des variables sociodémographiques indiquent la différence moyenne des scores de compétences par rapport à la catégorie de référence.
A47: 1Intervalle de confiance à 95%
A48: n. R. : groupe exclu des analyses à cause de la taille trop petite
A49: Niveaux de significativité: * p < 0,05; ** p < 0,01; *** p < 0,001
A50: Source: PIAAC - 2022/23 | M50: © OFS 2024

Sheet TA A5
A1: Répartition des caractères socio-démographiques par région d'origine
A2: Population résidante permanente agée de 16 à 65 ans | J2: TA.5
C4: Nationalité suisse ou nés en Suisse | E4: Pays voisin | G4: Autre pays de l'UE27+AELE | I4: Reste du monde
C5: % | D5: ±1 | E5: % | F5: ±1 | G5: % | H5: ±1 | I5: % | J5: ±1
A6: Proportion de la population résidente permanente de 16 à 65 ans | C6: 75.21405 | D6: 0.57341 | E6: 9.25063 | F6: 0.58451 | G6: 6.88546 | H6: 0.733 | I6: 8.64986 | J6: 0.64067
A7: Âge | B7: 16-25 ans | C7: 17.78138 | D7: 0.51328 | E7: 6.24993 | F7: 2.28644 | G7: 8.16176 | H7: 3.27588 | I7: 9.58664 | J7: 3.08862
B8: 26-35 ans | C8: 19.3558 | D8: 0.77326 | E8: 26.96747 | F8: 4.01824 | G8: 18.77246 | H8: 4.36444 | I8: 24.27349 | J8: 5.30238
B9: 36-45 ans | C9: 18.32188 | D9: 0.92327 | E9: 27.30882 | F9: 3.91352 | G9: 31.59783 | H9: 5.54344 | I9: 38.66832 | J9: 5.84004
B10: 46-55 ans | C10: 21.13552 | D10: 1.44614 | E10: 21.00201 | F10: 4.41907 | G10: 26.66089 | H10: 4.90044 | I10: 17.25431 | J10: 3.76172
B11: 56-65 ans | C11: 23.40542 | D11: 1.19731 | E11: 18.47176 | F11: 4.34351 | G11: 14.80707 | H11: 3.69138 | I11: 10.21724 | J11: 3.28169
A12: Niveau de formation | B12: École obligatoire | C12: 14.47179 | D12: 0.83371 | E12: 12.1431 | F12: 4.14104 | G12: 36.535 | H12: 4.79011 | I12: 37.2526 | J12: 5.88652
B13: Degré secondaire II | C13: 46.03885 | D13: 0.96866 | E13: 31.70026 | F13: 4.03425 | G13: 28.23357 | H13: 5.06249 | I13: 32.525 | J13: 5.45501
B14: Degré tertiaire | C14: 39.48937 | D14: 0.65986 | E14: 56.15664 | F14: 4.35829 | G14: 35.23143 | H14: 5.58155 | I14: 30.2224 | J14: 4.0751
A15: Profil linguistique | B15: Homoglottes | C15: 89.26291 | D15: 1.15436 | E15: 91.24023 | F15: 3.24206 | G15: 13.89177 | H15: 4.98232 | I15: 13.38092 | J15: 4.30304
B16: Alloglottes | C16: 10.73709 | D16: 1.15436 | E16: 8.75977 | F16: 3.24206 | G16: 86.10823 | H16: 4.98232 | I16: 86.61908 | J16: 4.30304
A17: Lieu d'obtention du diplôme | B17: Suisse | C17: 90.48967 | D17: 0.93193 | E17: 19.30305 | F17: 3.46177 | G17: 19.18699 | H17: 4.19041 | I17: 23.81743 | J17: 4.8109
B18: Étranger | C18: 8.74707 | D18: 0.91891 | E18: 80.12728 | F18: 3.39948 | G18: 62.67882 | H18: 6.02495 | I18: 52.74201 | J18: 5.55079
B19: Sans indication | C19: 0.76326 | D19: 0.27546 | E19: 0.56968 | F19: 0.70836 | G19: 18.13419 | H19: 3.92286 | I19: 23.44056 | J19: 4.26256
A20: Remarque: Les personnes qui ont seulement répondu à l'interview courte sont considérées comme alloglottes. Il s'agit de 0.5% des personnes de nationalité suisse ou nées en Suisse et de 12% des immigrés. N'inclus pas les apatrides.
A21: 1Intervalle de confiance à 95%
A22: Source: PIAAC - 2022/23 | J22: © OFS 2024

Sheet TA A6
A1: Répartition des caractères socio-démographiques selon les profils migratoire et linguistique
A2: Population résidante permanente agée de 16 à 65 ans | J2: TA.6
C4: Nationalité suisse ou nés en Suisse | G4: Immigrés
C5: Homoglottes | E5: Alloglottes | G5: Homoglottes | I5: Alloglottes
C6: % | D6: ±1 | E6: % | F6: ±1 | G6: % | H6: ±1 | I6: % | J6: ±1
A7: Proportion de la population résidente permanente de 16 à 65 ans | C7: 67.08594 | D7: 0.8178 | E7: 8.06951 | F7: 0.89301 | G7: 10.54601 | H7: 0.75722 | I7: 14.29854 | J7: 0.90895
A8: Âge | B8: 16-25 ans | C8: 17.81407 | D8: 0.69683 | E8: 17.50958 | F8: 4.26115 | G8: 6.32742 | H8: 2.07641 | I8: 9.24395 | J8: 2.22394
B9: 26-35 ans | C9: 19.57124 | D9: 0.83791 | E9: 17.56477 | F9: 3.40096 | G9: 27.02586 | H9: 4.05331 | I9: 21.20576 | J9: 3.73182
B10: 36-45 ans | C10: 18.10786 | D10: 0.98148 | E10: 20.10111 | F10: 4.45821 | G10: 30.00677 | H10: 4.09142 | I10: 34.49701 | J10: 3.56721
B11: 46-55 ans | C11: 20.73487 | D11: 1.54057 | E11: 24.46631 | F11: 4.85228 | G11: 19.89675 | H11: 3.76794 | I11: 22.16027 | J11: 2.93123
B12: 56-65 ans | C12: 23.77195 | D12: 1.33703 | E12: 20.35823 | F12: 4.46322 | G12: 16.7432 | H12: 4.05759 | I12: 12.89301 | J12: 2.62051
A13: Niveau de formation | B13: École obligatoire | C13: 12.21555 | D13: 0.86974 | E13: 33.22904 | F13: 5.24431 | G13: 15.81396 | H13: 4.55363 | I13: 36.43264 | J13: 4.25761
B14: Degré secondaire II | C14: 47.61369 | D14: 1.06177 | E14: 32.94634 | F14: 4.36977 | G14: 31.86164 | H14: 4.13994 | I14: 30.63554 | J14: 4.2535
B15: Degré tertiaire | C15: 40.17076 | D15: 0.86662 | E15: 33.82461 | F15: 4.41587 | G15: 52.3244 | H15: 3.96482 | I15: 32.93182 | J15: 3.31079
A16: Lieu d'obtention du diplôme | B16: Suisse | C16: 94.5475 | D16: 0.71403 | E16: 56.75485 | F16: 4.49395 | G16: 21.9834 | H16: 3.91819 | I16: 20.04227 | J16: 3.22725
B17: Étranger | C17: 5.19115 | D17: 0.70678 | E17: 38.30927 | F17: 4.31606 | G17: 77.87819 | H17: 3.92675 | I17: 56.69794 | J17: 3.68649
B18: Sans indication | C18: 0.26135 | D18: 0.17863 | E18: 4.93588 | F18: 2.21352 | G18: 0.13841 | H18: 0.29466 | I18: 23.25979 | J18: 2.83319
A19: Remarque: Les personnes qui ont seulement répondu à l'interview courte sont considérées comme alloglottes. Il s'agit de 0.5% des personnes de nationalité suisse ou nées en Suisse et de 12% des immigrés.
A20: 1Intervalle de confiance à 95%
A21: Source: PIAAC - 2022/23 | J21: © OFS 2024

Sheet TA A7
A1: Répartition des caractères socio-démographiques selon la date d'arrivée en Suisse
A2: Population résidante permanente agée de 16 à 65 ans | H2: TA.7
C4: Nationalité suisse ou nés en Suisse | E4: Immigrés depuis 5 ans ou moins | G4: Immigrés depuis plus de 5 ans
C5: % | D5: ±1 | E5: % | F5: ±1 | G5: % | H5: ±1
A6: Proportion de la population résidente permanente de 16 à 65 ans | C6: 75.33737 | D6: 0.57269 | E6: 7.35413 | F6: 0.371 | G6: 17.3085 | H6: 0.63277
A7: Âge | B7: 16-25 ans | C7: 17.78138 | D7: 0.51328 | E7: 12.17549 | F7: 3.32702 | G7: 6.32458 | H7: 1.7054
B8: 26-35 ans | C8: 19.3558 | D8: 0.77326 | E8: 41.43542 | F8: 4.97851 | G8: 16.35079 | H8: 2.56591
B9: 36-45 ans | C9: 18.32188 | D9: 0.92327 | E9: 29.71177 | F9: 5.01633 | G9: 33.7891 | H9: 3.01842
B10: 46-55 ans | C10: 21.13552 | D10: 1.44614 | E10: 13.27215 | F10: 3.54489 | G10: 24.17846 | H10: 3.25855
B11: 56-65 ans | C11: 23.40542 | D11: 1.19731 | E11: 3.40517 | F11: 1.85753 | G11: 19.35707 | H11: 2.92561
A12: Niveau de formation | B12: École obligatoire | C12: 14.47179 | D12: 0.83371 | E12: 18.8175 | F12: 4.72647 | G12: 31.59207 | H12: 3.49333
B13: Degré secondaire II | C13: 46.03885 | D13: 0.96866 | E13: 23.89451 | F13: 5.11054 | G13: 34.27277 | H13: 3.654
B14: Degré tertiaire | C14: 39.48937 | D14: 0.65986 | E14: 57.28799 | F14: 5.34944 | G14: 34.13516 | H14: 2.55865
A15: Profil linguistique | B15: Homoglottes | C15: 89.26291 | D15: 1.15436 | E15: 44.33297 | F15: 5.96717 | G15: 41.8197 | H15: 3.95352
B16: Alloglottes | C16: 10.73709 | D16: 1.15436 | E16: 55.66703 | F16: 5.96717 | G16: 58.1803 | H16: 3.95352
A17: Lieu d'obtention du diplôme | B17: Suisse | C17: 90.48967 | D17: 0.93193 | E17: 10.92098 | F17: 3.55774 | G17: 25.32652 | H17: 3.27648
B18: Étranger | C18: 8.74707 | D18: 0.91891 | E18: 72.1574 | F18: 4.39741 | G18: 62.75848 | H18: 3.17762
B19: Sans indication | C19: 0.76326 | D19: 0.27546 | E19: 16.92162 | F19: 3.26815 | G19: 11.915 | H19: 2.20229
A20: Remarque: Les personnes qui ont seulement répondu à l'interview courte sont considérées comme alloglottes. Il s'agit de 0.5% des personnes de nationalité suisse ou nées en Suisse et de 12% des immigrés. N'inclus pas les personnes sans information sur la date d'arrivée en Suisse.
A21: 1Intervalle de confiance à 95%
A22: Source: PIAAC - 2022/23 | H22: © OFS 2024

Sheet TA A8
A1: Proportion de personnes ayant de faibles compétences (niveau inférieur à 1 et niveau 1) selon différentes dimensions d'analyse
A2: Population résidante permanente agée de 16 à 65 ans | N2: TA.8
C4: Faibles compétences en numératie | F4: Faibles compétences en résolution adaptative de problèmes | I4: Faibles compétences dans les trois domaines | L4: Faibles compétences dans au moins un domaine
C5: % | D5: ±1 | E5: en 1 000 | F5: % | G5: ±1 | H5: en 1 000 | I5: % | J5: ±1 | K5: en 1 000 | L5: % | M5: ±1 | N5: en 1 000
A6: Total | C6: 18.92355 | D6: 1.38892 | E6: 1064.0281 | F6: 24.56505 | G6: 1.28302 | H6: 1381.2367 | I6: 15.00607 | J6: 1.17527 | K6: 843.75732 | L6: 29.70019 | M6: 1.35279 | N6: 1669.9742
A7: Sexe | B7: Hommes | C7: 16.42653 | D7: 1.76541 | E7: 465.5342 | F7: 23.42084 | G7: 1.98789 | H7: 663.75575 | I7: 13.96268 | J7: 1.63025 | K7: 395.70786 | L7: 28.19697 | M7: 2.0092 | N7: 799.11329
B8: Femmes | C8: 21.46114 | D8: 2.26699 | E8: 598.49391 | F8: 25.72785 | G8: 2.16512 | H8: 717.48092 | I8: 16.06642 | J8: 1.9348 | K8: 448.04947 | L8: 31.22784 | M8: 2.42908 | N8: 870.86096
A9: Âge | B9: 16-25 ans | C9: 10.59588 | D9: 2.99698 | E9: 91.46875 | F9: 10.80291 | G9: 2.95817 | H9: 93.2559 | I9: 6.14726 | J9: 2.24993 | K9: 53.0661 | L9: 15.99794 | M9: 3.54565 | N9: 138.10189
B10: 26-35 ans | C10: 13.5535 | D10: 2.5169 | E10: 155.68737 | F10: 16.12111 | G10: 2.64413 | H10: 185.18123 | I10: 10.05409 | J10: 2.24687 | K10: 115.49004 | L10: 20.43451 | M10: 2.82827 | N10: 234.72868
B11: 36-45 ans | C11: 20.3165 | D11: 3.1269 | E11: 249.79758 | F11: 25.44148 | G11: 2.84203 | H11: 312.81076 | I11: 16.39348 | J11: 2.6199 | K11: 201.56286 | L11: 30.57568 | M11: 2.95219 | N11: 375.93722
B12: 46-55 ans | C12: 23.06178 | D12: 3.18936 | E12: 274.27256 | F12: 30.26687 | G12: 3.18393 | H12: 359.96235 | I12: 19.01802 | J12: 2.92654 | K12: 226.18043 | L12: 35.26794 | M12: 3.3942 | N12: 419.43989
B13: 56-65 ans | C13: 24.56369 | D13: 3.43709 | E13: 292.80185 | F13: 36.07572 | G13: 4.07017 | H13: 430.02643 | I13: 20.7597 | J13: 3.16554 | K13: 247.4579 | L13: 42.09413 | M13: 3.81694 | N13: 501.76657
A14: Niveau de formation2 | B14: École obligatoire | C14: 41.45202 | D14: 5.43382 | E14: 378.27347 | F14: 45.32795 | G14: 4.88154 | H14: 413.64356 | I14: 34.18404 | J14: 4.93703 | K14: 311.94903 | L14: 53.53439 | M14: 4.25793 | N14: 488.53204
B15: Degré secondaire II: professionnel | C15: 17.55937 | D15: 2.69992 | E15: 329.30829 | F15: 24.9403 | G15: 2.67944 | H15: 467.73037 | I15: 12.56148 | J15: 2.01765 | K15: 235.57799 | L15: 32.20601 | M15: 3.04776 | N15: 603.99133
B16: Degré secondaire II: général | C16: 14.4856 | D16: 3.90573 | E16: 68.82033 | F16: 21.53792 | G16: 4.89549 | H16: 102.3255 | I16: 10.77348 | J16: 3.42992 | K16: 51.18423 | L16: 24.39883 | M16: 4.93945 | N16: 115.91753
B17: Formation professionnelle supérieure | C17: 7.99713 | D17: 2.17552 | E17: 55.3797 | F17: 13.74207 | G17: 3.05164 | H17: 95.16315 | I17: 5.07948 | J17: 1.89621 | K17: 35.17517 | L17: 18.64873 | M17: 3.75786 | N17: 129.14148
B18: Haute école | C18: 4.22452 | D18: 1.19278 | E18: 62.62362 | F18: 8.38945 | G18: 1.79263 | H18: 124.36393 | I18: 2.89917 | J18: 1.03082 | K18: 42.97685 | L18: 10.1226 | M18: 1.70967 | N18: 150.05574
A19: Statut sur le marché du travail2 | B19: Personnes actives occupées | C19: 14,7 | D19: 1,3 | E19: 657 | F19: 19,3 | G19: 1,4 | H19: 868 | I19: 10,7 | J19: 1,2 | K19: 481 | L19: 24.68641 | M19: 1.53241 | N19: 1107.2356
B20: Personnes au chômage | C20: 32 | D20: 10,8 | E20: 49 | F20: 41,3 | G20: 10,6 | H20: 64 | I20: 22,4 | J20: 9,6 | K20: 34 | L20: 50.16698 | M20: 9.88714 | N20: 77.23475
B21: Personnes non actives | C21: 23,5 | D21: 4,1 | E21: 187 | F21: 34,1 | G21: 4,2 | H21: 270 | I21: 20,2 | J21: 3,7 | K21: 160 | L21: 37.94808 | M21: 4.3186 | N21: 300.79835
A22: Profils migratoire et linguistique3 | B22: Nationalité suisse ou nés en Suisse
B23: Homoglottes | C23: 9.46817 | D23: 1.20188 | E23: 357.14793 | F23: 14.39922 | G23: 1.48778 | H23: 543.15164 | I23: 6.20294 | J23: 0.98156 | K23: 233.98057 | L23: 18.83037 | M23: 1.56352 | N23: 710.29826
B24: Alloglottes | C24: 36.96245 | D24: 6.43544 | E24: 167.70973 | F24: 41.67932 | G24: 6.13729 | H24: 189.11158 | I24: 31.08937 | J24: 5.91946 | K24: 141.06181 | L24: 47.68038 | M24: 6.19241 | N24: 216.34017
B25: Immigrés
B26: Homoglottes | C26: 18.28847 | D26: 5.02238 | E26: 108.44668 | F26: 24.52319 | G26: 5.27209 | H26: 145.41722 | I26: 14.32779 | J26: 4.73814 | K26: 84.9607 | L26: 29.4889 | M26: 5.64242 | N26: 174.86278
B27: Alloglottes | C27: 53.57432 | D27: 5.30545 | E27: 430.72377 | F27: 62.63338 | G27: 4.82662 | H27: 503.55623 | I27: 47.73216 | J27: 5.0469 | K27: 383.75424 | L27: 70.70787 | M27: 4.01764 | N27: 568.47303
A28: Date d'arrivée en Suisse4 | B28: Nationalité suisse ou nés en Suisse | C28: 12.42026 | D28: 1.35894 | E28: 524.85765 | F28: 17.32831 | G28: 1.55586 | H28: 732.26322 | I28: 8.87502 | J28: 1.08198 | K28: 375.04238 | L28: 21.92802 | M28: 1.61144 | N28: 926.63843
B29: Immigrés depuis 5 ans ou moins | C29: 32.76313 | D29: 7.01162 | E29: 135.15032 | F29: 38.21692 | G29: 6.20106 | H29: 157.64762 | I29: 28.29905 | J29: 6.17382 | K29: 116.73568 | L29: 44.23977 | M29: 6.32725 | N29: 182.49232
B30: Immigrés depuis plus de 5 ans | C30: 40.98848 | D30: 3.9821 | E30: 397.94388 | F30: 49.69237 | G30: 3.95728 | H30: 482.44712 | I30: 35.77002 | J30: 4.0877 | K30: 347.2795 | L30: 56.66723 | M30: 3.68464 | N30: 550.16378
A31: 1 Intervalle de confiance à 95% 2 N'inclus pas les personnes qui ont seulement répondu à l'interview courte. 3 Les personnes qui ont seulement répondu à l'interview courte sont considérées comme alloglottes. Il s'agit de 0.5% des personnes de nationalité suisse ou nées en Suisse et de 12% des immigrés. 4 N'inclus pas les personnes sans information sur la date d'arrivée en Suisse.
A32: Source: PIAAC - 2022/23 | N32: © OFS 2024
