Workbook

Sheet Inhalt
B2: Kosten und Finanzierung des Verkehrs
B3: Kilometerkosten des motorisierten Strassenverkehrs
B4: T-SU 11.02.02.02
B6: Tabellenblätter | D6: Datenstand
B7: Terminologie
B8: 2021 | D8: Dezember 2024
B9: 2020 | D9: Dezember 2024
B10: 2019 | D10: Dezember 2024
B11: 2018 | D11: Dezember 2024
B12: 2017 | D12: Dezember 2024
B13: 2016 | D13: Dezember 2024
B14: 2015 | D14: Dezember 2024
B15: 2014 | D15: Dezember 2024
B16: 2013 | D16: Dezember 2024
B17: 2012 | D17: Dezember 2024
B18: 2011 | D18: Dezember 2024
B19: 2010 | D19: Dezember 2024
B21: Quelle: | C21: BFS – Kosten und Finanzierung des Verkehrs (KFV)
B23: Auskunft: | C23: Bundesamt für Statistik, Sektion Mobilität, 058 463 64 68,
C24: verkehr@bfs.admin.ch
B26: © BFS

Sheet Terminologie
E1: ◄
B2: Terminologie der Statistik der Kosten und Finanzierung des Verkehrs (KFV-Statistik)
C4: Kostenkategorien
C5: Aufschlüsselung der Gesamtkosten des Verkehrs nach deren Entstehung. Die KFV-Statistik unterscheidet vier Kostenkategorien:
C6: - | D6: Infrastrukturkosten (Bau, Instandhaltung und Betrieb, bei der Luftfahrt inkl. Flugsicherung)
C7: - | D7: Verkehrsmittelkosten (Anschaffung, Betrieb und Unterhalt von Fahrzeugen und Fluggeräten)
C8: - | D8: Unfallkosten (Sach- und Personenschäden sowie Unfallfolgekosten, z.B. Arbeitsausfall für Arbeitgeber)
C9: - | D9: Umwelt- und Gesundheitskosten (Beeinträchtigungen der Umwelt bzw. der menschlichen Gesundheit, z.B. durch Luftverschmutzung, Lärm, Klimaeffekte)
C11: Kostenträger
C12: Kostenträger sind natürliche oder juristische Personen, welche die Verkehrskosten übernehmen. Die KFV-Statistik unterscheidet vier Kostenträger des Verkehrs:
C13: - | D13: Verkehrsnutzende (im Personenverkehr die Verkehrsteilnehmenden, im Güterverkehr die Auftraggeber von Transporten)
C14: - | D14: Transportunternehmen (Unternehmen des öffentlichen Verkehrs, Fluggesellschaften, Flughafenbetreiber und Flugsicherung)
C15: - | D15: Öffentliche Hand (Bund, Kantone und Gemeinden)
C16: - | D16: Allgemeinheit (gerade nicht am Verkehr beteiligte Personen)
C18: Die Kostenträger werden für zwei unterschiedliche Zeitpunkte ausgewiesen:
C19: - | D19: Direkte Kostenträger geben an, wer die Kosten zum Zeitpunkt von deren Entstehung übernommen hat. Beispielsweise werden Strasseninfrastrukturkosten zuerst von der öffentlichen Hand getragen, Kosten für Lokomotiven und Eisenbahnwagons von Transportunternehmen.
C20: - | D20: Finale Kostenträger geben an, wer die Kosten schlussendlich getragen hat, d.h. nach Berücksichtigung aller Transferleistungen und Ausgleichszahlungen. Beispiele sind verkehrsspezifische Steuern und Abgaben der Verkehrsnutzenden an die öffentliche Hand, Zahlungen der Fahrgäste in Form von Billetten und Abonnementen an Transportunternehmen oder Abgeltungen der öffentlichen Hand an die Transportunternehmen. Bei den von den Transportunternehmen final übernommenen Kosten handelt es sich um Verluste aus dem Verkehrsgeschäft, die in der Regel durch Gewinne aus Nebengeschäften querfinanziert werden (z.B. Vermietung von Immobilien).
C22: Leistungen der Verkehrsnutzenden
C23: Zu den Leistungen der Verkehrsnutzenden zählen sämtliche Zahlungen und immateriellen Leistungen, die die Verkehrsnutzenden erbringen, um den Verkehr in Anspruch nehmen zu können. Die KFV-Statistik unterscheidet fünf Leistungsarten:
C24: - | D24: verkehrsspezifische Steuern und Abgaben (z.B. Mineralölsteuer, Mineralölsteuerzuschlag, kantonale Motofahrzeugsteuern, LSVA, Klimarappen)
C25: - | D25: Transportentgelte (z.B. Billette, Abonnemente, Flugtickets, Flughafengebühren, Beförderungsentgelte im Güterverkehr)
C26: - | D26: selbstgetragene Verkehrsmittelkosten (Anschaffungs-, Betriebs- und Unterhaltskosten von selbstbetriebenen Fahrzeugen)
C27: - | D27: selbstgetragene Unfalllkosten (von Verkehrsnutzenden übernommene Sach- und Personenschäden)
C30: Quelle: BFS – Kosten und Finanzierung des Verkehrs (KFV)
C31: Auskunft: Bundesamt für Statistik (BFS), Sektion Mobilität, 058 463 64 68, verkehr@bfs.admin.ch
C32: © BFS

Sheet 2021
A1: Kilometerkosten des motorisierten Strassenverkehrs, 2021 | T1: ◄
A2: in Rappen pro Personen- bzw. Tonnenkilometer | T2: T-SU 11.02.02.02
C3: Personenverkehr | S3: Güterverkehr 1
C4: privater motorisierter Personenverkehr | K4: öffentlicher Strassenverkehr | S4: schwere Fahrzeuge
C5: Total | E5: Personen- wagen | G5: Motorräder und Mofas | I5: Privatcars | K5: Total | M5: Autobusse | O5: Trolleybusse | Q5: Trams
A6: Einheit | C6: Rp./Pkm | E6: Rp./Pkm | G6: Rp./Pkm | I6: Rp./Pkm | K6: Rp./Pkm | M6: Rp./Pkm | O6: Rp./Pkm | Q6: Rp./Pkm | S6: Rp./tkm
A7: Kilometerkosten pro Personen- bzw. Tonnenkilometer | C7: 66.12025 | E7: 63.383569 | G7: 266.33679 | I7: 10.893701 | K7: 126.91271 | M7: 137.6469 | O7: 106.05944 | Q7: 106.7023 | S7: 63.697033
B8: nach Kostenkategorien
B9: Infrastrukturkosten | C9: 6.7070134 | E9: 6.7878518 | G9: 9.8648641 | I9: 2.4551862 | K9: 16.735759 | M9: 113.86465 | O9: 97.627389 | Q9: 102.27385 | S9: 8.1084771
B10: Verkehrsmittelkosten | C10: 33.629708 | E10: 34.525797 | G10: 45.495816 | I10: 1.5036128 | K10: 92.583263 | S10: 35.192335
B11: Unfallkosten | C11: 10.825202 | E11: 7.2281613 | G11: 177.33478 | I11: 0.91429569 | K11: 2.6378724 | M11: 2.8902262 | O11: 1.5769455 | Q11: 2.464621 | S11: 1.5647648
B12: Umwelt- und Gesundheitskosten | C12: 14.958327 | E12: 14.841758 | G12: 33.641333 | I12: 6.0206059 | K12: 14.955813 | M12: 20.892028 | O12: 6.8551041 | Q12: 1.9638312 | S12: 18.831455
B13: nach direkten Kostenträgern
B14: Verkehrsnutzende | C14: 40.757123 | E14: 38.499155 | G14: 195.70343 | I14: 1.8364573 | K14: 0.010170053 | M14: 0.014823612 | O14: 0.003791873 | Q14: 0 | S14: 35.747713
B15: Transportunternehmen | C15: 0 | E15: 0 | G15: 0 | I15: 0 | K15: 101.96014 | M15: 104.78003 | O15: 92.218006 | Q15: 98.906376 | S15: 0
B16: öffentliche Hand | C16: 7.0791926 | E16: 7.1135528 | G16: 12.644781 | I16: 2.533139 | K16: 8.4530288 | M16: 10.39961 | O16: 5.8532633 | Q16: 4.1628122 | S16: 8.3048094
B17: Allgemeinheit | C17: 18.283935 | E17: 17.770861 | G17: 57.988588 | I17: 6.5241044 | K17: 16.489374 | M17: 22.452437 | O17: 7.9843771 | Q17: 3.6331106 | S17: 19.64451
B18: nach finalen Kostenträgern
B19: Verkehrsnutzende | C19: 47.993124 | E19: 45.775691 | G19: 207.04801 | I19: 3.4865656 | K19: 39.256062 | M19: 34.302466 | O19: 47.794746 | Q19: 49.156485 | S19: 49.548948
B20: Transportunternehmen | C20: 0 | E20: 0 | G20: 0 | I20: 0 | K20: 0.39173663 | M20: 0.80448758 | O20: 0 | Q20: 0 | S20: 0
B21: öffentliche Hand | C21: 0 | E21: 0 | G21: 1.3954292 | I21: 0.91142357 | K21: 70.775536 | M21: 80.087511 | O21: 50.280315 | Q21: 53.912703 | S21: 0
B22: Allgemeinheit | C22: 18.127126 | E22: 17.607877 | G22: 57.893358 | I22: 6.4957115 | K22: 16.489374 | M22: 22.452437 | O22: 7.9843771 | Q22: 3.6331106 | S22: 14.148084
A23: Leistungen der Verkehrsnutzenden pro Personen- bzw. Tonnenkilometer | C23: 48.707752 | E23: 46.600149 | G23: 207.04801 | I23: 3.4865656 | K23: 39.256062 | M23: 34.302466 | O23: 47.794746 | Q23: 49.156485 | S23: 49.548948
B24: verkehrsspezifische Steuern und Abgaben | C24: 7.9506289 | E24: 8.1009942 | G24: 11.344581 | I24: 1.6501084 | K24: 0 | M24: 0 | O24: 0 | Q24: 0 | S24: 13.801235
B25: Transportentgelte | C25: 0 | E25: 0 | G25: 0 | I25: 0 | K25: 39.245892 | M25: 34.287642 | O25: 47.790954 | Q25: 49.156485 | S25: 0
B26: selbstgetragene Verkehrsmittelkosten | C26: 33.615852 | E26: 34.511174 | G26: 45.492863 | I26: 1.5036128 | K26: 0 | M26: 0 | O26: 0 | Q26: 0 | S26: 35.192335
B27: selbstgetragene Unfallkosten | C27: 7.1412709 | E27: 3.9879814 | G27: 150.21056 | I27: 0.33284444 | K27: 0.010170053 | M27: 0.014823612 | O27: 0.003791873 | Q27: 0 | S27: 0.55537787
A28: 1 | B28: Die Kilometerkosten pro Tonnenkilometer sind bei leichten Strassengüterfahrzeugen nicht bezifferbar, da diese nicht nur für den Güterverkehr eingesetzt werden.
A29: 2 | B29: Beim öffentlichen Strassenverkehr ist keine Aufteilung zwischen Infrastruktur- und Verkehrsmittelkosten möglich.
A31: Quelle: BFS – Kosten und Finanzierung des Verkehrs (KFV)
A32: Auskunft: Bundesamt für Statistik (BFS), Sektion Mobilität, 058 463 64 68, verkehr@bfs.admin.ch
A33: © BFS

Sheet 2020
A1: Kilometerkosten des motorisierten Strassenverkehrs, 2020 | T1: ◄
A2: in Rappen pro Personen- bzw. Tonnenkilometer | T2: T-SU 11.02.02.02
C3: Personenverkehr | S3: Güterverkehr 1
C4: privater motorisierter Personenverkehr | K4: öffentlicher Strassenverkehr | S4: schwere Fahrzeuge
C5: Total | E5: Personen- wagen | G5: Motorräder und Mofas | I5: Privatcars | K5: Total | M5: Autobusse 2 | O5: Trolley- busse 2 | Q5: Trams 2
A6: Einheit | C6: Rp./Pkm | E6: Rp./Pkm | G6: Rp./Pkm | I6: Rp./Pkm | K6: Rp./Pkm | M6: Rp./Pkm | O6: Rp./Pkm | Q6: Rp./Pkm | S6: Rp./tkm
A7: Kilometerkosten pro Personen- bzw. Tonnenkilometer | C7: 69.584561 | D7: r | E7: 65.915293 | F7: r | G7: 269.37593 | H7: r | I7: 25.370161 | J7: r | K7: 131.966 | L7: r | M7: … | O7: … | Q7: … | S7: 62.64512 | T7: =IF(S7='2020'!$S7,"","r")
B8: nach Kostenkategorien | T8: =IF(S8='2020'!$S8,"","r")
B9: Infrastrukturkosten | C9: 7.0821232 | D9: r | E9: 7.1230658 | F9: r | G9: 11.513201 | H9: r | I9: 2.7685995 | J9: r | K9: 15.30534 | L9: r | M9: … | O9: … | Q9: … | S9: 8.6356 | T9: =IF(S9='2020'!$S9,"","r")
B10: Verkehrsmittelkosten | C10: 37.311471 | D10: r | E10: 37.554101 | F10: r | G10: 58.569848 | H10: r | I10: 15.358111 | J10: r | K10: 95.472451 | L10: r | S10: 34.201479 | T10: =IF(S10='2020'!$S10,"","r")
B11: Unfallkosten | C11: 10.74728 | D11: r | E11: 6.9401198 | F11: r | G11: 168.7421 | H11: r | I11: 0.45508974 | J11: r | K11: 6.6376209 | L11: r | M11: … | O11: … | Q11: … | S11: 1.2823915 | T11: =IF(S11='2020'!$S11,"","r")
B12: Umwelt- und Gesundheitskosten | C12: 14.443686 | D12: r | E12: 14.298007 | F12: r | G12: 30.550782 | H12: r | I12: 6.7883609 | J12: r | K12: 14.550592 | L12: r | M12: … | O12: … | Q12: … | S12: 18.525649 | T12: =IF(S12='2020'!$S12,"","r")
B13: nach direkten Kostenträgern | T13: =IF(S13='2020'!$S13,"","r")
B14: Verkehrsnutzende | C14: 44.481621 | D14: r | E14: 41.383161 | F14: r | G14: 201.5835 | H14: r | I14: 15.523784 | J14: r | K14: 0.02362036 | L14: r | M14: … | O14: … | Q14: … | S14: 34.661739 | T14: =IF(S14='2020'!$S14,"","r")
B15: Transportunternehmen | C15: 0 | E15: 0 | G15: 0 | I15: 0 | K15: 104.45864 | L15: r | M15: … | O15: … | Q15: … | S15: 0 | T15: =IF(S15='2020'!$S15,"","r")
B16: öffentliche Hand | C16: 7.440497 | D16: r | E16: 7.4283136 | F16: r | G16: 14.282787 | H16: r | I16: 2.8343075 | J16: r | K16: 8.7782927 | L16: r | M16: … | O16: … | Q16: … | S16: 8.8201206 | T16: =IF(S16='2020'!$S16,"","r")
B17: Allgemeinheit | C17: 17.662443 | D17: r | E17: 17.103818 | F17: r | G17: 53.509649 | H17: r | I17: 7.0120697 | J17: r | K17: 18.705452 | L17: r | M17: … | O17: … | Q17: … | S17: 19.16326 | T17: =IF(S17='2020'!$S17,"","r")
B18: nach finalen Kostenträgern | T18: =IF(S18='2020'!$S18,"","r")
B19: Verkehrsnutzende | C19: 52.213694 | D19: r | E19: 49.117775 | F19: r | G19: 211.25905 | H19: r | I19: 17.588776 | J19: r | K19: 40.382809 | L19: r | M19: … | O19: … | Q19: … | S19: 48.978906 | T19: =IF(S19='2020'!$S19,"","r")
B20: Transportunternehmen | C20: 0 | E20: 0 | G20: 0 | I20: 0 | K20: 1.7562757 | L20: r | M20: … | O20: … | Q20: … | S20: 0 | T20: =IF(S20='2020'!$S20,"","r")
B21: öffentliche Hand | C21: 0 | E21: 0 | G21: 4.6930147 | H21: r | I21: 0.80822014 | J21: r | K21: 71.206466 | L21: r | M21: … | O21: … | Q21: … | S21: 0 | T21: =IF(S21='2020'!$S21,"","r")
B22: Allgemeinheit | C22: 17.370867 | D22: r | E22: 16.797518 | F22: r | G22: 53.423873 | H22: r | I22: 6.9731644 | J22: r | K22: 18.620453 | L22: r | M22: … | O22: … | Q22: … | S22: 13.666213 | T22: =IF(S22='2020'!$S22,"","r")
A23: Leistungen der Verkehrsnutzenden pro Personen- bzw. Tonnenkilometer | C23: 52.449631 | D23: r | E23: 49.52259 | F23: r | G23: 211.25905 | H23: r | I23: 17.588776 | J23: r | K23: 40.382809 | L23: r | M23: … | O23: … | Q23: … | S23: 48.978906 | T23: =IF(S23='2020'!$S23,"","r")
B24: verkehrsspezifische Steuern und Abgaben | C24: 7.9680102 | D24: r | E24: 8.1394288 | F24: r | G24: 9.6755474 | H24: r | I24: 2.0649926 | J24: r | K24: 0 | M24: … | O24: … | Q24: … | S24: 14.317167 | T24: =IF(S24='2020'!$S24,"","r")
B25: Transportentgelte | C25: 0 | E25: 0 | G25: 0 | I25: 0 | K25: 40.359189 | M25: … | O25: … | Q25: … | S25: 0 | T25: =IF(S25='2020'!$S25,"","r")
B26: selbstgetragene Verkehrsmittelkosten | C26: 37.311471 | D26: r | E26: 37.554101 | F26: r | G26: 58.569848 | H26: r | I26: 15.358111 | J26: r | K26: 0 | M26: … | O26: … | Q26: … | S26: 34.201479 | T26: =IF(S26='2020'!$S26,"","r")
B27: selbstgetragene Unfallkosten | C27: 7.1701498 | D27: r | E27: 3.8290607 | F27: r | G27: 143.01365 | H27: r | I27: 0.16567298 | J27: r | K27: 0.02362036 | L27: r | M27: … | O27: … | Q27: … | S27: 0.46026004 | T27: =IF(S27='2020'!$S27,"","r")
A28: 1 | B28: Die Kilometerkosten pro Tonnenkilometer sind bei leichten Strassengüterfahrzeugen nicht bezifferbar, da diese nicht nur für den Güterverkehr eingesetzt werden.
A29: 2 | B29: Die Aufschlüsselung nach Fahrzeugkategorien liegt beim öffentlichen Strassenverkehr nur alle 5 Jahre vor.
A30: … | B30: Zahl unbekannt, weil (noch) nicht erhoben oder (noch) nicht berechnet
A32: Stand: Dezember 2024
A33: Quelle: BFS – Kosten und Finanzierung des Verkehrs (KFV)
A34: Auskunft: Bundesamt für Statistik (BFS), Sektion Mobilität, 058 463 64 68, verkehr@bfs.admin.ch
A35: © BFS

Sheet 2019
A1: Kilometerkosten des motorisierten Strassenverkehrs, 2019 | T1: ◄
A2: in Rappen pro Personen- bzw. Tonnenkilometer | T2: T-SU 11.02.02.02
C3: Personenverkehr | S3: Güterverkehr 1
C4: privater motorisierter Personenverkehr | K4: öffentlicher Strassenverkehr | S4: schwere Fahrzeuge
C5: Total | E5: Personen- wagen | G5: Motorräder und Mofas | I5: Privatcars | K5: Total | M5: Autobusse 2 | O5: Trolley- busse 2 | Q5: Trams 2
A6: Einheit | C6: Rp./Pkm | E6: Rp./Pkm | G6: Rp./Pkm | I6: Rp./Pkm | K6: Rp./Pkm | M6: Rp./Pkm | O6: Rp./Pkm | Q6: Rp./Pkm | S6: Rp./tkm
A7: Kilometerkosten pro Personen- bzw. Tonnenkilometer | C7: 56.470092 | D7: r | E7: 53.433026 | F7: r | G7: 231.44955 | H7: r | I7: 25.763711 | J7: r | K7: 106.88215 | L7: r | M7: … | O7: … | Q7: … | S7: 63.76198 | T7: r
B8: nach Kostenkategorien
B9: Infrastrukturkosten | C9: 5.5908179 | D9: r | E9: 5.6176299 | F9: r | G9: 8.3335557 | H9: r | I9: 2.6787305 | J9: r | K9: 11.110001 | L9: r | M9: … | O9: … | Q9: … | S9: 8.4033527 | T9: r
B10: Verkehrsmittelkosten | C10: 28.998922 | D10: r | E10: 28.863964 | F10: r | G10: 52.876665 | H10: r | I10: 15.679681 | J10: r | K10: 59.914187 | L10: r | S10: 35.178615 | T10: r
B11: Unfallkosten | C11: 8.227309 | D11: r | E11: 5.4347778 | F11: r | G11: 141.20064 | H11: r | I11: 0.71997365 | J11: r | K11: 25.064281 | L11: r | M11: … | O11: … | Q11: … | S11: 1.5339459 | T11: r
B12: Umwelt- und Gesundheitskosten | C12: 13.653043 | D12: r | E12: 13.516654 | F12: r | G12: 29.038687 | H12: r | I12: 6.6853261 | J12: r | K12: 10.793679 | L12: r | M12: … | O12: … | Q12: … | S12: 18.646067 | T12: r
B13: nach direkten Kostenträgern
B14: Verkehrsnutzende | C14: 34.435106 | D14: r | E14: 31.862485 | F14: r | G14: 172.53049 | H14: r | I14: 15.941783 | J14: r | K14: 0.12094852 | L14: r | M14: … | O14: … | Q14: … | S14: 35.752222 | T14: r
B15: Transportunternehmen | C15: 0 | E15: 0 | G15: 0 | I15: 0 | K15: 73.512677 | L15: r | M15: … | O15: … | Q15: … | S15: 0
B16: öffentliche Hand | C16: 5.8800751 | D16: r | E16: 5.8688661 | F16: r | G16: 10.588233 | H16: r | I16: 2.7507313 | J16: r | K16: 6.8859884 | L16: r | M16: … | O16: … | Q16: … | S16: 8.591818 | T16: r
B17: Allgemeinheit | C17: 16.154912 | D17: r | E17: 15.701675 | F17: r | G17: 48.330828 | H17: r | I17: 7.0711964 | J17: r | K17: 26.362535 | L17: r | M17: … | O17: … | Q17: … | S17: 19.41794 | T17: r
B18: nach finalen Kostenträgern
B19: Verkehrsnutzende | C19: 40.506245 | D19: r | E19: 37.929774 | F19: r | G19: 180.98636 | H19: r | I19: 17.97899 | J19: r | K19: 36.626702 | L19: r | M19: … | O19: … | Q19: … | S19: 50.310507 | T19: r
B20: Transportunternehmen | C20: 0 | E20: 0 | G20: 0 | I20: 0 | K20: 0 | L20: r | M20: … | O20: … | Q20: … | S20: 0
B21: öffentliche Hand | C21: 0 | E21: 0 | G21: 2.2071133 | H21: r | I21: 0.75054908 | J21: r | K21: 43.953311 | L21: r | M21: … | O21: … | Q21: … | S21: 0
B22: Allgemeinheit | C22: 15.963848 | D22: r | E22: 15.503252 | F22: r | G22: 48.256073 | H22: r | I22: 7.0341718 | J22: r | K22: 26.302135 | L22: r | M22: … | O22: … | Q22: … | S22: 13.451472 | T22: r
A23: Leistungen der Verkehrsnutzenden pro Personen- bzw. Tonnenkilometer | C23: 41.160037 | D23: r | E23: 38.691586 | F23: r | G23: 180.98636 | H23: r | I23: 17.97899 | J23: r | K23: 36.626702 | L23: r | M23: … | O23: … | Q23: … | S23: 50.310507 | T23: r
B24: verkehrsspezifische Steuern und Abgaben | C24: 6.7249317 | D24: r | E24: 6.8291011 | F24: r | G24: 8.4558748 | H24: r | I24: 2.0372068 | J24: r | K24: 0 | M24: … | O24: … | Q24: … | S24: 14.558286 | T24: r
B25: Transportentgelte | C25: 0 | E25: 0 | G25: 0 | I25: 0 | K25: 36.505754 | M25: … | O25: … | Q25: … | S25: 0
B26: selbstgetragene Verkehrsmittelkosten | C26: 28.998922 | D26: r | E26: 28.863964 | F26: r | G26: 52.876665 | H26: r | I26: 15.679681 | J26: r | K26: 0 | M26: … | O26: … | Q26: … | S26: 35.178615 | T26: r
B27: selbstgetragene Unfallkosten | C27: 5.4361833 | D27: r | E27: 2.9985209 | F27: r | G27: 119.65382 | H27: r | I27: 0.26210255 | J27: r | K27: 0.12094852 | L27: r | M27: … | O27: … | Q27: … | S27: 0.57360716 | T27: r
A28: 1 | B28: Die Kilometerkosten pro Tonnenkilometer sind bei leichten Strassengüterfahrzeugen nicht bezifferbar, da diese nicht nur für den Güterverkehr eingesetzt werden.
A29: 2 | B29: Die Aufschlüsselung nach Fahrzeugkategorien liegt beim öffentlichen Strassenverkehr nur alle 5 Jahre vor.
A30: … | B30: Zahl unbekannt, weil (noch) nicht erhoben oder (noch) nicht berechnet
A32: Stand: Dezember 2024
A33: Quelle: BFS – Kosten und Finanzierung des Verkehrs (KFV)
A34: Auskunft: Bundesamt für Statistik (BFS), Sektion Mobilität, 058 463 64 68, verkehr@bfs.admin.ch
A35: © BFS

Sheet 2018
A1: Kilometerkosten des motorisierten Strassenverkehrs, 2018 | T1: ◄
A2: in Rappen pro Personen- bzw. Tonnenkilometer | T2: T-SU 11.02.02.02
C3: Personenverkehr | S3: Güterverkehr 1
C4: privater motorisierter Personenverkehr | K4: öffentlicher Strassenverkehr | S4: schwere Fahrzeuge
C5: Total | E5: Personen- wagen | G5: Motorräder und Mofas | I5: Privatcars | K5: Total | M5: Autobusse 2 | O5: Trolley- busse 2 | Q5: Trams 2
A6: Einheit | C6: Rp./Pkm | E6: Rp./Pkm | G6: Rp./Pkm | I6: Rp./Pkm | K6: Rp./Pkm | M6: Rp./Pkm | O6: Rp./Pkm | Q6: Rp./Pkm | S6: Rp./tkm
A7: Kilometerkosten pro Personen- bzw. Tonnenkilometer | C7: 56.932355 | D7: r | E7: 54.112213 | F7: r | G7: 221.76635 | H7: r | I7: 26.445691 | J7: r | K7: 101.19497 | L7: r | M7: … | O7: … | Q7: … | S7: 61.563841 | T7: r
B8: nach Kostenkategorien
B9: Infrastrukturkosten | C9: 5.7218247 | D9: r | E9: 5.748328 | F9: r | G9: 8.5950315 | H9: r | I9: 2.6937748 | J9: r | K9: 11.383078 | L9: r | M9: … | O9: … | Q9: … | S9: 8.2664789 | T9: r
B10: Verkehrsmittelkosten | C10: 28.80139 | D10: r | E10: 28.656048 | F10: r | G10: 52.82396 | H10: r | I10: 15.592148 | J10: r | K10: 65.887947 | L10: r | S10: 33.906744 | T10: r
B11: Unfallkosten | C11: 8.7756835 | D11: r | E11: 6.2122323 | F11: r | G11: 131.34186 | H11: r | I11: 1.4989986 | J11: r | K11: 12.99905 | L11: r | M11: … | O11: … | Q11: … | S11: 1.602281 | T11: r
B12: Umwelt- und Gesundheitskosten | C12: 13.633457 | D12: r | E12: 13.495604 | F12: r | G12: 29.005498 | H12: r | I12: 6.6607694 | J12: r | K12: 10.924899 | L12: r | M12: … | O12: … | Q12: … | S12: 17.788336 | T12: r
B13: nach direkten Kostenträgern
B14: Verkehrsnutzende | C14: 34.473118 | D14: r | E14: 32.083513 | F14: r | G14: 164.13999 | H14: r | I14: 16.13785 | J14: r | K14: 0.057878806 | L14: r | M14: … | O14: … | Q14: … | S14: 34.49432 | T14: r
B15: Transportunternehmen | C15: 0 | E15: 0 | G15: 0 | I15: 0 | K15: 75.11251 | L15: r | M15: … | O15: … | Q15: … | S15: 0
B16: öffentliche Hand | C16: 6.0314615 | D16: r | E16: 6.0231708 | F16: r | G16: 10.726299 | H16: r | I16: 2.7862006 | J16: r | K16: 7.0222991 | L16: r | M16: … | O16: … | Q16: … | S16: 8.4544436 | T16: r
B17: Allgemeinheit | C17: 16.427776 | D17: r | E17: 16.005529 | F17: r | G17: 46.900059 | H17: r | I17: 7.5216398 | J17: r | K17: 19.002286 | L17: r | M17: … | O17: … | Q17: … | S17: 18.615077 | T17: r
B18: nach finalen Kostenträgern
B19: Verkehrsnutzende | C19: 40.65261 | D19: r | E19: 38.259751 | F19: r | G19: 172.57932 | H19: r | I19: 18.201395 | J19: r | K19: 37.765295 | L19: r | M19: … | O19: … | Q19: … | S19: 48.806976 | T19: r
B20: Transportunternehmen | C20: 0 | E20: 0 | G20: 0 | I20: 0 | K20: 0 | L20: r | M20: … | O20: … | Q20: … | S20: 0
B21: öffentliche Hand | C21: 0 | E21: 0 | G21: 2.3602839 | H21: r | I21: 0.7604989 | J21: r | K21: 44.49024 | L21: r | M21: … | O21: … | Q21: … | S21: 0
B22: Allgemeinheit | C22: 16.279745 | D22: r | E22: 15.852461 | F22: r | G22: 46.826753 | H22: r | I22: 7.4837966 | J22: r | K22: 18.939439 | L22: r | M22: … | O22: … | Q22: … | S22: 12.756864 | T22: r
A23: Leistungen der Verkehrsnutzenden pro Personen- bzw. Tonnenkilometer | C23: 41.203592 | D23: r | E23: 38.916604 | F23: r | G23: 172.57932 | H23: r | I23: 18.201395 | J23: r | K23: 37.765295 | L23: r | M23: … | O23: … | Q23: … | S23: 48.806976 | T23: r
B24: verkehrsspezifische Steuern und Abgaben | C24: 6.7304739 | D24: r | E24: 6.833091 | F24: r | G24: 8.4393208 | H24: r | I24: 2.0635449 | J24: r | K24: 0 | M24: … | O24: … | Q24: … | S24: 14.312656 | T24: r
B25: Transportentgelte | C25: 0 | E25: 0 | G25: 0 | I25: 0 | K25: 37.707416 | M25: … | O25: … | Q25: … | S25: 0
B26: selbstgetragene Verkehrsmittelkosten | C26: 28.80139 | D26: r | E26: 28.656048 | F26: r | G26: 52.82396 | H26: r | I26: 15.592148 | J26: r | K26: 0 | M26: … | O26: … | Q26: … | S26: 33.906744 | T26: r
B27: selbstgetragene Unfallkosten | C27: 5.6717278 | D27: r | E27: 3.4274645 | F27: r | G27: 111.31603 | H27: r | I27: 0.54570242 | J27: r | K27: 0.057878806 | L27: r | M27: … | O27: … | Q27: … | S27: 0.58757593 | T27: r
A28: 1 | B28: Die Kilometerkosten pro Tonnenkilometer sind bei leichten Strassengüterfahrzeugen nicht bezifferbar, da diese nicht nur für den Güterverkehr eingesetzt werden.
A29: 2 | B29: Die Aufschlüsselung nach Fahrzeugkategorien liegt beim öffentlichen Strassenverkehr nur alle 5 Jahre vor.
A30: … | B30: Zahl unbekannt, weil (noch) nicht erhoben oder (noch) nicht berechnet
A32: Stand: Dezember 2024
A33: Quelle: BFS – Kosten und Finanzierung des Verkehrs (KFV)
A34: Auskunft: Bundesamt für Statistik (BFS), Sektion Mobilität, 058 463 64 68, verkehr@bfs.admin.ch
A35: © BFS

Sheet 2017
A1: Kilometerkosten des motorisierten Strassenverkehrs, 2017 | T1: ◄
A2: in Rappen pro Personen- bzw. Tonnenkilometer | T2: T-SU 11.02.02.02
C3: Personenverkehr | S3: Güterverkehr 1
C4: privater motorisierter Personenverkehr | K4: öffentlicher Strassenverkehr | S4: schwere Fahrzeuge
C5: Total | E5: Personen- wagen | G5: Motorräder und Mofas | I5: Privatcars | K5: Total | M5: Autobusse 2 | O5: Trolley- busse 2 | Q5: Trams 2
A6: Einheit | C6: Rp./Pkm | E6: Rp./Pkm | G6: Rp./Pkm | I6: Rp./Pkm | K6: Rp./Pkm | M6: Rp./Pkm | O6: Rp./Pkm | Q6: Rp./Pkm | S6: Rp./tkm
A7: Kilometerkosten pro Personen- bzw. Tonnenkilometer | C7: 56.8417 | D7: r | E7: 54.047733 | F7: r | G7: 223.12964 | H7: r | I7: 24.8842 | J7: r | K7: 106.49691 | L7: r | M7: … | O7: … | Q7: … | S7: 62.241564 | T7: r
B8: nach Kostenkategorien
B9: Infrastrukturkosten | C9: 5.8566968 | D9: r | E9: 5.8860171 | F9: r | G9: 8.7141968 | H9: r | I9: 2.7325661 | J9: r | K9: 11.3171 | L9: r | M9: … | O9: … | Q9: … | S9: 8.5767222 | T9: r
B10: Verkehrsmittelkosten | C10: 28.144901 | D10: r | E10: 27.994487 | F10: r | G10: 51.960446 | H10: r | I10: 15.252431 | J10: r | K10: 68.069545 | L10: r | S10: 33.953217 | T10: r
B11: Unfallkosten | C11: 9.3196028 | D11: r | E11: 6.7825257 | F11: r | G11: 133.71468 | H11: r | I11: 0.29697103 | J11: r | K11: 16.685553 | L11: r | M11: … | O11: … | Q11: … | S11: 1.9379038 | T11: r
B12: Umwelt- und Gesundheitskosten | C12: 13.520499 | D12: r | E12: 13.384703 | F12: r | G12: 28.740312 | H12: r | I12: 6.6022316 | J12: r | K12: 10.424709 | L12: r | M12: … | O12: … | Q12: … | S12: 17.773721 | T12: r
B13: nach direkten Kostenträgern
B14: Verkehrsnutzende | C14: 34.132639 | D14: r | E14: 31.736599 | F14: r | G14: 165.25064 | H14: r | I14: 15.360542 | J14: r | K14: 0.068836025 | L14: r | M14: … | O14: … | Q14: … | S14: 34.66616 | T14: r
B15: Transportunternehmen | C15: 0 | E15: 0 | G15: 0 | I15: 0 | K15: 78.231597 | L15: r | M15: … | O15: … | Q15: … | S15: 0
B16: öffentliche Hand | C16: 6.1803052 | D16: r | E16: 6.1753328 | F16: r | G16: 10.905464 | H16: r | I16: 2.7942189 | J16: r | K16: 7.1447945 | L16: r | M16: … | O16: … | Q16: … | S16: 8.772451 | T16: r
B17: Allgemeinheit | C17: 16.528756 | D17: r | E17: 16.135802 | F17: r | G17: 46.973538 | H17: r | I17: 6.7294392 | J17: r | K17: 21.051679 | L17: r | M17: … | O17: … | Q17: … | S17: 18.802953 | T17: r
B18: nach finalen Kostenträgern
B19: Verkehrsnutzende | C19: 40.434981 | D19: r | E19: 38.037604 | F19: r | G19: 173.72322 | H19: r | I19: 17.453933 | J19: r | K19: 36.771903 | L19: r | M19: … | O19: … | Q19: … | S19: 49.483258 | T19: r
B20: Transportunternehmen | C20: 0 | E20: 0 | G20: 0 | I20: 0 | K20: 4.2497038 | L20: r | M20: … | O20: … | Q20: … | S20: 0
B21: öffentliche Hand | C21: 0 | E21: 0 | G21: 2.5053768 | H21: r | I21: 0.73907874 | J21: r | K21: 44.485207 | L21: r | M21: … | O21: … | Q21: … | S21: 0
B22: Allgemeinheit | C22: 16.406718 | D22: r | E22: 16.01013 | F22: r | G22: 46.901043 | H22: r | I22: 6.6911887 | J22: r | K22: 20.990093 | L22: r | M22: … | O22: … | Q22: … | S22: 12.758306 | T22: r
A23: Leistungen der Verkehrsnutzenden pro Personen- bzw. Tonnenkilometer | C23: 40.931887 | D23: r | E23: 38.6394 | F23: r | G23: 173.72322 | H23: r | I23: 17.453933 | J23: r | K23: 36.771903 | L23: r | M23: … | O23: … | Q23: … | S23: 49.483258 | T23: r
B24: verkehrsspezifische Steuern und Abgaben | C24: 6.7992476 | D24: r | E24: 6.9028015 | F24: r | G24: 8.4725816 | H24: r | I24: 2.0933906 | J24: r | K24: 0 | M24: … | O24: … | Q24: … | S24: 14.817099 | T24: r
B25: Transportentgelte | C25: 0 | E25: 0 | G25: 0 | I25: 0 | K25: 36.703067 | M25: … | O25: … | Q25: … | S25: 0
B26: selbstgetragene Verkehrsmittelkosten | C26: 28.144901 | D26: r | E26: 27.994487 | F26: r | G26: 51.960446 | H26: r | I26: 15.252431 | J26: r | K26: 0 | M26: … | O26: … | Q26: … | S26: 33.953217 | T26: r
B27: selbstgetragene Unfallkosten | C27: 5.9877375 | D27: r | E27: 3.7421116 | F27: r | G27: 113.29019 | H27: r | I27: 0.10811071 | J27: r | K27: 0.068836025 | L27: r | M27: … | O27: … | Q27: … | S27: 0.7129421 | T27: r
A28: r | B28: revidiert
A29: 1 | B29: Die Kilometerkosten pro Tonnenkilometer sind bei leichten Strassengüterfahrzeugen nicht bezifferbar, da diese nicht nur für den Güterverkehr eingesetzt werden.
A30: 2 | B30: Die Aufschlüsselung nach Fahrzeugkategorien liegt beim öffentlichen Strassenverkehr nur alle 5 Jahre vor.
A31: … | B31: Zahl unbekannt, weil (noch) nicht erhoben oder (noch) nicht berechnet
A33: Stand: Dezember 2024
A34: Quelle: BFS – Kosten und Finanzierung des Verkehrs (KFV)
A35: Auskunft: Bundesamt für Statistik (BFS), Sektion Mobilität, 058 463 64 68, verkehr@bfs.admin.ch
A36: © BFS

Sheet 2016
A1: Kilometerkosten des motorisierten Strassenverkehrs, 2016 | T1: ◄
A2: in Rappen pro Personen- bzw. Tonnenkilometer | T2: T-SU 11.02.02.02
C3: Personenverkehr | S3: Güterverkehr 1
C4: privater motorisierter Personenverkehr | K4: öffentlicher Strassenverkehr | S4: schwere Fahrzeuge
C5: Total | E5: Personen- wagen | G5: Motorräder und Mofas | I5: Privatcars | K5: Total | M5: Autobusse 2 | O5: Trolley- busse 2 | Q5: Trams 2
A6: Einheit | C6: Rp./Pkm | E6: Rp./Pkm | G6: Rp./Pkm | I6: Rp./Pkm | K6: Rp./Pkm | M6: Rp./Pkm | O6: Rp./Pkm | Q6: Rp./Pkm | S6: Rp./tkm
A7: Kilometerkosten pro Personen- bzw. Tonnenkilometer | C7: 56.158255 | D7: r | E7: 53.670993 | F7: r | G7: 207.77398 | H7: r | I7: 24.770224 | J7: r | K7: 104.82016 | L7: r | M7: … | O7: … | Q7: … | S7: 62.761949 | T7: r
B8: nach Kostenkategorien
B9: Infrastrukturkosten | C9: 6.0562838 | D9: r | E9: 6.0873388 | F9: r | G9: 8.9928426 | H9: r | I9: 2.8143889 | J9: r | K9: 11.428518 | L9: r | M9: … | O9: … | Q9: … | S9: 8.9857423 | T9: r
B10: Verkehrsmittelkosten | C10: 27.822995 | D10: r | E10: 27.675564 | F10: r | G10: 51.342191 | H10: r | I10: 15.02836 | J10: r | K10: 67.344583 | L10: r | S10: 34.005435 | T10: r
B11: Unfallkosten | C11: 8.7959739 | D11: r | E11: 6.567671 | F11: r | G11: 118.5417 | H11: r | I11: 0.30208949 | J11: r | K11: 15.638153 | L11: r | M11: … | O11: … | Q11: … | S11: 1.724636 | T11: r
B12: Umwelt- und Gesundheitskosten | C12: 13.483003 | D12: r | E12: 13.34042 | F12: r | G12: 28.897243 | H12: r | I12: 6.625385 | J12: r | K12: 10.408904 | L12: r | M12: … | O12: … | Q12: … | S12: 18.046136 | T12: r
B13: nach direkten Kostenträgern
B14: Verkehrsnutzende | C14: 33.428716 | D14: r | E14: 31.299134 | F14: r | G14: 151.83275 | H14: r | I14: 15.138334 | J14: r | K14: 0.067638696 | L14: r | M14: … | O14: … | Q14: … | S14: 34.640672 | T14: r
B15: Transportunternehmen | C15: 0 | E15: 0 | G15: 0 | I15: 0 | K15: 76.871619 | L15: r | M15: … | O15: … | Q15: … | S15: 0
B16: öffentliche Hand | C16: 6.3690622 | D16: r | E16: 6.3705802 | F16: r | G16: 10.941149 | H16: r | I16: 2.8785378 | J16: r | K16: 7.5286321 | L16: r | M16: … | O16: … | Q16: … | S16: 9.1808556 | T16: r
B17: Allgemeinheit | C17: 16.360477 | D17: r | E17: 16.001279 | F17: r | G17: 45.000084 | H17: r | I17: 6.7533515 | J17: r | K17: 20.352268 | L17: r | M17: … | O17: … | Q17: … | S17: 18.940422 | T17: r
B18: nach finalen Kostenträgern
B19: Verkehrsnutzende | C19: 39.914602 | D19: r | E19: 37.789857 | F19: r | G19: 160.36263 | H19: r | I19: 17.207335 | J19: r | K19: 36.414874 | L19: r | M19: … | O19: … | Q19: … | S19: 48.955763 | T19: r
B20: Transportunternehmen | C20: 0 | E20: 0 | G20: 0 | I20: 0 | K20: 3.8332403 | L20: r | M20: … | O20: … | Q20: … | S20: 0
B21: öffentliche Hand | C21: 0 | E21: 0 | G21: 2.4841597 | H21: r | I21: 0.84905173 | J21: r | K21: 44.283558 | L21: r | M21: … | O21: … | Q21: … | S21: 0
B22: Allgemeinheit | C22: 16.243654 | D22: r | E22: 15.881135 | F22: r | G22: 44.927192 | H22: r | I22: 6.713837 | J22: r | K22: 20.288487 | L22: r | M22: … | O22: … | Q22: … | S22: 13.806187 | T22: r
A23: Leistungen der Verkehrsnutzenden pro Personen- bzw. Tonnenkilometer | C23: 40.304621 | D23: r | E23: 38.282197 | F23: r | G23: 160.36263 | H23: r | I23: 17.207335 | J23: r | K23: 36.414874 | L23: r | M23: … | O23: … | Q23: … | S23: 48.955763 | T23: r
B24: verkehrsspezifische Steuern und Abgaben | C24: 6.8759049 | D24: r | E24: 6.983063 | F24: r | G24: 8.5298813 | H24: r | I24: 2.0690007 | J24: r | K24: 0 | M24: … | O24: … | Q24: … | S24: 14.315091 | T24: r
B25: Transportentgelte | C25: 0 | E25: 0 | G25: 0 | I25: 0 | K25: 36.347235 | M25: … | O25: … | Q25: … | S25: 0
B26: selbstgetragene Verkehrsmittelkosten | C26: 27.822995 | D26: r | E26: 27.675564 | F26: r | G26: 51.342191 | H26: r | I26: 15.02836 | J26: r | K26: 0 | M26: … | O26: … | Q26: … | S26: 34.005435 | T26: r
B27: selbstgetragene Unfallkosten | C27: 5.6057206 | D27: r | E27: 3.6235701 | F27: r | G27: 100.49056 | H27: r | I27: 0.10997406 | J27: r | K27: 0.067638696 | L27: r | M27: … | O27: … | Q27: … | S27: 0.63523655 | T27: r
A28: r | B28: revidiert
A29: 1 | B29: Die Kilometerkosten pro Tonnenkilometer sind bei leichten Strassengüterfahrzeugen nicht bezifferbar, da diese nicht nur für den Güterverkehr eingesetzt werden.
A30: 2 | B30: Die Aufschlüsselung nach Fahrzeugkategorien liegt beim öffentlichen Strassenverkehr nur alle 5 Jahre vor.
A31: … | B31: Zahl unbekannt, weil (noch) nicht erhoben oder (noch) nicht berechnet
A33: Stand: Dezember 2024
A34: Quelle: BFS – Kosten und Finanzierung des Verkehrs (KFV)
A35: Auskunft: Bundesamt für Statistik (BFS), Sektion Mobilität, 058 463 64 68, verkehr@bfs.admin.ch
A36: © BFS

Sheet 2015
A1: Kilometerkosten des motorisierten Strassenverkehrs, 2015 | T1: ◄
A2: in Rappen pro Personen- bzw. Tonnenkilometer | T2: T-SU 11.02.02.02
C3: Personenverkehr | S3: Güterverkehr 1
C4: privater motorisierter Personenverkehr | K4: öffentlicher Strassenverkehr | S4: schwere Fahrzeuge
C5: Total | E5: Personen- wagen | G5: Motorräder und Mofas | I5: Privatcars | K5: Total | M5: Autobusse | O5: Trolleybusse | Q5: Trams
A6: Einheit | C6: Rp./Pkm | E6: Rp./Pkm | G6: Rp./Pkm | I6: Rp./Pkm | K6: Rp./Pkm | M6: Rp./Pkm | O6: Rp./Pkm | Q6: Rp./Pkm | S6: Rp./tkm
A7: Kilometerkosten pro Personen- bzw. Tonnenkilometer | C7: 57.088564 | D7: r | E7: 54.227379 | F7: r | G7: 225.11594 | H7: r | I7: 25.574107 | J7: r | K7: 104.11511 | L7: r | M7: 121.98235 | N7: r | O7: 87.897388 | P7: r | Q7: 69.124776 | R7: r | S7: 62.273247 | T7: r
B8: nach Kostenkategorien
B9: Infrastrukturkosten | C9: 6.1709749 | D9: r | E9: 6.1886081 | F9: r | G9: 9.8099597 | H9: r | I9: 2.8415004 | J9: r | K9: 11.44799 | L9: r | M9: 84.131468 | N9: 2 r | O9: 70.943723 | P9: 2 r | Q9: 64.372527 | R9: 2 r | S9: 8.8503687 | T9: r
B10: Verkehrsmittelkosten | C10: 28.504725 | D10: r | E10: 28.375189 | F10: r | G10: 51.889452 | H10: r | I10: 15.184714 | J10: r | K10: 65.952032 | L10: r | S10: 33.774427 | T10: r
B11: Unfallkosten | C11: 9.3053445 | D11: r | E11: 6.7545086 | F11: r | G11: 132.97237 | H11: r | I11: 0.90973283 | J11: r | K11: 16.411496 | L11: r | M11: 22.705807 | N11: r | O11: 12.012311 | P11: r | Q11: 3.4967752 | R11: r | S11: 2.0687528 | T11: r
B12: Umwelt- und Gesundheitskosten | C12: 13.10752 | D12: r | E12: 12.909073 | F12: r | G12: 30.444157 | H12: r | I12: 6.63816 | J12: r | K12: 10.303587 | L12: r | M12: 15.145077 | N12: r | O12: 4.9413538 | P12: r | Q12: 1.2554737 | R12: r | S12: 17.579698 | T12: r
B13: nach direkten Kostenträgern
B14: Verkehrsnutzende | C14: 34.4799 | D14: r | E14: 32.101842 | F14: r | G14: 164.54485 | H14: r | I14: 15.515897 | J14: r | K14: 0.075625418 | L14: r | M14: 0.11645527 | N14: r | O14: 0.028884423 | P14: r | Q14: 0 | R14: r | S14: 34.558586 | T14: r
B15: Transportunternehmen | C15: 0 | E15: 0 | G15: 0 | I15: 0 | K15: 75.683939 | L15: r | M15: 83.265981 | N15: r | O15: 68.421153 | P15: r | Q15: 61.006087 | R15: r | S15: 0
B16: öffentliche Hand | C16: 6.4911585 | D16: r | E16: 6.4741633 | F16: r | G16: 11.97716 | H16: r | I16: 2.9209252 | J16: r | K16: 7.6613619 | L16: r | M16: 9.4974992 | N16: r | O16: 5.082348 | P16: r | Q16: 4.4740136 | R16: r | S16: 9.0527057 | T16: r
B17: Allgemeinheit | C17: 16.117505 | D17: r | E17: 15.651373 | F17: r | G17: 48.593929 | H17: r | I17: 7.1372848 | J17: r | K17: 20.694179 | L17: r | M17: 29.102416 | N17: r | O17: 14.365002 | P17: r | Q17: 3.6446749 | R17: r | S17: 18.661955 | T17: r
B18: nach finalen Kostenträgern
B19: Verkehrsnutzende | C19: 41.103779 | D19: r | E19: 38.71271 | F19: r | G19: 173.29928 | H19: r | I19: 17.673887 | J19: r | K19: 35.815732 | L19: r | M19: 32.038524 | N19: r | O19: 41.60404 | P19: r | Q19: 42.156405 | R19: r | S19: 48.783966 | T19: r
B20: Transportunternehmen | C20: 0 | E20: 0 | G20: 0 | I20: 0 | K20: 4.1099545 | L20: r | M20: 6.9138453 | N20: r | O20: 0 | Q20: 0 | S20: 0
B21: öffentliche Hand | C21: 0 | E21: 0 | G21: 3.3016197 | H21: r | I21: 0.80375629 | J21: r | K21: 43.49524 | L21: r | M21: 53.927566 | N21: r | O21: 31.928346 | P21: r | Q21: 23.349557 | R21: r | S21: 0
B22: Allgemeinheit | C22: 15.984785 | D22: r | E22: 15.514669 | F22: r | G22: 48.515038 | H22: r | I22: 7.0964632 | J22: r | K22: 20.694179 | L22: r | M22: 29.102416 | N22: r | O22: 14.365002 | P22: r | Q22: 3.6446749 | R22: r | S22: 13.489281 | T22: r
A23: Leistungen der Verkehrsnutzenden pro Personen- bzw. Tonnenkilometer | C23: 41.487961 | D23: r | E23: 39.216166 | F23: r | G23: 173.29928 | H23: r | I23: 17.673887 | J23: r | K23: 35.815732 | L23: r | M23: 32.038524 | N23: r | O23: 41.60404 | P23: r | Q23: 42.156405 | R23: r | S23: 48.783966 | T23: r
B24: verkehrsspezifische Steuern und Abgaben | C24: 7.0080612 | D24: r | E24: 7.1143233 | F24: r | G24: 8.7544316 | H24: r | I24: 2.1579904 | J24: r | K24: 0 | M24: 0 | O24: 0 | Q24: 0 | S24: 14.225381 | T24: r
B25: Transportentgelte | C25: 0 | E25: 0 | G25: 0 | I25: 0 | K25: 35.740106 | M25: 31.922069 | O25: 41.575155 | Q25: 42.156405 | S25: 0
B26: selbstgetragene Verkehrsmittelkosten | C26: 28.504725 | D26: r | E26: 28.375189 | F26: r | G26: 51.889452 | H26: r | I26: 15.184714 | J26: r | K26: 0 | M26: 0 | O26: 0 | Q26: 0 | S26: 33.774427 | T26: r
B27: selbstgetragene Unfallkosten | C27: 5.9751754 | D27: r | E27: 3.7266537 | F27: r | G27: 112.6554 | H27: r | I27: 0.33118336 | J27: r | K27: 0.075625418 | L27: r | M27: 0.11645527 | N27: r | O27: 0.028884423 | P27: r | Q27: 0 | R27: r | S27: 0.78415866 | T27: r
A28: r | B28: revidiert
A29: 1 | B29: Die Kilometerkosten pro Tonnenkilometer sind bei leichten Strassengüterfahrzeugen nicht bezifferbar, da diese nicht nur für den Güterverkehr eingesetzt werden.
A30: 2 | B30: Beim öffentlichen Strassenverkehr ist keine Aufteilung zwischen Infrastruktur- und Verkehrsmittelkosten möglich.
A32: Stand: Dezember 2024
A33: Quelle: BFS – Kosten und Finanzierung des Verkehrs (KFV)
A34: Auskunft: Bundesamt für Statistik (BFS), Sektion Mobilität, 058 463 64 68, verkehr@bfs.admin.ch
A35: © BFS

Sheet 2014
A1: Kilometerkosten des motorisierten Strassenverkehrs, 2014 | T1: ◄
A2: in Rappen pro Personen- bzw. Tonnenkilometer | T2: T-SU 11.02.02.02
C3: Personenverkehr | S3: Güterverkehr 1
C4: privater motorisierter Personenverkehr | K4: öffentlicher Strassenverkehr | S4: schwere Fahrzeuge
C5: Total | E5: Personen- wagen | G5: Motorräder und Mofas | I5: Privatcars | K5: Total | M5: Autobusse 2 | O5: Trolley- busse 2 | Q5: Trams 2
A6: Einheit | C6: Rp./Pkm | E6: Rp./Pkm | G6: Rp./Pkm | I6: Rp./Pkm | K6: Rp./Pkm | M6: Rp./Pkm | O6: Rp./Pkm | Q6: Rp./Pkm | S6: Rp./tkm
A7: Kilometerkosten pro Personen- bzw. Tonnenkilometer | C7: 59.354206 | D7: r | E7: 56.226052 | F7: r | G7: 232.72663 | H7: r | I7: 25.875183 | J7: r | K7: 100.38506 | L7: r | M7: … | O7: … | Q7: … | S7: 61.357785 | T7: r
B8: nach Kostenkategorien
B9: Infrastrukturkosten | C9: 6.2765482 | D9: r | E9: 6.301349 | F9: r | G9: 9.5071358 | H9: r | I9: 2.8618778 | J9: r | K9: 11.535941 | L9: r | M9: … | O9: … | Q9: … | S9: 8.7652002 | T9: r
B10: Verkehrsmittelkosten | C10: 29.641427 | D10: r | E10: 29.560922 | F10: r | G10: 50.519676 | H10: r | I10: 15.660974 | J10: r | K10: 66.06867 | L10: r | S10: 33.990155 | T10: r
B11: Unfallkosten | C11: 10.261576 | D11: r | E11: 7.3674544 | F11: r | G11: 143.92791 | H11: r | I11: 0.65222749 | J11: r | K11: 12.426703 | L11: r | M11: … | O11: … | Q11: … | S11: 1.4172018 | T11: r
B12: Umwelt- und Gesundheitskosten | C12: 13.174655 | D12: r | E12: 12.996327 | F12: r | G12: 28.771901 | H12: r | I12: 6.7001035 | J12: r | K12: 10.35374 | L12: r | M12: … | O12: … | Q12: … | S12: 17.185227 | T12: r
B13: nach direkten Kostenträgern
B14: Verkehrsnutzende | C14: 36.260934 | D14: r | E14: 33.625755 | F14: r | G14: 172.49987 | H14: r | I14: 15.898414 | J14: r | K14: 0.047236929 | L14: r | M14: … | O14: … | Q14: … | S14: 34.514965 | T14: r
B15: Transportunternehmen | C15: 0 | E15: 0 | G15: 0 | I15: 0 | K15: 74.840788 | L15: r | M15: … | O15: … | Q15: … | S15: 0
B16: öffentliche Hand | C16: 6.6201775 | D16: r | E16: 6.6053211 | F16: r | G16: 11.854766 | H16: r | I16: 2.9360546 | J16: r | K16: 6.9782369 | L16: r | M16: … | O16: … | Q16: … | S16: 8.9452086 | T16: r
B17: Allgemeinheit | C17: 16.473094 | D17: r | E17: 15.994976 | F17: r | G17: 48.371993 | H17: r | I17: 7.0407142 | J17: r | K17: 18.518793 | L17: r | M17: … | O17: … | Q17: … | S17: 17.897611 | T17: r
B18: nach finalen Kostenträgern
B19: Verkehrsnutzende | C19: 42.987862 | D19: r | E19: 40.341419 | F19: r | G19: 180.91135 | H19: r | I19: 18.185883 | J19: r | K19: 36.068184 | L19: r | M19: … | O19: … | Q19: … | S19: 48.935151 | T19: r
B20: Transportunternehmen | C20: 0 | E20: 0 | G20: 0 | I20: 0 | K20: 2.1462366 | L20: r | M20: … | O20: … | Q20: … | S20: 0
B21: öffentliche Hand | C21: 0 | E21: 0 | G21: 3.4948689 | H21: r | I21: 0.67871552 | J21: r | K21: 43.700404 | L21: r | M21: … | O21: … | Q21: … | S21: 0
B22: Allgemeinheit | C22: 16.366345 | D22: r | E22: 15.884632 | F22: r | G22: 48.320411 | H22: r | I22: 7.0105836 | J22: r | K22: 18.470231 | L22: r | M22: … | O22: … | Q22: … | S22: 12.422634 | T22: r
A23: Leistungen der Verkehrsnutzenden pro Personen- bzw. Tonnenkilometer | C23: 43.452895 | D23: r | E23: 40.93472 | F23: r | G23: 180.91135 | H23: r | I23: 18.185883 | J23: r | K23: 36.068184 | L23: r | M23: … | O23: … | Q23: … | S23: 48.935151 | T23: r
B24: verkehrsspezifische Steuern und Abgaben | C24: 7.1919608 | D24: r | E24: 7.3089652 | F24: r | G24: 8.4114795 | H24: r | I24: 2.2874697 | J24: r | K24: 0 | M24: … | O24: … | Q24: … | S24: 14.420186 | T24: r
B25: Transportentgelte | C25: 0 | E25: 0 | G25: 0 | I25: 0 | K25: 36.020947 | M25: … | O25: … | Q25: … | S25: 0
B26: selbstgetragene Verkehrsmittelkosten | C26: 29.641427 | D26: r | E26: 29.560922 | F26: r | G26: 50.519676 | H26: r | I26: 15.660974 | J26: r | K26: 0 | M26: … | O26: … | Q26: … | S26: 33.990155 | T26: r
B27: selbstgetragene Unfallkosten | C27: 6.6195076 | D27: r | E27: 4.0648333 | F27: r | G27: 121.98019 | H27: r | I27: 0.23743992 | J27: r | K27: 0.047236929 | L27: r | M27: … | O27: … | Q27: … | S27: 0.52480963 | T27: r
A28: r | B28: revidiert
A29: 1 | B29: Die Kilometerkosten pro Tonnenkilometer sind bei leichten Strassengüterfahrzeugen nicht bezifferbar, da diese nicht nur für den Güterverkehr eingesetzt werden.
A30: 2 | B30: Die Aufschlüsselung nach Fahrzeugkategorien liegt beim öffentlichen Strassenverkehr nur alle 5 Jahre vor.
A31: … | B31: Zahl unbekannt, weil (noch) nicht erhoben oder (noch) nicht berechnet
A33: Stand: Dezember 2024
A34: Quelle: BFS – Kosten und Finanzierung des Verkehrs (KFV)
A35: Auskunft: Bundesamt für Statistik (BFS), Sektion Mobilität, 058 463 64 68, verkehr@bfs.admin.ch
A36: © BFS

Sheet 2013
A1: Kilometerkosten des motorisierten Strassenverkehrs, 2013 | T1: ◄
A2: in Rappen pro Personen- bzw. Tonnenkilometer | T2: T-SU 11.02.02.02
C3: Personenverkehr | S3: Güterverkehr 1
C4: privater motorisierter Personenverkehr | K4: öffentlicher Strassenverkehr | S4: schwere Fahrzeuge
C5: Total | E5: Personen- wagen | G5: Motorräder und Mofas | I5: Privatcars | K5: Total | M5: Autobusse 2 | O5: Trolley- busse 2 | Q5: Trams 2
A6: Einheit | C6: Rp./Pkm | E6: Rp./Pkm | G6: Rp./Pkm | I6: Rp./Pkm | K6: Rp./Pkm | M6: Rp./Pkm | O6: Rp./Pkm | Q6: Rp./Pkm | S6: Rp./tkm
A7: Kilometerkosten pro Personen- bzw. Tonnenkilometer | C7: 60.883637 | D7: r | E7: 57.641387 | F7: r | G7: 232.34832 | H7: r | I7: 26.034798 | J7: r | K7: 98.47443 | L7: r | M7: … | O7: … | Q7: … | S7: 62.75723 | T7: r
B8: nach Kostenkategorien
B9: Infrastrukturkosten | C9: 6.3862656 | D9: r | E9: 6.4198245 | F9: r | G9: 9.1818946 | H9: r | I9: 2.892862 | J9: r | K9: 11.741772 | L9: r | M9: … | O9: … | Q9: … | S9: 8.9797019 | T9: r
B10: Verkehrsmittelkosten | C10: 29.909866 | D10: r | E10: 29.869719 | F10: r | G10: 48.290431 | H10: r | I10: 15.768792 | J10: r | K10: 66.019498 | L10: r | S10: 34.764341 | T10: r
B11: Unfallkosten | C11: 11.490011 | D11: r | E11: 8.4101745 | F11: r | G11: 147.89482 | H11: r | I11: 0.70910899 | J11: r | K11: 10.459623 | L11: r | M11: … | O11: … | Q11: … | S11: 1.7312928 | T11: r
B12: Umwelt- und Gesundheitskosten | C12: 13.097494 | D12: r | E12: 12.941669 | F12: r | G12: 26.981176 | H12: r | I12: 6.664035 | J12: r | K12: 10.253537 | L12: r | M12: … | O12: … | Q12: … | S12: 17.281894 | T12: r
B13: nach direkten Kostenträgern
B14: Verkehrsnutzende | C14: 37.279228 | D14: r | E14: 34.50985 | F14: r | G14: 173.6401 | H14: r | I14: 16.026939 | J14: r | K14: 0.044310998 | L14: r | M14: … | O14: … | Q14: … | S14: 35.386746 | T14: r
B15: Transportunternehmen | C15: 0 | E15: 0 | G15: 0 | I15: 0 | K15: 74.236888 | L15: r | M15: … | O15: … | Q15: … | S15: 0
B16: öffentliche Hand | C16: 6.7623113 | D16: r | E16: 6.7543847 | F16: r | G16: 11.579324 | H16: r | I16: 2.9685174 | J16: r | K16: 7.2913741 | L16: r | M16: … | O16: … | Q16: … | S16: 9.1720735 | T16: r
B17: Allgemeinheit | C17: 16.842097 | D17: r | E17: 16.377152 | F17: r | G17: 47.128889 | H17: r | I17: 7.0393413 | J17: r | K17: 16.901856 | L17: r | M17: … | O17: … | Q17: … | S17: 18.19841 | T17: r
B18: nach finalen Kostenträgern
B19: Verkehrsnutzende | C19: 44.153517 | D19: r | E19: 41.380068 | F19: r | G19: 181.90414 | H19: r | I19: 18.323314 | J19: r | K19: 35.603765 | L19: r | M19: … | O19: … | Q19: … | S19: 50.255812 | T19: r
B20: Transportunternehmen | C20: 0 | E20: 0 | G20: 0 | I20: 0 | K20: 2.0257643 | L20: r | M20: … | O20: … | Q20: … | S20: 0
B21: öffentliche Hand | C21: 0 | E21: 0 | G21: 3.3677939 | H21: r | I21: 0.70375927 | J21: r | K21: 43.994097 | L21: r | M21: … | O21: … | Q21: … | S21: 0
B22: Allgemeinheit | C22: 16.73012 | D22: r | E22: 16.261319 | F22: r | G22: 47.076386 | H22: r | I22: 7.007725 | J22: r | K22: 16.850803 | L22: r | M22: … | O22: … | Q22: … | S22: 12.501418 | T22: r
A23: Leistungen der Verkehrsnutzenden pro Personen- bzw. Tonnenkilometer | C23: 44.534611 | D23: r | E23: 41.886611 | F23: r | G23: 181.90414 | H23: r | I23: 18.323314 | J23: r | K23: 35.603765 | L23: r | M23: … | O23: … | Q23: … | S23: 50.255812 | T23: r
B24: verkehrsspezifische Steuern und Abgaben | C24: 7.2553821 | D24: r | E24: 7.3767606 | F24: r | G24: 8.2640335 | H24: r | I24: 2.2963744 | J24: r | K24: 0 | M24: … | O24: … | Q24: … | S24: 14.869066 | T24: r
B25: Transportentgelte | C25: 0 | E25: 0 | G25: 0 | I25: 0 | K25: 35.559454 | M25: … | O25: … | Q25: … | S25: 0
B26: selbstgetragene Verkehrsmittelkosten | C26: 29.909866 | D26: r | E26: 29.869719 | F26: r | G26: 48.290431 | H26: r | I26: 15.768792 | J26: r | K26: 0 | M26: … | O26: … | Q26: … | S26: 34.764341 | T26: r
B27: selbstgetragene Unfallkosten | C27: 7.3693627 | D27: r | E27: 4.6401315 | F27: r | G27: 125.34967 | H27: r | I27: 0.25814733 | J27: r | K27: 0.044310998 | L27: r | M27: … | O27: … | Q27: … | S27: 0.62240454 | T27: r
A28: r | B28: revidiert
A29: 1 | B29: Die Kilometerkosten pro Tonnenkilometer sind bei leichten Strassengüterfahrzeugen nicht bezifferbar, da diese nicht nur für den Güterverkehr eingesetzt werden.
A30: 2 | B30: Die Aufschlüsselung nach Fahrzeugkategorien liegt beim öffentlichen Strassenverkehr nur alle 5 Jahre vor.
A31: … | B31: Zahl unbekannt, weil (noch) nicht erhoben oder (noch) nicht berechnet
A33: Stand: Dezember 2024
A34: Quelle: BFS – Kosten und Finanzierung des Verkehrs (KFV)
A35: Auskunft: Bundesamt für Statistik (BFS), Sektion Mobilität, 058 463 64 68, verkehr@bfs.admin.ch
A36: © BFS

Sheet 2012
A1: Kilometerkosten des motorisierten Strassenverkehrs, 2012 | T1: ◄
A2: in Rappen pro Personen- bzw. Tonnenkilometer | T2: T-SU 11.02.02.02
C3: Personenverkehr | S3: Güterverkehr 1
C4: privater motorisierter Personenverkehr | K4: öffentlicher Strassenverkehr | S4: schwere Fahrzeuge
C5: Total | E5: Personen- wagen | G5: Motorräder und Mofas | I5: Privatcars | K5: Total | M5: Autobusse 2 | O5: Trolley- busse 2 | Q5: Trams 2
A6: Einheit | C6: Rp./Pkm | E6: Rp./Pkm | G6: Rp./Pkm | I6: Rp./Pkm | K6: Rp./Pkm | M6: Rp./Pkm | O6: Rp./Pkm | Q6: Rp./Pkm | S6: Rp./tkm
A7: Kilometerkosten pro Personen- bzw. Tonnenkilometer | C7: 63.009173 | D7: r | E7: 58.728375 | F7: r | G7: 260.02231 | H7: r | I7: 33.237019 | J7: r | K7: 101.28459 | L7: r | M7: … | O7: … | Q7: … | S7: 63.887704 | T7: r
B8: nach Kostenkategorien
B9: Infrastrukturkosten | C9: 6.4996247 | D9: r | E9: 6.5401194 | F9: r | G9: 8.98429 | H9: r | I9: 2.9513756 | J9: r | K9: 11.76205 | L9: r | M9: … | O9: … | Q9: … | S9: 9.1805361 | T9: r
B10: Verkehrsmittelkosten | C10: 30.099485 | D10: r | E10: 30.102506 | F10: r | G10: 46.207695 | H10: r | I10: 15.810417 | J10: r | K10: 65.263984 | L10: r | S10: 34.952302 | T10: r
B11: Unfallkosten | C11: 13.280218 | D11: r | E11: 9.0911046 | F11: r | G11: 179.24 | H11: r | I11: 7.7801614 | J11: r | K11: 14.108847 | L11: r | M11: … | O11: … | Q11: … | S11: 2.440609 | T11: r
B12: Umwelt- und Gesundheitskosten | C12: 13.129845 | D12: r | E12: 12.994646 | F12: r | G12: 25.590333 | H12: r | I12: 6.6950651 | J12: r | K12: 10.149712 | L12: r | M12: … | O12: … | Q12: … | S12: 17.314257 | T12: r
B13: nach direkten Kostenträgern
B14: Verkehrsnutzende | C14: 38.702716 | D14: r | E14: 35.118325 | F14: r | G14: 198.13758 | H14: r | I14: 18.642743 | J14: r | K14: 0.058324701 | L14: r | M14: … | O14: … | Q14: … | S14: 35.856074 | T14: r
B15: Transportunternehmen | C15: 0 | E15: 0 | G15: 0 | I15: 0 | K15: 74.452033 | L15: r | M15: … | O15: … | Q15: … | S15: 0
B16: öffentliche Hand | C16: 6.9206072 | D16: r | E16: 6.8976226 | F16: r | G16: 12.013453 | H16: r | I16: 3.206813 | J16: r | K16: 7.6036994 | L16: r | M16: … | O16: … | Q16: … | S16: 9.392883 | T16: r
B17: Allgemeinheit | C17: 17.385849 | D17: r | E17: 16.712427 | F17: r | G17: 49.871283 | H17: r | I17: 11.387463 | J17: r | K17: 19.170537 | L17: r | M17: … | O17: … | Q17: … | S17: 18.638747 | T17: r
B18: nach finalen Kostenträgern
B19: Verkehrsnutzende | C19: 45.701725 | D19: r | E19: 42.097534 | F19: r | G19: 206.23565 | H19: r | I19: 20.954215 | J19: r | K19: 34.296538 | L19: r | M19: … | O19: … | Q19: … | S19: 50.92611 | T19: r
B20: Transportunternehmen | C20: 0 | E20: 0 | G20: 0 | I20: 0 | K20: 3.4085703 | L20: r | M20: … | O20: … | Q20: … | S20: 0
B21: öffentliche Hand | C21: 0 | E21: 0 | G21: 3.9398973 | H21: r | I21: 0.91427495 | J21: r | K21: 44.439325 | L21: r | M21: … | O21: … | Q21: … | S21: 0
B22: Allgemeinheit | C22: 17.307447 | D22: r | E22: 16.630841 | F22: r | G22: 49.84677 | H22: r | I22: 11.368529 | J22: r | K22: 19.140161 | L22: r | M22: … | O22: … | Q22: … | S22: 12.961594 | T22: r
A23: Leistungen der Verkehrsnutzenden pro Personen- bzw. Tonnenkilometer | C23: 46.139266 | D23: r | E23: 42.690145 | F23: r | G23: 206.23565 | H23: r | I23: 20.954215 | J23: r | K23: 34.296538 | L23: r | M23: … | O23: … | Q23: … | S23: 50.92611 | T23: r
B24: verkehrsspezifische Steuern und Abgaben | C24: 7.4365496 | D24: r | E24: 7.5718196 | F24: r | G24: 8.0980682 | H24: r | I24: 2.3114724 | J24: r | K24: 0 | M24: … | O24: … | Q24: … | S24: 15.070035 | T24: r
B25: Transportentgelte | C25: 0 | E25: 0 | G25: 0 | I25: 0 | K25: 34.238213 | M25: … | O25: … | Q25: … | S25: 0
B26: selbstgetragene Verkehrsmittelkosten | C26: 30.099485 | D26: r | E26: 30.102506 | F26: r | G26: 46.207695 | H26: r | I26: 15.810417 | J26: r | K26: 0 | M26: … | O26: … | Q26: … | S26: 34.952302 | T26: r
B27: selbstgetragene Unfallkosten | C27: 8.6032314 | D27: r | E27: 5.0158199 | F27: r | G27: 151.92988 | H27: r | I27: 2.8323261 | J27: r | K27: 0.058324701 | L27: r | M27: … | O27: … | Q27: … | S27: 0.90377198 | T27: r
A28: r | B28: revidiert
A29: 1 | B29: Die Kilometerkosten pro Tonnenkilometer sind bei leichten Strassengüterfahrzeugen nicht bezifferbar, da diese nicht nur für den Güterverkehr eingesetzt werden.
A30: 2 | B30: Die Aufschlüsselung nach Fahrzeugkategorien liegt beim öffentlichen Strassenverkehr nur alle 5 Jahre vor.
A31: … | B31: Zahl unbekannt, weil (noch) nicht erhoben oder (noch) nicht berechnet
A33: Stand: Dezember 2024
A34: Quelle: BFS – Kosten und Finanzierung des Verkehrs (KFV)
A35: Auskunft: Bundesamt für Statistik (BFS), Sektion Mobilität, 058 463 64 68, verkehr@bfs.admin.ch
A36: © BFS

Sheet 2011
A1: Kilometerkosten des motorisierten Strassenverkehrs, 2011 | T1: ◄
A2: in Rappen pro Personen- bzw. Tonnenkilometer | T2: T-SU 11.02.02.02
C3: Personenverkehr | S3: Güterverkehr 1
C4: privater motorisierter Personenverkehr | K4: öffentlicher Strassenverkehr | S4: schwere Fahrzeuge
C5: Total | E5: Personen- wagen | G5: Motorräder und Mofas | I5: Privatcars | K5: Total | M5: Autobusse 2 | O5: Trolley- busse 2 | Q5: Trams 2
A6: Einheit | C6: Rp./Pkm | E6: Rp./Pkm | G6: Rp./Pkm | I6: Rp./Pkm | K6: Rp./Pkm | M6: Rp./Pkm | O6: Rp./Pkm | Q6: Rp./Pkm | S6: Rp./tkm
A7: Kilometerkosten pro Personen- bzw. Tonnenkilometer | C7: 63.442399 | D7: r | E7: 58.846553 | F7: r | G7: 270.51818 | H7: r | I7: 27.434508 | J7: r | K7: 102.46295 | L7: r | M7: … | O7: … | Q7: … | S7: 62.873892 | T7: r
B8: nach Kostenkategorien
B9: Infrastrukturkosten | C9: 6.492314 | D9: r | E9: 6.5407125 | F9: r | G9: 8.5941822 | H9: r | I9: 2.928557 | J9: r | K9: 11.614848 | L9: r | M9: … | O9: … | Q9: … | S9: 9.1158613 | T9: r
B10: Verkehrsmittelkosten | C10: 29.552551 | D10: r | E10: 29.569929 | F10: r | G10: 43.889164 | H10: r | I10: 15.768108 | J10: r | K10: 64.726102 | L10: r | S10: 34.314329 | T10: r
B11: Unfallkosten | C11: 14.381508 | D11: r | E11: 9.8402039 | F11: r | G11: 193.77167 | H11: r | I11: 2.0284257 | J11: r | K11: 15.791486 | L11: r | M11: … | O11: … | Q11: … | S11: 2.3423049 | T11: r
B12: Umwelt- und Gesundheitskosten | C12: 13.016027 | D12: r | E12: 12.895708 | F12: r | G12: 24.263164 | H12: r | I12: 6.709417 | J12: r | K12: 10.330509 | L12: r | M12: … | O12: … | Q12: … | S12: 17.101397 | T12: r
B13: nach direkten Kostenträgern
B14: Verkehrsnutzende | C14: 38.96071 | D14: r | E14: 34.999048 | F14: r | G14: 208.13758 | H14: r | I14: 16.506546 | J14: r | K14: 0.061761504 | L14: r | M14: … | O14: … | Q14: … | S14: 35.184376 | T14: r
B15: Transportunternehmen | C15: 0 | E15: 0 | G15: 0 | I15: 0 | K15: 74.205762 | L15: r | M15: … | O15: … | Q15: … | S15: 0
B16: öffentliche Hand | C16: 6.9250144 | D16: r | E16: 6.9106959 | F16: r | G16: 11.674557 | H16: r | I16: 3.0339259 | J16: r | K16: 7.7153346 | L16: r | M16: … | O16: … | Q16: … | S16: 9.3182918 | T16: r
B17: Allgemeinheit | C17: 17.556674 | D17: r | E17: 16.93681 | F17: r | G17: 50.706051 | H17: r | I17: 7.8940362 | J17: r | K17: 20.480087 | L17: r | M17: … | O17: … | Q17: … | S17: 18.371224 | T17: r
B18: nach finalen Kostenträgern
B19: Verkehrsnutzende | C19: 45.996162 | D19: r | E19: 42.024294 | F19: r | G19: 216.00896 | H19: r | I19: 18.828958 | J19: r | K19: 34.041515 | L19: r | M19: … | O19: … | Q19: … | S19: 50.31368 | T19: r
B20: Transportunternehmen | C20: 0 | E20: 0 | G20: 0 | I20: 0 | K20: 3.8852661 | L20: r | M20: … | O20: … | Q20: … | S20: 0
B21: öffentliche Hand | C21: 0 | E21: 0 | G21: 3.8497194 | H21: r | I21: 0.74238481 | J21: r | K21: 44.105996 | L21: r | M21: … | O21: … | Q21: … | S21: 0
B22: Allgemeinheit | C22: 17.446237 | D22: r | E22: 16.82226 | F22: r | G22: 50.659504 | H22: r | I22: 7.8631652 | J22: r | K22: 20.430169 | L22: r | M22: … | O22: … | Q22: … | S22: 12.560213 | T22: r
A23: Leistungen der Verkehrsnutzenden pro Personen- bzw. Tonnenkilometer | C23: 46.454195 | D23: r | E23: 42.635868 | F23: r | G23: 216.00896 | H23: r | I23: 18.828958 | J23: r | K23: 34.041515 | L23: r | M23: … | O23: … | Q23: … | S23: 50.31368 | T23: r
B24: verkehrsspezifische Steuern und Abgaben | C24: 7.4934844 | D24: r | E24: 7.6368205 | F24: r | G24: 7.8713846 | H24: r | I24: 2.3224121 | J24: r | K24: 0 | M24: … | O24: … | Q24: … | S24: 15.129304 | T24: r
B25: Transportentgelte | C25: 0 | E25: 0 | G25: 0 | I25: 0 | K25: 33.979753 | M25: … | O25: … | Q25: … | S25: 0
B26: selbstgetragene Verkehrsmittelkosten | C26: 29.552551 | D26: r | E26: 29.569929 | F26: r | G26: 43.889164 | H26: r | I26: 15.768108 | J26: r | K26: 0 | M26: … | O26: … | Q26: … | S26: 34.314329 | T26: r
B27: selbstgetragene Unfallkosten | C27: 9.4081598 | D27: r | E27: 5.4291192 | F27: r | G27: 164.24841 | H27: r | I27: 0.7384375 | J27: r | K27: 0.061761504 | L27: r | M27: … | O27: … | Q27: … | S27: 0.87004717 | T27: r
A28: r | B28: revidiert
A29: 1 | B29: Die Kilometerkosten pro Tonnenkilometer sind bei leichten Strassengüterfahrzeugen nicht bezifferbar, da diese nicht nur für den Güterverkehr eingesetzt werden.
A30: 2 | B30: Die Aufschlüsselung nach Fahrzeugkategorien liegt beim öffentlichen Strassenverkehr nur alle 5 Jahre vor.
A31: … | B31: Zahl unbekannt, weil (noch) nicht erhoben oder (noch) nicht berechnet
A33: Stand: Dezember 2024
A34: Quelle: BFS – Kosten und Finanzierung des Verkehrs (KFV)
A35: Auskunft: Bundesamt für Statistik (BFS), Sektion Mobilität, 058 463 64 68, verkehr@bfs.admin.ch
A36: © BFS

Sheet 2010
A1: Kilometerkosten des motorisierten Strassenverkehrs, 2010 | T1: ◄
A2: in Rappen pro Personen- bzw. Tonnenkilometer | T2: T-SU 11.02.02.02
C3: Personenverkehr | S3: Güterverkehr 1
C4: privater motorisierter Personenverkehr | K4: öffentlicher Strassenverkehr | S4: schwere Fahrzeuge
C5: Total | E5: Personen- wagen | G5: Motorräder und Mofas | I5: Privatcars | K5: Total | M5: Autobusse | O5: Trolleybusse | Q5: Trams
A6: Einheit | C6: Rp./Pkm | E6: Rp./Pkm | G6: Rp./Pkm | I6: Rp./Pkm | K6: Rp./Pkm | M6: Rp./Pkm | O6: Rp./Pkm | Q6: Rp./Pkm | S6: Rp./tkm
A7: Kilometerkosten pro Personen- bzw. Tonnenkilometer | C7: 61.565604 | D7: r | E7: 58.134726 | F7: r | G7: 219.54403 | H7: r | I7: 26.047791 | J7: r | K7: 107.18118 | L7: r | M7: 120.38692 | N7: r | O7: 93.676099 | P7: r | Q7: 80.63443 | R7: r | S7: 62.465405 | T7: r
B8: nach Kostenkategorien
B9: Infrastrukturkosten | C9: 6.5661352 | D9: r | E9: 6.6180928 | F9: r | G9: 8.3383083 | H9: r | I9: 3.0575121 | J9: r | K9: 11.901605 | L9: r | M9: 77.776367 | N9: 2 r | O9: 62.299907 | P9: 2 r | Q9: 72.053963 | R9: 2 r | S9: 9.5291961 | T9: r
B10: Verkehrsmittelkosten | C10: 28.379404 | D10: r | E10: 28.383523 | F10: r | G10: 41.51199 | H10: r | I10: 15.477579 | J10: r | K10: 62.470444 | L10: r | S10: 34.093139 | T10: r
B11: Unfallkosten | C11: 13.691911 | D11: r | E11: 10.308482 | F11: r | G11: 146.72847 | H11: r | I11: 0.77693518 | J11: r | K11: 22.398578 | L11: r | M11: 27.517232 | N11: r | O11: 26.328069 | P11: r | Q11: 7.2813021 | R11: r | S11: 1.5623549 | T11: r
B12: Umwelt- und Gesundheitskosten | C12: 12.928155 | D12: r | E12: 12.824628 | F12: r | G12: 22.965254 | H12: r | I12: 6.7357644 | J12: r | K12: 10.410552 | L12: r | M12: 15.093321 | N12: r | O12: 5.048124 | P12: r | Q12: 1.2991652 | R12: r | S12: 17.280715 | T12: r
B13: nach direkten Kostenträgern
B14: Verkehrsnutzende | C14: 37.089757 | D14: r | E14: 34.071005 | F14: r | G14: 165.87982 | H14: r | I14: 15.760418 | J14: r | K14: 0.096446395 | L14: r | M14: 0.14113247 | N14: r | O14: 0.063307638 | P14: r | Q14: 0 | R14: r | S14: 34.658091 | T14: r
B15: Transportunternehmen | C15: 0 | E15: 0 | G15: 0 | I15: 0 | K15: 74.048811 | L15: r | M15: 78.279004 | N15: r | O15: 61.863181 | P15: r | Q15: 69.685381 | R15: r | S15: 0
B16: öffentliche Hand | C16: 6.9888628 | D16: r | E16: 6.9961715 | F16: r | G16: 10.703701 | H16: r | I16: 3.1280477 | J16: r | K16: 8.1097441 | L16: r | M16: 9.9111259 | N16: r | O16: 5.9469042 | P16: r | Q16: 4.6574296 | R16: r | S16: 9.6987025 | T16: r
B17: Allgemeinheit | C17: 17.486984 | D17: r | E17: 17.06755 | F17: r | G17: 42.960504 | H17: r | I17: 7.1593249 | J17: r | K17: 24.926177 | L17: r | M17: 32.055657 | N17: r | O17: 25.802706 | P17: r | Q17: 6.2916202 | R17: r | S17: 18.108612 | T17: r
B18: nach finalen Kostenträgern
B19: Verkehrsnutzende | C19: 44.192966 | D19: r | E19: 41.185813 | F19: r | G19: 173.50935 | H19: r | I19: 18.151215 | J19: r | K19: 33.406612 | L19: r | M19: 29.502607 | N19: r | O19: 37.008193 | P19: r | Q19: 41.460541 | R19: r | S19: 49.836819 | T19: r
B20: Transportunternehmen | C20: 0 | E20: 0 | G20: 0 | I20: 0 | K20: 5.2424262 | L20: r | M20: 8.5117194 | N20: r | O20: 0 | P20: r | Q20: 0.38024903 | R20: r | S20: 0
B21: öffentliche Hand | C21: 0 | E21: 0 | G21: 3.1211769 | H21: r | I21: 0.769468 | J21: r | K21: 43.658402 | L21: r | M21: 50.400785 | N21: r | O21: 30.8652 | P21: r | Q21: 32.50202 | R21: r | S21: 0
