Workbook

Sheet INDEX_m
I1: 1
A2: <PPIIPI> | B2: <©_BFS> | C2: =IF(LEFT($I$1,1)="1",VLOOKUP($A2,PPI_IPI_PGA_PGAI!$A:$E,2,FALSE),IF(LEFT($I$1,1)="2",VLOOKUP($A2,PPI_IPI_PGA_PGAI!$A:$E,3,FALSE),IF(LEFT($I$1,1)="3",VLOOKUP($A2,PPI_IPI_PGA_PGAI!$A:$E,4,FALSE),VLOOKUP($A2,PPI_IPI_PGA_PGAI!$A:$E,5,FALSE)))) -> PRODUZENTEN- UND IMPORTPREISINDEX | E2: =IF(LEFT($I$1,1)="1",VLOOKUP($B2,PPI_IPI_PGA_PGAI!$A:$E,2,FALSE),IF(LEFT($I$1,1)="2",VLOOKUP($B2,PPI_IPI_PGA_PGAI!$A:$E,3,FALSE),IF(LEFT($I$1,1)="3",VLOOKUP($B2,PPI_IPI_PGA_PGAI!$A:$E,4,FALSE),VLOOKUP($B2,PPI_IPI_PGA_PGAI!$A:$E,5,FALSE)))) -> © Bundesamt für Statistik, Espace de l'Europe 10, CH-2010 Neuchâtel | H2: Sprache / Langue / Lingua / Language
B3: <AUSK> | E3: =IF(LEFT($I$1,1)="1",VLOOKUP($B3,PPI_IPI_PGA_PGAI!$A:$E,2,FALSE),IF(LEFT($I$1,1)="2",VLOOKUP($B3,PPI_IPI_PGA_PGAI!$A:$E,3,FALSE),IF(LEFT($I$1,1)="3",VLOOKUP($B3,PPI_IPI_PGA_PGAI!$A:$E,4,FALSE),VLOOKUP($B3,PPI_IPI_PGA_PGAI!$A:$E,5,FALSE)))) -> Auskunft: PPI@bfs.admin.ch, 058 / 463 66 06
A4: <PGAI> | C4: =IF(LEFT($I$1,1)="1",VLOOKUP($A4,PPI_IPI_PGA_PGAI!$A:$E,2,FALSE),IF(LEFT($I$1,1)="2",VLOOKUP($A4,PPI_IPI_PGA_PGAI!$A:$E,3,FALSE),IF(LEFT($I$1,1)="3",VLOOKUP($A4,PPI_IPI_PGA_PGAI!$A:$E,4,FALSE),VLOOKUP($A4,PPI_IPI_PGA_PGAI!$A:$E,5,FALSE)))) -> PREISINDEX DES GESAMTANGEBOTS IM INLAND (PGAI) | E4: http://www.PPI.bfs.admin.ch
A7: <BAS2020_KURZ> | C7: =IF(LEFT($I$1,1)="1",VLOOKUP($A7,PPI_IPI_PGA_PGAI!$A:$E,2,FALSE),IF(LEFT($I$1,1)="2",VLOOKUP($A7,PPI_IPI_PGA_PGAI!$A:$E,3,FALSE),IF(LEFT($I$1,1)="3",VLOOKUP($A7,PPI_IPI_PGA_PGAI!$A:$E,4,FALSE),VLOOKUP($A7,PPI_IPI_PGA_PGAI!$A:$E,5,FALSE)))) -> Basis Dez. 2020 = 100 | E7: <WEIGHT%> | G7: <12> | H7: <1> | I7: <2> | J7: <3> | K7: <4> | L7: <5> | M7: <6> | N7: <7> | O7: <8> | P7: <9> | Q7: <10> | R7: <11> | S7: <12> | T7: <1> | U7: <2> | V7: <3> | W7: <4> | X7: <5> | Y7: <6> | Z7: <7> | AA7: <8> | AB7: <9> | AC7: <10> | AD7: <11> | AE7: <12> | AF7: <1> | AG7: <2> | AH7: <3> | AI7: <4> | AJ7: <5> | AK7: <6> | AL7: <7> | AM7: <8> | AN7: <9> | AO7: <10> | AP7: <11> | AQ7: <12> | AR7: <1> | AS7: <2> | AT7: <3> | AU7: <4> | AV7: <5> | AW7: <6> | AX7: <7> | AY7: <8> | AZ7: <9> | BA7: <10> | BB7: <11> | BC7: <12> | BD7: <1> | BE7: <2> | BF7: <3> | BG7: <4> | BH7: <5> | BI7: <6> | BJ7: <7> | BK7: <8> | BL7: <9> | BM7: <10> | BN7: <11> | BO7: <12> | BP7: <1> | BQ7: <2> | BR7: <3> | BS7: <4> | BT7: <5> | BU7: <6> | BV7: <7> | BW7: <8> | BX7: <9> | BY7: <10> | BZ7: <11> | CA7: <12> | CB7: <1> | CC7: <2> | CD7: <3> | CE7: <4> | CF7: <5> | CG7: <6> | CH7: <7> | CI7: <8> | CJ7: <9> | CK7: <10> | CL7: <11> | CM7: <12> | CN7: <1> | CO7: <2> | CP7: <3> | CQ7: <4> | CR7: <5> | CS7: <6> | CT7: <7> | CU7: <8> | CV7: <9> | CW7: <10> | CX7: <11> | CY7: <12> | CZ7: <1> | DA7: <2> | DB7: <3> | DC7: <4> | DD7: <5> | DE7: <6> | DF7: <7> | DG7: <8> | DH7: <9> | DI7: <10> | DJ7: <11> | DK7: <12> | DL7: <1> | DM7: <2> | DN7: <3> | DO7: <4> | DP7: <5> | DQ7: <6> | DR7: <7> | DS7: <8> | DT7: <9> | DU7: <10> | DV7: <11> | DW7: <12> | DX7: <1> | DY7: <2> | DZ7: <3> | EA7: <4> | EB7: <5> | EC7: <6> | ED7: <7> | EE7: <8> | EF7: <9> | EG7: <10> | EH7: <11> | EI7: <12> | EJ7: <1> | EK7: <2> | EL7: <3> | EM7: <4> | EN7: <5> | EO7: <6> | EP7: <7> | EQ7: <8> | ER7: <9> | ES7: <10> | ET7: <11> | EU7: <12> | EV7: <1> | EW7: <2> | EX7: <3> | EY7: <4> | EZ7: <5> | FA7: <6> | FB7: <7> | FC7: <8> | FD7: <9> | FE7: <10> | FF7: <11> | FG7: <12> | FH7: <1> | FI7: <2> | FJ7: <3> | FK7: <4> | FL7: <5> | FM7: <6> | FN7: <7> | FO7: <8> | FP7: <9> | FQ7: <10> | FR7: <11> | FS7: <12>
A8: <PRODUCT-CODE> | B8: <PROD_GROUP> | C8: =IF(LEFT($I$1,1)="1",VLOOKUP($A8,PPI_IPI_PGA_PGAI!$A:$E,2,FALSE),IF(LEFT($I$1,1)="2",VLOOKUP($A8,PPI_IPI_PGA_PGAI!$A:$E,3,FALSE),IF(LEFT($I$1,1)="3",VLOOKUP($A8,PPI_IPI_PGA_PGAI!$A:$E,4,FALSE),VLOOKUP($A8,PPI_IPI_PGA_PGAI!$A:$E,5,FALSE)))) -> Produktcode | D8: =IF(LEFT($I$1,1)="1",VLOOKUP(B$8,PPI_IPI_PGA_PGAI!$A:$E,2,FALSE),IF(LEFT($I$1,1)="2",VLOOKUP(B$8,PPI_IPI_PGA_PGAI!$A:$E,3,FALSE),IF(LEFT($I$1,1)="3",VLOOKUP(B$8,PPI_IPI_PGA_PGAI!$A:$E,4,FALSE),VLOOKUP(B$8,PPI_IPI_PGA_PGAI!$A:$E,5,FALSE)))) -> Produktgruppen | E8: =IF(LEFT($I$1,1)="1",VLOOKUP(E$7,PPI_IPI_PGA_PGAI!$A:$E,2,FALSE),IF(LEFT($I$1,1)="2",VLOOKUP(E$7,PPI_IPI_PGA_PGAI!$A:$E,3,FALSE),IF(LEFT($I$1,1)="3",VLOOKUP(E$7,PPI_IPI_PGA_PGAI!$A:$E,4,FALSE),VLOOKUP(E$7,PPI_IPI_PGA_PGAI!$A:$E,5,FALSE)))) -> Gewicht in % | G8: =CONCATENATE(IF(LEFT($I$1,1)="1",VLOOKUP(G$7,PPI_IPI_PGA_PGAI!$A:$E,2,FALSE),IF(LEFT($I$1,1)="2",VLOOKUP(G$7,PPI_IPI_PGA_PGAI!$A:$E,3,FALSE),IF(LEFT($I$1,1)="3",VLOOKUP(G$7,PPI_IPI_PGA_PGAI!$A:$E,4,FALSE),VLOOKUP(G$7,PPI_IPI_PGA_PGAI!$A:$E,5,FALSE))))," ",2010) -> Dez. 2010 | H8: =CONCATENATE(IF(LEFT($I$1,1)="1",VLOOKUP(H$7,PPI_IPI_PGA_PGAI!$A:$E,2,FALSE),IF(LEFT($I$1,1)="2",VLOOKUP(H$7,PPI_IPI_PGA_PGAI!$A:$E,3,FALSE),IF(LEFT($I$1,1)="3",VLOOKUP(H$7,PPI_IPI_PGA_PGAI!$A:$E,4,FALSE),VLOOKUP(H$7,PPI_IPI_PGA_PGAI!$A:$E,5,FALSE))))," ",2011) -> Jan. 2011 | I8: =CONCATENATE(IF(LEFT($I$1,1)="1",VLOOKUP(I$7,PPI_IPI_PGA_PGAI!$A:$E,2,FALSE),IF(LEFT($I$1,1)="2",VLOOKUP(I$7,PPI_IPI_PGA_PGAI!$A:$E,3,FALSE),IF(LEFT($I$1,1)="3",VLOOKUP(I$7,PPI_IPI_PGA_PGAI!$A:$E,4,FALSE),VLOOKUP(I$7,PPI_IPI_PGA_PGAI!$A:$E,5,FALSE))))," ",2011) -> Feb. 2011 | J8: =CONCATENATE(IF(LEFT($I$1,1)="1",VLOOKUP(J$7,PPI_IPI_PGA_PGAI!$A:$E,2,FALSE),IF(LEFT($I$1,1)="2",VLOOKUP(J$7,PPI_IPI_PGA_PGAI!$A:$E,3,FALSE),IF(LEFT($I$1,1)="3",VLOOKUP(J$7,PPI_IPI_PGA_PGAI!$A:$E,4,FALSE),VLOOKUP(J$7,PPI_IPI_PGA_PGAI!$A:$E,5,FALSE))))," ",2011) -> März 2011 | K8: =CONCATENATE(IF(LEFT($I$1,1)="1",VLOOKUP(K$7,PPI_IPI_PGA_PGAI!$A:$E,2,FALSE),IF(LEFT($I$1,1)="2",VLOOKUP(K$7,PPI_IPI_PGA_PGAI!$A:$E,3,FALSE),IF(LEFT($I$1,1)="3",VLOOKUP(K$7,PPI_IPI_PGA_PGAI!$A:$E,4,FALSE),VLOOKUP(K$7,PPI_IPI_PGA_PGAI!$A:$E,5,FALSE))))," ",2011) -> April 2011 | L8: =CONCATENATE(IF(LEFT($I$1,1)="1",VLOOKUP(L$7,PPI_IPI_PGA_PGAI!$A:$E,2,FALSE),IF(LEFT($I$1,1)="2",VLOOKUP(L$7,PPI_IPI_PGA_PGAI!$A:$E,3,FALSE),IF(LEFT($I$1,1)="3",VLOOKUP(L$7,PPI_IPI_PGA_PGAI!$A:$E,4,FALSE),VLOOKUP(L$7,PPI_IPI_PGA_PGAI!$A:$E,5,FALSE))))," ",2011) -> Mai 2011 | M8: =CONCATENATE(IF(LEFT($I$1,1)="1",VLOOKUP(M$7,PPI_IPI_PGA_PGAI!$A:$E,2,FALSE),IF(LEFT($I$1,1)="2",VLOOKUP(M$7,PPI_IPI_PGA_PGAI!$A:$E,3,FALSE),IF(LEFT($I$1,1)="3",VLOOKUP(M$7,PPI_IPI_PGA_PGAI!$A:$E,4,FALSE),VLOOKUP(M$7,PPI_IPI_PGA_PGAI!$A:$E,5,FALSE))))," ",2011) -> Juni 2011 | N8: =CONCATENATE(IF(LEFT($I$1,1)="1",VLOOKUP(N$7,PPI_IPI_PGA_PGAI!$A:$E,2,FALSE),IF(LEFT($I$1,1)="2",VLOOKUP(N$7,PPI_IPI_PGA_PGAI!$A:$E,3,FALSE),IF(LEFT($I$1,1)="3",VLOOKUP(N$7,PPI_IPI_PGA_PGAI!$A:$E,4,FALSE),VLOOKUP(N$7,PPI_IPI_PGA_PGAI!$A:$E,5,FALSE))))," ",2011) -> Juli 2011 | O8: =CONCATENATE(IF(LEFT($I$1,1)="1",VLOOKUP(O$7,PPI_IPI_PGA_PGAI!$A:$E,2,FALSE),IF(LEFT($I$1,1)="2",VLOOKUP(O$7,PPI_IPI_PGA_PGAI!$A:$E,3,FALSE),IF(LEFT($I$1,1)="3",VLOOKUP(O$7,PPI_IPI_PGA_PGAI!$A:$E,4,FALSE),VLOOKUP(O$7,PPI_IPI_PGA_PGAI!$A:$E,5,FALSE))))," ",2011) -> Aug. 2011 | ... S8: =CONCATENATE(IF(LEFT($I$1,1)="1",VLOOKUP(S$7,PPI_IPI_PGA_PGAI!$A:$E,2,FALSE),IF(LEFT($I$1,1)="2",VLOOKUP(S$7,PPI_IPI_PGA_PGAI!$A:$E,3,FALSE),IF(LEFT($I$1,1)="3",VLOOKUP(S$7,PPI_IPI_PGA_PGAI!$A:$E,4,FALSE),VLOOKUP(S$7,PPI_IPI_PGA_PGAI!$A:$E,5,FALSE))))," ",2011) -> Dez. 2011 | T8: =CONCATENATE(IF(LEFT($I$1,1)="1",VLOOKUP(T$7,PPI_IPI_PGA_PGAI!$A:$E,2,FALSE),IF(LEFT($I$1,1)="2",VLOOKUP(T$7,PPI_IPI_PGA_PGAI!$A:$E,3,FALSE),IF(LEFT($I$1,1)="3",VLOOKUP(T$7,PPI_IPI_PGA_PGAI!$A:$E,4,FALSE),VLOOKUP(T$7,PPI_IPI_PGA_PGAI!$A:$E,5,FALSE))))," ",2012) -> Jan. 2012 | U8: =CONCATENATE(IF(LEFT($I$1,1)="1",VLOOKUP(U$7,PPI_IPI_PGA_PGAI!$A:$E,2,FALSE),IF(LEFT($I$1,1)="2",VLOOKUP(U$7,PPI_IPI_PGA_PGAI!$A:$E,3,FALSE),IF(LEFT($I$1,1)="3",VLOOKUP(U$7,PPI_IPI_PGA_PGAI!$A:$E,4,FALSE),VLOOKUP(U$7,PPI_IPI_PGA_PGAI!$A:$E,5,FALSE))))," ",2012) -> Feb. 2012 | V8: =CONCATENATE(IF(LEFT($I$1,1)="1",VLOOKUP(V$7,PPI_IPI_PGA_PGAI!$A:$E,2,FALSE),IF(LEFT($I$1,1)="2",VLOOKUP(V$7,PPI_IPI_PGA_PGAI!$A:$E,3,FALSE),IF(LEFT($I$1,1)="3",VLOOKUP(V$7,PPI_IPI_PGA_PGAI!$A:$E,4,FALSE),VLOOKUP(V$7,PPI_IPI_PGA_PGAI!$A:$E,5,FALSE))))," ",2012) -> März 2012 | W8: =CONCATENATE(IF(LEFT($I$1,1)="1",VLOOKUP(W$7,PPI_IPI_PGA_PGAI!$A:$E,2,FALSE),IF(LEFT($I$1,1)="2",VLOOKUP(W$7,PPI_IPI_PGA_PGAI!$A:$E,3,FALSE),IF(LEFT($I$1,1)="3",VLOOKUP(W$7,PPI_IPI_PGA_PGAI!$A:$E,4,FALSE),VLOOKUP(W$7,PPI_IPI_PGA_PGAI!$A:$E,5,FALSE))))," ",2012) -> April 2012 | X8: =CONCATENATE(IF(LEFT($I$1,1)="1",VLOOKUP(X$7,PPI_IPI_PGA_PGAI!$A:$E,2,FALSE),IF(LEFT($I$1,1)="2",VLOOKUP(X$7,PPI_IPI_PGA_PGAI!$A:$E,3,FALSE),IF(LEFT($I$1,1)="3",VLOOKUP(X$7,PPI_IPI_PGA_PGAI!$A:$E,4,FALSE),VLOOKUP(X$7,PPI_IPI_PGA_PGAI!$A:$E,5,FALSE))))," ",2012) -> Mai 2012 | Y8: =CONCATENATE(IF(LEFT($I$1,1)="1",VLOOKUP(Y$7,PPI_IPI_PGA_PGAI!$A:$E,2,FALSE),IF(LEFT($I$1,1)="2",VLOOKUP(Y$7,PPI_IPI_PGA_PGAI!$A:$E,3,FALSE),IF(LEFT($I$1,1)="3",VLOOKUP(Y$7,PPI_IPI_PGA_PGAI!$A:$E,4,FALSE),VLOOKUP(Y$7,PPI_IPI_PGA_PGAI!$A:$E,5,FALSE))))," ",2012) -> Juni 2012 | Z8: =CONCATENATE(IF(LEFT($I$1,1)="1",VLOOKUP(Z$7,PPI_IPI_PGA_PGAI!$A:$E,2,FALSE),IF(LEFT($I$1,1)="2",VLOOKUP(Z$7,PPI_IPI_PGA_PGAI!$A:$E,3,FALSE),IF(LEFT($I$1,1)="3",VLOOKUP(Z$7,PPI_IPI_PGA_PGAI!$A:$E,4,FALSE),VLOOKUP(Z$7,PPI_IPI_PGA_PGAI!$A:$E,5,FALSE))))," ",2012) -> Juli 2012 | AA8: =CONCATENATE(IF(LEFT($I$1,1)="1",VLOOKUP(AA$7,PPI_IPI_PGA_PGAI!$A:$E,2,FALSE),IF(LEFT($I$1,1)="2",VLOOKUP(AA$7,PPI_IPI_PGA_PGAI!$A:$E,3,FALSE),IF(LEFT($I$1,1)="3",VLOOKUP(AA$7,PPI_IPI_PGA_PGAI!$A:$E,4,FALSE),VLOOKUP(AA$7,PPI_IPI_PGA_PGAI!$A:$E,5,FALSE))))," ",2012) -> Aug. 2012 | ... AE8: =CONCATENATE(IF(LEFT($I$1,1)="1",VLOOKUP(AE$7,PPI_IPI_PGA_PGAI!$A:$E,2,FALSE),IF(LEFT($I$1,1)="2",VLOOKUP(AE$7,PPI_IPI_PGA_PGAI!$A:$E,3,FALSE),IF(LEFT($I$1,1)="3",VLOOKUP(AE$7,PPI_IPI_PGA_PGAI!$A:$E,4,FALSE),VLOOKUP(AE$7,PPI_IPI_PGA_PGAI!$A:$E,5,FALSE))))," ",2012) -> Dez. 2012 | AF8: =CONCATENATE(IF(LEFT($I$1,1)="1",VLOOKUP(AF$7,PPI_IPI_PGA_PGAI!$A:$E,2,FALSE),IF(LEFT($I$1,1)="2",VLOOKUP(AF$7,PPI_IPI_PGA_PGAI!$A:$E,3,FALSE),IF(LEFT($I$1,1)="3",VLOOKUP(AF$7,PPI_IPI_PGA_PGAI!$A:$E,4,FALSE),VLOOKUP(AF$7,PPI_IPI_PGA_PGAI!$A:$E,5,FALSE))))," ",2013) -> Jan. 2013 | AG8: =CONCATENATE(IF(LEFT($I$1,1)="1",VLOOKUP(AG$7,PPI_IPI_PGA_PGAI!$A:$E,2,FALSE),IF(LEFT($I$1,1)="2",VLOOKUP(AG$7,PPI_IPI_PGA_PGAI!$A:$E,3,FALSE),IF(LEFT($I$1,1)="3",VLOOKUP(AG$7,PPI_IPI_PGA_PGAI!$A:$E,4,FALSE),VLOOKUP(AG$7,PPI_IPI_PGA_PGAI!$A:$E,5,FALSE))))," ",2013) -> Feb. 2013 | AH8: =CONCATENATE(IF(LEFT($I$1,1)="1",VLOOKUP(AH$7,PPI_IPI_PGA_PGAI!$A:$E,2,FALSE),IF(LEFT($I$1,1)="2",VLOOKUP(AH$7,PPI_IPI_PGA_PGAI!$A:$E,3,FALSE),IF(LEFT($I$1,1)="3",VLOOKUP(AH$7,PPI_IPI_PGA_PGAI!$A:$E,4,FALSE),VLOOKUP(AH$7,PPI_IPI_PGA_PGAI!$A:$E,5,FALSE))))," ",2013) -> März 2013 | AI8: =CONCATENATE(IF(LEFT($I$1,1)="1",VLOOKUP(AI$7,PPI_IPI_PGA_PGAI!$A:$E,2,FALSE),IF(LEFT($I$1,1)="2",VLOOKUP(AI$7,PPI_IPI_PGA_PGAI!$A:$E,3,FALSE),IF(LEFT($I$1,1)="3",VLOOKUP(AI$7,PPI_IPI_PGA_PGAI!$A:$E,4,FALSE),VLOOKUP(AI$7,PPI_IPI_PGA_PGAI!$A:$E,5,FALSE))))," ",2013) -> April 2013 | AJ8: =CONCATENATE(IF(LEFT($I$1,1)="1",VLOOKUP(AJ$7,PPI_IPI_PGA_PGAI!$A:$E,2,FALSE),IF(LEFT($I$1,1)="2",VLOOKUP(AJ$7,PPI_IPI_PGA_PGAI!$A:$E,3,FALSE),IF(LEFT($I$1,1)="3",VLOOKUP(AJ$7,PPI_IPI_PGA_PGAI!$A:$E,4,FALSE),VLOOKUP(AJ$7,PPI_IPI_PGA_PGAI!$A:$E,5,FALSE))))," ",2013) -> Mai 2013 | AK8: =CONCATENATE(IF(LEFT($I$1,1)="1",VLOOKUP(AK$7,PPI_IPI_PGA_PGAI!$A:$E,2,FALSE),IF(LEFT($I$1,1)="2",VLOOKUP(AK$7,PPI_IPI_PGA_PGAI!$A:$E,3,FALSE),IF(LEFT($I$1,1)="3",VLOOKUP(AK$7,PPI_IPI_PGA_PGAI!$A:$E,4,FALSE),VLOOKUP(AK$7,PPI_IPI_PGA_PGAI!$A:$E,5,FALSE))))," ",2013) -> Juni 2013 | AL8: =CONCATENATE(IF(LEFT($I$1,1)="1",VLOOKUP(AL$7,PPI_IPI_PGA_PGAI!$A:$E,2,FALSE),IF(LEFT($I$1,1)="2",VLOOKUP(AL$7,PPI_IPI_PGA_PGAI!$A:$E,3,FALSE),IF(LEFT($I$1,1)="3",VLOOKUP(AL$7,PPI_IPI_PGA_PGAI!$A:$E,4,FALSE),VLOOKUP(AL$7,PPI_IPI_PGA_PGAI!$A:$E,5,FALSE))))," ",2013) -> Juli 2013 | AM8: =CONCATENATE(IF(LEFT($I$1,1)="1",VLOOKUP(AM$7,PPI_IPI_PGA_PGAI!$A:$E,2,FALSE),IF(LEFT($I$1,1)="2",VLOOKUP(AM$7,PPI_IPI_PGA_PGAI!$A:$E,3,FALSE),IF(LEFT($I$1,1)="3",VLOOKUP(AM$7,PPI_IPI_PGA_PGAI!$A:$E,4,FALSE),VLOOKUP(AM$7,PPI_IPI_PGA_PGAI!$A:$E,5,FALSE))))," ",2013) -> Aug. 2013 | ... AQ8: =CONCATENATE(IF(LEFT($I$1,1)="1",VLOOKUP(AQ$7,PPI_IPI_PGA_PGAI!$A:$E,2,FALSE),IF(LEFT($I$1,1)="2",VLOOKUP(AQ$7,PPI_IPI_PGA_PGAI!$A:$E,3,FALSE),IF(LEFT($I$1,1)="3",VLOOKUP(AQ$7,PPI_IPI_PGA_PGAI!$A:$E,4,FALSE),VLOOKUP(AQ$7,PPI_IPI_PGA_PGAI!$A:$E,5,FALSE))))," ",2013) -> Dez. 2013 | AR8: =CONCATENATE(IF(LEFT($I$1,1)="1",VLOOKUP(AR$7,PPI_IPI_PGA_PGAI!$A:$E,2,FALSE),IF(LEFT($I$1,1)="2",VLOOKUP(AR$7,PPI_IPI_PGA_PGAI!$A:$E,3,FALSE),IF(LEFT($I$1,1)="3",VLOOKUP(AR$7,PPI_IPI_PGA_PGAI!$A:$E,4,FALSE),VLOOKUP(AR$7,PPI_IPI_PGA_PGAI!$A:$E,5,FALSE))))," ",2014) -> Jan. 2014 | AS8: =CONCATENATE(IF(LEFT($I$1,1)="1",VLOOKUP(AS$7,PPI_IPI_PGA_PGAI!$A:$E,2,FALSE),IF(LEFT($I$1,1)="2",VLOOKUP(AS$7,PPI_IPI_PGA_PGAI!$A:$E,3,FALSE),IF(LEFT($I$1,1)="3",VLOOKUP(AS$7,PPI_IPI_PGA_PGAI!$A:$E,4,FALSE),VLOOKUP(AS$7,PPI_IPI_PGA_PGAI!$A:$E,5,FALSE))))," ",2014) -> Feb. 2014 | AT8: =CONCATENATE(IF(LEFT($I$1,1)="1",VLOOKUP(AT$7,PPI_IPI_PGA_PGAI!$A:$E,2,FALSE),IF(LEFT($I$1,1)="2",VLOOKUP(AT$7,PPI_IPI_PGA_PGAI!$A:$E,3,FALSE),IF(LEFT($I$1,1)="3",VLOOKUP(AT$7,PPI_IPI_PGA_PGAI!$A:$E,4,FALSE),VLOOKUP(AT$7,PPI_IPI_PGA_PGAI!$A:$E,5,FALSE))))," ",2014) -> März 2014 | AU8: =CONCATENATE(IF(LEFT($I$1,1)="1",VLOOKUP(AU$7,PPI_IPI_PGA_PGAI!$A:$E,2,FALSE),IF(LEFT($I$1,1)="2",VLOOKUP(AU$7,PPI_IPI_PGA_PGAI!$A:$E,3,FALSE),IF(LEFT($I$1,1)="3",VLOOKUP(AU$7,PPI_IPI_PGA_PGAI!$A:$E,4,FALSE),VLOOKUP(AU$7,PPI_IPI_PGA_PGAI!$A:$E,5,FALSE))))," ",2014) -> April 2014 | AV8: =CONCATENATE(IF(LEFT($I$1,1)="1",VLOOKUP(AV$7,PPI_IPI_PGA_PGAI!$A:$E,2,FALSE),IF(LEFT($I$1,1)="2",VLOOKUP(AV$7,PPI_IPI_PGA_PGAI!$A:$E,3,FALSE),IF(LEFT($I$1,1)="3",VLOOKUP(AV$7,PPI_IPI_PGA_PGAI!$A:$E,4,FALSE),VLOOKUP(AV$7,PPI_IPI_PGA_PGAI!$A:$E,5,FALSE))))," ",2014) -> Mai 2014 | AW8: =CONCATENATE(IF(LEFT($I$1,1)="1",VLOOKUP(AW$7,PPI_IPI_PGA_PGAI!$A:$E,2,FALSE),IF(LEFT($I$1,1)="2",VLOOKUP(AW$7,PPI_IPI_PGA_PGAI!$A:$E,3,FALSE),IF(LEFT($I$1,1)="3",VLOOKUP(AW$7,PPI_IPI_PGA_PGAI!$A:$E,4,FALSE),VLOOKUP(AW$7,PPI_IPI_PGA_PGAI!$A:$E,5,FALSE))))," ",2014) -> Juni 2014 | AX8: =CONCATENATE(IF(LEFT($I$1,1)="1",VLOOKUP(AX$7,PPI_IPI_PGA_PGAI!$A:$E,2,FALSE),IF(LEFT($I$1,1)="2",VLOOKUP(AX$7,PPI_IPI_PGA_PGAI!$A:$E,3,FALSE),IF(LEFT($I$1,1)="3",VLOOKUP(AX$7,PPI_IPI_PGA_PGAI!$A:$E,4,FALSE),VLOOKUP(AX$7,PPI_IPI_PGA_PGAI!$A:$E,5,FALSE))))," ",2014) -> Juli 2014 | AY8: =CONCATENATE(IF(LEFT($I$1,1)="1",VLOOKUP(AY$7,PPI_IPI_PGA_PGAI!$A:$E,2,FALSE),IF(LEFT($I$1,1)="2",VLOOKUP(AY$7,PPI_IPI_PGA_PGAI!$A:$E,3,FALSE),IF(LEFT($I$1,1)="3",VLOOKUP(AY$7,PPI_IPI_PGA_PGAI!$A:$E,4,FALSE),VLOOKUP(AY$7,PPI_IPI_PGA_PGAI!$A:$E,5,FALSE))))," ",2014) -> Aug. 2014 | ... BC8: =CONCATENATE(IF(LEFT($I$1,1)="1",VLOOKUP(BC$7,PPI_IPI_PGA_PGAI!$A:$E,2,FALSE),IF(LEFT($I$1,1)="2",VLOOKUP(BC$7,PPI_IPI_PGA_PGAI!$A:$E,3,FALSE),IF(LEFT($I$1,1)="3",VLOOKUP(BC$7,PPI_IPI_PGA_PGAI!$A:$E,4,FALSE),VLOOKUP(BC$7,PPI_IPI_PGA_PGAI!$A:$E,5,FALSE))))," ",2014) -> Dez. 2014 | BD8: =CONCATENATE(IF(LEFT($I$1,1)="1",VLOOKUP(BD$7,PPI_IPI_PGA_PGAI!$A:$E,2,FALSE),IF(LEFT($I$1,1)="2",VLOOKUP(BD$7,PPI_IPI_PGA_PGAI!$A:$E,3,FALSE),IF(LEFT($I$1,1)="3",VLOOKUP(BD$7,PPI_IPI_PGA_PGAI!$A:$E,4,FALSE),VLOOKUP(BD$7,PPI_IPI_PGA_PGAI!$A:$E,5,FALSE))))," ",2015) -> Jan. 2015 | BE8: =CONCATENATE(IF(LEFT($I$1,1)="1",VLOOKUP(BE$7,PPI_IPI_PGA_PGAI!$A:$E,2,FALSE),IF(LEFT($I$1,1)="2",VLOOKUP(BE$7,PPI_IPI_PGA_PGAI!$A:$E,3,FALSE),IF(LEFT($I$1,1)="3",VLOOKUP(BE$7,PPI_IPI_PGA_PGAI!$A:$E,4,FALSE),VLOOKUP(BE$7,PPI_IPI_PGA_PGAI!$A:$E,5,FALSE))))," ",2015) -> Feb. 2015 | BF8: =CONCATENATE(IF(LEFT($I$1,1)="1",VLOOKUP(BF$7,PPI_IPI_PGA_PGAI!$A:$E,2,FALSE),IF(LEFT($I$1,1)="2",VLOOKUP(BF$7,PPI_IPI_PGA_PGAI!$A:$E,3,FALSE),IF(LEFT($I$1,1)="3",VLOOKUP(BF$7,PPI_IPI_PGA_PGAI!$A:$E,4,FALSE),VLOOKUP(BF$7,PPI_IPI_PGA_PGAI!$A:$E,5,FALSE))))," ",2015) -> März 2015 | BG8: =CONCATENATE(IF(LEFT($I$1,1)="1",VLOOKUP(BG$7,PPI_IPI_PGA_PGAI!$A:$E,2,FALSE),IF(LEFT($I$1,1)="2",VLOOKUP(BG$7,PPI_IPI_PGA_PGAI!$A:$E,3,FALSE),IF(LEFT($I$1,1)="3",VLOOKUP(BG$7,PPI_IPI_PGA_PGAI!$A:$E,4,FALSE),VLOOKUP(BG$7,PPI_IPI_PGA_PGAI!$A:$E,5,FALSE))))," ",2015) -> April 2015 | BH8: =CONCATENATE(IF(LEFT($I$1,1)="1",VLOOKUP(BH$7,PPI_IPI_PGA_PGAI!$A:$E,2,FALSE),IF(LEFT($I$1,1)="2",VLOOKUP(BH$7,PPI_IPI_PGA_PGAI!$A:$E,3,FALSE),IF(LEFT($I$1,1)="3",VLOOKUP(BH$7,PPI_IPI_PGA_PGAI!$A:$E,4,FALSE),VLOOKUP(BH$7,PPI_IPI_PGA_PGAI!$A:$E,5,FALSE))))," ",2015) -> Mai 2015 | BI8: =CONCATENATE(IF(LEFT($I$1,1)="1",VLOOKUP(BI$7,PPI_IPI_PGA_PGAI!$A:$E,2,FALSE),IF(LEFT($I$1,1)="2",VLOOKUP(BI$7,PPI_IPI_PGA_PGAI!$A:$E,3,FALSE),IF(LEFT($I$1,1)="3",VLOOKUP(BI$7,PPI_IPI_PGA_PGAI!$A:$E,4,FALSE),VLOOKUP(BI$7,PPI_IPI_PGA_PGAI!$A:$E,5,FALSE))))," ",2015) -> Juni 2015 | BJ8: =CONCATENATE(IF(LEFT($I$1,1)="1",VLOOKUP(BJ$7,PPI_IPI_PGA_PGAI!$A:$E,2,FALSE),IF(LEFT($I$1,1)="2",VLOOKUP(BJ$7,PPI_IPI_PGA_PGAI!$A:$E,3,FALSE),IF(LEFT($I$1,1)="3",VLOOKUP(BJ$7,PPI_IPI_PGA_PGAI!$A:$E,4,FALSE),VLOOKUP(BJ$7,PPI_IPI_PGA_PGAI!$A:$E,5,FALSE))))," ",2015) -> Juli 2015 | BK8: =CONCATENATE(IF(LEFT($I$1,1)="1",VLOOKUP(BK$7,PPI_IPI_PGA_PGAI!$A:$E,2,FALSE),IF(LEFT($I$1,1)="2",VLOOKUP(BK$7,PPI_IPI_PGA_PGAI!$A:$E,3,FALSE),IF(LEFT($I$1,1)="3",VLOOKUP(BK$7,PPI_IPI_PGA_PGAI!$A:$E,4,FALSE),VLOOKUP(BK$7,PPI_IPI_PGA_PGAI!$A:$E,5,FALSE))))," ",2015) -> Aug. 2015 | ... BO8: =CONCATENATE(IF(LEFT($I$1,1)="1",VLOOKUP(BO$7,PPI_IPI_PGA_PGAI!$A:$E,2,FALSE),IF(LEFT($I$1,1)="2",VLOOKUP(BO$7,PPI_IPI_PGA_PGAI!$A:$E,3,FALSE),IF(LEFT($I$1,1)="3",VLOOKUP(BO$7,PPI_IPI_PGA_PGAI!$A:$E,4,FALSE),VLOOKUP(BO$7,PPI_IPI_PGA_PGAI!$A:$E,5,FALSE))))," ",2015) -> Dez. 2015 | BP8: =CONCATENATE(IF(LEFT($I$1,1)="1",VLOOKUP(BP$7,PPI_IPI_PGA_PGAI!$A:$E,2,FALSE),IF(LEFT($I$1,1)="2",VLOOKUP(BP$7,PPI_IPI_PGA_PGAI!$A:$E,3,FALSE),IF(LEFT($I$1,1)="3",VLOOKUP(BP$7,PPI_IPI_PGA_PGAI!$A:$E,4,FALSE),VLOOKUP(BP$7,PPI_IPI_PGA_PGAI!$A:$E,5,FALSE))))," ",2016) -> Jan. 2016 | BQ8: =CONCATENATE(IF(LEFT($I$1,1)="1",VLOOKUP(BQ$7,PPI_IPI_PGA_PGAI!$A:$E,2,FALSE),IF(LEFT($I$1,1)="2",VLOOKUP(BQ$7,PPI_IPI_PGA_PGAI!$A:$E,3,FALSE),IF(LEFT($I$1,1)="3",VLOOKUP(BQ$7,PPI_IPI_PGA_PGAI!$A:$E,4,FALSE),VLOOKUP(BQ$7,PPI_IPI_PGA_PGAI!$A:$E,5,FALSE))))," ",2016) -> Feb. 2016 | BR8: =CONCATENATE(IF(LEFT($I$1,1)="1",VLOOKUP(BR$7,PPI_IPI_PGA_PGAI!$A:$E,2,FALSE),IF(LEFT($I$1,1)="2",VLOOKUP(BR$7,PPI_IPI_PGA_PGAI!$A:$E,3,FALSE),IF(LEFT($I$1,1)="3",VLOOKUP(BR$7,PPI_IPI_PGA_PGAI!$A:$E,4,FALSE),VLOOKUP(BR$7,PPI_IPI_PGA_PGAI!$A:$E,5,FALSE))))," ",2016) -> März 2016 | BS8: =CONCATENATE(IF(LEFT($I$1,1)="1",VLOOKUP(BS$7,PPI_IPI_PGA_PGAI!$A:$E,2,FALSE),IF(LEFT($I$1,1)="2",VLOOKUP(BS$7,PPI_IPI_PGA_PGAI!$A:$E,3,FALSE),IF(LEFT($I$1,1)="3",VLOOKUP(BS$7,PPI_IPI_PGA_PGAI!$A:$E,4,FALSE),VLOOKUP(BS$7,PPI_IPI_PGA_PGAI!$A:$E,5,FALSE))))," ",2016) -> April 2016 | BT8: =CONCATENATE(IF(LEFT($I$1,1)="1",VLOOKUP(BT$7,PPI_IPI_PGA_PGAI!$A:$E,2,FALSE),IF(LEFT($I$1,1)="2",VLOOKUP(BT$7,PPI_IPI_PGA_PGAI!$A:$E,3,FALSE),IF(LEFT($I$1,1)="3",VLOOKUP(BT$7,PPI_IPI_PGA_PGAI!$A:$E,4,FALSE),VLOOKUP(BT$7,PPI_IPI_PGA_PGAI!$A:$E,5,FALSE))))," ",2016) -> Mai 2016 | BU8: =CONCATENATE(IF(LEFT($I$1,1)="1",VLOOKUP(BU$7,PPI_IPI_PGA_PGAI!$A:$E,2,FALSE),IF(LEFT($I$1,1)="2",VLOOKUP(BU$7,PPI_IPI_PGA_PGAI!$A:$E,3,FALSE),IF(LEFT($I$1,1)="3",VLOOKUP(BU$7,PPI_IPI_PGA_PGAI!$A:$E,4,FALSE),VLOOKUP(BU$7,PPI_IPI_PGA_PGAI!$A:$E,5,FALSE))))," ",2016) -> Juni 2016 | BV8: =CONCATENATE(IF(LEFT($I$1,1)="1",VLOOKUP(BV$7,PPI_IPI_PGA_PGAI!$A:$E,2,FALSE),IF(LEFT($I$1,1)="2",VLOOKUP(BV$7,PPI_IPI_PGA_PGAI!$A:$E,3,FALSE),IF(LEFT($I$1,1)="3",VLOOKUP(BV$7,PPI_IPI_PGA_PGAI!$A:$E,4,FALSE),VLOOKUP(BV$7,PPI_IPI_PGA_PGAI!$A:$E,5,FALSE))))," ",2016) -> Juli 2016 | BW8: =CONCATENATE(IF(LEFT($I$1,1)="1",VLOOKUP(BW$7,PPI_IPI_PGA_PGAI!$A:$E,2,FALSE),IF(LEFT($I$1,1)="2",VLOOKUP(BW$7,PPI_IPI_PGA_PGAI!$A:$E,3,FALSE),IF(LEFT($I$1,1)="3",VLOOKUP(BW$7,PPI_IPI_PGA_PGAI!$A:$E,4,FALSE),VLOOKUP(BW$7,PPI_IPI_PGA_PGAI!$A:$E,5,FALSE))))," ",2016) -> Aug. 2016 | ... CA8: =CONCATENATE(IF(LEFT($I$1,1)="1",VLOOKUP(CA$7,PPI_IPI_PGA_PGAI!$A:$E,2,FALSE),IF(LEFT($I$1,1)="2",VLOOKUP(CA$7,PPI_IPI_PGA_PGAI!$A:$E,3,FALSE),IF(LEFT($I$1,1)="3",VLOOKUP(CA$7,PPI_IPI_PGA_PGAI!$A:$E,4,FALSE),VLOOKUP(CA$7,PPI_IPI_PGA_PGAI!$A:$E,5,FALSE))))," ",2016) -> Dez. 2016 | CB8: =CONCATENATE(IF(LEFT($I$1,1)="1",VLOOKUP(CB$7,PPI_IPI_PGA_PGAI!$A:$E,2,FALSE),IF(LEFT($I$1,1)="2",VLOOKUP(CB$7,PPI_IPI_PGA_PGAI!$A:$E,3,FALSE),IF(LEFT($I$1,1)="3",VLOOKUP(CB$7,PPI_IPI_PGA_PGAI!$A:$E,4,FALSE),VLOOKUP(CB$7,PPI_IPI_PGA_PGAI!$A:$E,5,FALSE))))," ",2017) -> Jan. 2017 | CC8: =CONCATENATE(IF(LEFT($I$1,1)="1",VLOOKUP(CC$7,PPI_IPI_PGA_PGAI!$A:$E,2,FALSE),IF(LEFT($I$1,1)="2",VLOOKUP(CC$7,PPI_IPI_PGA_PGAI!$A:$E,3,FALSE),IF(LEFT($I$1,1)="3",VLOOKUP(CC$7,PPI_IPI_PGA_PGAI!$A:$E,4,FALSE),VLOOKUP(CC$7,PPI_IPI_PGA_PGAI!$A:$E,5,FALSE))))," ",2017) -> Feb. 2017 | CD8: =CONCATENATE(IF(LEFT($I$1,1)="1",VLOOKUP(CD$7,PPI_IPI_PGA_PGAI!$A:$E,2,FALSE),IF(LEFT($I$1,1)="2",VLOOKUP(CD$7,PPI_IPI_PGA_PGAI!$A:$E,3,FALSE),IF(LEFT($I$1,1)="3",VLOOKUP(CD$7,PPI_IPI_PGA_PGAI!$A:$E,4,FALSE),VLOOKUP(CD$7,PPI_IPI_PGA_PGAI!$A:$E,5,FALSE))))," ",2017) -> März 2017 | CE8: =CONCATENATE(IF(LEFT($I$1,1)="1",VLOOKUP(CE$7,PPI_IPI_PGA_PGAI!$A:$E,2,FALSE),IF(LEFT($I$1,1)="2",VLOOKUP(CE$7,PPI_IPI_PGA_PGAI!$A:$E,3,FALSE),IF(LEFT($I$1,1)="3",VLOOKUP(CE$7,PPI_IPI_PGA_PGAI!$A:$E,4,FALSE),VLOOKUP(CE$7,PPI_IPI_PGA_PGAI!$A:$E,5,FALSE))))," ",2017) -> April 2017 | CF8: =CONCATENATE(IF(LEFT($I$1,1)="1",VLOOKUP(CF$7,PPI_IPI_PGA_PGAI!$A:$E,2,FALSE),IF(LEFT($I$1,1)="2",VLOOKUP(CF$7,PPI_IPI_PGA_PGAI!$A:$E,3,FALSE),IF(LEFT($I$1,1)="3",VLOOKUP(CF$7,PPI_IPI_PGA_PGAI!$A:$E,4,FALSE),VLOOKUP(CF$7,PPI_IPI_PGA_PGAI!$A:$E,5,FALSE))))," ",2017) -> Mai 2017 | CG8: =CONCATENATE(IF(LEFT($I$1,1)="1",VLOOKUP(CG$7,PPI_IPI_PGA_PGAI!$A:$E,2,FALSE),IF(LEFT($I$1,1)="2",VLOOKUP(CG$7,PPI_IPI_PGA_PGAI!$A:$E,3,FALSE),IF(LEFT($I$1,1)="3",VLOOKUP(CG$7,PPI_IPI_PGA_PGAI!$A:$E,4,FALSE),VLOOKUP(CG$7,PPI_IPI_PGA_PGAI!$A:$E,5,FALSE))))," ",2017) -> Juni 2017 | CH8: =CONCATENATE(IF(LEFT($I$1,1)="1",VLOOKUP(CH$7,PPI_IPI_PGA_PGAI!$A:$E,2,FALSE),IF(LEFT($I$1,1)="2",VLOOKUP(CH$7,PPI_IPI_PGA_PGAI!$A:$E,3,FALSE),IF(LEFT($I$1,1)="3",VLOOKUP(CH$7,PPI_IPI_PGA_PGAI!$A:$E,4,FALSE),VLOOKUP(CH$7,PPI_IPI_PGA_PGAI!$A:$E,5,FALSE))))," ",2017) -> Juli 2017 | CI8: =CONCATENATE(IF(LEFT($I$1,1)="1",VLOOKUP(CI$7,PPI_IPI_PGA_PGAI!$A:$E,2,FALSE),IF(LEFT($I$1,1)="2",VLOOKUP(CI$7,PPI_IPI_PGA_PGAI!$A:$E,3,FALSE),IF(LEFT($I$1,1)="3",VLOOKUP(CI$7,PPI_IPI_PGA_PGAI!$A:$E,4,FALSE),VLOOKUP(CI$7,PPI_IPI_PGA_PGAI!$A:$E,5,FALSE))))," ",2017) -> Aug. 2017 | ... CM8: =CONCATENATE(IF(LEFT($I$1,1)="1",VLOOKUP(CM$7,PPI_IPI_PGA_PGAI!$A:$E,2,FALSE),IF(LEFT($I$1,1)="2",VLOOKUP(CM$7,PPI_IPI_PGA_PGAI!$A:$E,3,FALSE),IF(LEFT($I$1,1)="3",VLOOKUP(CM$7,PPI_IPI_PGA_PGAI!$A:$E,4,FALSE),VLOOKUP(CM$7,PPI_IPI_PGA_PGAI!$A:$E,5,FALSE))))," ",2017) -> Dez. 2017 | CN8: =CONCATENATE(IF(LEFT($I$1,1)="1",VLOOKUP(CN$7,PPI_IPI_PGA_PGAI!$A:$E,2,FALSE),IF(LEFT($I$1,1)="2",VLOOKUP(CN$7,PPI_IPI_PGA_PGAI!$A:$E,3,FALSE),IF(LEFT($I$1,1)="3",VLOOKUP(CN$7,PPI_IPI_PGA_PGAI!$A:$E,4,FALSE),VLOOKUP(CN$7,PPI_IPI_PGA_PGAI!$A:$E,5,FALSE))))," ",2018) -> Jan. 2018 | CO8: =CONCATENATE(IF(LEFT($I$1,1)="1",VLOOKUP(CO$7,PPI_IPI_PGA_PGAI!$A:$E,2,FALSE),IF(LEFT($I$1,1)="2",VLOOKUP(CO$7,PPI_IPI_PGA_PGAI!$A:$E,3,FALSE),IF(LEFT($I$1,1)="3",VLOOKUP(CO$7,PPI_IPI_PGA_PGAI!$A:$E,4,FALSE),VLOOKUP(CO$7,PPI_IPI_PGA_PGAI!$A:$E,5,FALSE))))," ",2018) -> Feb. 2018 | CP8: =CONCATENATE(IF(LEFT($I$1,1)="1",VLOOKUP(CP$7,PPI_IPI_PGA_PGAI!$A:$E,2,FALSE),IF(LEFT($I$1,1)="2",VLOOKUP(CP$7,PPI_IPI_PGA_PGAI!$A:$E,3,FALSE),IF(LEFT($I$1,1)="3",VLOOKUP(CP$7,PPI_IPI_PGA_PGAI!$A:$E,4,FALSE),VLOOKUP(CP$7,PPI_IPI_PGA_PGAI!$A:$E,5,FALSE))))," ",2018) -> März 2018 | CQ8: =CONCATENATE(IF(LEFT($I$1,1)="1",VLOOKUP(CQ$7,PPI_IPI_PGA_PGAI!$A:$E,2,FALSE),IF(LEFT($I$1,1)="2",VLOOKUP(CQ$7,PPI_IPI_PGA_PGAI!$A:$E,3,FALSE),IF(LEFT($I$1,1)="3",VLOOKUP(CQ$7,PPI_IPI_PGA_PGAI!$A:$E,4,FALSE),VLOOKUP(CQ$7,PPI_IPI_PGA_PGAI!$A:$E,5,FALSE))))," ",2018) -> April 2018 | CR8: =CONCATENATE(IF(LEFT($I$1,1)="1",VLOOKUP(CR$7,PPI_IPI_PGA_PGAI!$A:$E,2,FALSE),IF(LEFT($I$1,1)="2",VLOOKUP(CR$7,PPI_IPI_PGA_PGAI!$A:$E,3,FALSE),IF(LEFT($I$1,1)="3",VLOOKUP(CR$7,PPI_IPI_PGA_PGAI!$A:$E,4,FALSE),VLOOKUP(CR$7,PPI_IPI_PGA_PGAI!$A:$E,5,FALSE))))," ",2018) -> Mai 2018 | CS8: =CONCATENATE(IF(LEFT($I$1,1)="1",VLOOKUP(CS$7,PPI_IPI_PGA_PGAI!$A:$E,2,FALSE),IF(LEFT($I$1,1)="2",VLOOKUP(CS$7,PPI_IPI_PGA_PGAI!$A:$E,3,FALSE),IF(LEFT($I$1,1)="3",VLOOKUP(CS$7,PPI_IPI_PGA_PGAI!$A:$E,4,FALSE),VLOOKUP(CS$7,PPI_IPI_PGA_PGAI!$A:$E,5,FALSE))))," ",2018) -> Juni 2018 | CT8: =CONCATENATE(IF(LEFT($I$1,1)="1",VLOOKUP(CT$7,PPI_IPI_PGA_PGAI!$A:$E,2,FALSE),IF(LEFT($I$1,1)="2",VLOOKUP(CT$7,PPI_IPI_PGA_PGAI!$A:$E,3,FALSE),IF(LEFT($I$1,1)="3",VLOOKUP(CT$7,PPI_IPI_PGA_PGAI!$A:$E,4,FALSE),VLOOKUP(CT$7,PPI_IPI_PGA_PGAI!$A:$E,5,FALSE))))," ",2018) -> Juli 2018 | CU8: =CONCATENATE(IF(LEFT($I$1,1)="1",VLOOKUP(CU$7,PPI_IPI_PGA_PGAI!$A:$E,2,FALSE),IF(LEFT($I$1,1)="2",VLOOKUP(CU$7,PPI_IPI_PGA_PGAI!$A:$E,3,FALSE),IF(LEFT($I$1,1)="3",VLOOKUP(CU$7,PPI_IPI_PGA_PGAI!$A:$E,4,FALSE),VLOOKUP(CU$7,PPI_IPI_PGA_PGAI!$A:$E,5,FALSE))))," ",2018) -> Aug. 2018 | ... CY8: =CONCATENATE(IF(LEFT($I$1,1)="1",VLOOKUP(CY$7,PPI_IPI_PGA_PGAI!$A:$E,2,FALSE),IF(LEFT($I$1,1)="2",VLOOKUP(CY$7,PPI_IPI_PGA_PGAI!$A:$E,3,FALSE),IF(LEFT($I$1,1)="3",VLOOKUP(CY$7,PPI_IPI_PGA_PGAI!$A:$E,4,FALSE),VLOOKUP(CY$7,PPI_IPI_PGA_PGAI!$A:$E,5,FALSE))))," ",2018) -> Dez. 2018 | CZ8: =CONCATENATE(IF(LEFT($I$1,1)="1",VLOOKUP(CZ$7,PPI_IPI_PGA_PGAI!$A:$E,2,FALSE),IF(LEFT($I$1,1)="2",VLOOKUP(CZ$7,PPI_IPI_PGA_PGAI!$A:$E,3,FALSE),IF(LEFT($I$1,1)="3",VLOOKUP(CZ$7,PPI_IPI_PGA_PGAI!$A:$E,4,FALSE),VLOOKUP(CZ$7,PPI_IPI_PGA_PGAI!$A:$E,5,FALSE))))," ",2019) -> Jan. 2019 | DA8: =CONCATENATE(IF(LEFT($I$1,1)="1",VLOOKUP(DA$7,PPI_IPI_PGA_PGAI!$A:$E,2,FALSE),IF(LEFT($I$1,1)="2",VLOOKUP(DA$7,PPI_IPI_PGA_PGAI!$A:$E,3,FALSE),IF(LEFT($I$1,1)="3",VLOOKUP(DA$7,PPI_IPI_PGA_PGAI!$A:$E,4,FALSE),VLOOKUP(DA$7,PPI_IPI_PGA_PGAI!$A:$E,5,FALSE))))," ",2019) -> Feb. 2019 | DB8: =CONCATENATE(IF(LEFT($I$1,1)="1",VLOOKUP(DB$7,PPI_IPI_PGA_PGAI!$A:$E,2,FALSE),IF(LEFT($I$1,1)="2",VLOOKUP(DB$7,PPI_IPI_PGA_PGAI!$A:$E,3,FALSE),IF(LEFT($I$1,1)="3",VLOOKUP(DB$7,PPI_IPI_PGA_PGAI!$A:$E,4,FALSE),VLOOKUP(DB$7,PPI_IPI_PGA_PGAI!$A:$E,5,FALSE))))," ",2019) -> März 2019 | DC8: =CONCATENATE(IF(LEFT($I$1,1)="1",VLOOKUP(DC$7,PPI_IPI_PGA_PGAI!$A:$E,2,FALSE),IF(LEFT($I$1,1)="2",VLOOKUP(DC$7,PPI_IPI_PGA_PGAI!$A:$E,3,FALSE),IF(LEFT($I$1,1)="3",VLOOKUP(DC$7,PPI_IPI_PGA_PGAI!$A:$E,4,FALSE),VLOOKUP(DC$7,PPI_IPI_PGA_PGAI!$A:$E,5,FALSE))))," ",2019) -> April 2019 | DD8: =CONCATENATE(IF(LEFT($I$1,1)="1",VLOOKUP(DD$7,PPI_IPI_PGA_PGAI!$A:$E,2,FALSE),IF(LEFT($I$1,1)="2",VLOOKUP(DD$7,PPI_IPI_PGA_PGAI!$A:$E,3,FALSE),IF(LEFT($I$1,1)="3",VLOOKUP(DD$7,PPI_IPI_PGA_PGAI!$A:$E,4,FALSE),VLOOKUP(DD$7,PPI_IPI_PGA_PGAI!$A:$E,5,FALSE))))," ",2019) -> Mai 2019 | DE8: =CONCATENATE(IF(LEFT($I$1,1)="1",VLOOKUP(DE$7,PPI_IPI_PGA_PGAI!$A:$E,2,FALSE),IF(LEFT($I$1,1)="2",VLOOKUP(DE$7,PPI_IPI_PGA_PGAI!$A:$E,3,FALSE),IF(LEFT($I$1,1)="3",VLOOKUP(DE$7,PPI_IPI_PGA_PGAI!$A:$E,4,FALSE),VLOOKUP(DE$7,PPI_IPI_PGA_PGAI!$A:$E,5,FALSE))))," ",2019) -> Juni 2019 | DF8: =CONCATENATE(IF(LEFT($I$1,1)="1",VLOOKUP(DF$7,PPI_IPI_PGA_PGAI!$A:$E,2,FALSE),IF(LEFT($I$1,1)="2",VLOOKUP(DF$7,PPI_IPI_PGA_PGAI!$A:$E,3,FALSE),IF(LEFT($I$1,1)="3",VLOOKUP(DF$7,PPI_IPI_PGA_PGAI!$A:$E,4,FALSE),VLOOKUP(DF$7,PPI_IPI_PGA_PGAI!$A:$E,5,FALSE))))," ",2019) -> Juli 2019 | DG8: =CONCATENATE(IF(LEFT($I$1,1)="1",VLOOKUP(DG$7,PPI_IPI_PGA_PGAI!$A:$E,2,FALSE),IF(LEFT($I$1,1)="2",VLOOKUP(DG$7,PPI_IPI_PGA_PGAI!$A:$E,3,FALSE),IF(LEFT($I$1,1)="3",VLOOKUP(DG$7,PPI_IPI_PGA_PGAI!$A:$E,4,FALSE),VLOOKUP(DG$7,PPI_IPI_PGA_PGAI!$A:$E,5,FALSE))))," ",2019) -> Aug. 2019 | ... DK8: =CONCATENATE(IF(LEFT($I$1,1)="1",VLOOKUP(DK$7,PPI_IPI_PGA_PGAI!$A:$E,2,FALSE),IF(LEFT($I$1,1)="2",VLOOKUP(DK$7,PPI_IPI_PGA_PGAI!$A:$E,3,FALSE),IF(LEFT($I$1,1)="3",VLOOKUP(DK$7,PPI_IPI_PGA_PGAI!$A:$E,4,FALSE),VLOOKUP(DK$7,PPI_IPI_PGA_PGAI!$A:$E,5,FALSE))))," ",2019) -> Dez. 2019 | DL8: =CONCATENATE(IF(LEFT($I$1,1)="1",VLOOKUP(DL$7,PPI_IPI_PGA_PGAI!$A:$E,2,FALSE),IF(LEFT($I$1,1)="2",VLOOKUP(DL$7,PPI_IPI_PGA_PGAI!$A:$E,3,FALSE),IF(LEFT($I$1,1)="3",VLOOKUP(DL$7,PPI_IPI_PGA_PGAI!$A:$E,4,FALSE),VLOOKUP(DL$7,PPI_IPI_PGA_PGAI!$A:$E,5,FALSE))))," ",2020) -> Jan. 2020 | DM8: =CONCATENATE(IF(LEFT($I$1,1)="1",VLOOKUP(DM$7,PPI_IPI_PGA_PGAI!$A:$E,2,FALSE),IF(LEFT($I$1,1)="2",VLOOKUP(DM$7,PPI_IPI_PGA_PGAI!$A:$E,3,FALSE),IF(LEFT($I$1,1)="3",VLOOKUP(DM$7,PPI_IPI_PGA_PGAI!$A:$E,4,FALSE),VLOOKUP(DM$7,PPI_IPI_PGA_PGAI!$A:$E,5,FALSE))))," ",2020) -> Feb. 2020 | DN8: =CONCATENATE(IF(LEFT($I$1,1)="1",VLOOKUP(DN$7,PPI_IPI_PGA_PGAI!$A:$E,2,FALSE),IF(LEFT($I$1,1)="2",VLOOKUP(DN$7,PPI_IPI_PGA_PGAI!$A:$E,3,FALSE),IF(LEFT($I$1,1)="3",VLOOKUP(DN$7,PPI_IPI_PGA_PGAI!$A:$E,4,FALSE),VLOOKUP(DN$7,PPI_IPI_PGA_PGAI!$A:$E,5,FALSE))))," ",2020) -> März 2020 | DO8: =CONCATENATE(IF(LEFT($I$1,1)="1",VLOOKUP(DO$7,PPI_IPI_PGA_PGAI!$A:$E,2,FALSE),IF(LEFT($I$1,1)="2",VLOOKUP(DO$7,PPI_IPI_PGA_PGAI!$A:$E,3,FALSE),IF(LEFT($I$1,1)="3",VLOOKUP(DO$7,PPI_IPI_PGA_PGAI!$A:$E,4,FALSE),VLOOKUP(DO$7,PPI_IPI_PGA_PGAI!$A:$E,5,FALSE))))," ",2020) -> April 2020 | DP8: =CONCATENATE(IF(LEFT($I$1,1)="1",VLOOKUP(DP$7,PPI_IPI_PGA_PGAI!$A:$E,2,FALSE),IF(LEFT($I$1,1)="2",VLOOKUP(DP$7,PPI_IPI_PGA_PGAI!$A:$E,3,FALSE),IF(LEFT($I$1,1)="3",VLOOKUP(DP$7,PPI_IPI_PGA_PGAI!$A:$E,4,FALSE),VLOOKUP(DP$7,PPI_IPI_PGA_PGAI!$A:$E,5,FALSE))))," ",2020) -> Mai 2020 | DQ8: =CONCATENATE(IF(LEFT($I$1,1)="1",VLOOKUP(DQ$7,PPI_IPI_PGA_PGAI!$A:$E,2,FALSE),IF(LEFT($I$1,1)="2",VLOOKUP(DQ$7,PPI_IPI_PGA_PGAI!$A:$E,3,FALSE),IF(LEFT($I$1,1)="3",VLOOKUP(DQ$7,PPI_IPI_PGA_PGAI!$A:$E,4,FALSE),VLOOKUP(DQ$7,PPI_IPI_PGA_PGAI!$A:$E,5,FALSE))))," ",2020) -> Juni 2020 | DR8: =CONCATENATE(IF(LEFT($I$1,1)="1",VLOOKUP(DR$7,PPI_IPI_PGA_PGAI!$A:$E,2,FALSE),IF(LEFT($I$1,1)="2",VLOOKUP(DR$7,PPI_IPI_PGA_PGAI!$A:$E,3,FALSE),IF(LEFT($I$1,1)="3",VLOOKUP(DR$7,PPI_IPI_PGA_PGAI!$A:$E,4,FALSE),VLOOKUP(DR$7,PPI_IPI_PGA_PGAI!$A:$E,5,FALSE))))," ",2020) -> Juli 2020 | DS8: =CONCATENATE(IF(LEFT($I$1,1)="1",VLOOKUP(DS$7,PPI_IPI_PGA_PGAI!$A:$E,2,FALSE),IF(LEFT($I$1,1)="2",VLOOKUP(DS$7,PPI_IPI_PGA_PGAI!$A:$E,3,FALSE),IF(LEFT($I$1,1)="3",VLOOKUP(DS$7,PPI_IPI_PGA_PGAI!$A:$E,4,FALSE),VLOOKUP(DS$7,PPI_IPI_PGA_PGAI!$A:$E,5,FALSE))))," ",2020) -> Aug. 2020 | ... DW8: =CONCATENATE(IF(LEFT($I$1,1)="1",VLOOKUP(DW$7,PPI_IPI_PGA_PGAI!$A:$E,2,FALSE),IF(LEFT($I$1,1)="2",VLOOKUP(DW$7,PPI_IPI_PGA_PGAI!$A:$E,3,FALSE),IF(LEFT($I$1,1)="3",VLOOKUP(DW$7,PPI_IPI_PGA_PGAI!$A:$E,4,FALSE),VLOOKUP(DW$7,PPI_IPI_PGA_PGAI!$A:$E,5,FALSE))))," ",2020) -> Dez. 2020 | DX8: =CONCATENATE(IF(LEFT($I$1,1)="1",VLOOKUP(DX$7,PPI_IPI_PGA_PGAI!$A:$E,2,FALSE),IF(LEFT($I$1,1)="2",VLOOKUP(DX$7,PPI_IPI_PGA_PGAI!$A:$E,3,FALSE),IF(LEFT($I$1,1)="3",VLOOKUP(DX$7,PPI_IPI_PGA_PGAI!$A:$E,4,FALSE),VLOOKUP(DX$7,PPI_IPI_PGA_PGAI!$A:$E,5,FALSE))))," ",2021) -> Jan. 2021 | DY8: =CONCATENATE(IF(LEFT($I$1,1)="1",VLOOKUP(DY$7,PPI_IPI_PGA_PGAI!$A:$E,2,FALSE),IF(LEFT($I$1,1)="2",VLOOKUP(DY$7,PPI_IPI_PGA_PGAI!$A:$E,3,FALSE),IF(LEFT($I$1,1)="3",VLOOKUP(DY$7,PPI_IPI_PGA_PGAI!$A:$E,4,FALSE),VLOOKUP(DY$7,PPI_IPI_PGA_PGAI!$A:$E,5,FALSE))))," ",2021) -> Feb. 2021 | DZ8: =CONCATENATE(IF(LEFT($I$1,1)="1",VLOOKUP(DZ$7,PPI_IPI_PGA_PGAI!$A:$E,2,FALSE),IF(LEFT($I$1,1)="2",VLOOKUP(DZ$7,PPI_IPI_PGA_PGAI!$A:$E,3,FALSE),IF(LEFT($I$1,1)="3",VLOOKUP(DZ$7,PPI_IPI_PGA_PGAI!$A:$E,4,FALSE),VLOOKUP(DZ$7,PPI_IPI_PGA_PGAI!$A:$E,5,FALSE))))," ",2021) -> März 2021 | EA8: =CONCATENATE(IF(LEFT($I$1,1)="1",VLOOKUP(EA$7,PPI_IPI_PGA_PGAI!$A:$E,2,FALSE),IF(LEFT($I$1,1)="2",VLOOKUP(EA$7,PPI_IPI_PGA_PGAI!$A:$E,3,FALSE),IF(LEFT($I$1,1)="3",VLOOKUP(EA$7,PPI_IPI_PGA_PGAI!$A:$E,4,FALSE),VLOOKUP(EA$7,PPI_IPI_PGA_PGAI!$A:$E,5,FALSE))))," ",2021) -> April 2021 | EB8: =CONCATENATE(IF(LEFT($I$1,1)="1",VLOOKUP(EB$7,PPI_IPI_PGA_PGAI!$A:$E,2,FALSE),IF(LEFT($I$1,1)="2",VLOOKUP(EB$7,PPI_IPI_PGA_PGAI!$A:$E,3,FALSE),IF(LEFT($I$1,1)="3",VLOOKUP(EB$7,PPI_IPI_PGA_PGAI!$A:$E,4,FALSE),VLOOKUP(EB$7,PPI_IPI_PGA_PGAI!$A:$E,5,FALSE))))," ",2021) -> Mai 2021 | EC8: =CONCATENATE(IF(LEFT($I$1,1)="1",VLOOKUP(EC$7,PPI_IPI_PGA_PGAI!$A:$E,2,FALSE),IF(LEFT($I$1,1)="2",VLOOKUP(EC$7,PPI_IPI_PGA_PGAI!$A:$E,3,FALSE),IF(LEFT($I$1,1)="3",VLOOKUP(EC$7,PPI_IPI_PGA_PGAI!$A:$E,4,FALSE),VLOOKUP(EC$7,PPI_IPI_PGA_PGAI!$A:$E,5,FALSE))))," ",2021) -> Juni 2021 | ED8: =CONCATENATE(IF(LEFT($I$1,1)="1",VLOOKUP(ED$7,PPI_IPI_PGA_PGAI!$A:$E,2,FALSE),IF(LEFT($I$1,1)="2",VLOOKUP(ED$7,PPI_IPI_PGA_PGAI!$A:$E,3,FALSE),IF(LEFT($I$1,1)="3",VLOOKUP(ED$7,PPI_IPI_PGA_PGAI!$A:$E,4,FALSE),VLOOKUP(ED$7,PPI_IPI_PGA_PGAI!$A:$E,5,FALSE))))," ",2021) -> Juli 2021 | EE8: =CONCATENATE(IF(LEFT($I$1,1)="1",VLOOKUP(EE$7,PPI_IPI_PGA_PGAI!$A:$E,2,FALSE),IF(LEFT($I$1,1)="2",VLOOKUP(EE$7,PPI_IPI_PGA_PGAI!$A:$E,3,FALSE),IF(LEFT($I$1,1)="3",VLOOKUP(EE$7,PPI_IPI_PGA_PGAI!$A:$E,4,FALSE),VLOOKUP(EE$7,PPI_IPI_PGA_PGAI!$A:$E,5,FALSE))))," ",2021) -> Aug. 2021 | ... EI8: =CONCATENATE(IF(LEFT($I$1,1)="1",VLOOKUP(EI$7,PPI_IPI_PGA_PGAI!$A:$E,2,FALSE),IF(LEFT($I$1,1)="2",VLOOKUP(EI$7,PPI_IPI_PGA_PGAI!$A:$E,3,FALSE),IF(LEFT($I$1,1)="3",VLOOKUP(EI$7,PPI_IPI_PGA_PGAI!$A:$E,4,FALSE),VLOOKUP(EI$7,PPI_IPI_PGA_PGAI!$A:$E,5,FALSE))))," ",2021) -> Dez. 2021 | EJ8: =CONCATENATE(IF(LEFT($I$1,1)="1",VLOOKUP(EJ$7,PPI_IPI_PGA_PGAI!$A:$E,2,FALSE),IF(LEFT($I$1,1)="2",VLOOKUP(EJ$7,PPI_IPI_PGA_PGAI!$A:$E,3,FALSE),IF(LEFT($I$1,1)="3",VLOOKUP(EJ$7,PPI_IPI_PGA_PGAI!$A:$E,4,FALSE),VLOOKUP(EJ$7,PPI_IPI_PGA_PGAI!$A:$E,5,FALSE))))," ",2022) -> Jan. 2022 | EK8: =CONCATENATE(IF(LEFT($I$1,1)="1",VLOOKUP(EK$7,PPI_IPI_PGA_PGAI!$A:$E,2,FALSE),IF(LEFT($I$1,1)="2",VLOOKUP(EK$7,PPI_IPI_PGA_PGAI!$A:$E,3,FALSE),IF(LEFT($I$1,1)="3",VLOOKUP(EK$7,PPI_IPI_PGA_PGAI!$A:$E,4,FALSE),VLOOKUP(EK$7,PPI_IPI_PGA_PGAI!$A:$E,5,FALSE))))," ",2022) -> Feb. 2022 | EL8: =CONCATENATE(IF(LEFT($I$1,1)="1",VLOOKUP(EL$7,PPI_IPI_PGA_PGAI!$A:$E,2,FALSE),IF(LEFT($I$1,1)="2",VLOOKUP(EL$7,PPI_IPI_PGA_PGAI!$A:$E,3,FALSE),IF(LEFT($I$1,1)="3",VLOOKUP(EL$7,PPI_IPI_PGA_PGAI!$A:$E,4,FALSE),VLOOKUP(EL$7,PPI_IPI_PGA_PGAI!$A:$E,5,FALSE))))," ",2022) -> März 2022 | EM8: =CONCATENATE(IF(LEFT($I$1,1)="1",VLOOKUP(EM$7,PPI_IPI_PGA_PGAI!$A:$E,2,FALSE),IF(LEFT($I$1,1)="2",VLOOKUP(EM$7,PPI_IPI_PGA_PGAI!$A:$E,3,FALSE),IF(LEFT($I$1,1)="3",VLOOKUP(EM$7,PPI_IPI_PGA_PGAI!$A:$E,4,FALSE),VLOOKUP(EM$7,PPI_IPI_PGA_PGAI!$A:$E,5,FALSE))))," ",2022) -> April 2022 | EN8: =CONCATENATE(IF(LEFT($I$1,1)="1",VLOOKUP(EN$7,PPI_IPI_PGA_PGAI!$A:$E,2,FALSE),IF(LEFT($I$1,1)="2",VLOOKUP(EN$7,PPI_IPI_PGA_PGAI!$A:$E,3,FALSE),IF(LEFT($I$1,1)="3",VLOOKUP(EN$7,PPI_IPI_PGA_PGAI!$A:$E,4,FALSE),VLOOKUP(EN$7,PPI_IPI_PGA_PGAI!$A:$E,5,FALSE))))," ",2022) -> Mai 2022 | EO8: =CONCATENATE(IF(LEFT($I$1,1)="1",VLOOKUP(EO$7,PPI_IPI_PGA_PGAI!$A:$E,2,FALSE),IF(LEFT($I$1,1)="2",VLOOKUP(EO$7,PPI_IPI_PGA_PGAI!$A:$E,3,FALSE),IF(LEFT($I$1,1)="3",VLOOKUP(EO$7,PPI_IPI_PGA_PGAI!$A:$E,4,FALSE),VLOOKUP(EO$7,PPI_IPI_PGA_PGAI!$A:$E,5,FALSE))))," ",2022) -> Juni 2022 | EP8: =CONCATENATE(IF(LEFT($I$1,1)="1",VLOOKUP(EP$7,PPI_IPI_PGA_PGAI!$A:$E,2,FALSE),IF(LEFT($I$1,1)="2",VLOOKUP(EP$7,PPI_IPI_PGA_PGAI!$A:$E,3,FALSE),IF(LEFT($I$1,1)="3",VLOOKUP(EP$7,PPI_IPI_PGA_PGAI!$A:$E,4,FALSE),VLOOKUP(EP$7,PPI_IPI_PGA_PGAI!$A:$E,5,FALSE))))," ",2022) -> Juli 2022 | EQ8: =CONCATENATE(IF(LEFT($I$1,1)="1",VLOOKUP(EQ$7,PPI_IPI_PGA_PGAI!$A:$E,2,FALSE),IF(LEFT($I$1,1)="2",VLOOKUP(EQ$7,PPI_IPI_PGA_PGAI!$A:$E,3,FALSE),IF(LEFT($I$1,1)="3",VLOOKUP(EQ$7,PPI_IPI_PGA_PGAI!$A:$E,4,FALSE),VLOOKUP(EQ$7,PPI_IPI_PGA_PGAI!$A:$E,5,FALSE))))," ",2022) -> Aug. 2022 | ... EU8: =CONCATENATE(IF(LEFT($I$1,1)="1",VLOOKUP(EU$7,PPI_IPI_PGA_PGAI!$A:$E,2,FALSE),IF(LEFT($I$1,1)="2",VLOOKUP(EU$7,PPI_IPI_PGA_PGAI!$A:$E,3,FALSE),IF(LEFT($I$1,1)="3",VLOOKUP(EU$7,PPI_IPI_PGA_PGAI!$A:$E,4,FALSE),VLOOKUP(EU$7,PPI_IPI_PGA_PGAI!$A:$E,5,FALSE))))," ",2022) -> Dez. 2022 | EV8: =CONCATENATE(IF(LEFT($I$1,1)="1",VLOOKUP(EV$7,PPI_IPI_PGA_PGAI!$A:$E,2,FALSE),IF(LEFT($I$1,1)="2",VLOOKUP(EV$7,PPI_IPI_PGA_PGAI!$A:$E,3,FALSE),IF(LEFT($I$1,1)="3",VLOOKUP(EV$7,PPI_IPI_PGA_PGAI!$A:$E,4,FALSE),VLOOKUP(EV$7,PPI_IPI_PGA_PGAI!$A:$E,5,FALSE))))," ",2023) -> Jan. 2023 | EW8: =CONCATENATE(IF(LEFT($I$1,1)="1",VLOOKUP(EW$7,PPI_IPI_PGA_PGAI!$A:$E,2,FALSE),IF(LEFT($I$1,1)="2",VLOOKUP(EW$7,PPI_IPI_PGA_PGAI!$A:$E,3,FALSE),IF(LEFT($I$1,1)="3",VLOOKUP(EW$7,PPI_IPI_PGA_PGAI!$A:$E,4,FALSE),VLOOKUP(EW$7,PPI_IPI_PGA_PGAI!$A:$E,5,FALSE))))," ",2023) -> Feb. 2023 | EX8: =CONCATENATE(IF(LEFT($I$1,1)="1",VLOOKUP(EX$7,PPI_IPI_PGA_PGAI!$A:$E,2,FALSE),IF(LEFT($I$1,1)="2",VLOOKUP(EX$7,PPI_IPI_PGA_PGAI!$A:$E,3,FALSE),IF(LEFT($I$1,1)="3",VLOOKUP(EX$7,PPI_IPI_PGA_PGAI!$A:$E,4,FALSE),VLOOKUP(EX$7,PPI_IPI_PGA_PGAI!$A:$E,5,FALSE))))," ",2023) -> März 2023 | EY8: =CONCATENATE(IF(LEFT($I$1,1)="1",VLOOKUP(EY$7,PPI_IPI_PGA_PGAI!$A:$E,2,FALSE),IF(LEFT($I$1,1)="2",VLOOKUP(EY$7,PPI_IPI_PGA_PGAI!$A:$E,3,FALSE),IF(LEFT($I$1,1)="3",VLOOKUP(EY$7,PPI_IPI_PGA_PGAI!$A:$E,4,FALSE),VLOOKUP(EY$7,PPI_IPI_PGA_PGAI!$A:$E,5,FALSE))))," ",2023) -> April 2023 | EZ8: =CONCATENATE(IF(LEFT($I$1,1)="1",VLOOKUP(EZ$7,PPI_IPI_PGA_PGAI!$A:$E,2,FALSE),IF(LEFT($I$1,1)="2",VLOOKUP(EZ$7,PPI_IPI_PGA_PGAI!$A:$E,3,FALSE),IF(LEFT($I$1,1)="3",VLOOKUP(EZ$7,PPI_IPI_PGA_PGAI!$A:$E,4,FALSE),VLOOKUP(EZ$7,PPI_IPI_PGA_PGAI!$A:$E,5,FALSE))))," ",2023) -> Mai 2023 | FA8: =CONCATENATE(IF(LEFT($I$1,1)="1",VLOOKUP(FA$7,PPI_IPI_PGA_PGAI!$A:$E,2,FALSE),IF(LEFT($I$1,1)="2",VLOOKUP(FA$7,PPI_IPI_PGA_PGAI!$A:$E,3,FALSE),IF(LEFT($I$1,1)="3",VLOOKUP(FA$7,PPI_IPI_PGA_PGAI!$A:$E,4,FALSE),VLOOKUP(FA$7,PPI_IPI_PGA_PGAI!$A:$E,5,FALSE))))," ",2023) -> Juni 2023 | FB8: =CONCATENATE(IF(LEFT($I$1,1)="1",VLOOKUP(FB$7,PPI_IPI_PGA_PGAI!$A:$E,2,FALSE),IF(LEFT($I$1,1)="2",VLOOKUP(FB$7,PPI_IPI_PGA_PGAI!$A:$E,3,FALSE),IF(LEFT($I$1,1)="3",VLOOKUP(FB$7,PPI_IPI_PGA_PGAI!$A:$E,4,FALSE),VLOOKUP(FB$7,PPI_IPI_PGA_PGAI!$A:$E,5,FALSE))))," ",2023) -> Juli 2023 | FC8: =CONCATENATE(IF(LEFT($I$1,1)="1",VLOOKUP(FC$7,PPI_IPI_PGA_PGAI!$A:$E,2,FALSE),IF(LEFT($I$1,1)="2",VLOOKUP(FC$7,PPI_IPI_PGA_PGAI!$A:$E,3,FALSE),IF(LEFT($I$1,1)="3",VLOOKUP(FC$7,PPI_IPI_PGA_PGAI!$A:$E,4,FALSE),VLOOKUP(FC$7,PPI_IPI_PGA_PGAI!$A:$E,5,FALSE))))," ",2023) -> Aug. 2023 | ... FG8: =CONCATENATE(IF(LEFT($I$1,1)="1",VLOOKUP(FG$7,PPI_IPI_PGA_PGAI!$A:$E,2,FALSE),IF(LEFT($I$1,1)="2",VLOOKUP(FG$7,PPI_IPI_PGA_PGAI!$A:$E,3,FALSE),IF(LEFT($I$1,1)="3",VLOOKUP(FG$7,PPI_IPI_PGA_PGAI!$A:$E,4,FALSE),VLOOKUP(FG$7,PPI_IPI_PGA_PGAI!$A:$E,5,FALSE))))," ",2023) -> Dez. 2023 | FH8: =CONCATENATE(IF(LEFT($I$1,1)="1",VLOOKUP(FH$7,PPI_IPI_PGA_PGAI!$A:$E,2,FALSE),IF(LEFT($I$1,1)="2",VLOOKUP(FH$7,PPI_IPI_PGA_PGAI!$A:$E,3,FALSE),IF(LEFT($I$1,1)="3",VLOOKUP(FH$7,PPI_IPI_PGA_PGAI!$A:$E,4,FALSE),VLOOKUP(FH$7,PPI_IPI_PGA_PGAI!$A:$E,5,FALSE))))," ",2024) -> Jan. 2024 | FI8: =CONCATENATE(IF(LEFT($I$1,1)="1",VLOOKUP(FI$7,PPI_IPI_PGA_PGAI!$A:$E,2,FALSE),IF(LEFT($I$1,1)="2",VLOOKUP(FI$7,PPI_IPI_PGA_PGAI!$A:$E,3,FALSE),IF(LEFT($I$1,1)="3",VLOOKUP(FI$7,PPI_IPI_PGA_PGAI!$A:$E,4,FALSE),VLOOKUP(FI$7,PPI_IPI_PGA_PGAI!$A:$E,5,FALSE))))," ",2024) -> Feb. 2024 | FJ8: =CONCATENATE(IF(LEFT($I$1,1)="1",VLOOKUP(FJ$7,PPI_IPI_PGA_PGAI!$A:$E,2,FALSE),IF(LEFT($I$1,1)="2",VLOOKUP(FJ$7,PPI_IPI_PGA_PGAI!$A:$E,3,FALSE),IF(LEFT($I$1,1)="3",VLOOKUP(FJ$7,PPI_IPI_PGA_PGAI!$A:$E,4,FALSE),VLOOKUP(FJ$7,PPI_IPI_PGA_PGAI!$A:$E,5,FALSE))))," ",2024) -> März 2024 | FK8: =CONCATENATE(IF(LEFT($I$1,1)="1",VLOOKUP(FK$7,PPI_IPI_PGA_PGAI!$A:$E,2,FALSE),IF(LEFT($I$1,1)="2",VLOOKUP(FK$7,PPI_IPI_PGA_PGAI!$A:$E,3,FALSE),IF(LEFT($I$1,1)="3",VLOOKUP(FK$7,PPI_IPI_PGA_PGAI!$A:$E,4,FALSE),VLOOKUP(FK$7,PPI_IPI_PGA_PGAI!$A:$E,5,FALSE))))," ",2024) -> April 2024 | FL8: =CONCATENATE(IF(LEFT($I$1,1)="1",VLOOKUP(FL$7,PPI_IPI_PGA_PGAI!$A:$E,2,FALSE),IF(LEFT($I$1,1)="2",VLOOKUP(FL$7,PPI_IPI_PGA_PGAI!$A:$E,3,FALSE),IF(LEFT($I$1,1)="3",VLOOKUP(FL$7,PPI_IPI_PGA_PGAI!$A:$E,4,FALSE),VLOOKUP(FL$7,PPI_IPI_PGA_PGAI!$A:$E,5,FALSE))))," ",2024) -> Mai 2024 | FM8: =CONCATENATE(IF(LEFT($I$1,1)="1",VLOOKUP(FM$7,PPI_IPI_PGA_PGAI!$A:$E,2,FALSE),IF(LEFT($I$1,1)="2",VLOOKUP(FM$7,PPI_IPI_PGA_PGAI!$A:$E,3,FALSE),IF(LEFT($I$1,1)="3",VLOOKUP(FM$7,PPI_IPI_PGA_PGAI!$A:$E,4,FALSE),VLOOKUP(FM$7,PPI_IPI_PGA_PGAI!$A:$E,5,FALSE))))," ",2024) -> Juni 2024 | FN8: =CONCATENATE(IF(LEFT($I$1,1)="1",VLOOKUP(FN$7,PPI_IPI_PGA_PGAI!$A:$E,2,FALSE),IF(LEFT($I$1,1)="2",VLOOKUP(FN$7,PPI_IPI_PGA_PGAI!$A:$E,3,FALSE),IF(LEFT($I$1,1)="3",VLOOKUP(FN$7,PPI_IPI_PGA_PGAI!$A:$E,4,FALSE),VLOOKUP(FN$7,PPI_IPI_PGA_PGAI!$A:$E,5,FALSE))))," ",2024) -> Juli 2024 | FO8: =CONCATENATE(IF(LEFT($I$1,1)="1",VLOOKUP(FO$7,PPI_IPI_PGA_PGAI!$A:$E,2,FALSE),IF(LEFT($I$1,1)="2",VLOOKUP(FO$7,PPI_IPI_PGA_PGAI!$A:$E,3,FALSE),IF(LEFT($I$1,1)="3",VLOOKUP(FO$7,PPI_IPI_PGA_PGAI!$A:$E,4,FALSE),VLOOKUP(FO$7,PPI_IPI_PGA_PGAI!$A:$E,5,FALSE))))," ",2024) -> Aug. 2024 | ... FS8: =CONCATENATE(IF(LEFT($I$1,1)="1",VLOOKUP(FS$7,PPI_IPI_PGA_PGAI!$A:$E,2,FALSE),IF(LEFT($I$1,1)="2",VLOOKUP(FS$7,PPI_IPI_PGA_PGAI!$A:$E,3,FALSE),IF(LEFT($I$1,1)="3",VLOOKUP(FS$7,PPI_IPI_PGA_PGAI!$A:$E,4,FALSE),VLOOKUP(FS$7,PPI_IPI_PGA_PGAI!$A:$E,5,FALSE))))," ",2024) -> Dez. 2024
A9: <PR_PGAI_2> | B9: 4002_1 | D9: =IF(LEFT($I$1,1)="1",VLOOKUP($A9,PPI_IPI_PGA_PGAI!$A:$E,2,FALSE),IF(LEFT($I$1,1)="2",VLOOKUP($A9,PPI_IPI_PGA_PGAI!$A:$E,3,FALSE),IF(LEFT($I$1,1)="3",VLOOKUP($A9,PPI_IPI_PGA_PGAI!$A:$E,4,FALSE),VLOOKUP($A9,PPI_IPI_PGA_PGAI!$A:$E,5,FALSE)))) -> Preisindizes des Gesamtangebots im Inland: Total 2) | E9: 100 | G9: 111.8177 | H9: 112.0182 | I9: 112.6456 | J9: 113.3433 | K9: 113.7249 | L9: 113.778 | M9: 112.9838 | N9: 112.0571 | O9: 110.8328 | P9: 110.665 | Q9: 110.2669 | R9: 109.6903 | S9: 110.2091 | T9: 110.1052 | U9: 110.6514 | V9: 111.153 | W9: 111.1958 | X9: 110.7171 | Y9: 110.155 | Z9: 109.5942 | AA9: 110.1283 | AB9: 110.6573 | AC9: 110.4938 | AD9: 110.1154 | AE9: 110.2429 | AF9: 110.0152 | AG9: 110.3337 | AH9: 110.2755 | AI9: 110.2991 | AJ9: 109.8847 | AK9: 109.9836 | AL9: 110.0021 | AM9: 110.3981 | AN9: 110.6062 | AO9: 109.9847 | AP9: 109.8561 | AQ9: 109.9329 | AR9: 109.8615 | AS9: 109.2997 | AT9: 109.4066 | AU9: 109.1616 | AV9: 109.1621 | AW9: 109.1848 | AX9: 109.2077 | AY9: 108.9933 | AZ9: 108.8908 | BA9: 108.529 | BB9: 107.865 | BC9: 107.12 | BD9: 106.066 | BE9: 104.0954 | BF9: 104.5352 | BG9: 102.4593 | BH9: 101.9917 | BI9: 101.9021 | BJ9: 101.6125 | BK9: 100.9777 | BL9: 100.8137 | BM9: 100.684 | BN9: 101.1999 | BO9: 100.5306 | BP9: 99.9537 | BQ9: 99.3013 | BR9: 99.339 | BS9: 99.6955 | BT9: 100.2828 | BU9: 100.523 | BV9: 100.4734 | BW9: 100.0377 | BX9: 100.4352 | BY9: 100.5407 | BZ9: 100.7029 | CA9: 100.9647 | CB9: 101.4832 | CC9: 101.3225 | CD9: 101.4624 | CE9: 101.1999 | CF9: 101.0789 | CG9: 100.9296 | CH9: 100.9073 | CI9: 101.5596 | CJ9: 102.2294 | CK9: 102.6872 | CL9: 103.3209 | CM9: 103.6168 | CN9: 104.0246 | CO9: 103.9865 | CP9: 103.6615 | CQ9: 104.2009 | CR9: 105.0176 | CS9: 105.3286 | CT9: 105.4126 | CU9: 105.2821 | CV9: 105.1443 | CW9: 105.5207 | CX9: 105.4218 | CY9: 104.4951 | CZ9: 103.4011 | DA9: 103.7848 | DB9: 104.1778 | DC9: 104.1499 | DD9: 104.2399 | DE9: 103.5597 | DF9: 103.4935 | DG9: 103.2237 | DH9: 102.8037 | DI9: 102.6214 | DJ9: 102.4158 | DK9: 102.6203 | DL9: 102.6099 | DM9: 101.4325 | DN9: 100.9531 | DO9: 99.1656 | DP9: 98.7535 | DQ9: 99.4944 | DR9: 99.6885 | DS9: 99.4287 | DT9: 99.5386 | DU9: 99.448 | DV9: 99.3 | DW9: 100 | DX9: 100.355 | DY9: 100.73 | DZ9: 101.4869 | EA9: 102.1726 | EB9: 103.1004 | EC9: 103.4957 | ED9: 104.1473 | EE9: 104.7694 | EF9: 105.0316 | EG9: 105.9822 | EH9: 106.7946 | EI9: 106.6362 | EJ9: 107.437 | EK9: 108.3193 | EL9: 109.563 | EM9: 111.4034 | EN9: 112.9976 | EO9: 113.6439 | EP9: 113.5648 | EQ9: 113.2372 | ER9: 113.5579 | ES9: 113.6454 | ET9: 113.3143 | EU9: 112.1858 | EV9: 113.1346 | EW9: 112.8326 | EX9: 113.0866 | EY9: 113.1237 | EZ9: 112.5792 | FA9: 112.7744 | FB9: 112.5848 | FC9: 112.7462 | FD9: 112.6278 | FE9: 112.9162 | FF9: 111.9858 | FG9: 111.1156 | FH9: 110.4771 | FI9: 110.7178 | FJ9: 110.7715 | FK9: 111.2496 | FL9: 111.5051 | FM9: 111.398 | FN9: 111.5638 | FO9: 111.1011 | FP9: 110.927 | FQ9: 110.6327 | FR9: 110.2774 | FS9: 110.2749
A10: <PGAI.A> | B10: 9103_2 | C10: A | D10: =IF(LEFT($I$1,1)="1",VLOOKUP($A10,PPI_IPI_PGA_PGAI!$A:$E,2,FALSE),IF(LEFT($I$1,1)="2",VLOOKUP($A10,PPI_IPI_PGA_PGAI!$A:$E,3,FALSE),IF(LEFT($I$1,1)="3",VLOOKUP($A10,PPI_IPI_PGA_PGAI!$A:$E,4,FALSE),VLOOKUP($A10,PPI_IPI_PGA_PGAI!$A:$E,5,FALSE)))) -> Land- und forstwirtschaftliche Produkte | E10: 3.1599 | G10: 99.1069 | H10: 100.0261 | I10: 99.957 | J10: 100.0814 | K10: 100.6723 | L10: 100.9425 | M10: 100.1733 | N10: 97.0509 | O10: 96.9648 | P10: 95.7619 | Q10: 96.1803 | R10: 95.9032 | S10: 96.9952 | T10: 95.9089 | U10: 95.3595 | V10: 95.9842 | W10: 96.7173 | X10: 96.592 | Y10: 97.1512 | Z10: 96.8314 | AA10: 96.0983 | AB10: 95.64 | AC10: 96.306 | AD10: 96.4558 | AE10: 98.4483 | AF10: 98.0548 | AG10: 99.4795 | AH10: 100.1531 | AI10: 101.194 | AJ10: 100.9264 | AK10: 101.567 | AL10: 101.8496 | AM10: 101.902 | AN10: 102.7298 | AO10: 102.3441 | AP10: 100.7057 | AQ10: 101.3722 | AR10: 101.1112 | AS10: 101.4726 | AT10: 102.9998 | AU10: 103.1007 | AV10: 103.3592 | AW10: 102.7001 | AX10: 102.2718 | AY10: 102.4431 | AZ10: 102.495 | BA10: 101.0974 | BB10: 99.6419 | BC10: 99.6241 | BD10: 99.0168 | BE10: 98.3171 | BF10: 97.9549 | BG10: 97.7808 | BH10: 97.1263 | BI10: 96.6326 | BJ10: 97.4875 | BK10: 97.6978 | BL10: 97.2874 | BM10: 96.8569 | BN10: 96.3546 | BO10: 96.5879 | BP10: 96.5525 | BQ10: 95.8231 | BR10: 96.6754 | BS10: 97.5193 | BT10: 96.9732 | BU10: 97.4845 | BV10: 97.7803 | BW10: 97.4957 | BX10: 96.8615 | BY10: 96.9114 | BZ10: 96.7059 | CA10: 97.0876 | CB10: 97.4988 | CC10: 97.8942 | CD10: 97.9497 | CE10: 96.8128 | CF10: 97.0602 | CG10: 96.5364 | CH10: 96.7888 | CI10: 96.2936 | CJ10: 96.7018 | CK10: 97.4746 | CL10: 97.0245 | CM10: 98.2257 | CN10: 98.9282 | CO10: 97.8461 | CP10: 98.3766 | CQ10: 98.6087 | CR10: 98.8057 | CS10: 98.9517 | CT10: 98.5381 | CU10: 96.6215 | CV10: 98.3188 | CW10: 98.6358 | CX10: 98.0143 | CY10: 98.5202 | CZ10: 98.5173 | DA10: 99.029 | DB10: 99.1274 | DC10: 98.1227 | DD10: 98.7427 | DE10: 98.116 | DF10: 98.0295 | DG10: 98.6043 | DH10: 98.7031 | DI10: 98.8066 | DJ10: 99.1565 | DK10: 100.122 | DL10: 100.1771 | DM10: 99.3951 | DN10: 99.7982 | DO10: 99.4706 | DP10: 100.0112 | DQ10: 100.2855 | DR10: 99.6891 | DS10: 99.8771 | DT10: 100.9593 | DU10: 101.403 | DV10: 101.107 | DW10: 100 | DX10: 99.874 | DY10: 100.1246 | DZ10: 101.4934 | EA10: 102.3573 | EB10: 102.3983 | EC10: 103.0445 | ED10: 102.049 | EE10: 103.6073 | EF10: 105.8728 | EG10: 105.2473 | EH10: 105.0582 | EI10: 106.9613 | EJ10: 107.329 | EK10: 107.1718 | EL10: 107.9638 | EM10: 108.7897 | EN10: 109.4662 | EO10: 109.8688 | EP10: 109.3713 | EQ10: 108.648 | ER10: 111.4164 | ES10: 111.1285 | ET10: 110.1594 | EU10: 109.7025 | EV10: 109.822 | EW10: 110.1627 | EX10: 111.8567 | EY10: 110.7372 | EZ10: 110.1987 | FA10: 110.463 | FB10: 109.5419 | FC10: 110.1207 | FD10: 110.4392 | FE10: 110.5375 | FF10: 110.7813 | FG10: 111.9227 | FH10: 112.245 | FI10: 112.2485 | FJ10: 111.1916 | FK10: 111.3626 | FL10: 111.6332 | FM10: 112.9893 | FN10: 112.9784 | FO10: 113.6511 | FP10: 115.2246 | FQ10: 116.3921 | FR10: 116.1328 | FS10: 117.7232
A11: <PGAI.01> | B11: 4002_1001 | C11: 01 | D11: =IF(LEFT($I$1,1)="1",VLOOKUP($A11,PPI_IPI_PGA_PGAI!$A:$E,2,FALSE),IF(LEFT($I$1,1)="2",VLOOKUP($A11,PPI_IPI_PGA_PGAI!$A:$E,3,FALSE),IF(LEFT($I$1,1)="3",VLOOKUP($A11,PPI_IPI_PGA_PGAI!$A:$E,4,FALSE),VLOOKUP($A11,PPI_IPI_PGA_PGAI!$A:$E,5,FALSE)))) -> Landwirtschaftliche Produkte | E11: 3.0535 | G11: 98.8808 | H11: 99.8248 | I11: 99.7539 | J11: 99.7792 | K11: 100.3858 | L11: 100.6635 | M11: 99.8736 | N11: 96.7044 | O11: 96.6161 | P11: 95.3807 | Q11: 95.8104 | R11: 95.6078 | S11: 96.7294 | T11: 95.6137 | U11: 95.0495 | V11: 95.7911 | W11: 96.5441 | X11: 96.4154 | Y11: 96.9897 | Z11: 96.7242 | AA11: 95.9713 | AB11: 95.5005 | AC11: 96.1845 | AD11: 96.3612 | AE11: 98.4076 | AF11: 98.0034 | AG11: 99.4665 | AH11: 100.1692 | AI11: 101.2383 | AJ11: 100.9633 | AK11: 101.6214 | AL11: 101.8767 | AM11: 101.9305 | AN11: 102.7806 | AO11: 102.3846 | AP11: 100.6548 | AQ11: 101.3395 | AR11: 101.0714 | AS11: 101.4425 | AT11: 102.9595 | AU11: 103.0632 | AV11: 103.3287 | AW11: 102.6517 | AX11: 102.1493 | AY11: 102.3252 | AZ11: 102.3785 | BA11: 100.9431 | BB11: 99.4444 | BC11: 99.4261 | BD11: 98.8025 | BE11: 98.0838 | BF11: 97.6783 | BG11: 97.4994 | BH11: 96.8273 | BI11: 96.3202 | BJ11: 97.3243 | BK11: 97.5403 | BL11: 97.1188 | BM11: 96.6767 | BN11: 96.1954 | BO11: 96.4352 | BP11: 96.3987 | BQ11: 95.6438 | BR11: 96.5198 | BS11: 97.3677 | BT11: 96.8065 | BU11: 97.3475 | BV11: 97.6514 | BW11: 97.3779 | BX11: 96.7262 | BY11: 96.7717 | BZ11: 96.5605 | CA11: 96.9724 | CB11: 97.3949 | CC11: 97.8229 | CD11: 97.8799 | CE11: 96.6502 | CF11: 96.9046 | CG11: 96.3762 | CH11: 96.6357 | CI11: 96.1137 | CJ11: 96.5332 | CK11: 97.3185 | CL11: 96.8558 | CM11: 98.1012 | CN11: 98.8231 | CO11: 97.6989 | CP11: 98.2441 | CQ11: 98.467 | CR11: 98.6695 | CS11: 98.7924 | CT11: 98.3674 | CU11: 96.4015 | CV11: 98.1458 | CW11: 98.4819 | CX11: 97.8433 | CY11: 98.3803 | CZ11: 98.3773 | DA11: 98.8964 | DB11: 98.9976 | DC11: 97.9793 | DD11: 98.6164 | DE11: 98.01 | DF11: 97.9212 | DG11: 98.4898 | DH11: 98.5913 | DI11: 98.7066 | DJ11: 99.0662 | DK11: 100.0907 | DL11: 100.1475 | DM11: 99.3489 | DN11: 99.7632 | DO11: 99.4012 | DP11: 99.9568 | DQ11: 100.2325 | DR11: 99.6197 | DS11: 99.8406 | DT11: 100.9527 | DU11: 101.4482 | DV11: 101.144 | DW11: 100 | DX11: 99.8696 | DY11: 100.1259 | DZ11: 101.5424 | EA11: 102.4221 | EB11: 102.4646 | EC11: 103.1355 | ED11: 102.1053 | EE11: 103.7101 | EF11: 106.0546 | EG11: 105.3459 | EH11: 105.1502 | EI11: 107.0398 | EJ11: 107.4204 | EK11: 106.948 | EL11: 107.7676 | EM11: 108.5202 | EN11: 109.2202 | EO11: 109.5268 | EP11: 109.012 | EQ11: 108.2606 | ER11: 111.1255 | ES11: 110.8691 | ET11: 109.8662 | EU11: 109.3265 | EV11: 109.4501 | EW11: 109.6256 | EX11: 111.3786 | EY11: 110.1807 | EZ11: 109.6234 | FA11: 109.6407 | FB11: 108.6875 | FC11: 109.3066 | FD11: 109.6361 | FE11: 109.8378 | FF11: 110.0901 | FG11: 111.3667 | FH11: 111.7002 | FI11: 111.7459 | FJ11: 110.6521 | FK11: 110.7941 | FL11: 111.0741 | FM11: 112.6147 | FN11: 112.6034 | FO11: 113.2613 | FP11: 114.8895 | FQ11: 116.1663 | FR11: 115.898 | FS11: 117.5427
A12: <PGAI.02> | B12: 4002_2001 | C12: 02 | D12: =IF(LEFT($I$1,1)="1",VLOOKUP($A12,PPI_IPI_PGA_PGAI!$A:$E,2,FALSE),IF(LEFT($I$1,1)="2",VLOOKUP($A12,PPI_IPI_PGA_PGAI!$A:$E,3,FALSE),IF(LEFT($I$1,1)="3",VLOOKUP($A12,PPI_IPI_PGA_PGAI!$A:$E,4,FALSE),VLOOKUP($A12,PPI_IPI_PGA_PGAI!$A:$E,5,FALSE)))) -> Forstwirtschaftliche Produkte | E12: 0.1064 | G12: 107.3257 | H12: 107.3257 | I12: 107.3257 | J12: 111.1172 | K12: 111.1172 | L12: 111.1172 | M12: 111.1172 | N12: 109.7206 | O12: 109.7206 | P12: 109.7206 | Q12: 109.7206 | R12: 106.6887 | S12: 106.6887 | T12: 106.6887 | U12: 106.6887 | V12: 102.9888 | W12: 102.9888 | X12: 102.9888 | Y12: 102.9888 | Z12: 100.6636 | AA12: 100.6636 | AB12: 100.6636 | AC12: 100.6636 | AD12: 99.8217 | AE12: 99.8217 | AF12: 99.8217 | AG12: 99.8217 | AH12: 99.4224 | AI12: 99.4224 | AJ12: 99.4224 | AK12: 99.4224 | AL12: 100.7088 | AM12: 100.7088 | AN12: 100.7088 | AO12: 100.7088 | AP12: 102.4464 | AQ12: 102.4464 | AR12: 102.4464 | AS12: 102.4464 | AT12: 104.3484 | AU12: 104.3484 | AV12: 104.3484 | AW12: 104.3484 | AX12: 106.6605 | AY12: 106.6605 | AZ12: 106.6605 | BA12: 106.6605 | BB12: 106.8044 | BC12: 106.8044 | BD12: 106.8044 | BE12: 106.8044 | BF12: 108.0453 | BG12: 108.0453 | BH12: 108.0453 | BI12: 108.0453 | BJ12: 103.3847 | BK12: 103.3847 | BL12: 103.3847 | BM12: 103.3847 | BN12: 102.1049 | BO12: 102.1049 | BP12: 102.1049 | BQ12: 102.2964 | BR12: 102.2964 | BS12: 102.996 | BT12: 102.996 | BU12: 102.4339 | BV12: 102.4339 | BW12: 101.7475 | BX12: 101.7475 | BY12: 101.9538 | BZ12: 101.9538 | CA12: 101.2489 | CB12: 101.2489 | CC12: 100.4694 | CD12: 100.4694 | CE12: 102.6825 | CF12: 102.6825 | CG12: 102.3196 | CH12: 102.3196 | CI12: 102.7935 | CJ12: 102.7935 | CK12: 103.1138 | CL12: 103.1138 | CM12: 102.7215 | CN12: 102.7215 | CO12: 103.1635 | CP12: 103.1635 | CQ12: 103.7252 | CR12: 103.7252 | CS12: 104.7063 | CT12: 104.7063 | CU12: 104.568 | CV12: 104.568 | CW12: 104.1913 | CX12: 104.1913 | CY12: 103.5727 | CZ12: 103.5727 | DA12: 103.8165 | DB12: 103.8165 | DC12: 103.3019 | DD12: 103.3019 | DE12: 101.9416 | DF12: 101.9416 | DG12: 102.7388 | DH12: 102.7388 | DI12: 102.4165 | DJ12: 102.4165 | DK12: 101.2473 | DL12: 101.2473 | DM12: 101.063 | DN12: 101.063 | DO12: 101.9737 | DP12: 101.9737 | DQ12: 102.1967 | DR12: 102.1967 | DS12: 101.1959 | DT12: 101.1959 | DU12: 99.771 | DV12: 99.771 | DW12: 100 | DX12: 100 | DY12: 100.0877 | DZ12: 100.0877 | EA12: 100.4957 | EB12: 100.4957 | EC12: 100.4325 | ED12: 100.4325 | EE12: 100.6555 | EF12: 100.6555 | EG12: 102.4184 | EH12: 102.4184 | EI12: 104.7071 | EJ12: 104.7071 | EK12: 113.5938 | EL12: 113.5938 | EM12: 116.5256 | EN12: 116.5256 | EO12: 119.6819 | EP12: 119.6819 | EQ12: 119.764 | ER12: 119.764 | ES12: 118.5742 | ET12: 118.5742 | EU12: 120.4925 | EV12: 120.4925 | EW12: 125.5782 | EX12: 125.5782 | EY12: 126.71 | EZ12: 126.71 | FA12: 134.0612 | FB12: 134.0612 | FC12: 133.4847 | FD12: 133.4847 | FE12: 130.6184 | FF12: 130.6184 | FG12: 127.8786 | FH12: 127.8786 | FI12: 126.6727 | FJ12: 126.6727 | FK12: 127.6784 | FL12: 127.6784 | FM12: 123.7409 | FN12: 123.7409 | FO12: 124.8404 | FP12: 124.8404 | FQ12: 122.8716 | FR12: 122.8716 | FS12: 122.904
A13: <PGAI.B> | B13: 4002_5000 | C13: B | D13: =IF(LEFT($I$1,1)="1",VLOOKUP($A13,PPI_IPI_PGA_PGAI!$A:$E,2,FALSE),IF(LEFT($I$1,1)="2",VLOOKUP($A13,PPI_IPI_PGA_PGAI!$A:$E,3,FALSE),IF(LEFT($I$1,1)="3",VLOOKUP($A13,PPI_IPI_PGA_PGAI!$A:$E,4,FALSE),VLOOKUP($A13,PPI_IPI_PGA_PGAI!$A:$E,5,FALSE)))) -> Bergbauprodukte | E13: 1.4357 | G13: 168.0009 | H13: 169.2526 | I13: 173.3986 | J13: 183.505 | K13: 190.1065 | L13: 194.0835 | M13: 182.4877 | N13: 180.8533 | O13: 175.1055 | P13: 169.1702 | Q13: 182.0258 | R13: 179.656 | S13: 184.1392 | T13: 188.0343 | U13: 192.0568 | V13: 199.5871 | W13: 206.5605 | X13: 198.3916 | Y13: 191.3923 | Z13: 180.3479 | AA13: 189.7011 | AB13: 201.1347 | AC13: 198.8425 | AD13: 196.3416 | AE13: 195.5682 | AF13: 192.5737 | AG13: 195.7143 | AH13: 195.3695 | AI13: 193.0572 | AJ13: 184.4629 | AK13: 186.6683 | AL13: 187.8848 | AM13: 194.9147 | AN13: 196.8263 | AO13: 191.1061 | AP13: 186.0289 | AQ13: 186.5132 | AR13: 184.1111 | AS13: 182.9147 | AT13: 183.0845 | AU13: 176.9562 | AV13: 179.649 | AW13: 180.5772 | AX13: 181.2326 | AY13: 178.9051 | AZ13: 173.128 | BA13: 170.8535 | BB13: 165.7047 | BC13: 155.5643 | BD13: 136.1123 | BE13: 120.3943 | BF13: 128.6171 | BG13: 126.8547 | BH13: 133.3912 | BI13: 132.7449 | BJ13: 131.8908 | BK13: 122.776 | BL13: 121.8512 | BM13: 120.8642 | BN13: 118.5026 | BO13: 114.3879 | BP13: 107.1188 | BQ13: 102.732 | BR13: 101.7564 | BS13: 102.0188 | BT13: 103.6089 | BU13: 107.8756 | BV13: 110.4756 | BW13: 106.8928 | BX13: 110.7536 | BY13: 111.1424 | BZ13: 107.0615 | CA13: 114.2301 | CB13: 117.2328 | CC13: 117.9377 | CD13: 118.6066 | CE13: 117.9431 | CF13: 114.2204 | CG13: 111.6859 | CH13: 111.5421 | CI13: 115.2842 | CJ13: 119.079 | CK13: 121.5969 | CL13: 125.0902 | CM13: 128.3326 | CN13: 130.5293 | CO13: 130.5063 | CP13: 130.1062 | CQ13: 130.9976 | CR13: 141.6618 | CS13: 137.9795 | CT13: 142.916 | CU13: 143.0241 | CV13: 145.5548 | CW13: 154.8035 | CX13: 145.8177 | CY13: 135.1452 | CZ13: 129.1342 | DA13: 131.5022 | DB13: 132.2817 | DC13: 134.2784 | DD13: 131.4693 | DE13: 124.7378 | DF13: 121.1879 | DG13: 120.6969 | DH13: 118.9966 | DI13: 113.9196 | DJ13: 120.1673 | DK13: 125.4608 | DL13: 124.3752 | DM13: 113.0549 | DN13: 109.5347 | DO13: 88.5557 | DP13: 84.0312 | DQ13: 100.7583 | DR13: 104.1138 | DS13: 102.047 | DT13: 99.1777 | DU13: 93.8666 | DV13: 90.3652 | DW13: 100 | DX13: 105.0486 | DY13: 109.122 | DZ13: 117.1086 | EA13: 114.03 | EB13: 122.8246 | EC13: 120.2418 | ED13: 127.6377 | EE13: 132.4584 | EF13: 139.7158 | EG13: 155.8079 | EH13: 175.9179 | EI13: 180.4785 | EJ13: 206.5122 | EK13: 207.1484 | EL13: 211.7977 | EM13: 208.7994 | EN13: 237.8818 | EO13: 234.9485 | EP13: 237.2835 | EQ13: 247.7653 | ER13: 261.843 | ES13: 285.8165 | ET13: 263.6381 | EU13: 225.4983 | EV13: 257.572 | EW13: 221.3254 | EX13: 218.3198 | EY13: 219.5877 | EZ13: 183.9177 | FA13: 203.9196 | FB13: 195.4623 | FC13: 212.9076 | FD13: 207.0921 | FE13: 223.9204 | FF13: 199.4489 | FG13: 177.3866 | FH13: 155.133 | FI13: 171.5922 | FJ13: 165.0121 | FK13: 170.3328 | FL13: 164.8844 | FM13: 160.6749 | FN13: 163.0549 | FO13: 163.8311 | FP13: 170.7202 | FQ13: 174.8375 | FR13: 161.2044 | FS13: 161.9699
A14: <PGAI.C> | B14: 4002_10330 | C14: C | D14: =IF(LEFT($I$1,1)="1",VLOOKUP($A14,PPI_IPI_PGA_PGAI!$A:$E,2,FALSE),IF(LEFT($I$1,1)="2",VLOOKUP($A14,PPI_IPI_PGA_PGAI!$A:$E,3,FALSE),IF(LEFT($I$1,1)="3",VLOOKUP($A14,PPI_IPI_PGA_PGAI!$A:$E,4,FALSE),VLOOKUP($A14,PPI_IPI_PGA_PGAI!$A:$E,5,FALSE)))) -> Verarbeitete Produkte | E14: 90.8174 | G14: 111.8298 | H14: 111.9164 | I14: 112.5295 | J14: 113.1042 | K14: 113.3813 | L14: 113.3531 | M14: 112.7281 | N14: 111.8808 | O14: 110.6326 | P14: 110.6123 | Q14: 109.9005 | R14: 109.3252 | S14: 109.7616 | T14: 109.6251 | U14: 110.1551 | V14: 110.534 | W14: 110.4131 | X14: 110.0451 | Y14: 109.5403 | Z14: 109.1438 | AA14: 109.5886 | AB14: 109.9793 | AC14: 109.8271 | AD14: 109.4411 | AE14: 109.4988 | AF14: 109.3606 | AG14: 109.5917 | AH14: 109.5014 | AI14: 109.5226 | AJ14: 109.242 | AK14: 109.2929 | AL14: 109.2778 | AM14: 109.5749 | AN14: 109.7276 | AO14: 109.1696 | AP14: 109.1916 | AQ14: 109.2362 | AR14: 109.1857 | AS14: 108.5686 | AT14: 108.6178 | AU14: 108.4289 | AV14: 108.3636 | AW14: 108.4048 | AX14: 108.4382 | AY14: 108.2357 | AZ14: 108.2261 | BA14: 107.9446 | BB14: 107.3809 | BC14: 106.7472 | BD14: 105.872 | BE14: 104.0933 | BF14: 104.446 | BG14: 102.1824 | BH14: 101.563 | BI14: 101.5045 | BJ14: 101.1649 | BK14: 100.6289 | BL14: 100.4916 | BM14: 100.4476 | BN14: 101.0957 | BO14: 100.4161 | BP14: 99.9105 | BQ14: 99.3174 | BR14: 99.2462 | BS14: 99.5077 | BT14: 99.7675 | BU14: 100.2672 | BV14: 100.1939 | BW14: 99.8052 | BX14: 100.1573 | BY14: 100.3925 | BZ14: 100.4436 | CA14: 100.5468 | CB14: 100.923 | CC14: 100.9014 | CD14: 100.8601 | CE14: 100.6596 | CF14: 100.5465 | CG14: 100.5323 | CH14: 100.4603 | CI14: 101.0473 | CJ14: 101.5686 | CK14: 102.13 | CL14: 102.7069 | CM14: 102.8863 | CN14: 103.1202 | CO14: 103.2902 | CP14: 102.8225 | CQ14: 103.4281 | CR14: 104.1075 | CS14: 104.5129 | CT14: 104.5401 | CU14: 104.5816 | CV14: 104.5604 | CW14: 104.8568 | CX14: 104.9447 | CY14: 104.0874 | CZ14: 103.0259 | DA14: 103.4042 | DB14: 103.8022 | DC14: 103.7814 | DD14: 103.9449 | DE14: 103.3572 | DF14: 103.4091 | DG14: 103.1475 | DH14: 102.8271 | DI14: 102.8277 | DJ14: 102.4197 | DK14: 102.4318 | DL14: 102.4174 | DM14: 101.5341 | DN14: 100.9808 | DO14: 99.4928 | DP14: 99.0506 | DQ14: 99.5837 | DR14: 99.8309 | DS14: 99.5673 | DT14: 99.6319 | DU14: 99.6343 | DV14: 99.4555 | DW14: 100 | DX14: 100.2437 | DY14: 100.5831 | DZ14: 101.2138 | EA14: 101.9996 | EB14: 102.8655 | EC14: 103.2707 | ED14: 103.897 | EE14: 104.47 | EF14: 104.6012 | EG14: 105.3557 | EH14: 105.8986 | EI14: 105.5837 | EJ14: 105.7917 | EK14: 106.6895 | EL14: 107.882 | EM14: 109.8941 | EN14: 111.1757 | EO14: 111.944 | EP14: 111.8098 | EQ14: 111.2942 | ER14: 111.3264 | ES14: 110.8458 | ET14: 110.8603 | EU14: 110.2311 | EV14: 110.2488 | EW14: 110.2106 | EX14: 110.5078 | EY14: 110.6048 | EZ14: 109.8661 | FA14: 109.78 | FB14: 109.8015 | FC14: 109.7515 | FD14: 109.6969 | FE14: 109.7686 | FF14: 109.1743 | FG14: 108.5156 | FH14: 107.8161 | FI14: 107.7702 | FJ14: 107.9719 | FK14: 108.4792 | FL14: 108.4614 | FM14: 108.362 | FN14: 108.5147 | FO14: 108.0229 | FP14: 107.6824 | FQ14: 107.2905 | FR14: 107.1441 | FS14: 107.0802
