Workbook

Sheet T1
A1: Sprache / Langue / Lingua / Language
A8: =VLOOKUP("<T1_Ti>",Uebersetzungen!$B$3:$F$33,Uebersetzungen!$B$2+1,FALSE) -> Statistische Kennzahlen, 4. Quartal 2024
A9: =VLOOKUP("<T1_UTi>",Uebersetzungen!$B$3:$F$33,Uebersetzungen!$B$2+1,FALSE) -> Schweizerischer Wohnimmobilienpreisindex, IMPI
A10: =VLOOKUP("<T1_SpaltenTitel_1>",Uebersetzungen!$B$3:$F$33,Uebersetzungen!$B$2+1,FALSE) -> Totalindex und Subindizes | B10: =VLOOKUP("<T1_SpaltenTitel_2>",Uebersetzungen!$B$3:$F$33,Uebersetzungen!$B$2+1,FALSE) -> Gewicht in % | C10: =VLOOKUP("<T1_SpaltenTitel_3>",Uebersetzungen!$B$3:$F$33,Uebersetzungen!$B$2+1,FALSE) -> Index (Basis: Q4 2019 = 100) | D10: =VLOOKUP("<T1_SpaltenTitel_4>",Uebersetzungen!$B$3:$F$33,Uebersetzungen!$B$2+1,FALSE) -> Veränderung (in %) zum | F10: =VLOOKUP("<T1_SpaltenTitel_7>",Uebersetzungen!$B$3:$F$33,Uebersetzungen!$B$2+1,FALSE) -> Beitrag zur Veränderung gegenüber Vorquartal
D11: =VLOOKUP("<T1_SpaltenTitel_5>",Uebersetzungen!$B$3:$F$33,Uebersetzungen!$B$2+1,FALSE) -> Vorquartal | E11: =VLOOKUP("<T1_SpaltenTitel_6>",Uebersetzungen!$B$3:$F$33,Uebersetzungen!$B$2+1,FALSE) -> Q4 2023
A12: =VLOOKUP("<Zeilentitel_1>",Uebersetzungen!$B$3:$F$33,Uebersetzungen!$B$2+1,FALSE) -> Total | B12: 100 | C12: 120.2223 | D12: 1.8 | E12: 2.4 | F12: 1.75
A13: =VLOOKUP("<Zeilentitel_4>",Uebersetzungen!$B$3:$F$33,Uebersetzungen!$B$2+1,FALSE) -> GemeindeTyp 1 | B13: 28.871 | C13: 123.2183 | D13: 3 | E13: 3.8 | F13: 0.868
A14: =VLOOKUP("<Zeilentitel_5>",Uebersetzungen!$B$3:$F$33,Uebersetzungen!$B$2+1,FALSE) -> GemeindeTyp 2 | B14: 18.977 | C14: 117.75 | D14: 0.2 | E14: 2.6 | F14: 0.045
A15: =VLOOKUP("<Zeilentitel_6>",Uebersetzungen!$B$3:$F$33,Uebersetzungen!$B$2+1,FALSE) -> GemeindeTyp 3 | B15: 9.606 | C15: 121.3451 | D15: 2.4 | E15: 4.7 | F15: 0.236
A16: =VLOOKUP("<Zeilentitel_7>",Uebersetzungen!$B$3:$F$33,Uebersetzungen!$B$2+1,FALSE) -> GemeindeTyp 4 | B16: 26.335 | C16: 118.573 | D16: 1.1 | E16: 0.3 | F16: 0.295
A17: =VLOOKUP("<Zeilentitel_8>",Uebersetzungen!$B$3:$F$33,Uebersetzungen!$B$2+1,FALSE) -> GemeindeTyp 5 | B17: 16.211 | C17: 119.5307 | D17: 1.9 | E17: 1.6 | F17: 0.306
A18: =VLOOKUP("<Zeilentitel_2>",Uebersetzungen!$B$3:$F$33,Uebersetzungen!$B$2+1,FALSE) -> EFH | B18: 48.179 | C18: 119.6414 | D18: 0.5 | E18: 1.4 | F18: 0.254
A19: =VLOOKUP("<Zeilentitel_4>",Uebersetzungen!$B$3:$F$33,Uebersetzungen!$B$2+1,FALSE) -> GemeindeTyp 1 | B19: 12.183 | C19: 121.5806 | D19: 0.7 | E19: 0.7 | F19: 0.085
A20: =VLOOKUP("<Zeilentitel_5>",Uebersetzungen!$B$3:$F$33,Uebersetzungen!$B$2+1,FALSE) -> GemeindeTyp 2 | B20: 8.195 | C20: 118.7128 | D20: 0.2 | E20: 2.4 | F20: 0.019
A21: =VLOOKUP("<Zeilentitel_6>",Uebersetzungen!$B$3:$F$33,Uebersetzungen!$B$2+1,FALSE) -> GemeindeTyp 3 | B21: 4.039 | C21: 122.1499 | D21: 1 | E21: 6.4 | F21: 0.04
A22: =VLOOKUP("<Zeilentitel_7>",Uebersetzungen!$B$3:$F$33,Uebersetzungen!$B$2+1,FALSE) -> GemeindeTyp 4 | B22: 13.771 | C22: 118.0947 | D22: 0.3 | E22: 0.1 | F22: 0.036
A23: =VLOOKUP("<Zeilentitel_8>",Uebersetzungen!$B$3:$F$33,Uebersetzungen!$B$2+1,FALSE) -> GemeindeTyp 5 | B23: 9.991 | C23: 118.1292 | D23: 0.7 | E23: 1.3 | F23: 0.074
A24: =VLOOKUP("<Zeilentitel_3>",Uebersetzungen!$B$3:$F$33,Uebersetzungen!$B$2+1,FALSE) -> EGW | B24: 51.821 | C24: 120.7687 | D24: 2.9 | E24: 3.2 | F24: 1.496
A25: =VLOOKUP("<Zeilentitel_4>",Uebersetzungen!$B$3:$F$33,Uebersetzungen!$B$2+1,FALSE) -> GemeindeTyp 1 | B25: 16.688 | C25: 124.2491 | D25: 4.7 | E25: 6 | F25: 0.783
A26: =VLOOKUP("<Zeilentitel_5>",Uebersetzungen!$B$3:$F$33,Uebersetzungen!$B$2+1,FALSE) -> GemeindeTyp 2 | B26: 10.782 | C26: 116.9644 | D26: 0.2 | E26: 2.7 | F26: 0.026
A27: =VLOOKUP("<Zeilentitel_6>",Uebersetzungen!$B$3:$F$33,Uebersetzungen!$B$2+1,FALSE) -> GemeindeTyp 3 | B27: 5.567 | C27: 120.5453 | D27: 3.5 | E27: 3.5 | F27: 0.196
A28: =VLOOKUP("<Zeilentitel_7>",Uebersetzungen!$B$3:$F$33,Uebersetzungen!$B$2+1,FALSE) -> GemeindeTyp 4 | B28: 12.564 | C28: 119.1553 | D28: 2.1 | E28: 0.5 | F28: 0.259
A29: =VLOOKUP("<Zeilentitel_8>",Uebersetzungen!$B$3:$F$33,Uebersetzungen!$B$2+1,FALSE) -> GemeindeTyp 5 | B29: 6.22 | C29: 121.8485 | D29: 3.8 | E29: 2.1 | F29: 0.232
A30: =VLOOKUP("<Legende_1>",Uebersetzungen!$B$3:$F$33,Uebersetzungen!$B$2+1,FALSE) -> Legende:
A31: =VLOOKUP("<Legende_2>",Uebersetzungen!$B$3:$F$33,Uebersetzungen!$B$2+1,FALSE) -> Total - Wohneigentum (EFH und EGW)
A32: =VLOOKUP("<Legende_3>",Uebersetzungen!$B$3:$F$33,Uebersetzungen!$B$2+1,FALSE) -> EFH - Einfamilienhäuser
A33: =VLOOKUP("<Legende_4>",Uebersetzungen!$B$3:$F$33,Uebersetzungen!$B$2+1,FALSE) -> EGW - Eigentumswohnungen
A34: =VLOOKUP("<Legende_5>",Uebersetzungen!$B$3:$F$33,Uebersetzungen!$B$2+1,FALSE) -> GemeindeTyp 1 - Städtische Gemeinde einer grossen Agglomeration
A35: =VLOOKUP("<Legende_6>",Uebersetzungen!$B$3:$F$33,Uebersetzungen!$B$2+1,FALSE) -> GemeindeTyp 2 - Städtische Gemeinde einer mittelgrossen Agglomeration
A36: =VLOOKUP("<Legende_7>",Uebersetzungen!$B$3:$F$33,Uebersetzungen!$B$2+1,FALSE) -> GemeindeTyp 3 - Städtische Gemeinde einer kleinen oder ausserhalb einer Agglomeration
A37: =VLOOKUP("<Legende_8>",Uebersetzungen!$B$3:$F$33,Uebersetzungen!$B$2+1,FALSE) -> GemeindeTyp 4 - Intermediäre Gemeinde
A38: =VLOOKUP("<Legende_9>",Uebersetzungen!$B$3:$F$33,Uebersetzungen!$B$2+1,FALSE) -> GemeindeTyp 5 - Ländliche Gemeinde
A40: =VLOOKUP("<Quelle>",Uebersetzungen!$B$3:$F$33,Uebersetzungen!$B$2+1,FALSE) -> Quelle: BFS - Schweizerischer Wohnimmobilienpreisindex, IMPI
A41: =VLOOKUP("<CopyRight>",Uebersetzungen!$B$3:$F$33,Uebersetzungen!$B$2+1,FALSE) -> © BFS 2025
A42: =VLOOKUP("<Auskunft>",Uebersetzungen!$B$3:$F$33,Uebersetzungen!$B$2+1,FALSE) -> Auskunft: Bundesamt für Statistik (BFS), IMPI@bfs.admin.ch, Tel. +41 58 463 60 69

Sheet Uebersetzungen
A1: Tabelle | B1: Code | C1: DE | D1: FR | E1: IT | F1: EN
A2: Sprache | B2: 1
A3: T1 | B3: <T1_Ti> | C3: Statistische Kennzahlen, 4. Quartal 2024 | D3: Les chiffres statistiques clés, 4e trimestre 2024 | E3: Dati statistici chiave, 4° trimestre 2024 | F3: Statistical key figures, 4th quarter 2024
B4: <T1_UTi> | C4: Schweizerischer Wohnimmobilienpreisindex, IMPI | D4: Indice suisse des prix de l'immobilier résidentiel, IMPI | E4: Indice svizzero dei prezzi degli immobili residenziali, IMPI | F4: Swiss Residential Property Price Index, IMPI
B5: <T1_SpaltenTitel_1> | C5: Totalindex und Subindizes | D5: Indice total et sous-indices | E5: Indice totale e sottoindici | F5: Total index and sub-indices
B6: <T1_SpaltenTitel_2> | C6: Gewicht in % | D6: poids en % | E6: pesi in % | F6: Weight in %
B7: <T1_SpaltenTitel_3> | C7: Index (Basis: Q4 2019 = 100) | D7: Indice (Base: 4e trim. 2019=100) | E7: Indice (base: 4° trim. 2019=100) | F7: Index (Base: Q4 2019 = 100)
B8: <T1_SpaltenTitel_4> | C8: Veränderung (in %) zum | D8: Variation (en %) par rapport au | E8: Variazione (in %) rispetto al | F8: Change (in %) compared to
B9: <T1_SpaltenTitel_5> | C9: Vorquartal | D9: trim. précédent | E9: trim. precedente | F9: previous quarter
B10: <T1_SpaltenTitel_6> | C10: Q4 2023 | D10: 4e trim. 2023 | E10: 4° trim. 2023 | F10: Q4 2023
B11: <T1_SpaltenTitel_7> | C11: Beitrag zur Veränderung gegenüber Vorquartal | D11: Contribution à la variation par rapport au trim. précédent | E11: Contributo alla variazione rispetto al trim. precedente | F11: Contribution to the change compared to previous quarter
B13: <Zeilentitel_1> | C13: Total | D13: Total | E13: Totale | F13: Total
B14: <Zeilentitel_2> | C14: EFH | D14: MI | E14: CU | F14: SFH
B15: <Zeilentitel_3> | C15: EGW | D15: PPE | E15: APP | F15: CONDO
B16: <Zeilentitel_4> | C16: GemeindeTyp 1 | D16: Type de communes 1 | E16: Tipo di Comune 1 | F16: Type of municipality 1
... B33: <Auskunft> | C33: Auskunft: Bundesamt für Statistik (BFS), IMPI@bfs.admin.ch, Tel. +41 58 463 60 69 | D33: Renseignements: Office fédéral de la statistique (OFS), IMPI@bfs.admin.ch, Tel. +41 58 463 60 69 | E33: Informazioni: Ufficio federale di statistica (UST), IMPI@bfs.admin.ch, tel. +41 58 463 60 69 | F33: Information: Federal Statistical Office (FSO), IMPI@bfs.admin.ch, Tel. +41 58 463 60 69
