Workbook

Sheet T4
A1: Sprache / Langue / Lingua / Language
A7: =VLOOKUP("<Titel>",Uebersetzungen!$B$3:$F$59,Uebersetzungen!B$2+1,FALSE) -> Veränderungsraten gegenüber dem gleichen Quartal im Vorjahr (in %), 1. Quartal 2018 - 1. Quartal 2025
A8: =VLOOKUP("<Untertitel_1>",Uebersetzungen!$B$3:$F$59,Uebersetzungen!B$2+1,FALSE) -> Schweizerischer Wohnimmobilienpreisindex, IMPI
B10: =VLOOKUP("<Untertitel_2>",Uebersetzungen!$B$3:$F$70,Uebersetzungen!$B$2+1,FALSE) -> Wohneigentum | H10: =VLOOKUP("<Untertitel_3>",Uebersetzungen!$B$3:$F$70,Uebersetzungen!$B$2+1,FALSE) -> Einfamilienhäuser | N10: =VLOOKUP("<Untertitel_4>",Uebersetzungen!$B$3:$F$70,Uebersetzungen!$B$2+1,FALSE) -> Eigentumswohnungen
A11: =VLOOKUP("<ZeilenTitel_1>",Uebersetzungen!$B$3:$F$70,Uebersetzungen!$B$2+1,FALSE) -> Totalindex und Subindizes (Basis: Q4 2019 = 100) | B11: =VLOOKUP("<Spaltentitel_1>",Uebersetzungen!$B$3:$F$82,Uebersetzungen!$B$2+1,FALSE) -> Total | C11: =VLOOKUP("<Spaltentitel_4>",Uebersetzungen!$B$3:$F$82,Uebersetzungen!$B$2+1,FALSE) -> GemeindeTyp 1 | D11: =VLOOKUP("<Spaltentitel_5>",Uebersetzungen!$B$3:$F$82,Uebersetzungen!$B$2+1,FALSE) -> GemeindeTyp 2 | E11: =VLOOKUP("<Spaltentitel_6>",Uebersetzungen!$B$3:$F$82,Uebersetzungen!$B$2+1,FALSE) -> GemeindeTyp 3 | F11: =VLOOKUP("<Spaltentitel_7>",Uebersetzungen!$B$3:$F$82,Uebersetzungen!$B$2+1,FALSE) -> GemeindeTyp 4 | G11: =VLOOKUP("<Spaltentitel_8>",Uebersetzungen!$B$3:$F$82,Uebersetzungen!$B$2+1,FALSE) -> GemeindeTyp 5 | H11: =VLOOKUP("<Spaltentitel_2>",Uebersetzungen!$B$3:$F$82,Uebersetzungen!$B$2+1,FALSE) -> EFH | I11: =VLOOKUP("<Spaltentitel_4>",Uebersetzungen!$B$3:$F$82,Uebersetzungen!$B$2+1,FALSE) -> GemeindeTyp 1 | J11: =VLOOKUP("<Spaltentitel_5>",Uebersetzungen!$B$3:$F$82,Uebersetzungen!$B$2+1,FALSE) -> GemeindeTyp 2 | K11: =VLOOKUP("<Spaltentitel_6>",Uebersetzungen!$B$3:$F$82,Uebersetzungen!$B$2+1,FALSE) -> GemeindeTyp 3 | L11: =VLOOKUP("<Spaltentitel_7>",Uebersetzungen!$B$3:$F$82,Uebersetzungen!$B$2+1,FALSE) -> GemeindeTyp 4 | M11: =VLOOKUP("<Spaltentitel_8>",Uebersetzungen!$B$3:$F$82,Uebersetzungen!$B$2+1,FALSE) -> GemeindeTyp 5 | N11: =VLOOKUP("<Spaltentitel_3>",Uebersetzungen!$B$3:$F$82,Uebersetzungen!$B$2+1,FALSE) -> EGW | O11: =VLOOKUP("<Spaltentitel_4>",Uebersetzungen!$B$3:$F$82,Uebersetzungen!$B$2+1,FALSE) -> GemeindeTyp 1 | P11: =VLOOKUP("<Spaltentitel_5>",Uebersetzungen!$B$3:$F$82,Uebersetzungen!$B$2+1,FALSE) -> GemeindeTyp 2 | Q11: =VLOOKUP("<Spaltentitel_6>",Uebersetzungen!$B$3:$F$82,Uebersetzungen!$B$2+1,FALSE) -> GemeindeTyp 3 | R11: =VLOOKUP("<Spaltentitel_7>",Uebersetzungen!$B$3:$F$82,Uebersetzungen!$B$2+1,FALSE) -> GemeindeTyp 4 | S11: =VLOOKUP("<Spaltentitel_8>",Uebersetzungen!$B$3:$F$82,Uebersetzungen!$B$2+1,FALSE) -> GemeindeTyp 5
A12: =VLOOKUP("<ZeilenTitel_2>",Uebersetzungen!$B$3:$F$70,Uebersetzungen!$B$2+1,FALSE) -> Q1 2018 | B12: 3 | C12: 3.3 | D12: 4.6 | E12: 2.3 | F12: 2.4 | G12: 2 | H12: 2.9 | I12: 2 | J12: 4 | K12: 4.4 | L12: 2.5 | M12: 3.3 | N12: 3.1 | O12: 4.5 | P12: 5.2 | Q12: 0.5 | R12: 2.2 | S12: -0.3
A13: =VLOOKUP("<ZeilenTitel_3>",Uebersetzungen!$B$3:$F$70,Uebersetzungen!$B$2+1,FALSE) -> Q2 2018 | B13: 3.3 | C13: 4.2 | D13: 3.7 | E13: 3.3 | F13: 2.6 | G13: 2.2 | H13: 3 | I13: 3.5 | J13: 2.8 | K13: 5.3 | L13: 2.2 | M13: 2.8 | N13: 3.5 | O13: 4.7 | P13: 4.4 | Q13: 1.8 | R13: 3 | S13: 1.3
A14: =VLOOKUP("<ZeilenTitel_4>",Uebersetzungen!$B$3:$F$70,Uebersetzungen!$B$2+1,FALSE) -> Q3 2018 | B14: 1.9 | C14: 1.9 | D14: 4.6 | E14: 1.5 | F14: 1 | G14: 0.6 | H14: 1.8 | I14: 2.7 | J14: 4.1 | K14: 1 | L14: 0.8 | M14: 0.4 | N14: 2 | O14: 1.2 | P14: 5.1 | Q14: 1.9 | R14: 1.2 | S14: 0.9
A15: =VLOOKUP("<ZeilenTitel_5>",Uebersetzungen!$B$3:$F$70,Uebersetzungen!$B$2+1,FALSE) -> Q4 2018 | B15: 3.7 | C15: 2.8 | D15: 2.6 | E15: 3 | F15: 5.1 | G15: 4.6 | H15: 4.6 | I15: 4.1 | J15: 5.5 | K15: 2.3 | L15: 5.4 | M15: 4.1 | N15: 2.7 | O15: 1.6 | P15: 0.3 | Q15: 3.5 | R15: 4.7 | S15: 5.6
A16: =VLOOKUP("<ZeilenTitel_6>",Uebersetzungen!$B$3:$F$70,Uebersetzungen!$B$2+1,FALSE) -> Q1 2019 | B16: 4.8 | C16: 3.9 | D16: 4.1 | E16: 3.9 | F16: 5.8 | G16: 5.9 | H16: 5.1 | I16: 5.1 | J16: 4.9 | K16: 1 | L16: 5.6 | M16: 6 | N16: 4.4 | O16: 2.8 | P16: 3.4 | Q16: 6.4 | R16: 6 | S16: 5.9
A17: =VLOOKUP("<ZeilenTitel_7>",Uebersetzungen!$B$3:$F$70,Uebersetzungen!$B$2+1,FALSE) -> Q2 2019 | B17: 3.7 | C17: 4.7 | D17: 3.4 | E17: 3.5 | F17: 3.8 | G17: 1.9 | H17: 4.3 | I17: 6.2 | J17: 3.3 | K17: 2.3 | L17: 4.8 | M17: 2.8 | N17: 3 | O17: 3.4 | P17: 3.4 | Q17: 4.6 | R17: 2.5 | S17: 0.6
A18: =VLOOKUP("<ZeilenTitel_8>",Uebersetzungen!$B$3:$F$70,Uebersetzungen!$B$2+1,FALSE) -> Q3 2019 | B18: 3.1 | C18: 2.3 | D18: 3.4 | E18: 2.4 | F18: 3.9 | G18: 3.7 | H18: 3.6 | I18: 1.5 | J18: 4.6 | K18: 2.6 | L18: 4.3 | M18: 4.9 | N18: 2.8 | O18: 2.9 | P18: 2.4 | Q18: 2.5 | R18: 3.3 | S18: 2
A19: =VLOOKUP("<ZeilenTitel_9>",Uebersetzungen!$B$3:$F$70,Uebersetzungen!$B$2+1,FALSE) -> Q4 2019 | B19: 3.4 | C19: 5.5 | D19: 3 | E19: 1.8 | F19: 2.3 | G19: 2.9 | H19: 3.5 | I19: 4.3 | J19: 2.8 | K19: 3.8 | L19: 2.6 | M19: 4.3 | N19: 3.4 | O19: 6.5 | P19: 3.1 | Q19: 0.5 | R19: 1.9 | S19: 0.7
A20: =VLOOKUP("<ZeilenTitel_10>",Uebersetzungen!$B$3:$F$70,Uebersetzungen!$B$2+1,FALSE) -> Q1 2020 | B20: 1.7 | C20: 3.4 | D20: 1.2 | E20: 0.6 | F20: 0.4 | G20: 1.5 | H20: 2.5 | I20: 5.4 | J20: 2.1 | K20: 2.6 | L20: 0.1 | M20: 2.1 | N20: 0.9 | O20: 1.9 | P20: 0.5 | Q20: -0.7 | R20: 0.7 | S20: 0.5
A21: =VLOOKUP("<ZeilenTitel_11>",Uebersetzungen!$B$3:$F$70,Uebersetzungen!$B$2+1,FALSE) -> Q2 2020 | B21: 2.5 | C21: 2.9 | D21: 2.3 | E21: 0.7 | F21: 2.7 | G21: 2.8 | H21: 2.4 | I21: 2.5 | J21: 2.1 | K21: 1.8 | L21: 2.9 | M21: 2 | N21: 2.6 | O21: 3.2 | P21: 2.4 | Q21: 0 | R21: 2.4 | S21: 4.2
A22: =VLOOKUP("<ZeilenTitel_12>",Uebersetzungen!$B$3:$F$70,Uebersetzungen!$B$2+1,FALSE) -> Q3 2020 | B22: 2.6 | C22: 4.5 | D22: 0.9 | E22: 2.5 | F22: 1.3 | G22: 3.3 | H22: 3.1 | I22: 5.9 | J22: 1.1 | K22: 2.9 | L22: 1.1 | M22: 4.2 | N22: 2.1 | O22: 3.3 | P22: 0.7 | Q22: 2.2 | R22: 1.5 | S22: 2
A23: =VLOOKUP("<ZeilenTitel_13>",Uebersetzungen!$B$3:$F$70,Uebersetzungen!$B$2+1,FALSE) -> Q4 2020 | B23: 3.1 | C23: 2.6 | D23: 4 | E23: 2.9 | F23: 2.9 | G23: 3.7 | H23: 3.2 | I23: 3.7 | J23: 3.7 | K23: 1.2 | L23: 2.5 | M23: 3.8 | N23: 3.1 | O23: 1.8 | P23: 4.2 | Q23: 4.1 | R23: 3.4 | S23: 3.5
A24: =VLOOKUP("<ZeilenTitel_14>",Uebersetzungen!$B$3:$F$70,Uebersetzungen!$B$2+1,FALSE) -> Q1 2021 | B24: 3.9 | C24: 4.7 | D24: 4 | E24: 5.6 | F24: 3.1 | G24: 2.4 | H24: 3.8 | I24: 3.9 | J24: 3.6 | K24: 5.8 | L24: 4.8 | M24: 1.8 | N24: 3.9 | O24: 5.4 | P24: 4.2 | Q24: 5.4 | R24: 1.2 | S24: 3.3
A25: =VLOOKUP("<ZeilenTitel_15>",Uebersetzungen!$B$3:$F$70,Uebersetzungen!$B$2+1,FALSE) -> Q2 2021 | B25: 4.7 | C25: 4.9 | D25: 3.1 | E25: 6.3 | F25: 4.9 | G25: 5.1 | H25: 5.4 | I25: 6.6 | J25: 3 | K25: 6.6 | L25: 5.3 | M25: 5.5 | N25: 4.1 | O25: 3.6 | P25: 3.2 | Q25: 6 | R25: 4.5 | S25: 4.7
A26: =VLOOKUP("<ZeilenTitel_16>",Uebersetzungen!$B$3:$F$70,Uebersetzungen!$B$2+1,FALSE) -> Q3 2021 | B26: 6.9 | C26: 7.4 | D26: 5.6 | E26: 6.8 | F26: 7.6 | G26: 6.8 | H26: 6.7 | I26: 5.4 | J26: 5 | K26: 9.2 | L26: 9.1 | M26: 5.6 | N26: 7.2 | O26: 9 | P26: 6 | Q26: 5.1 | R26: 6 | S26: 8.7
A27: =VLOOKUP("<ZeilenTitel_17>",Uebersetzungen!$B$3:$F$70,Uebersetzungen!$B$2+1,FALSE) -> Q4 2021 | B27: 7.3 | C27: 6.6 | D27: 8.1 | E27: 6.8 | F27: 7.3 | G27: 8.1 | H27: 8 | I27: 6.3 | J27: 9.2 | K27: 11.6 | L27: 7.9 | M27: 7.9 | N27: 6.7 | O27: 6.9 | P27: 7.3 | Q27: 3.5 | R27: 6.6 | S27: 8.3
A28: =VLOOKUP("<ZeilenTitel_18>",Uebersetzungen!$B$3:$F$70,Uebersetzungen!$B$2+1,FALSE) -> Q1 2022 | B28: 7 | C28: 7.8 | D28: 6.1 | E28: 2.7 | F28: 7.7 | G28: 7.8 | H28: 8.5 | I28: 10.8 | J28: 8.6 | K28: 3.5 | L28: 7.2 | M28: 9.1 | N28: 5.6 | O28: 5.6 | P28: 4.3 | Q28: 2 | R28: 8.3 | S28: 6
A29: =VLOOKUP("<ZeilenTitel_19>",Uebersetzungen!$B$3:$F$70,Uebersetzungen!$B$2+1,FALSE) -> Q2 2022 | B29: 7.5 | C29: 9.7 | D29: 6.5 | E29: 3.4 | F29: 6.5 | G29: 8.6 | H29: 7.9 | I29: 8.8 | J29: 7.6 | K29: 6 | L29: 7.3 | M29: 8.2 | N29: 7.1 | O29: 10.4 | P29: 5.6 | Q29: 1.5 | R29: 5.5 | S29: 9.2
A30: =VLOOKUP("<ZeilenTitel_20>",Uebersetzungen!$B$3:$F$70,Uebersetzungen!$B$2+1,FALSE) -> Q3 2022 | B30: 6.3 | C30: 7.8 | D30: 5.2 | E30: 3.9 | F30: 6.9 | G30: 5.2 | H30: 6.8 | I30: 8.4 | J30: 8.8 | K30: 4.4 | L30: 5.5 | M30: 5.9 | N30: 5.9 | O30: 7.4 | P30: 2.7 | Q30: 3.6 | R30: 8.5 | S30: 4.3
A31: =VLOOKUP("<ZeilenTitel_21>",Uebersetzungen!$B$3:$F$70,Uebersetzungen!$B$2+1,FALSE) -> Q4 2022 | B31: 4.8 | C31: 6.8 | D31: 1 | E31: 3.4 | F31: 5.1 | G31: 5.8 | H31: 6.1 | I31: 7.3 | J31: 3.1 | K31: 2.1 | L31: 6.4 | M31: 7.7 | N31: 3.7 | O31: 6.4 | P31: -0.5 | Q31: 4.2 | R31: 3.7 | S31: 3.3
A32: =VLOOKUP("<ZeilenTitel_22>",Uebersetzungen!$B$3:$F$70,Uebersetzungen!$B$2+1,FALSE) -> Q1 2023 | B32: 3.9 | C32: 4 | D32: 3.3 | E32: 5.7 | F32: 2.9 | G32: 4.8 | H32: 4.1 | I32: 2.5 | J32: 4.4 | K32: 6.9 | L32: 3.9 | M32: 4.7 | N32: 3.8 | O32: 5.2 | P32: 2.5 | Q32: 4.8 | R32: 1.7 | S32: 5.2
A33: =VLOOKUP("<ZeilenTitel_23>",Uebersetzungen!$B$3:$F$70,Uebersetzungen!$B$2+1,FALSE) -> Q2 2023 | B33: 2.4 | C33: 1.4 | D33: 3.8 | E33: 4.4 | F33: 1.7 | G33: 2.4 | H33: 2.7 | I33: 1.6 | J33: 5.4 | K33: 5.9 | L33: 1.2 | M33: 2.6 | N33: 2.1 | O33: 1.1 | P33: 2.7 | Q33: 3.2 | R33: 2.3 | S33: 2.3
A34: =VLOOKUP("<ZeilenTitel_24>",Uebersetzungen!$B$3:$F$70,Uebersetzungen!$B$2+1,FALSE) -> Q3 2023 | B34: 1.3 | C34: 1.2 | D34: 1.8 | E34: 2 | F34: 0 | G34: 2.3 | H34: 1.2 | I34: 0.3 | J34: 2 | K34: 1.7 | L34: 1.1 | M34: 1.7 | N34: 1.4 | O34: 1.8 | P34: 1.6 | Q34: 2.1 | R34: -1.2 | S34: 3.3
A35: =VLOOKUP("<ZeilenTitel_25>",Uebersetzungen!$B$3:$F$70,Uebersetzungen!$B$2+1,FALSE) -> Q4 2023 | B35: 1.2 | C35: 1.6 | D35: 1.1 | E35: 2 | F35: 1.9 | G35: -0.8 | H35: -0.2 | I35: 2 | J35: -0.7 | K35: -0.5 | L35: 0.3 | M35: -3.4 | N35: 2.5 | O35: 1.4 | P35: 2.4 | Q35: 3.8 | R35: 3.7 | S35: 3.1
A36: =VLOOKUP("<ZeilenTitel_26>",Uebersetzungen!$B$3:$F$70,Uebersetzungen!$B$2+1,FALSE) -> Q1 2024 | B36: 1.5 | C36: 1.3 | D36: 1.9 | E36: 3.8 | F36: 1.3 | G36: 0.3 | H36: 0.5 | I36: -0.9 | J36: 0 | K36: 3.7 | L36: 1.9 | M36: -1 | N36: 2.4 | O36: 2.9 | P36: 3.2 | Q36: 3.7 | R36: 0.7 | S36: 2
A37: =VLOOKUP("<ZeilenTitel_27>",Uebersetzungen!$B$3:$F$70,Uebersetzungen!$B$2+1,FALSE) -> Q2 2024 | B37: 1.4 | C37: 0.9 | D37: 0.6 | E37: 3.2 | F37: 2.1 | G37: 0.9 | H37: 1 | I37: 1.1 | J37: 0.3 | K37: 1.2 | L37: 2.1 | M37: -0.4 | N37: 1.7 | O37: 0.7 | P37: 0.8 | Q37: 4.6 | R37: 2.2 | S37: 2.9
A38: =VLOOKUP("<ZeilenTitel_28>",Uebersetzungen!$B$3:$F$70,Uebersetzungen!$B$2+1,FALSE) -> Q3 2024 | B38: 1.7 | C38: 0.7 | D38: 2.5 | E38: 4.1 | F38: 2 | G38: 1.3 | H38: 1.5 | I38: 2.1 | J38: 0.1 | K38: 3.4 | L38: 1.3 | M38: 0.8 | N38: 2 | O38: -0.3 | P38: 4.4 | Q38: 4.5 | R38: 2.8 | S38: 1.9
A39: =VLOOKUP("<ZeilenTitel_29>",Uebersetzungen!$B$3:$F$70,Uebersetzungen!$B$2+1,FALSE) -> Q4 2024 | B39: 2.4 | C39: 3.8 | D39: 2.6 | E39: 4.7 | F39: 0.3 | G39: 1.6 | H39: 1.4 | I39: 0.7 | J39: 2.4 | K39: 6.4 | L39: 0.1 | M39: 1.3 | N39: 3.2 | O39: 6 | P39: 2.7 | Q39: 3.5 | R39: 0.5 | S39: 2.1
A40: =VLOOKUP("<ZeilenTitel_30>",Uebersetzungen!$B$3:$F$70,Uebersetzungen!$B$2+1,FALSE) -> Q1 2025 | B40: 4.1 | C40: 4.5 | D40: 3.8 | E40: 2.7 | F40: 4.4 | G40: 4.3 | H40: 3.6 | I40: 3 | J40: 4.2 | K40: 1.9 | L40: 3.7 | M40: 4.6 | N40: 4.6 | O40: 5.5 | P40: 3.5 | Q40: 3.4 | R40: 5.4 | S40: 3.9
A41: =VLOOKUP("<Legende_1>",Uebersetzungen!$B$3:$F$59,Uebersetzungen!B$2+1,FALSE) -> Legende:
A42: =VLOOKUP("<Legende_2>",Uebersetzungen!$B$3:$F$59,Uebersetzungen!B$2+1,FALSE) -> Total - Wohneigentum (EFH und EGW)
A43: =VLOOKUP("<Legende_3>",Uebersetzungen!$B$3:$F$59,Uebersetzungen!B$2+1,FALSE) -> EFH - Einfamilienhäuser
A44: =VLOOKUP("<Legende_4>",Uebersetzungen!$B$3:$F$59,Uebersetzungen!B$2+1,FALSE) -> EGW - Eigentumswohnungen
A45: =VLOOKUP("<Legende_5>",Uebersetzungen!$B$3:$F$59,Uebersetzungen!B$2+1,FALSE) -> GemeindeTyp 1 - Städtische Gemeinde einer grossen Agglomeration
A46: =VLOOKUP("<Legende_6>",Uebersetzungen!$B$3:$F$59,Uebersetzungen!B$2+1,FALSE) -> GemeindeTyp 2 - Städtische Gemeinde einer mittelgrossen Agglomeration
A47: =VLOOKUP("<Legende_7>",Uebersetzungen!$B$3:$F$59,Uebersetzungen!B$2+1,FALSE) -> GemeindeTyp 3 - Städtische Gemeinde einer kleinen oder ausserhalb einer Agglomeration
A48: =VLOOKUP("<Legende_8>",Uebersetzungen!$B$3:$F$59,Uebersetzungen!B$2+1,FALSE) -> GemeindeTyp 4 - Intermediäre Gemeinde
A49: =VLOOKUP("<Legende_9>",Uebersetzungen!$B$3:$F$59,Uebersetzungen!B$2+1,FALSE) -> GemeindeTyp 5 - Ländliche Gemeinde
A51: =VLOOKUP("<Quelle>",Uebersetzungen!$B$3:$F$59,Uebersetzungen!B$2+1,FALSE) -> Quelle: BFS - Schweizerischer Wohnimmobilienpreisindex, IMPI
A52: =VLOOKUP("<CopyRight>",Uebersetzungen!$B$3:$F$59,Uebersetzungen!B$2+1,FALSE) -> © BFS 2025
A53: =VLOOKUP("<Auskunft>",Uebersetzungen!$B$3:$F$59,Uebersetzungen!B$2+1,FALSE) -> Auskunft: Bundesamt für Statistik (BFS), IMPI@bfs.admin.ch, Tel. +41 58 463 60 69

Sheet Uebersetzungen
A1: Tabelle | B1: Code | C1: DE | D1: FR | E1: IT | F1: EN
A2: Sprache | B2: 1
A3: T4 | B3: <Titel> | C3: Veränderungsraten gegenüber dem gleichen Quartal im Vorjahr (in %), 1. Quartal 2018 - 1. Quartal 2025 | D3: Taux de variation par rapport au même trimestre de l'année précédente (en %), 1er trim. 2018 - 1er trim. 2025 | E3: Tassi di variazione rispetto al medesimo trimestre dell'anno precedente (in %), 1° trim. 2018 - 1° trim. 2025 | F3: Rates of change compared with the same quarter of the previous year (in %), 1st quarter 2018 - 1st quarter 2025
B4: <Untertitel_1> | C4: Schweizerischer Wohnimmobilienpreisindex, IMPI | D4: Indice suisse des prix de l'immobilier résidentiel, IMPI | E4: Indice svizzero dei prezzi degli immobili residenziali, IMPI | F4: Swiss Residential Property Price Index, IMPI
B5: <Untertitel_2> | C5: Wohneigentum | D5: Logements en propriété | E5: Proprietà residenziale | F5: Residential property
B6: <Untertitel_3> | C6: Einfamilienhäuser | D6: Maisons individuelles | E6: Case unifamiliari | F6: Single-family houses
B7: <Untertitel_4> | C7: Eigentumswohnungen | D7: Appartements en propriété | E7: Appartementi di proprietà | F7: Condominiums
B8: <ZeilenTitel_1> | C8: Totalindex und Subindizes (Basis: Q4 2019 = 100) | D8: Indice total et sous-indices (Base: 4e trim. 2019 = 100) | E8: Indice totale e sottoindici (base: 4° trim. 2019 = 100) | F8: Total index and sub-indexes (Base: Q4 2019 = 100)
B9: <ZeilenTitel_2> | C9: Q1 2018 | D9: 1er trim. 2018 | E9: 1° trim. 2018 | F9: Q1 2018
B10: <ZeilenTitel_3> | C10: Q2 2018 | D10: 2e trim. 2018 | E10: 2° trim. 2018 | F10: Q2 2018
B11: <ZeilenTitel_4> | C11: Q3 2018 | D11: 3e trim. 2018 | E11: 3° trim. 2018 | F11: Q3 2018
B12: <ZeilenTitel_5> | C12: Q4 2018 | D12: 4e trim. 2018 | E12: 4° trim. 2018 | F12: Q4 2018
B13: <ZeilenTitel_6> | C13: Q1 2019 | D13: 1er trim. 2019 | E13: 1° trim. 2019 | F13: Q1 2019
B14: <ZeilenTitel_7> | C14: Q2 2019 | D14: 2e trim. 2019 | E14: 2° trim. 2019 | F14: Q2 2019
B15: <ZeilenTitel_8> | C15: Q3 2019 | D15: 3e trim. 2019 | E15: 3° trim. 2019 | F15: Q3 2019
... B37: <ZeilenTitel_30> | C37: Q1 2025 | D37: 1er trim. 2025 | E37: 1° trim. 2025 | F37: Q1 2025
A39: T1-T5 | B39: <Spaltentitel_1> | C39: Total | D39: Total | E39: Totale | F39: Total
B40: <Spaltentitel_2> | C40: EFH | D40: MI | E40: CU | F40: SFH
B41: <Spaltentitel_3> | C41: EGW | D41: PPE | E41: APP | F41: CONDO
B42: <Spaltentitel_4> | C42: GemeindeTyp 1 | D42: Type de communes 1 | E42: Tipo di Comune 1 | F42: Type of municipality 1
B43: <Spaltentitel_5> | C43: GemeindeTyp 2 | D43: Type de communes 2 | E43: Tipo di Comune 2 | F43: Type of municipality 2
B44: <Spaltentitel_6> | C44: GemeindeTyp 3 | D44: Type de communes 3 | E44: Tipo di Comune 3 | F44: Type of municipality 3
B45: <Spaltentitel_7> | C45: GemeindeTyp 4 | D45: Type de communes 4 | E45: Tipo di Comune 4 | F45: Type of municipality 4
B46: <Spaltentitel_8> | C46: GemeindeTyp 5 | D46: Type de communes 5 | E46: Tipo di Comune 5 | F46: Type of municipality 5
B48: <Legende_1> | C48: Legende: | D48: Légende: | E48: Legenda: | F48: Legend:
B49: <Legende_2> | C49: Total - Wohneigentum (EFH und EGW) | D49: Total - Logements en propriété (MI et PPE) | E49: Totale - Proprietà residenziale (CU e APP) | F49: Total - Residential property (SFH and CONDO)
B50: <Legende_3> | C50: EFH - Einfamilienhäuser | D50: MI - Maisons individuelles | E50: CU - Case unifamiliari | F50: SFH - Single-family houses
B51: <Legende_4> | C51: EGW - Eigentumswohnungen | D51: PPE - Appartements en propriété | E51: APP - Appartementi di proprietà | F51: CONDO - Condominiums
B52: <Legende_5> | C52: GemeindeTyp 1 - Städtische Gemeinde einer grossen Agglomeration | D52: Type de communes 1 - Commune urbaine d'une grande agglomération | E52: Tipo di Comune 1 - Comune urbano di un grande agglomerato | F52: Type of municipality 1 - Urban municipality of a large agglomeration
... B59: <Auskunft> | C59: Auskunft: Bundesamt für Statistik (BFS), IMPI@bfs.admin.ch, Tel. +41 58 463 60 69 | D59: Renseignements: Office fédéral de la statistique (OFS), IMPI@bfs.admin.ch, Tel. +41 58 463 60 69 | E59: Informazioni: Ufficio federale di statistica (UST), IMPI@bfs.admin.ch, tel. +41 58 463 60 69 | F59: Information: Federal Statistical Office (FSO), IMPI@bfs.admin.ch, Tel. +41 58 463 60 69
