Workbook

Sheet BAP
A1: Code | B1: ELEM1 | C1: ELEM2 | D1: Délimiteur | E1: 1 | F1: 2 | G1: 3
A2: <BASE_2020> | B2: BASE | C2: 2020 | D2: _ | E2: Basis Oktober 2020 = 100 | F2: Base octobre 2020 = 100 | G2: Base ottobre 2020 = 100
A3: <CFC_0> | B3: CFC | C3: 0 | D3: _ | E3: Grundstück | F3: Terrain | G3: Fondo
A4: <CFC_1> | B4: CFC | C4: 1 | D4: _ | E4: Vorbereitungsarbeiten | F4: Travaux préparatoires | G4: Lavori preparatori
A5: <CFC_2> | B5: CFC | C5: 2 | D5: _ | E5: Gebäude | F5: Bâtiment | G5: Edificio
A6: <CFC_3> | B6: CFC | C6: 3 | D6: _ | E6: Betriebseinrichtungen | F6: Equipements d’exploitation | G6: Attrezzature di esercizio
A7: <CFC_4> | B7: CFC | C7: 4 | D7: _ | E7: Umgebung | F7: Aménagements extérieurs | G7: Lavori esterni
A8: <CFC_5> | B8: CFC | C8: 5 | D8: _ | E8: Baunebenkosten | F8: Frais secondaires | G8: Costi secondari
A9: <CFC_6> | B9: CFC | C9: 6 | D9: _ | E9: Reserve | F9: Réserve | G9: Riserva
A10: <CFC_7> | B10: CFC | C10: 7 | D10: _ | E10: Reserve | F10: Réserve | G10: Riserva
A11: <CFC_8> | B11: CFC | C11: 8 | D11: _ | E11: Reserve | F11: Réserve | G11: Riserva
A12: <CFC_9> | B12: CFC | C12: 9 | D12: _ | E12: Ausstattung | F12: Ameublement et décoration | G12: Arredo
... A1981: <cc-05.05.05_Pied_Table_4> | B1981: cc-05.05.05 | C1981: Pied_Table_4 | D1981: _ | E1981: * Schweizerischer Baupreisindex, Teilindex Hochbau, Wert für die Schweiz insgesamt, inklusive Mehrwertsteuer | F1981: * Indice suisse des prix de la construction, indice partiel "Bâtiment", valeur pour la Suisse entière, y compris la TVA | G1981: * Indice svizzero dei prezzi della costruzione, indice parziale "Edilizia", valore per la Svizzera intera, TVA inclusa

Sheet BAP_PCO
H1: Somme de Prix_Moyen_Suisse | I1: Somme de Prix_Moyen_Leman | J1: Somme de Prix_Moyen_Mitteland | K1: Somme de Prix_Moyen_Nord-Ouest | L1: Somme de Prix_Moyen_Zurich | M1: Somme de Prix_Moyen_Orientale | N1: Somme de Prix_Moyen_Centrale | O1: Somme de Prix_Moyen_Tessin
D2: <EP_Titre> | F2: <Menge_Titre> | G2: <Einheit_Titre> | H2: <REG_01> | I2: <REG_02> | J2: <REG_03> | K2: <REG_04> | L2: <REG_05> | M2: <REG_06> | N2: <REG_07> | O2: <REG_08>
B3: <cc-05.05.02_TItre> | C3: <Date_Mois_Avril> | D3: =INDEX(Tableau1[#All],MATCH(BAP_PCO!B3,Tableau1[[#All],[Code]],0),MATCH(TEXT($P$3,0),Tableau1[#Headers],0)) -> Schweizerischer Baupreisindex - Durchschnittliche Einheitspreise in der Schweiz und in den Grossregionen | I3: =INDEX(Tableau1[#All],MATCH(BAP_PCO!C3,Tableau1[[#All],[Code]],0),MATCH(TEXT($P$3,0),Tableau1[#Headers],0))&" "&"2025" -> April 2025 | P3: 1
Q4: Sprache / Langue / Lingua
B5: <cc-05.05.02_Averstissement> | D5: =INDEX(Tableau1[#All],MATCH(BAP_PCO!B5,Tableau1[[#All],[Code]],0),MATCH(TEXT($P$3,0),Tableau1[#Headers],0)) -> Erleuterungen zu den duchschnittlichen Einheitspreisen auf dieser Tabelle: Die Durchschnittspreise sind ein regionaler Mittelwert von zum teil sehr ausgedehnte Grossregionenn (z.B. die Grossregion Espace Mittelland umfasst die Kantone BE, FR, SO, NE, JU). Auf Grund der Lage kann der einzelne Durchschnittpreis grosse positiv oder negativ Unterschiede aufweisen. Die Durchschnittspreise sind für die angegeben Arbeiten und Mengen gültig. Für Kleinaufträge mit Kleinmengen können grössere positive Abweichungen vorkommen. Die aufgeführten Beschreibungen sind Stichworte zu den NPK Positionen. Die kompletten Beschreibungen zu jeder Position finden Sie beim CRB ( Schweizerische Zentralstelle für Baurationalisierung ) unter www.crb.ch
D10: =INDEX(Tableau1[#All],MATCH(BAP_PCO!D2,Tableau1[[#All],[Code]],0),MATCH(TEXT($P$3,0),Tableau1[#Headers],0)) -> NPK Position | F10: =INDEX(Tableau1[#All],MATCH(BAP_PCO!F2,Tableau1[[#All],[Code]],0),MATCH(TEXT($P$3,0),Tableau1[#Headers],0)) -> Menge | G10: =INDEX(Tableau1[#All],MATCH(BAP_PCO!G2,Tableau1[[#All],[Code]],0),MATCH(TEXT($P$3,0),Tableau1[#Headers],0)) -> Einheit | H10: =INDEX(Tableau1[#All],MATCH(BAP_PCO!H2,Tableau1[[#All],[Code]],0),MATCH(TEXT($P$3,0),Tableau1[#Headers],0)) -> Schweiz | I10: =INDEX(Tableau1[#All],MATCH(BAP_PCO!I2,Tableau1[[#All],[Code]],0),MATCH(TEXT($P$3,0),Tableau1[#Headers],0)) -> Genferseeregion (VD,VS,GE) | J10: =INDEX(Tableau1[#All],MATCH(BAP_PCO!J2,Tableau1[[#All],[Code]],0),MATCH(TEXT($P$3,0),Tableau1[#Headers],0)) -> Espace Mittelland (BE, FR, SO, NE, JU) | K10: =INDEX(Tableau1[#All],MATCH(BAP_PCO!K2,Tableau1[[#All],[Code]],0),MATCH(TEXT($P$3,0),Tableau1[#Headers],0)) -> Nordwestschweiz (BS, BL, AG) | L10: =INDEX(Tableau1[#All],MATCH(BAP_PCO!L2,Tableau1[[#All],[Code]],0),MATCH(TEXT($P$3,0),Tableau1[#Headers],0)) -> Zürich (ZH) | M10: =INDEX(Tableau1[#All],MATCH(BAP_PCO!M2,Tableau1[[#All],[Code]],0),MATCH(TEXT($P$3,0),Tableau1[#Headers],0)) -> Ostschweiz (GL, SH, AR, AI, SG, GR, TG) | ... O10: =INDEX(Tableau1[#All],MATCH(BAP_PCO!O2,Tableau1[[#All],[Code]],0),MATCH(TEXT($P$3,0),Tableau1[#Headers],0)) -> Tessin (TI)
B11: <Branche_1> | D11: =INDEX(Tableau1[#All],MATCH(BAP_PCO!B11,Tableau1[[#All],[Code]],0),MATCH(TEXT($P$3,0),Tableau1[#Headers],0)) -> 1 Erdarbeiten
A12: 101232 | B12: <EPLONG_211.111.111> | C12: <Einheit_m3> | D12: '211.111.111 | E12: =INDEX(Tableau1[#All],MATCH(BAP_PCO!B12,Tableau1[[#All],[Code]],0),MATCH(TEXT($P$3,0),Tableau1[#Headers],0)) -> Oberboden maschinell abtragen. Flächen horizontal oder mit Neigung bis 1:4. Volumen fest. Inkl. direkter Auflad auf Transportmittel oder seitlicher Lagerung. Schichtdicke bis m 0,20 | F12: 100 | G12: =INDEX(Tableau1[#All],MATCH(BAP_PCO!C12,Tableau1[[#All],[Code]],0),MATCH(TEXT($P$3,0),Tableau1[#Headers],0)) -> m3 | H12: 7.82 | I12: 12.02 | J12: 6.88 | K12: 5.13 | L12: 7.13 | M12: 6.01 | N12: 6.38 | O12: 10.3
A13: 101234 | B13: <EPLONG_211.211.101> | C13: <Einheit_m3> | D13: '211.211.101 | E13: =INDEX(Tableau1[#All],MATCH(BAP_PCO!B13,Tableau1[[#All],[Code]],0),MATCH(TEXT($P$3,0),Tableau1[#Headers],0)) -> Baugrubenaushub maschinell. Inkl. Auflad auf Transportmittel oder seitlicher Lagerung. Offene Baugruben. Aushubtiefe bis m 5,00 | F13: 1500 | G13: =INDEX(Tableau1[#All],MATCH(BAP_PCO!C13,Tableau1[[#All],[Code]],0),MATCH(TEXT($P$3,0),Tableau1[#Headers],0)) -> m3 | H13: 6.64 | I13: 8.81 | J13: 6.37 | K13: 4.92 | L13: 5.74 | M13: 6.56 | N13: 5.33 | O13: 8.43
A14: 101238 | B14: <EPLONG_211.523.104> | C14: <Einheit_m3> | D14: '211.523.104 | E14: =INDEX(Tableau1[#All],MATCH(BAP_PCO!B14,Tableau1[[#All],[Code]],0),MATCH(TEXT($P$3,0),Tableau1[#Headers],0)) -> Primärmaterial: Kies, Geröll. Kiessand I | F14: 25 | G14: =INDEX(Tableau1[#All],MATCH(BAP_PCO!C14,Tableau1[[#All],[Code]],0),MATCH(TEXT($P$3,0),Tableau1[#Headers],0)) -> m3 | H14: 55.57 | I14: 59.67 | J14: 48.06 | K14: 50.11 | L14: 54.4 | M14: 66.75 | N14: 59.43 | O14: 45.5
A15: 101240 | B15: <EPLONG_211.651.111> | C15: <Einheit_m3> | D15: '211.651.111 | E15: =INDEX(Tableau1[#All],MATCH(BAP_PCO!B15,Tableau1[[#All],[Code]],0),MATCH(TEXT($P$3,0),Tableau1[#Headers],0)) -> Auffüllungen mit seitlich gelagertem oder zugeführtem Material. Maschinell. Volumen fest | F15: 700 | G15: =INDEX(Tableau1[#All],MATCH(BAP_PCO!C15,Tableau1[[#All],[Code]],0),MATCH(TEXT($P$3,0),Tableau1[#Headers],0)) -> m3 | H15: 12.61 | I15: 17.15 | J15: 11.04 | K15: 11.4 | L15: 10.99 | M15: 12.26 | N15: 9.67 | O15: 14.27
A16: 101235 | B16: <EPLONG_211.282.112> | C16: <Einheit_m3> | D16: '211.282.112 | E16: =INDEX(Tableau1[#All],MATCH(BAP_PCO!B16,Tableau1[[#All],[Code]],0),MATCH(TEXT($P$3,0),Tableau1[#Headers],0)) -> Fundationsschichten auf Planum, Schichtdicke m 0,26 bis 0,30 | F16: 25 | G16: =INDEX(Tableau1[#All],MATCH(BAP_PCO!C16,Tableau1[[#All],[Code]],0),MATCH(TEXT($P$3,0),Tableau1[#Headers],0)) -> m3 | H16: 14.65 | I16: 19.73 | J16: 12.56 | K16: 12.5 | L16: 11.9 | M16: 14.22 | N16: 13.15 | O16: 19.58
B18: <Branche_2> | D18: =INDEX(Tableau1[#All],MATCH(BAP_PCO!B18,Tableau1[[#All],[Code]],0),MATCH(TEXT($P$3,0),Tableau1[#Headers],0)) -> 2 Tiefbauarbeiten
A19: 101352 | B19: <EPLONG_221.411.222> | C19: <Einheit_m3> | D19: '221.411.132 | E19: =INDEX(Tableau1[#All],MATCH(BAP_PCO!B19,Tableau1[[#All],[Code]],0),MATCH(TEXT($P$3,0),Tableau1[#Headers],0)) -> Fundationsschichten einbauen. Ausmass: Volumen fest. Einbaubreite über m 3,0. Fertig eingebaute Schicht, d m 0,21 bis 0,40. | F19: 1350 | G19: =INDEX(Tableau1[#All],MATCH(BAP_PCO!C19,Tableau1[[#All],[Code]],0),MATCH(TEXT($P$3,0),Tableau1[#Headers],0)) -> m3 | H19: 11.3 | I19: 13.53 | J19: 11.25 | K19: 8.45 | L19: 11.41 | M19: 10.16 | N19: 12.47 | O19: 9.35
A20: 101353 | B20: <EPLONG_221.421.102> | C20: <Einheit_m2> | D20: '221.421.103 | E20: =INDEX(Tableau1[#All],MATCH(BAP_PCO!B20,Tableau1[[#All],[Code]],0),MATCH(TEXT($P$3,0),Tableau1[#Headers],0)) -> Rohplanie erstellen auf Fundationsschicht. Toleranz ab Sollhöhe + mm 0, - mm 50. Ohne Verwendung von Planiematerial. Rohplaniebreite über m 3,0. | F20: 3000 | G20: =INDEX(Tableau1[#All],MATCH(BAP_PCO!C20,Tableau1[[#All],[Code]],0),MATCH(TEXT($P$3,0),Tableau1[#Headers],0)) -> m2 | H20: 1.65 | I20: 2.18 | J20: 1.41 | K20: 1.37 | L20: 1.34 | M20: 1.46 | N20: 1.66 | O20: 2.49
A21: 101354 | B21: <EPLONG_221.423.122> | C21: <Einheit_m2> | D21: '221.423.123 | E21: =INDEX(Tableau1[#All],MATCH(BAP_PCO!B21,Tableau1[[#All],[Code]],0),MATCH(TEXT($P$3,0),Tableau1[#Headers],0)) -> Planie erstellen auf Fundationsschichten für Strassen mit Belag. Toleranz ab Sollhöhe +/- mm 10. Ohne Verwendung von Material. Planiebreite über m 3,0. | F21: 3000 | G21: =INDEX(Tableau1[#All],MATCH(BAP_PCO!C21,Tableau1[[#All],[Code]],0),MATCH(TEXT($P$3,0),Tableau1[#Headers],0)) -> m2 | H21: 5.6 | I21: 5.35 | J21: 4.84 | K21: 6.05 | L21: 6.98 | M21: 5.4 | N21: 5.26 | O21: 5.04
A22: 101383 | B22: <EPLONG_223.441.313> | C22: <Einheit_t> | D22: '223.441.313 | E22: =INDEX(Tableau1[#All],MATCH(BAP_PCO!B22,Tableau1[[#All],[Code]],0),MATCH(TEXT($P$3,0),Tableau1[#Headers],0)) -> Tragschichten AC T Typ N maschinell einbauen und verdichten. AC T 22 N. Ausmass: Masse. d mm 80. | F22: 620 | G22: =INDEX(Tableau1[#All],MATCH(BAP_PCO!C22,Tableau1[[#All],[Code]],0),MATCH(TEXT($P$3,0),Tableau1[#Headers],0)) -> t | H22: 164.4 | I22: 167.79 | J22: 144.52 | K22: 150.03 | L22: 166.26 | M22: 179.1 | N22: 170.35 | O22: 204.17
A23: 101384 | B23: <EPLONG_223.442.212> | C23: <Einheit_t> | D23: '223.442.212 | E23: =INDEX(Tableau1[#All],MATCH(BAP_PCO!B23,Tableau1[[#All],[Code]],0),MATCH(TEXT($P$3,0),Tableau1[#Headers],0)) -> Deckschichten AC Typ N maschinell einbauen und verdichten. AC 11 N. Ausmass: Masse. d mm 40. | F23: 310 | G23: =INDEX(Tableau1[#All],MATCH(BAP_PCO!C23,Tableau1[[#All],[Code]],0),MATCH(TEXT($P$3,0),Tableau1[#Headers],0)) -> t | H23: 205.48 | I23: 194.82 | J23: 173.6 | K23: 188.36 | L23: 231.56 | M23: 230.34 | N23: 217.21 | O23: 237.99
A24: 101501 | B24: <EPLONG_237.231.101> | C24: <Einheit_m3> | D24: '237.231.101 | E24: =INDEX(Tableau1[#All],MATCH(BAP_PCO!B24,Tableau1[[#All],[Code]],0),MATCH(TEXT($P$3,0),Tableau1[#Headers],0)) -> Aushub V-Gräben oder -Gruben. Normal baggerbares Material. Maschinell. t bis m 1,50. | F24: 180 | G24: =INDEX(Tableau1[#All],MATCH(BAP_PCO!C24,Tableau1[[#All],[Code]],0),MATCH(TEXT($P$3,0),Tableau1[#Headers],0)) -> m3 | H24: 20.41 | I24: 23.78 | J24: 16.25 | K24: 19.97 | L24: 22.58 | M24: 19.03 | N24: 20.24 | O24: 19.82
A25: 101505 | B25: <EPLONG_237.451.112> | C25: <Einheit_m> | D25: '237.451.112 | E25: =INDEX(Tableau1[#All],MATCH(BAP_PCO!B25,Tableau1[[#All],[Code]],0),MATCH(TEXT($P$3,0),Tableau1[#Headers],0)) -> Polyethylenrohre PE-R liefern und verlegen.. PE-R mit STM, elastisch dichten. Nenn-Ringsteifigkeit SN 2, Rohrreihe S 16. DN/OD 160 | F25: 210 | G25: =INDEX(Tableau1[#All],MATCH(BAP_PCO!C25,Tableau1[[#All],[Code]],0),MATCH(TEXT($P$3,0),Tableau1[#Headers],0)) -> m | H25: 22.52 | I25: 22.61 | J25: 20.93 | K25: 21.23 | L25: 26.94 | M25: 20.11 | N25: 24.57 | O25: 19.08
A26: 101509 | B26: <EPLONG_237.611.123> | C26: <Einheit_Stk> | D26: '237.611.123 | E26: =INDEX(Tableau1[#All],MATCH(BAP_PCO!B26,Tableau1[[#All],[Code]],0),MATCH(TEXT($P$3,0),Tableau1[#Headers],0)) -> Kontrollschächte KS aus Betonfertigteilen liefern und erstellen. DN 800 mit Konus DN 800/600. Festigkeitsklasse 60. Schachttiefe m 1,01 bis 1,50 inkl. Durchlaufrinne und Schachtdeckel Guss 15 t Radlast | F26: 4 | G26: =INDEX(Tableau1[#All],MATCH(BAP_PCO!C26,Tableau1[[#All],[Code]],0),MATCH(TEXT($P$3,0),Tableau1[#Headers],0)) -> Stk | H26: 1952.36 | I26: 1848.13 | J26: 1787.45 | K26: 2380.75 | L26: 2257.56 | M26: 1836.35 | N26: 1860.64 | O26: 1438.03
A27: 101513 | B27: <EPLONG_237.821.201> | C27: <Einheit_m3> | D27: '237.821.201 | E27: =INDEX(Tableau1[#All],MATCH(BAP_PCO!B27,Tableau1[[#All],[Code]],0),MATCH(TEXT($P$3,0),Tableau1[#Headers],0)) -> Material für Rohrumhüllungen einbringen und verdichten. Materiallieferungen in U'abschnitt 810. Ausmass: Volumen fest. Feine Gesteinskörnung und rezyklierte Gesteinskörnungsgemische. | F27: 65 | G27: =INDEX(Tableau1[#All],MATCH(BAP_PCO!C27,Tableau1[[#All],[Code]],0),MATCH(TEXT($P$3,0),Tableau1[#Headers],0)) -> m3 | H27: 21.62 | I27: 23.11 | J27: 20.3 | K27: 19.77 | L27: 23.87 | M27: 21.16 | N27: 22.47 | O27: 16.82
A28: 101515 | B28: <EPLONG_237.851.212> | C28: <Einheit_m3> | D28: '237.851.212 | E28: =INDEX(Tableau1[#All],MATCH(BAP_PCO!B28,Tableau1[[#All],[Code]],0),MATCH(TEXT($P$3,0),Tableau1[#Headers],0)) -> Einfüllen, inkl. leichtes Verdichten von seitlich gelagertem oder zugeführtem Material. Ausmass: Volumen fest. Maschinell. Natürliche Gesteinskörnung. | F28: 80 | G28: =INDEX(Tableau1[#All],MATCH(BAP_PCO!C28,Tableau1[[#All],[Code]],0),MATCH(TEXT($P$3,0),Tableau1[#Headers],0)) -> m3 | H28: 17.36 | I28: 19.72 | J28: 15.86 | K28: 15.61 | L28: 17.95 | M28: 16.83 | N28: 18.67 | O28: 14.16
A29: 101540 | B29: <EPLONG_241.216.112> | C29: <Einheit_m2> | D29: '241.216.112 | E29: =INDEX(Tableau1[#All],MATCH(BAP_PCO!B29,Tableau1[[#All],[Code]],0),MATCH(TEXT($P$3,0),Tableau1[#Headers],0)) -> Schalungen für Bodenplatten. Typ 1. Konstante Höhe. Schalhöhe bis m 0,50 | F29: 30 | G29: =INDEX(Tableau1[#All],MATCH(BAP_PCO!C29,Tableau1[[#All],[Code]],0),MATCH(TEXT($P$3,0),Tableau1[#Headers],0)) -> m2 | H29: 62.58 | I29: 66.8 | J29: 68.51 | K29: 60.7 | L29: 58.96 | M29: 60.17 | N29: 57.77 | O29: 54.35
A30: 101541 | B30: <EPLONG_241.231.105> | C30: <Einheit_m2> | D30: '241.231.105 | E30: =INDEX(Tableau1[#All],MATCH(BAP_PCO!B30,Tableau1[[#All],[Code]],0),MATCH(TEXT($P$3,0),Tableau1[#Headers],0)) -> Schalungen für Wände und Stützmauern, vertikal. Doppelhäuptig. Typ 2. Schalhöhe m 4,51 bis 5,00 | F30: 600 | G30: =INDEX(Tableau1[#All],MATCH(BAP_PCO!C30,Tableau1[[#All],[Code]],0),MATCH(TEXT($P$3,0),Tableau1[#Headers],0)) -> m2 | H30: 61.37 | I30: 65.29 | J30: 66.96 | K30: 62.27 | L30: 61.34 | M30: 52.31 | N30: 53.54 | O30: 61.37
... A38: 101537 | B38: <EPLONG_241.671.132> | C38: <Einheit_m3> | D38: '241.671.132 | E38: =INDEX(Tableau1[#All],MATCH(BAP_PCO!B38,Tableau1[[#All],[Code]],0),MATCH(TEXT($P$3,0),Tableau1[#Headers],0)) -> Beton für gerade Ueberzüge und Brüstungen, liefern, einbauen und verdichten. Ueberzugs- und Brüstungshöhe m 0,51 bis 1,50. Beton Typ NPK A. d m 0,21 bis 0,25. | F38: 10 | G38: =INDEX(Tableau1[#All],MATCH(BAP_PCO!C38,Tableau1[[#All],[Code]],0),MATCH(TEXT($P$3,0),Tableau1[#Headers],0)) -> m3 | H38: 321.46 | I38: 348.98 | J38: 357.48 | K38: 311.58 | L38: 275.2 | M38: 302.54 | N38: 307.16 | O38: 324.43
B40: <Branche_3> | D40: =INDEX(Tableau1[#All],MATCH(BAP_PCO!B40,Tableau1[[#All],[Code]],0),MATCH(TEXT($P$3,0),Tableau1[#Headers],0)) -> 3 Maurer- und Stahlbetonarbeiten
A41: 101518 | B41: <EPLONG_237.231.101.m> | C41: <Einheit_m3> | D41: '237.231.101.m | E41: =INDEX(Tableau1[#All],MATCH(BAP_PCO!B41,Tableau1[[#All],[Code]],0),MATCH(TEXT($P$3,0),Tableau1[#Headers],0)) -> Aushub V-Gräben oder -Gruben. Normal baggerbares Material. Maschinell. t bis m 1,50. | F41: 150 | G41: =INDEX(Tableau1[#All],MATCH(BAP_PCO!C41,Tableau1[[#All],[Code]],0),MATCH(TEXT($P$3,0),Tableau1[#Headers],0)) -> m3 | H41: 23.98 | I41: 27.72 | J41: 20.23 | K41: 24.86 | L41: 25.86 | M41: 22.45 | N41: 23.19 | O41: 19.38
A42: 101524 | B42: <EPLONG_237.472.101.m> | C42: <Einheit_m> | D42: '237.472.101.m | E42: =INDEX(Tableau1[#All],MATCH(BAP_PCO!B42,Tableau1[[#All],[Code]],0),MATCH(TEXT($P$3,0),Tableau1[#Headers],0)) -> Sickerrohre PVC-U-S liefern und verlegen. PVC-U-S mit STM. Nenn-Ringsteifigkeit SN 2, Rohrreihe SDR 51. DN/OD 125 | F42: 70 | G42: =INDEX(Tableau1[#All],MATCH(BAP_PCO!C42,Tableau1[[#All],[Code]],0),MATCH(TEXT($P$3,0),Tableau1[#Headers],0)) -> m | H42: 17.59 | I42: 19.1 | J42: 17.69 | K42: 17.31 | L42: 17.76 | M42: 15.75 | N42: 16.55 | O42: 17.89
A43: 101525 | B43: <EPLONG_237.611.123.m> | C43: <Einheit_Stk> | D43: '237.611.123.m | E43: =INDEX(Tableau1[#All],MATCH(BAP_PCO!B43,Tableau1[[#All],[Code]],0),MATCH(TEXT($P$3,0),Tableau1[#Headers],0)) -> Kontrollschächte KS aus Betonfertigteilen liefern und erstellen. DN 800 mit Konus DN 800/600. Festigkeitsklasse 60. Schachttiefe m 1,01 bis 1,50 inkl. Durchlaufrinne und Schachtdeckel Guss 15 t Radlast | F43: 5 | G43: =INDEX(Tableau1[#All],MATCH(BAP_PCO!C43,Tableau1[[#All],[Code]],0),MATCH(TEXT($P$3,0),Tableau1[#Headers],0)) -> Stk | H43: 1692.1 | I43: 1529.57 | J43: 1869.03 | K43: 1658.6 | L43: 1947.03 | M43: 1615.15 | N43: 1579.82 | O43: 1369.53
A44: 101529 | B44: <EPLONG_237.831.301.m> | C44: <Einheit_m3> | D44: '237.831.301.m | E44: =INDEX(Tableau1[#All],MATCH(BAP_PCO!B44,Tableau1[[#All],[Code]],0),MATCH(TEXT($P$3,0),Tableau1[#Headers],0)) -> Unterlags-, Sohlen- und Hüllbeton liefern, einbringen und verdichten. Ausmass: Volumen fest. Beton mit natürlicher Gesteinskörnung. CEM I 42,5 kg/m3 250. | F44: 45 | G44: =INDEX(Tableau1[#All],MATCH(BAP_PCO!C44,Tableau1[[#All],[Code]],0),MATCH(TEXT($P$3,0),Tableau1[#Headers],0)) -> m3 | H44: 209.82 | I44: 236.33 | J44: 239.2 | K44: 190.12 | L44: 173.24 | M44: 191.06 | N44: 202.28 | O44: 221.14
A45: 101522 | B45: <EPLONG_237.851.211.m> | C45: <Einheit_m3> | D45: '237.851.211.m | E45: =INDEX(Tableau1[#All],MATCH(BAP_PCO!B45,Tableau1[[#All],[Code]],0),MATCH(TEXT($P$3,0),Tableau1[#Headers],0)) -> Einfüllen, inkl. leichtes Verdichten von seitlich gelagertem oder zugeführtem Material. Ausmass: Volumen fest. Maschinell. Aushubmaterial. | F45: 255 | G45: =INDEX(Tableau1[#All],MATCH(BAP_PCO!C45,Tableau1[[#All],[Code]],0),MATCH(TEXT($P$3,0),Tableau1[#Headers],0)) -> m3 | H45: 19.33 | I45: 21.01 | J45: 18.58 | K45: 19.15 | L45: 21.18 | M45: 18.1 | N45: 17.9 | O45: 15.31
A46: 101559 | B46: <EPLONG_241.231.103> | C46: <Einheit_m2> | D46: '241.231.103 | E46: =INDEX(Tableau1[#All],MATCH(BAP_PCO!B46,Tableau1[[#All],[Code]],0),MATCH(TEXT($P$3,0),Tableau1[#Headers],0)) -> Schalungen für Wände und Stützmauern, vertikal. Doppelhäuptig. Typ 2. Schalhöhe m 2,51 bis 3,50 | F46: 820 | G46: =INDEX(Tableau1[#All],MATCH(BAP_PCO!C46,Tableau1[[#All],[Code]],0),MATCH(TEXT($P$3,0),Tableau1[#Headers],0)) -> m2 | H46: 36.31 | I46: 43.17 | J46: 38.48 | K46: 30.75 | L46: 31.16 | M46: 34 | N46: 31.41 | O46: 45.65
A47: 101561 | B47: <EPLONG_241.261.113> | C47: <Einheit_m2> | D47: '241.261.113 | E47: =INDEX(Tableau1[#All],MATCH(BAP_PCO!B47,Tableau1[[#All],[Code]],0),MATCH(TEXT($P$3,0),Tableau1[#Headers],0)) -> Schalungen für horizontale Deckenplatten-Untersichten. Typ 2. Plattendicke bis m 0,35 ohne Ueberhöhung. Spriesshöhe m 1,51 bis 3,50 | F47: 1100 | G47: =INDEX(Tableau1[#All],MATCH(BAP_PCO!C47,Tableau1[[#All],[Code]],0),MATCH(TEXT($P$3,0),Tableau1[#Headers],0)) -> m2 | H47: 36.93 | I47: 43.56 | J47: 38.7 | K47: 31.89 | L47: 32.25 | M47: 35.89 | N47: 32.56 | O47: 41.35
A48: 101566 | B48: <EPLONG_241.511.112.m.g> | C48: <Einheit_kg> | D48: '241.511.112.m.g | E48: =INDEX(Tableau1[#All],MATCH(BAP_PCO!B48,Tableau1[[#All],[Code]],0),MATCH(TEXT($P$3,0),Tableau1[#Headers],0)) -> Stabstähle. Stahl B500A, liefern und verlegen. Fixlängen (1). d mm 16 bis 22. | F48: 12000 | G48: =INDEX(Tableau1[#All],MATCH(BAP_PCO!C48,Tableau1[[#All],[Code]],0),MATCH(TEXT($P$3,0),Tableau1[#Headers],0)) -> kg | H48: 1.54 | I48: 1.67 | J48: 1.68 | K48: 1.34 | L48: 1.43 | M48: 1.52 | N48: 1.45 | O48: 1.5
A49: 101568 | B49: <EPLONG_241.521.111> | C49: <Einheit_kg> | D49: '241.521.111 | E49: =INDEX(Tableau1[#All],MATCH(BAP_PCO!B49,Tableau1[[#All],[Code]],0),MATCH(TEXT($P$3,0),Tableau1[#Headers],0)) -> Bewehrungsmatten. Stahl B500A, liefern und verlegen Lagermatten unverschnitten, für statische Verwendung. Alle Mattentypen. | F49: 21500 | G49: =INDEX(Tableau1[#All],MATCH(BAP_PCO!C49,Tableau1[[#All],[Code]],0),MATCH(TEXT($P$3,0),Tableau1[#Headers],0)) -> kg | H49: 2.08 | I49: 2.08 | J49: 2.32 | K49: 2.19 | L49: 1.99 | M49: 1.93 | N49: 2.06 | O49: 1.72
A50: 101549 | B50: <EPLONG_241.613.112.m> | C50: <Einheit_m3> | D50: '241.613.112.m | E50: =INDEX(Tableau1[#All],MATCH(BAP_PCO!B50,Tableau1[[#All],[Code]],0),MATCH(TEXT($P$3,0),Tableau1[#Headers],0)) -> Beton für Bodenplatten mit konstanter Dicke, liefern, einbauen und verdichten. Oberfläche horizontal oder einseitig geneigt bis % 5,0. Beton Typ NPK A. Plattendicke m 0,21 bis 0,30 | F50: 66 | G50: =INDEX(Tableau1[#All],MATCH(BAP_PCO!C50,Tableau1[[#All],[Code]],0),MATCH(TEXT($P$3,0),Tableau1[#Headers],0)) -> m3 | H50: 206.83 | I50: 232.7 | J50: 222.59 | K50: 185.4 | L50: 172.76 | M50: 203.8 | N50: 195.64 | O50: 233.19
A51: 101550 | B51: <EPLONG_241.631.132.g> | C51: <Einheit_m3> | D51: '241.631.132.g | E51: =INDEX(Tableau1[#All],MATCH(BAP_PCO!B51,Tableau1[[#All],[Code]],0),MATCH(TEXT($P$3,0),Tableau1[#Headers],0)) -> Beton für Wände und Stützmauern ohne Anzug liefern, einbauen und verdichten. Wand- oder Mauerhöhe m 2,51 bis 3,50. Beton Typ NPK A. Wanddicke m 0,21 bis 0,25 | F51: 85 | G51: =INDEX(Tableau1[#All],MATCH(BAP_PCO!C51,Tableau1[[#All],[Code]],0),MATCH(TEXT($P$3,0),Tableau1[#Headers],0)) -> m3 | H51: 232.7 | I51: 256.67 | J51: 258.03 | K51: 209.36 | L51: 201.2 | M51: 218.81 | N51: 224.38 | O51: 250.78
A52: 101552 | B52: <EPLONG_241.661.112> | C52: <Einheit_m3> | D52: '241.661.112 | E52: =INDEX(Tableau1[#All],MATCH(BAP_PCO!B52,Tableau1[[#All],[Code]],0),MATCH(TEXT($P$3,0),Tableau1[#Headers],0)) -> Beton für Deckenplatten liefern, einbauen und verdichten. Beton Typ NPK A. Horizontal oder einseitig geneigt bis % 5,0. Plattendicke m 0,21 bis 0,30. | F52: 275 | G52: =INDEX(Tableau1[#All],MATCH(BAP_PCO!C52,Tableau1[[#All],[Code]],0),MATCH(TEXT($P$3,0),Tableau1[#Headers],0)) -> m3 | H52: 205.97 | I52: 235.3 | J52: 226.3 | K52: 179.59 | L52: 172.24 | M52: 199.14 | N52: 191.53 | O52: 227.67
... A55: 101826 | B55: <EPLONG_314.621.125> | C55: <Einheit_m2> | D55: '314.621.125 | E55: =INDEX(Tableau1[#All],MATCH(BAP_PCO!B55,Tableau1[[#All],[Code]],0),MATCH(TEXT($P$3,0),Tableau1[#Headers],0)) -> Dämmplatten an Mauerwerk befestigen. Mineralwollplatten. Steinwolle, deklarierter Wert der Wärmeleitfähigkeit lambda_D max. W/mK 0,034, Rohdichte ca. kg/m3 60. d mm 180. | F55: 580 | G55: =INDEX(Tableau1[#All],MATCH(BAP_PCO!C55,Tableau1[[#All],[Code]],0),MATCH(TEXT($P$3,0),Tableau1[#Headers],0)) -> m2 | H55: 64.61 | I55: 70.43 | J55: 66.85 | K55: 57.42 | L55: 66.58 | M55: 65.45 | N55: 61.38 | O55: 45.63
...
