Workbook
Name Print_Area: 'G10'!$A$1:$E$32
Name Print_Area: 'G11-G12'!$A$1:$F$44
Name Print_Area: 'G13-G14'!$A$1:$E$34
Name Print_Area: 'G15'!$A$1:$J$27
Name Print_Area: 'G16'!$A$1:$F$48
Name Print_Area: 'G17'!$A$1:$J$31
Name Print_Area: 'G3'!$A$1:$E$32
Name Print_Area: 'G5'!$A$1:$E$33
Name Print_Area: G6a!$A:$K
Name Print_Area: G7a!$A:$K
Name Print_Area: 'TA3'!$A$1:$F$49

Sheet index
A1: Office fédéral de la statistique (OFS) - Domaine 15: Éducation et science
A3: Tableaux et données des graphiques de la publication "Scénarios 2025-2034 pour les enseignants de l'école obligatoire"
A5: N° | B5: Titre
A7: G1 | B7: Evolution du nombre d'élèves des classes ordinaires du degré primaire (1-8), selon les différents scénarios
A8: G2 | B8: Evolution du nombre d'élèves des classes ordinaires du degré secondaire I, selon les différents scénarios
A9: G3 | B9: Evolution future entre 2025 et 2034 du nombre d’élèves des classes ordinaires de l’école obligatoire, par région
A10: G4 | B10: Evolution du nombre d'enseignants de l'école obligatoire, selon les différents scénarios
A11: G5 | B11: Evolution entre 2025 et 2034 du nombre d'enseignants de l'école obligatoire, par degré et par région
A12: G6 | B12: Structure de qualification des nouveaux enseignants du degré primaire (1-8) âgés de 35 ans ou moins
A13: G7 | B13: Structure de qualification des nouveaux enseignants du degré secondaire I âgés de 35 ans ou moins
A14: G8 | B14: Taux de départs à 1 an des enseignants de moins de 55 ans du degré primaire (1-8), selon la qualification de l'enseignant
A15: G9 | B15: Taux de départs à 1 an des enseignants de moins de 55 ans du degré secondaire I, selon la qualification de l'enseignant
A16: G10 | B16: Evolution entre 2025 et 2034 du nombre de départs d'enseignants de l'école obligatoire de 55 ans ou plus, par degré et par région
A17: G11-G12 | B17: Besoin en nouveaux enseignants, par région
... A29: TA3 | B29: Degré secondaire I : Différence entre l'offre et le besoin en nouveaux enseignants, par région
A31: Sources: Perspectives de la formation, OFS, Neuchâtel
A32: Publication: Scénarios 2025-2034 pour les enseignants de l'école obligatoire
A33: © OFS, Neuchâtel, 2025
A34: Renseignements: eduperspectives@bfs.admin.ch

Sheet G1
A2: G1 Evolution du nombre d'élèves des classes ordinaires du degré primaire (1-8)
C4: Scénario de référence | D4: Scénario "bas" | E4: Scénario "haut"
B5: 2017 | C5: 657807 | D5: 657807 | E5: 657807
B6: 2018 | C6: 667221 | D6: 667221 | E6: 667221
B7: 2019 | C7: 677994 | D7: 677994 | E7: 677994
B8: 2020 | C8: 685831 | D8: 685831 | E8: 685831
B9: 2021 | C9: 692101 | D9: 692101 | E9: 692101
B10: 2022 | C10: 702998 | D10: 702998 | E10: 702998
B11: 2023 | C11: 710561 | D11: 710561 | E11: 710561
B13: 2024 | C13: 715978 | D13: 712752 | E13: 719205
B14: 2025 | C14: 721962 | D14: 715438 | E14: 728486
B15: 2026 | C15: 725229 | D15: 715391 | E15: 735066
B16: 2027 | C16: 721747 | D16: 708756 | E16: 734738
B17: 2028 | C17: 715599 | D17: 699540 | E17: 731657
... B23: 2034 | C23: 668024 | D23: 634999 | E23: 701049
A25: Sources: Perspectives de la formation, OFS, Neuchâtel
A26: Publication: Scénarios 2025-2034 pour les enseignants de l'école obligatoire
A27: © OFS, Neuchâtel, 2025
A28: Renseignements: eduperspectives@bfs.admin.ch

Sheet G2
A2: G2 Evolution du nombre d'élèves des classes ordinaires du degré secondaire I
C4: Scénario de référence | D4: Scénario "bas" | E4: Scénario "haut"
B5: 2017 | C5: 237597 | D5: 237597 | E5: 237597
B6: 2018 | C6: 239238 | D6: 239238 | E6: 239238
B7: 2019 | C7: 241496 | D7: 241496 | E7: 241496
B8: 2020 | C8: 244809 | D8: 244809 | E8: 244809
B9: 2021 | C9: 249683 | D9: 249683 | E9: 249683
B10: 2022 | C10: 258077 | D10: 258077 | E10: 258077
B11: 2023 | C11: 263467 | D11: 263467 | E11: 263467
B13: 2024 | C13: 265467 | D13: 264720 | E13: 266214
B14: 2025 | C14: 267349 | D14: 265795 | E14: 268903
B15: 2026 | C15: 269951 | D15: 267549 | E15: 272354
B16: 2027 | C16: 273951 | D16: 270692 | E16: 277210
B17: 2028 | C17: 277887 | D17: 273741 | E17: 282033
... B23: 2034 | C23: 281346 | D23: 272016 | E23: 290675
A25: Sources: Perspectives de la formation, OFS, Neuchâtel
A26: Publication: Scénarios 2025-2034 pour les enseignants de l'école obligatoire
A27: © OFS, Neuchâtel, 2025
A28: Renseignements: eduperspectives@bfs.admin.ch

Sheet G3
A2: G3 | B2: Evolution future entre 2025 et 2034 du nombre d’élèves des classes ordinaires de l’école obligatoire, par région
B4: Degré primaire (1-8)
C5: Scénario de référence | H5: Scénario "bas" | L5: Scénario "haut"
B6: Région | C6: 2025* | D6: 2034** | E6: Variation 2025-2034 | G6: 2025* | H6: 2034** | I6: Variation 2025-2034 | K6: 2025* | L6: 2034** | M6: Variation 2025-2034
B7: Ensemble de la Suisse | C7: 721056.25 | D7: 668917.9 | E7: -0.072308 | G7: 714527.05 | H7: 635873.06 | I7: -0.11008 | K7: 727585.46 | L7: 701962.75 | M7: -0.035216
B9: Suisse romande | C9: 191972.78 | D9: 185347.33 | E9: -0.034512 | G9: 190480.05 | H9: 177456.73 | I9: -0.06837 | K9: 193465.51 | L9: 193237.94 | M9: -0.001176
B10: Suisse du Nord-Ouest (1) | C10: 203787.1 | D10: 186290.27 | E10: -0.085858 | G10: 201873.9 | H10: 176697.02 | I10: -0.12472 | K10: 205700.29 | L10: 195883.52 | M10: -0.047724
B11: Suisse centrale | C11: 67221.59 | D11: 63721.65 | E11: -0.052066 | G11: 66617.35 | H11: 60575.06 | I11: -0.0907 | K11: 67825.83 | L11: 66868.24 | M11: -0.014118
B12: Suisse orientale (2) | C12: 232462.56 | D12: 209571.71 | E12: -0.098471 | G12: 230265.6 | H12: 198814.68 | I12: -0.13659 | K12: 234659.51 | L12: 220328.75 | M12: -0.06107
B13: Tessin | C13: 25612.24 | D13: 23986.94 | E13: -0.063458 | G13: 25290.14 | H13: 22329.57 | I13: -0.11706 | K13: 25934.33 | L13: 25644.3 | M13: -0.011183
B15: Degré secondaire I
C16: Scénario de référence | H16: Scénario "bas" | L16: Scénario "haut"
B17: Région | C17: 2025* | D17: 2034** | E17: Variation 2025-2034 | G17: 2025* | H17: 2034** | I17: Variation 2025-2034 | K17: 2025* | L17: 2034** | M17: Variation 2025-2034
B18: Ensemble de la Suisse | C18: 267589.1 | D18: 280434.08 | E18: 0.048003 | G18: 266021.16 | H18: 271119.38 | I18: 0.01916 | K18: 269157.03 | L18: 289748.78 | M18: 0.0765
B20: Suisse romande | C20: 72070.87 | D20: 75854.94 | E20: 0.052505 | G20: 71570.46 | H20: 72901.92 | I20: 0.0186 | K20: 72571.29 | L20: 78807.95 | M20: 0.08594
B21: Suisse du Nord-Ouest (1) | C21: 76944.63 | D21: 80501.98 | E21: 0.046233 | G21: 76443.25 | H21: 77553 | I21: 0.01452 | K21: 77446.02 | L21: 83450.97 | M21: 0.07754
B22: Suisse centrale | C22: 25168.13 | D22: 27201.38 | E22: 0.080787 | G22: 25040.29 | H22: 26376.25 | I22: 0.05335 | K22: 25295.97 | L22: 28026.51 | M22: 0.10794
B23: Suisse orientale (2) | C23: 83854.35 | D23: 87936.11 | E23: 0.048677 | G23: 83499.76 | H23: 85785.25 | I23: 0.02737 | K23: 84208.94 | L23: 90086.97 | M23: 0.0698
B24: Tessin | C24: 9551.11 | D24: 8939.67 | E24: -0.064018 | G24: 9467.4 | H24: 8502.95 | I24: -0.10187 | K24: 9634.83 | L24: 9376.38 | M24: -0.02682
A26: *Valeur médiane 2024-2026. **Valeur médiane 2033-2035.
A27: (1) inclut le canton de Berne; (2) inclut le canton de Zurich; pour les moyennes sur 3 ans voir en annexe de la publication.
A29: Sources: Perspectives de la formation, OFS, Neuchâtel
A30: Publication: Scénarios 2025-2034 pour les enseignants de l'école obligatoire
A31: © OFS, Neuchâtel, 2025
A32: Renseignements: eduperspectives@bfs.admin.ch

Sheet G4
A2: G4 | B2: Evolution du nombre d'enseignants de l'école obligatoire
C4: Nombre d'enseignants
C5: Degré primaire (1-8) | F5: Degré secondaire I
C6: Scénario de référence | D6: Scénario "bas" | E6: Scénario "haut" | F6: Scénario de référence | G6: Scénario "bas" | H6: Scénario "haut"
B7: 2020 | C7: 66306 | D7: 66306 | E7: 66306 | F7: 34973 | G7: 34973 | H7: 34973
B8: 2021 | C8: 67521 | D8: 67521 | E8: 67521 | F8: 35599 | G8: 35599 | H8: 35599
B9: 2022 | C9: 68602 | D9: 68602 | E9: 68602 | F9: 36554 | G9: 36554 | H9: 36554
B10: 2023 | C10: 70458 | D10: 70458 | E10: 70458 | F10: 37594 | G10: 37594 | H10: 37594
B12: 2024 | C12: 70752 | D12: 70413 | E12: 71283 | F12: 38224 | G12: 38063 | H12: 38424
B13: 2025 | C13: 71061 | D13: 70392 | E13: 71828 | F13: 38485 | G13: 38278 | H13: 38754
B14: 2026 | C14: 71028 | D14: 70101 | E14: 72081 | F14: 38830 | G14: 38423 | H14: 39146
B15: 2027 | C15: 70648 | D15: 69554 | E15: 71903 | F15: 39131 | G15: 38692 | H15: 39599
B16: 2028 | C16: 70095 | D16: 68825 | E16: 71626 | F16: 39445 | G16: 38959 | H16: 39994
B17: 2029 | C17: 69537 | D17: 67987 | E17: 71229 | F17: 39697 | G17: 39119 | H17: 40271
B18: 2030 | C18: 68954 | D18: 67203 | E18: 70875 | F18: 39795 | G18: 39176 | H18: 40442
B19: 2031 | C19: 68348 | D19: 66300 | E19: 70411 | F19: 39804 | G19: 39031 | H19: 40546
... B22: 2034 | C22: 66471 | D22: 63868 | E22: 69247 | F22: 39445 | G22: 38432 | H22: 40452
A24: Sources: Perspectives de la formation, OFS, Neuchâtel
A25: Publication: Scénarios 2025-2034 pour les enseignants de l'école obligatoire
A26: © OFS, Neuchâtel, 2025
A27: Renseignements: eduperspectives@bfs.admin.ch

Sheet G5
A2: G5 | B2: Evolution entre 2025 et 2034 du nombre d'enseignants de l'école obligatoire, par degré et par région
B4: Degré primaire (1-8)
C5: Scénario de référence | H5: Scénario "bas" | L5: Scénario "haut"
B6: Région | C6: 2025* | D6: 2034** | E6: Variation 2025-2034 | G6: 2025* | H6: 2034** | I6: Variation 2025-2034 | K6: 2025* | L6: 2034** | M6: Variation 2025-2034
B7: Ensemble de la Suisse | C7: 70955 | D7: 66501.33 | E7: -0.062767 | G7: 70300.67 | H7: 63882 | I7: -0.0913 | K7: 71740.67 | L7: 69251 | M7: -0.034704
B9: Suisse romande | C9: 16134.67 | D9: 15654 | E9: -0.029791 | G9: 15992.33 | H9: 15140.33 | I9: -0.05328 | K9: 16344.67 | L9: 16265 | M9: -0.004874
B10: Suisse du Nord-Ouest (1) | C10: 23611.33 | D10: 21473.33 | E10: -0.09055 | G10: 23382.67 | H10: 20471.33 | I10: -0.12451 | K10: 23879 | L10: 22465.33 | M10: -0.059201
B11: Suisse centrale | C11: 7132.67 | D11: 6785.67 | E11: -0.048649 | G11: 7068.33 | H11: 6578.33 | I11: -0.06932 | K11: 7138 | L11: 6910.67 | M11: -0.031848
B12: Suisse orientale (2) | C12: 22159.67 | D12: 20718.33 | E12: -0.065043 | G12: 21947 | H12: 19897.67 | I12: -0.09338 | K12: 22428.67 | L12: 21606 | M12: -0.036679
B13: Tessin | C13: 1908.33 | D13: 1877.67 | E13: -0.01607 | G13: 1901.33 | H13: 1790.33 | I13: -0.05838 | K13: 1927 | L13: 1966 | M13: 0.020239
B16: Degré secondaire I
C17: Scénario de référence | H17: Scénario "bas" | L17: Scénario "haut"
B18: Région | C18: 2025* | D18: 2034** | E18: Variation 2025-2034 | G18: 2025* | H18: 2034** | I18: Variation 2025-2034 | K18: 2025* | L18: 2034** | M18: Variation 2025-2034
B19: Ensemble de la Suisse | C19: 38525.33 | D19: 39427.67 | E19: 0.023422 | G19: 38247 | H19: 38421.33 | I19: 0.004558 | K19: 38776.67 | L19: 40400 | M19: 0.041864
B21: Suisse romande | C21: 9449.33 | D21: 9760 | E21: 0.032877 | G21: 9342.67 | H21: 9394.67 | I21: 0.005566 | K21: 9504.67 | L21: 10073.33 | M21: 0.05983
B22: Suisse du Nord-Ouest (1) | C22: 11608.33 | D22: 11779.67 | E22: 0.01476 | G22: 11476.33 | H22: 11478 | I22: 0.000145 | K22: 11687 | L22: 12153 | M22: 0.039873
B23: Suisse centrale | C23: 3996.33 | D23: 4208.33 | E23: 0.053049 | G23: 3973 | H23: 4144.33 | I23: 0.043124 | K23: 4006.33 | L23: 4314 | M23: 0.076795
B24: Suisse orientale (2) | C24: 11947 | D24: 12166.33 | E24: 0.018359 | G24: 11930.67 | H24: 12010.33 | I24: 0.006677 | K24: 12010.67 | L24: 12362.33 | M24: 0.02928
B25: Tessin | C25: 1527 | D25: 1458 | E25: -0.045187 | G25: 1517.67 | H25: 1406.33 | I25: -0.073358 | K25: 1543 | L25: 1524 | M25: -0.012314
A27: *Valeur médiane 2024-2026. **Valeur médiane 2033-2035.
A28: (1) inclut le canton de Berne; (2) inclut le canton de Zurich
A30: Sources: Perspectives de la formation, OFS, Neuchâtel
A31: Publication: Scénarios 2025-2034 pour les enseignants de l'école obligatoire
A32: © OFS, Neuchâtel, 2025
A33: Renseignements: eduperspectives@bfs.admin.ch

Sheet G6
A2: G6 Structure de qualification des nouveaux enseignants du degré primaire (1-8) âgés de 35 ans ou moins
A3: Pondéré par le nombre d'heures d'enseignement
B5: A. Qualifié pour le degré | C5: B. Qualifié pour un autre degré | D5: C. Etudiants HEP pour le degré | E5: D. Etudiants HEP pour un autre degré | F5: E. Pas qualifié (mais titre HEU/HES) | G5: F. Pas de titre d'une haute école dans LABB et en Suisse avant entrée comme enseignant | H5: G. Pas de titre d'une haute école dans LABB (pas en Suisse ou arrivée depuis au max. 5 ans) | I5: H. Pas de titre d'une haute école dans LABB et date inconnue d´arrivée en Suisse
A6: 2019 | B6: 74.34 | C6: 1.41 | D6: 17.3 | E6: 1.4 | F6: 1.81 | G6: 0.99 | H6: 1.9 | I6: 0.85
A7: 2020 | B7: 71.8 | C7: 1.68 | D7: 18.99 | E7: 1.36 | F7: 1.48 | G7: 1.28 | H7: 2.46 | I7: 0.95
A8: 2021 | B8: 68.56 | C8: 1.69 | D8: 20.98 | E8: 1.38 | F8: 2.25 | G8: 1.97 | H8: 2.26 | I8: 0.91
A9: 2022 | B9: 63.39 | C9: 1.17 | D9: 22.86 | E9: 1.25 | F9: 2.73 | G9: 2.94 | H9: 3.83 | I9: 1.83
A10: 2023 | B10: 60.81 | C10: 1.35 | D10: 23.08 | E10: 1.49 | F10: 2.43 | G10: 3.95 | H10: 4.42 | I10: 2.47
A12: Sources: Perspectives de la formation, OFS, Neuchâtel
A13: Publication: Scénarios 2025-2034 pour les enseignants de l'école obligatoire
A14: © OFS, Neuchâtel, 2025
A15: Renseignements: eduperspectives@bfs.admin.ch

Sheet G7
A2: G7 Structure de qualification des nouveaux enseignants du degré secondaire I âgés de 35 ans ou moins
A3: Pondéré par le nombre d'heures d'enseignement
B5: A. Qualifié pour le degré | C5: B. Qualifié pour un autre degré | D5: C. Etudiants HEP pour le degré | E5: D. Etudiants HEP pour un autre degré | F5: E. Pas qualifié (mais titre HEU/HES) | G5: F. Pas de titre d'une haute école dans LABB et en Suisse avant entrée comme enseignant | H5: G. Pas de titre d'une haute école dans LABB (pas en Suisse ou arrivée depuis au max. 5 ans) | I5: H. Pas de titre d'une haute école dans LABB et date inconnue d´arrivée en Suisse
A6: 2019 | B6: 50.56 | C6: 12.95 | D6: 13.34 | E6: 4.08 | F6: 10.57 | G6: 1.77 | H6: 5.05 | I6: 1.68
A7: 2020 | B7: 47.34 | C7: 12.02 | D7: 15.34 | E7: 4.43 | F7: 11.63 | G7: 2.01 | H7: 6.16 | I7: 1.08
A8: 2021 | B8: 45.95 | C8: 11.38 | D8: 16.62 | E8: 3.96 | F8: 12.3 | G8: 3.31 | H8: 5.13 | I8: 1.35
A9: 2022 | B9: 38.46 | C9: 10.76 | D9: 16.76 | E9: 4.21 | F9: 15.3 | G9: 4.29 | H9: 7.26 | I9: 2.96
A10: 2023 | B10: 34.03 | C10: 10.41 | D10: 19.17 | E10: 4.7 | F10: 15.85 | G10: 4.44 | H10: 8.55 | I10: 2.86
A12: Sources: Perspectives de la formation, OFS, Neuchâtel
A13: Publication: Scénarios 2025-2034 pour les enseignants de l'école obligatoire
A14: © OFS, Neuchâtel, 2025
A15: Renseignements: eduperspectives@bfs.admin.ch

Sheet G8
A2: G8 Taux de départs* à 1 an des enseignants de moins de 55 ans du degré primaire (1-8), selon la qualification de l'enseignant
A4: En %
B6: 2018-2020 | C6: 2021-2022
A7: Total | B7: 8.28 | C7: 9.79
A8: Partiellement qualifié | B8: 17.83 | C8: 21.37
A9: Qualifié | B9: 7.54 | C9: 8.65
A11: *: sorties du périmètre d´analyses (voir aussi définitions)
A13: Sources: Perspectives de la formation, OFS, Neuchâtel
A14: Publication: Scénarios 2025-2034 pour les enseignants de l'école obligatoire
A15: © OFS, Neuchâtel, 2025
A16: Renseignements: eduperspectives@bfs.admin.ch

Sheet G9
A2: G9 Taux de départs* à 1 an des enseignants de moins de 55 ans du degré secondaire I, selon la qualification de l'enseignant
A4: En %
B6: 2018-2020 | C6: 2021-2022
A7: Total | B7: 8.32 | C7: 9.43
A8: Partiellement qualifié | B8: 16.7 | C8: 17.99
A9: Qualifié | B9: 6.94 | C9: 7.81
A11: *: sorties du périmètre d´analyses (voir aussi définitions)
A13: Sources: Perspectives de la formation, OFS, Neuchâtel
A14: Publication: Scénarios 2025-2034 pour les enseignants de l'école obligatoire
A15: © OFS, Neuchâtel, 2025
A16: Renseignements: eduperspectives@bfs.admin.ch

Sheet G10
A2: G10 | B2: Evolution entre 2025 et 2034 du nombre de départs d'enseignants de l'école obligatoire de 55 ans ou plus, par degré et par région
B4: Degré primaire (1-8)
C5: Scénario de référence | H5: Scénario "bas" | L5: Scénario "haut"
B6: Région | C6: 2025* | D6: 2034** | E6: Variation 2025-2034 | G6: 2025* | H6: 2034** | I6: Variation 2025-2034 | K6: 2025* | L6: 2034** | M6: Variation 2025-2034
B7: Ensemble de la Suisse | C7: 2151 | D7: 2037.33 | E7: -0.05284 | G7: 2148.33 | H7: 1981 | I7: -0.07789 | K7: 2149 | L7: 2088.33 | M7: -0.02823
B9: Suisse romande | C9: 390 | D9: 405.67 | E9: 0.04017 | G9: 396.67 | H9: 402 | I9: 0.01345 | K9: 378 | L9: 412 | M9: 0.08995
B10: Suisse du Nord-Ouest (1) | C10: 874 | D10: 740.33 | E10: -0.15294 | G10: 870.67 | H10: 716.33 | I10: -0.17726 | K10: 868.33 | L10: 775.67 | M10: -0.10672
B11: Suisse centrale | C11: 190.33 | D11: 187.67 | E11: -0.01401 | G11: 191.33 | H11: 187.33 | I11: -0.02091 | K11: 189.33 | L11: 182.67 | M11: -0.03521
B12: Suisse orientale (2) | C12: 649 | D12: 653.33 | E12: 0.00668 | G12: 637.33 | H12: 634.67 | I12: -0.00418 | K12: 664.67 | L12: 669.33 | M12: 0.00702
B13: Tessin | C13: 46.67 | D13: 49 | E13: 0.05 | G13: 49.33 | H13: 49 | I13: -0.00676 | K13: 45 | L13: 48.67 | M13: 0.08148
B15: Degré secondaire I
C16: Scénario de référence | H16: Scénario "bas" | L16: Scénario "haut"
B17: Région | C17: 2025* | D17: 2034** | E17: Variation 2025-2034 | G17: 2025* | H17: 2034** | I17: Variation 2025-2034 | K17: 2025* | L17: 2034** | M17: Variation 2025-2034
B18: Ensemble de la Suisse | C18: 1280 | D18: 1205.67 | E18: -0.05807 | G18: 1289.33 | H18: 1181.67 | I18: -0.08351 | K18: 1264 | L18: 1217 | M18: -0.03718
B20: Suisse romande | C20: 255.33 | D20: 272.67 | E20: 0.06789 | G20: 252.67 | H20: 273.33 | I20: 0.08179 | K20: 247.33 | L20: 281 | M20: 0.13612
B21: Suisse du Nord-Ouest (1) | C21: 467.67 | D21: 376 | E21: -0.19601 | G21: 470.67 | H21: 367.33 | I21: -0.21955 | K21: 470 | L21: 388.67 | M21: -0.17305
B22: Suisse centrale | C22: 135 | D22: 127 | E22: -0.05926 | G22: 134.33 | H22: 125.67 | I22: -0.06452 | K22: 133.33 | L22: 131 | M22: -0.0175
B23: Suisse orientale (2) | C23: 384.67 | D23: 375.33 | E23: -0.02426 | G23: 392.33 | H23: 368.33 | I23: -0.06117 | K23: 381 | L23: 368.33 | M23: -0.03325
B24: Tessin | C24: 38.67 | D24: 53.67 | E24: 0.38793 | G24: 40 | H24: 52.67 | I24: 0.31667 | K24: 35.67 | L24: 52 | M24: 0.45794
A26: *Valeur médiane 2024-2026. **Valeur médiane 2033-2035.
A27: (1) inclut le canton de Berne; (2) inclut le canton de Zurich; pour les moyennes sur 3 ans voir en annexe de la publication.
A29: Sources: Perspectives de la formation, OFS, Neuchâtel
A30: Publication: Scénarios 2025-2034 pour les enseignants de l'école obligatoire
A31: © OFS, Neuchâtel, 2025
A32: Renseignements: eduperspectives@bfs.admin.ch

Sheet G11-G12
A2: G11-G12 | B2: Besoin en nouveaux enseignants, par région
B4: Degré primaire (1-8)
B5: Scénario de référence | H5: Scénario "bas" | L5: Scénario "haut"
B6: Région | C6: 2023 | D6: 2025* | E6: 2029** | F6: 2034*** | H6: 2025* | I6: 2029** | J6: 2034*** | L6: 2025* | M6: 2029** | N6: 2034***
B7: Ensemble de la Suisse | C7: 6117 | D7: 4988 | E7: 3539.67 | F7: 3173.33 | H7: 4410.33 | I7: 3013.67 | J7: 2628.33 | L7: 5652 | M7: 4110.33 | N7: 3786
B9: Suisse romande | C9: 911 | D9: 801.33 | E9: 577.33 | F9: 580 | H9: 705.33 | I9: 499.33 | J9: 501.67 | L9: 976.67 | M9: 679 | N9: 670.33
B10: Suisse du Nord-Ouest (1) | C10: 2340 | D10: 1927 | E10: 1323 | F10: 1132.67 | H10: 1753.67 | I10: 1084.33 | J10: 931.33 | L10: 2151.67 | M10: 1514 | N10: 1371.67
B11: Suisse centrale | C11: 628 | D11: 522.67 | E11: 406.67 | F11: 367.33 | H11: 478 | I11: 372 | J11: 315 | L11: 555.33 | M11: 445.67 | N11: 394.33
B12: Suisse orientale (2) | C12: 2138 | D12: 1619 | E12: 1151 | F12: 1007 | H12: 1396.33 | I12: 978.67 | J12: 835 | L12: 1890.33 | M12: 1375 | N12: 1220
B13: Tessin | C13: 100 | D13: 87.33 | E13: 81 | F13: 88.67 | H13: 79 | I13: 69 | J13: 75.33 | L13: 97 | M13: 92.67 | N13: 100.67
B15: Degré secondaire I
B16: Scénario de référence | H16: Scénario "bas" | L16: Scénario "haut"
B17: Région | C17: 2023 | D17: 2025* | E17: 2029** | F17: 2034*** | H17: 2025* | I17: 2029** | J17: 2034*** | L17: 2025* | M17: 2029** | N17: 2034***
B18: Ensemble de la Suisse | C18: 3564 | D18: 3370 | E18: 3077.67 | F18: 2598 | H18: 3142 | I18: 2935.33 | J18: 2348.33 | L18: 3549 | M18: 3310 | N18: 2797.33
B20: Suisse romande | C20: 685 | D20: 706.33 | E20: 655.67 | F20: 563.67 | H20: 647.33 | I20: 639.67 | J20: 513 | L20: 743.67 | M20: 727.33 | N20: 624.67
B21: Suisse du Nord-Ouest (1) | C21: 1330 | D21: 1169 | E21: 1097 | F21: 868.33 | H21: 1050.67 | I21: 1047 | J21: 778 | L21: 1268 | M21: 1201 | N21: 961
B22: Suisse centrale | C22: 349 | D22: 382.33 | E22: 348 | F22: 307 | H22: 350.67 | I22: 329.33 | J22: 275 | L22: 374.33 | M22: 365.67 | N22: 325.67
B23: Suisse orientale (2) | C23: 1142 | D23: 1045.67 | E23: 931.67 | F23: 781 | H23: 1023.33 | I23: 902.67 | J23: 713.67 | L23: 1097.33 | M23: 976.33 | N23: 797.33
B24: Tessin | C24: 58 | D24: 69 | E24: 40.67 | F24: 74 | H24: 61.33 | I24: 40 | J24: 64 | L24: 69 | M24: 47.67 | N24: 85.33
A26: *Valeur médiane 2024-2026. **Valeur médiane 2028-2030. ***Valeur médiane 2033-2035.
A27: (1) inclut le canton de Berne; (2) inclut le canton de Zurich;
A29: Sources: Perspectives de la formation, OFS, Neuchâtel
A30: Publication: Scénarios 2025-2034 pour les enseignants de l'école obligatoire
A31: © OFS, Neuchâtel, 2025
A32: Renseignements: eduperspectives@bfs.admin.ch

Sheet G13-G14
A2: G13-G14 | B2: Nombre de premiers titres d’enseignants délivrés, par région
B4: Degré primaire (1-8)
B5: Scénario de référence | H5: Scénario "bas" | L5: Scénario "haut"
B6: Région | C6: 2023 | D6: 2025* | E6: 2029** | F6: 2034*** | H6: 2025* | I6: 2029** | J6: 2034*** | L6: 2025* | M6: 2029** | N6: 2034***
B7: Ensemble de la Suisse | C7: 3057.99 | D7: 3078.88 | E7: 3305.32 | F7: 3763.18 | H7: 3074.74 | I7: 3189.61 | J7: 3432.77 | L7: 3083.01 | M7: 3420.07 | N7: 4092
B9: Suisse romande | C9: 749.3 | D9: 737.44 | E9: 781.65 | F9: 877.62 | H9: 736.01 | I9: 751.97 | J9: 798.62 | L9: 738.87 | M9: 811.32 | N9: 956.62
B10: Suisse du Nord-Ouest (1) | C10: 729.99 | D10: 724.94 | E10: 805.63 | F10: 930.01 | H10: 724.54 | I10: 782.19 | J10: 853.88 | L10: 725.33 | M10: 829.07 | N10: 1006.13
B11: Suisse centrale | C11: 435.11 | D11: 450.04 | E11: 475.5 | F11: 542.35 | H11: 449.71 | I11: 458.65 | J11: 494.19 | L11: 450.36 | M11: 492.35 | N11: 590.52
B12: Suisse orientale (2) | C12: 1059.47 | D12: 1069.88 | E12: 1146.31 | F12: 1308.54 | H12: 1068.15 | I12: 1104.38 | J12: 1191.09 | L12: 1071.61 | M12: 1187.28 | N12: 1424.4
B13: Tessin | C13: 84.11 | D13: 96.59 | E13: 96.23 | F13: 104.66 | H13: 96.34 | I13: 92.41 | J13: 94.99 | L13: 96.84 | M13: 100.04 | N13: 114.34
B15: Degré secondaire I****
B16: Scénario de référence | H16: Scénario "bas" | L16: Scénario "haut"
B17: Région | C17: 2023 | D17: 2025* | E17: 2029** | F17: 2034*** | H17: 2025* | I17: 2029** | J17: 2034*** | L17: 2025* | M17: 2029** | N17: 2034***
B18: Ensemble de la Suisse | C18: 912.948 | D18: 955.574 | E18: 1044.42 | F18: 1218.71 | H18: 944.56 | I18: 964.941 | J18: 1048.95 | L18: 966.59 | M18: 1112.1 | N18: 1355.74
B20: Suisse romande | C20: 257.476 | D20: 241.185 | E20: 272.06 | F20: 310.05 | H20: 238.975 | I20: 253.842 | J20: 271.13 | L20: 243.397 | M20: 290.39 | N20: 349.59
B21: Suisse du Nord-Ouest (1) | C21: 207.631 | D21: 225.661 | E21: 256.17 | F21: 308.65 | H21: 224.023 | I21: 237.861 | J21: 269.96 | L21: 227.3 | M21: 274.71 | N21: 349.23
B22: Suisse centrale | C22: 114.966 | D22: 107.824 | E22: 96.26 | F22: 110.24 | H22: 106.499 | I22: 89.59 | J22: 96.69 | L22: 109.15 | M22: 103.07 | N22: 124.37
B23: Suisse orientale (2) | C23: 280.89 | D23: 312.855 | E23: 337.83 | F23: 394.5 | H23: 307.338 | I23: 306.42 | J23: 327.36 | L23: 318.371 | M23: 356.96 | N23: 425.81
B24: Tessin | C24: 51.986 | D24: 68.049 | E24: 82.09 | F24: 95.27 | H24: 67.725 | I24: 77.227 | J24: 83.81 | L24: 68.373 | M24: 86.96 | N24: 106.74
A27: *Valeur médiane 2024-2026. **Valeur médiane 2028-2030. ***Valeur médiane 2033-2035.
A28: ****Sans les titres pour enseigner à la fois dans le degré secondaire I et le degré secondaire II.
A29: (1) inclut le canton de Berne; (2) inclut le canton de Zurich;
A31: Sources: Perspectives de la formation, OFS, Neuchâtel
A32: Publication: Scénarios 2025-2034 pour les enseignants de l'école obligatoire
A33: © OFS, Neuchâtel, 2025
A34: Renseignements: eduperspectives@bfs.admin.ch

Sheet G15
A2: G15 | B2: Evolution du besoin en nouveaux enseignants dans le degré primaire (1-8) et du nombre de nouveaux diplômés de l'enseignement du degré devenant habituellement enseignants dans le degré
C4: Scénario de référence | G4: Scénario "bas" | I4: Scénario "haut"
C5: Besoin / Nouvelles entrées | F5: Nombre de nouveaux diplômés HEP du degré devenant habituellement enseignants dans le degré | G5: Besoin / Nouvelles entrées | H5: Nombre de nouveaux diplômés HEP du degré devenant habituellement enseignants dans le degré | I5: Besoin / Nouvelles entrées | J5: Nombre de nouveaux diplômés HEP du degré devenant habituellement enseignants dans le degré
C6: Médiane | D6: p10 | E6: p90 | F6: N | G6: Médiane | H6: N | I6: Médiane | J6: N
B7: 2020 | C7: 4637 | D7: 4637 | E7: 4637 | F7: 2580.6 | G7: 4637 | H7: 2580.6 | I7: 4637 | J7: 2580.6
B8: 2021 | C8: 4911 | D8: 4911 | E8: 4911 | F8: 2710.565 | G8: 4911 | H8: 2710.565 | I8: 4911 | J8: 2710.565
B9: 2022 | C9: 5919 | D9: 5919 | E9: 5919 | F9: 2808.74 | G9: 5919 | H9: 2808.74 | I9: 5919 | J9: 2808.74
B10: 2023 | C10: 6117 | D10: 6117 | E10: 6117 | F10: 2810.61 | G10: 6117 | H10: 2810.61 | I10: 6117 | J10: 2810.61
B12: 2024 | C12: 5169 | D12: 4962 | E12: 5412 | F12: 2958.3004 | G12: 4768 | H12: 2958.1998 | I12: 5994 | J12: 2958.4016
B13: 2025 | C13: 5148 | D13: 4988 | E13: 5342 | F13: 2846.0751 | G13: 4490 | H13: 2843.5688 | I13: 5679 | J13: 2848.5795
B14: 2026 | C14: 4783 | D14: 4539 | E14: 4838 | F14: 2831.873 | G14: 4025 | H14: 2822.8866 | I14: 5246 | J14: 2840.8595
B15: 2027 | C15: 4139 | D15: 3922 | E15: 4188 | F15: 2942.5335 | G15: 3542 | H15: 2893.9653 | I15: 4615 | J15: 2990.9118
B16: 2028 | C16: 3638 | D16: 3347 | E16: 3830 | F16: 3014.2992 | G16: 3146 | H16: 2940.7527 | I16: 4240 | J16: 3087.2994
B17: 2029 | C17: 3434 | D17: 3267 | E17: 3792 | F17: 3086.8113 | G17: 2925 | H17: 2980.5276 | I17: 4073 | J17: 3192.1307
B18: 2030 | C18: 3442 | D18: 3261 | E18: 3641 | F18: 3170.3205 | G18: 2892 | H18: 3025.5759 | I18: 3974 | J18: 3313.8746
B19: 2031 | C19: 3416 | D19: 3162 | E19: 3507 | F19: 3261.7418 | G19: 2708 | H19: 3075.9911 | I19: 3864 | J19: 3446.2711
... B22: 2034 | C22: 3035 | D22: 2778 | E22: 3142 | F22: 3519.4594 | G22: 2669 | H22: 3209.855 | I22: 3754 | J22: 3826.9705
A24: Sources: Perspectives de la formation, OFS, Neuchâtel
A25: Publication: Scénarios 2025-2034 pour les enseignants de l'école obligatoire
A26: © OFS, Neuchâtel, 2025
A27: Renseignements: eduperspectives@bfs.admin.ch

Sheet G16
A2: G16 Degré primaire (1-8): Différence entre l'offre et le besoin en nouveaux enseignants, par région
B4: Ensemble de la période 2025-2034
B5: Scénario de référence | I5: Scénario "bas" | O5: Scénario "haut"
C6: Nombre de premiers titres HEP | D6: Nombre de nouveaux diplômés HEP du degré devenant habituellement enseignants dans le degré | E6: Besoin | F6: Différence entre l'offre et le besoin | I6: Nombre de premiers titres HEP | J6: Nombre de nouveaux diplômés HEP du degré devenant habituellement enseignants dans le degré | K6: Besoin | L6: Différence entre l'offre et le besoin | O6: Nombre de premiers titres HEP | P6: Nombre de nouveaux diplômés HEP du degré devenant habituellement enseignants dans le degré | Q6: Besoin | R6: Différence entre l'offre et le besoin
F7: N | G7: % | L7: N | M7: % | R7: N | S7: %
B8: Ensemble de la Suisse | C8: 33673 | D8: 31488 | E8: 37178 | F8: =D8-E8 -> -5690 | G8: =F8/E8 -> -0.1530475 | I8: 32193 | J8: 30104 | K8: 31734 | L8: =J8-K8 -> -1630 | M8: =L8/K8 -> -0.051364467 | O8: 35144 | P8: 32863 | Q8: 43081 | R8: =P8-Q8 -> -10218 | S8: =R8/Q8 -> -0.23718112
B10: Suisse romande | C10: 7946 | D10: 7073 | E10: 6240 | F10: =D10-E10 -> 833 | G10: =F10/E10 -> 0.13349359 | I10: 7579 | J10: 6747 | K10: 5369 | L10: =J10-K10 -> 1378 | M10: =L10/K10 -> 0.2566586 | O10: 8314 | P10: 7400 | Q10: 7252 | R10: =P10-Q10 -> 148 | S10: =R10/Q10 -> 0.020408163
B11: Suisse du Nord-Ouest | C11: 8184 | D11: 8848 | E11: 13832 | F11: =D11-E11 -> -4984 | G11: =F11/E11 -> -0.36032389 | I11: 7867 | J11: 8494 | K11: 11719 | L11: =J11-K11 -> -3225 | M11: =L11/K11 -> -0.27519413 | O11: 8502 | P11: 9202 | Q11: 15959 | R11: =P11-Q11 -> -6757 | S11: =R11/Q11 -> -0.42339746
B12: Suisse centrale | C12: 4852 | D12: 3323 | E12: 4224 | F12: =D12-E12 -> -901 | G12: =F12/E12 -> -0.21330492 | I12: 4636 | J12: 3176 | K12: 3839 | L12: =J12-K12 -> -663 | M12: =L12/K12 -> -0.17270122 | O12: 5068 | P12: 3471 | Q12: 4591 | R12: =P12-Q12 -> -1120 | S12: =R12/Q12 -> -0.24395557
B13: Suisse orientale | C13: 11704 | D13: 11164 | E13: 12038 | F13: =D13-E13 -> -874 | G13: =F13/E13 -> -0.072603422 | I13: 11171 | J13: 10659 | K13: 10064 | L13: =J13-K13 -> 595 | M13: =L13/K13 -> 0.059121622 | O13: 12227 | P13: 11662 | Q13: 14307 | R13: =P13-Q13 -> -2645 | S13: =R13/Q13 -> -0.18487454
B14: Tessin | C14: 986 | D14: 1079 | E14: 844 | F14: =D14-E14 -> 235 | G14: =F14/E14 -> 0.27843602 | I14: 940 | J14: 1029 | K14: 743 | L14: =J14-K14 -> 286 | M14: =L14/K14 -> 0.38492598 | O14: 1032 | P14: 1129 | Q14: 972 | R14: =P14-Q14 -> 157 | S14: =R14/Q14 -> 0.16152263
B17: Situation 2034*
B18: Scénario de référence | I18: Scénario "bas" | O18: Scénario "haut"
C19: Nombre de premiers titres HEP | D19: Nombre de nouveaux diplômés HEP du degré devenant habituellement enseignants dans le degré | E19: Besoin | F19: Différence entre l'offre et le besoin | I19: Nombre de premiers titres HEP | J19: Nombre de nouveaux diplômés HEP du degré devenant habituellement enseignants dans le degré | K19: Besoin | L19: Différence entre l'offre et le besoin | O19: Nombre de premiers titres HEP | P19: Nombre de nouveaux diplômés HEP du degré devenant habituellement enseignants dans le degré | Q19: Besoin | R19: Différence entre l'offre et le besoin
F20: N | G20: % | L20: N | M20: % | R20: N | S20: %
B21: Ensemble de la Suisse | C21: 3763 | D21: 3519 | E21: 3161 | F21: =D21-E21 -> 358 | G21: =F21/E21 -> 0.1132553 | I21: 3433 | J21: 3210 | K21: 2647 | L21: =J21-K21 -> 563 | M21: =L21/K21 -> 0.21269362 | O21: 4093 | P21: 3827 | Q21: 3778 | R21: =P21-Q21 -> 49 | S21: =R21/Q21 -> 0.012969825
B23: Suisse romande | C23: 878 | D23: 781 | E23: 580 | F23: =D23-E23 -> 201 | G23: =F23/E23 -> 0.34655172 | I23: 799 | J23: 711 | K23: 498 | L23: =J23-K23 -> 213 | M23: =L23/K23 -> 0.42771084 | O23: 956 | P23: 851 | Q23: 684 | R23: =P23-Q23 -> 167 | S23: =R23/Q23 -> 0.24415205
B24: Suisse du Nord-Ouest | C24: 930 | D24: 1002 | E24: 1125 | F24: =D24-E24 -> -123 | G24: =F24/E24 -> -0.10933333 | I24: 854 | J24: 918 | K24: 933 | L24: =J24-K24 -> -15 | M24: =L24/K24 -> -0.01607717 | O24: 1008 | P24: 1087 | Q24: 1369 | R24: =P24-Q24 -> -282 | S24: =R24/Q24 -> -0.20598977
B25: Suisse centrale | C25: 542 | D25: 372 | E25: 360 | F25: =D25-E25 -> 12 | G25: =F25/E25 -> 0.033333333 | I25: 494 | J25: 339 | K25: 313 | L25: =J25-K25 -> 26 | M25: =L25/K25 -> 0.083067093 | O25: 591 | P25: 405 | Q25: 395 | R25: =P25-Q25 -> 10 | S25: =R25/Q25 -> 0.025316456
B26: Suisse orientale | C26: 1309 | D26: 1249 | E26: 1008 | F26: =D26-E26 -> 241 | G26: =F26/E26 -> 0.2390873 | I26: 1191 | J26: 1137 | K26: 826 | L26: =J26-K26 -> 311 | M26: =L26/K26 -> 0.37651332 | O26: 1424 | P26: 1359 | Q26: 1227 | R26: =P26-Q26 -> 132 | S26: =R26/Q26 -> 0.10757946
B27: Tessin | C27: 105 | D27: 115 | E27: 87 | F27: =D27-E27 -> 28 | G27: =F27/E27 -> 0.32183908 | I27: 95 | J27: 105 | K27: 76 | L27: =J27-K27 -> 29 | M27: =L27/K27 -> 0.38157895 | O27: 114 | P27: 126 | Q27: 103 | R27: =P27-Q27 -> 23 | S27: =R27/Q27 -> 0.22330097
A29: * Valeur médiane 2033-2035.
A30: (1) inclut le canton de Berne; (2) inclut le canton de Zurich;
A32: Sources: Perspectives de la formation, OFS, Neuchâtel
A33: Publication: Scénarios 2025-2034 pour les enseignants de l'école obligatoire
A34: © OFS, Neuchâtel, 2025
A35: Renseignements: eduperspectives@bfs.admin.ch

Sheet G17
B2: Evolution du besoin en nouveaux enseignants dans le degré secondaire I et du nombre de nouveaux diplômés de l’enseignement du degré* devenant habituellement enseignants dans ce degré
A3: G17
C5: Scénario de référence | G5: Scénario "bas" | I5: Scénario "haut"
C6: Besoin / Nouvelles entrées (personnes) | F6: Nombre de nouveaux diplômés HEP du degré devenant habituellement enseignants dans le degré | G6: Besoin / Nouvelles entrées (personnes) | H6: Nombre de nouveaux diplômés HEP du degré devenant habituellement enseignants dans le degré | I6: Besoin / Nouvelles entrées (personnes) | J6: Nombre de nouveaux diplômés HEP du degré devenant habituellement enseignants dans le degré
C7: Médiane | D7: p10 | E7: p90 | F7: N | G7: Médiane | H7: N | I7: Médiane | J7: N
B8: 2020 | C8: 2544 | D8: 2544 | E8: 2544 | F8: 840.46 | G8: 2544 | H8: 840.46 | I8: 2544 | J8: 840.46
B9: 2021 | C9: 2824 | D9: 2824 | E9: 2824 | F9: 852.76 | G9: 2824 | H9: 852.76 | I9: 2824 | J9: 852.76
B10: 2022 | C10: 3388 | D10: 3388 | E10: 3388 | F10: 837.18 | G10: 3388 | H10: 837.18 | I10: 3388 | J10: 837.18
B11: 2023 | C11: 3564 | D11: 3564 | E11: 3564 | F11: 860.96 | G11: 3564 | H11: 860.96 | I11: 3564 | J11: 860.96
B13: 2024 | C13: 3510 | D13: 3365 | E13: 3698 | F13: 847.7129 | G13: 3264 | H13: 847.71273 | I13: 3692 | J13: 847.71273
B14: 2025 | C14: 3262 | D14: 3147 | E14: 3416 | F14: 892.51852 | G14: 3121 | H14: 889.51114 | I14: 3513 | J14: 895.5255
B15: 2026 | C15: 3260 | D15: 3148 | E15: 3335 | F15: 910.48144 | G15: 3029 | H15: 886.39463 | I15: 3445 | J15: 934.57294
B16: 2027 | C16: 3240 | D16: 3025 | E16: 3397 | F16: 926.3468 | G16: 2987 | H16: 887.99939 | I16: 3451 | J16: 964.59004
B17: 2028 | C17: 3178 | D17: 3089 | E17: 3327 | F17: 934.719 | G17: 3028 | H17: 884.32083 | I17: 3410 | J17: 982.63512
B18: 2029 | C18: 3084 | D18: 3004 | E18: 3186 | F18: 952.2834 | G18: 2955 | H18: 887.66067 | I18: 3291 | J18: 1007.2639
B19: 2030 | C19: 3045 | D19: 2856 | E19: 3149 | F19: 982.2626 | G19: 2843 | H19: 901.77279 | I19: 3165 | J19: 1045.8551
B20: 2031 | C20: 2954 | D20: 2705 | E20: 3115 | F20: 1014.177 | G20: 2654 | H20: 917.89362 | I20: 3074 | J20: 1088.5009
... B23: 2034 | C23: 2562 | D23: 2468 | E23: 2733 | F23: 1100.15 | G23: 2292 | H23: 960.6493 | I23: 2807 | J23: 1212.6581
A25: L'offre et le besoin ne peuvent être comparés sur une base vraiment pertinente pour ce degré.
A26: * Degré secondaire I ainsi que ceux pour enseigner à la fois dans le degré secondaire I et le degré secondaire II.
A28: Sources: Perspectives de la formation, OFS, Neuchâtel
A29: Publication: Scénarios 2025-2034 pour les enseignants de l'école obligatoire
A30: © OFS, Neuchâtel, 2025
A31: Renseignements: eduperspectives@bfs.admin.ch

Sheet TA1 REF
A2: TA1 REF | B2: Résultats principaux par canton pour le degré primaire (1-8) selon le scénario de référence
B4: Nombre d'enseignants | E4: Nombre de départs temporaires ou définitifs | H4: Besoin en nouveaux enseignants
B5: 2025* | C5: 2034** | D5: Différence | E5: 2025* | F5: 2034** | G5: Différence | H5: 2025* | I5: 2034** | J5: Différence
A6: Total | B6: 70955 | C6: 66501.33 | D6: -4454 | E6: 7490 | F6: 6365.33 | G6: -1125 | H6: 4988 | I6: 3173.33 | J6: -1815
A7: Zurich | B7: 11685.33 | C7: 10889.33 | D7: -796 | E7: 1370.67 | F7: 1180.67 | G7: -190 | H7: 815.67 | I7: 581 | J7: -235
A8: Berne | B8: 10124.33 | C8: 8977 | D8: -1147 | E8: 1311 | F8: 984.33 | G8: -327 | H8: 804.33 | I8: 485.67 | J8: -319
A9: Lucerne | B9: 3886.33 | C9: 3730 | D9: -156 | E9: 499.33 | F9: 453.33 | G9: -46 | H9: 323.67 | I9: 242.33 | J9: -81
A10: Uri | B10: 306.33 | C10: 286 | D10: -20 | E10: 32.67 | F10: 27 | G10: -6 | H10: 18 | I10: 8.67 | J10: -9
A11: Schwytz | B11: 1188.67 | C11: 1111 | D11: -78 | E11: 124.67 | F11: 110.67 | G11: -14 | H11: 91.67 | I11: 48.67 | J11: -43
A12: Obwald | B12: 333.67 | C12: 313.67 | D12: -20 | E12: 35 | F12: 33.33 | G12: -2 | H12: 15 | I12: 12.67 | J12: -2
A13: Nidwald | B13: 372 | C13: 351 | D13: -21 | E13: 38.67 | F13: 36 | G13: -3 | H13: 24.67 | I13: 14.33 | J13: -10
A14: Glaris | B14: 364.67 | C14: 333.33 | D14: -31 | E14: 45 | F14: 38.67 | G14: -6 | H14: 31.67 | I14: 18.33 | J14: -13
A15: Zoug | B15: 1024.33 | C15: 981.67 | D15: -43 | E15: 90.67 | F15: 85 | G15: -6 | H15: 46.33 | I15: 28.67 | J15: -18
A16: Fribourg | B16: 2665.67 | C16: 2636.67 | D16: -29 | E16: 224.33 | F16: 203.67 | G16: -21 | H16: 167.67 | I16: 108.33 | J16: -59
A17: Soleure | B17: 2306.67 | C17: 2143 | D17: -164 | E17: 212.67 | F17: 176.67 | G17: -36 | H17: 113 | I17: 55.33 | J17: -58
... A32: Jura | B32: 587.33 | C32: 555.33 | D32: -32 | E32: 33 | F32: 25.33 | G32: -8 | H32: 20 | I32: 6.33 | J32: -14
A33: *Valeur médiane 2024-2026. **Valeur médiane 2033-2035.
A35: Sources: Perspectives de la formation, OFS, Neuchâtel
A36: Publication: Scénarios 2025-2034 pour les enseignants de l'école obligatoire
A37: © OFS, Neuchâtel, 2025
A38: Renseignements: eduperspectives@bfs.admin.ch

Sheet TA1 LOW
A2: TA1 LOW | B2: Résultats principaux par canton pour le degré primaire (1-8) selon le scénario "bas"
B4: Nombre d'enseignants | E4: Nombre de départs temporaires ou définitifs | H4: Besoin en nouveaux enseignants
B5: 2025* | C5: 2034** | D5: Différence | E5: 2025* | F5: 2034** | G5: Différence | H5: 2025* | I5: 2034** | J5: Différence
A6: Total | B6: 70300.67 | C6: 63882 | D6: -6419 | E6: 7204.67 | F6: 5814.67 | G6: -1390 | H6: 4410.33 | I6: 2628.33 | J6: -1782
A7: Zurich | B7: 11574.33 | C7: 10371.33 | D7: -1203 | E7: 1312.33 | F7: 1081.33 | G7: -231 | H7: 717.67 | I7: 466.33 | J7: -251
A8: Berne | B8: 9989.67 | C8: 8556 | D8: -1434 | E8: 1264.33 | F8: 877.33 | G8: -387 | H8: 715.33 | I8: 390.67 | J8: -325
A9: Lucerne | B9: 3872.67 | C9: 3653 | D9: -220 | E9: 492 | F9: 422.33 | G9: -70 | H9: 304 | I9: 211.33 | J9: -93
A10: Uri | B10: 306 | C10: 274 | D10: -32 | E10: 33.67 | F10: 28.33 | G10: -5 | H10: 19 | I10: 10 | J10: -9
A11: Schwytz | B11: 1171 | C11: 1068.33 | D11: -103 | E11: 112 | F11: 95.33 | G11: -17 | H11: 68 | I11: 38.67 | J11: -29
A12: Obwald | B12: 337 | C12: 303.67 | D12: -33 | E12: 34.67 | F12: 28 | G12: -7 | H12: 16 | I12: 11 | J12: -5
A13: Nidwald | B13: 367 | C13: 335.33 | D13: -32 | E13: 37.33 | F13: 36.67 | G13: -1 | H13: 20.67 | I13: 11 | J13: -10
A14: Glaris | B14: 365.67 | C14: 322.33 | D14: -43 | E14: 45 | F14: 35.33 | G14: -10 | H14: 32 | I14: 14.33 | J14: -18
A15: Zoug | B15: 1016.33 | C15: 951 | D15: -65 | E15: 92.67 | F15: 84.67 | G15: -8 | H15: 50 | I15: 31 | J15: -19
A16: Fribourg | B16: 2645 | C16: 2530.67 | D16: -114 | E16: 236 | F16: 200.67 | G16: -35 | H16: 167.67 | I16: 95.67 | J16: -72
A17: Soleure | B17: 2291.67 | C17: 2051.33 | D17: -240 | E17: 213 | F17: 167.33 | G17: -46 | H17: 98.67 | I17: 40 | J17: -59
... A32: Jura | B32: 584.33 | C32: 541.33 | D32: -43 | E32: 32.33 | F32: 21.67 | G32: -11 | H32: 17.67 | I32: 4.67 | J32: -13
A33: *Valeur médiane 2024-2026. **Valeur médiane 2033-2035.
A35: Sources: Perspectives de la formation, OFS, Neuchâtel
A36: Publication: Scénarios 2025-2034 pour les enseignants de l'école obligatoire
A37: © OFS, Neuchâtel, 2025
A38: Renseignements: eduperspectives@bfs.admin.ch

Sheet TA1 HIGH
A2: TA1 HIGH | B2: Résultats principaux par canton pour le degré primaire (1-8) selon le scénario "haut"
B4: Nombre d'enseignants | E4: Nombre de départs temporaires ou définitifs | H4: Besoin en nouveaux enseignants
B5: 2025* | C5: 2034** | D5: Différence | E5: 2025* | F5: 2034** | G5: Différence | H5: 2025* | I5: 2034** | J5: Différence
A6: Total | B6: 71740.67 | C6: 69251 | D6: -2490 | E6: 7877.33 | F6: 6985.33 | G6: -892 | H6: 5652 | I6: 3786 | J6: -1866
A7: Zurich | B7: 11820.33 | C7: 11378 | D7: -442 | E7: 1438.67 | F7: 1284.67 | G7: -154 | H7: 954 | I7: 683.67 | J7: -270
A8: Berne | B8: 10277 | C8: 9432 | D8: -845 | E8: 1414 | F8: 1104.33 | G8: -310 | H8: 950 | I8: 593 | J8: -357
A9: Lucerne | B9: 3889 | C9: 3782 | D9: -107 | E9: 523.67 | F9: 470.67 | G9: -53 | H9: 345 | I9: 261.67 | J9: -83
A10: Uri | B10: 308 | C10: 298.33 | D10: -10 | E10: 33.33 | F10: 25.33 | G10: -8 | H10: 20 | I10: 9.67 | J10: -10
A11: Schwytz | B11: 1207.67 | C11: 1148.67 | D11: -59 | E11: 139.33 | F11: 139.67 | G11: 0 | H11: 114.33 | I11: 71 | J11: -43
A12: Obwald | B12: 335.67 | C12: 328.67 | D12: -7 | E12: 37 | F12: 36.67 | G12: 0 | H12: 16.33 | I12: 16.33 | J12: 0
A13: Nidwald | B13: 373.67 | C13: 359 | D13: -15 | E13: 37.67 | F13: 34.67 | G13: -3 | H13: 24.33 | I13: 12 | J13: -12
A14: Glaris | B14: 364.67 | C14: 339.67 | D14: -25 | E14: 44 | F14: 37.67 | G14: -6 | H14: 30.67 | I14: 16 | J14: -15
A15: Zoug | B15: 1019.67 | C15: 993.33 | D15: -26 | E15: 88.33 | F15: 80.67 | G15: -8 | H15: 34.67 | I15: 26.33 | J15: -8
A16: Fribourg | B16: 2691.67 | C16: 2757 | D16: 65 | E16: 195.33 | F16: 190.33 | G16: -5 | H16: 152.67 | I16: 108.67 | J16: -44
A17: Soleure | B17: 2331.67 | C17: 2234.33 | D17: -97 | E17: 213.33 | F17: 179.67 | G17: -34 | H17: 137.33 | I17: 65.33 | J17: -72
... A32: Jura | B32: 589.33 | C32: 578 | D32: -11 | E32: 34 | F32: 27 | G32: -7 | H32: 17.33 | I32: 7 | J32: -10
A33: *Valeur médiane 2024-2026. **Valeur médiane 2033-2035.
A35: Sources: Perspectives de la formation, OFS, Neuchâtel
A36: Publication: Scénarios 2025-2034 pour les enseignants de l'école obligatoire
A37: © OFS, Neuchâtel, 2025
A38: Renseignements: eduperspectives@bfs.admin.ch

Sheet TA2 REF
A2: TA2 REF | B2: Résultats principaux par canton pour le degré secondaire I selon le scénario de référence
B4: Nombre d'enseignants | E4: Nombre de départs temporaires ou définitifs | H4: Besoin en nouveaux enseignants
B5: 2025* | C5: 2034** | D5: Différence | E5: 2025* | F5: 2034** | G5: Différence | H5: 2025* | I5: 2034** | J5: Différence
A6: Total | B6: 38533.67 | C6: 39416.33 | D6: 883 | E6: 4120.33 | F6: 4126 | G6: 6 | H6: 3351.67 | I6: 2570 | J6: -782
A7: Zurich | B7: 6580 | C7: 6509.33 | D7: -71 | E7: 590.33 | F7: 583.67 | G7: -7 | H7: 496 | I7: 324.67 | J7: -171
A8: Berne | B8: 5000.67 | C8: 4925.33 | D8: -75 | E8: 772 | F8: 687.33 | G8: -85 | H8: 552 | I8: 411.33 | J8: -141
A9: Lucerne | B9: 2156.33 | C9: 2267 | D9: 111 | E9: 231.67 | F9: 248 | G9: 16 | H9: 205.67 | I9: 157.33 | J9: -48
A10: Uri | B10: 186.33 | C10: 193 | D10: 7 | E10: 19 | F10: 19 | G10: 0 | H10: 14.33 | I10: 11 | J10: -3
A11: Schwytz | B11: 604 | C11: 648 | D11: 44 | E11: 59 | F11: 61.67 | G11: 3 | H11: 57.67 | I11: 47.67 | J11: -10
A12: Obwald | B12: 219 | C12: 223.67 | D12: 5 | E12: 28 | F12: 28 | G12: 0 | H12: 20 | I12: 13 | J12: -7
A13: Nidwald | B13: 216.67 | C13: 238 | D13: 21 | E13: 27.33 | F13: 28.67 | G13: 1 | H13: 22.67 | I13: 18 | J13: -5
A14: Glaris | B14: 176.67 | C14: 193 | D14: 16 | E14: 21.33 | F14: 25.33 | G14: 4 | H14: 18 | I14: 12.67 | J14: -5
A15: Zoug | B15: 604 | C15: 666.33 | D15: 62 | E15: 56.33 | F15: 72 | G15: 16 | H15: 41.33 | I15: 44.33 | J15: 3
A16: Fribourg | B16: 1357 | C16: 1409.33 | D16: 52 | E16: 138 | F16: 139.33 | G16: 1 | H16: 91 | I16: 78.67 | J16: -12
A17: Soleure | B17: 1049.33 | C17: 1120.33 | D17: 71 | E17: 93 | F17: 105.33 | G17: 12 | H17: 65 | I17: 61.67 | J17: -3
... A32: Jura | B32: 307.33 | C32: 306 | D32: -1 | E32: 25 | F32: 26 | G32: 1 | H32: 15.67 | I32: 16.67 | J32: 1
A33: *Valeur médiane 2024-2026. **Valeur médiane 2033-2035.
A35: Sources: Perspectives de la formation, OFS, Neuchâtel
A36: Publication: Scénarios 2025-2034 pour les enseignants de l'école obligatoire
A37: © OFS, Neuchâtel, 2025
A38: Renseignements: eduperspectives@bfs.admin.ch

Sheet TA2 LOW
A2: TA2 LOW | B2: Résultats principaux par canton pour le degré secondaire I selon le scénario "bas"
B4: Nombre d'enseignants | E4: Nombre de départs temporaires ou définitifs | H4: Besoin en nouveaux enseignants
B5: 2025* | C5: 2034** | D5: Différence | E5: 2025* | F5: 2034** | G5: Différence | H5: 2025* | I5: 2034** | J5: Différence
A6: Total | B6: 38247 | C6: 38421.33 | D6: 174 | E6: 4011.33 | F6: 3903.33 | G6: -108 | H6: 3142 | I6: 2348.33 | J6: -794
A7: Zurich | B7: 6544 | C7: 6387.67 | D7: -156 | E7: 579.67 | F7: 545 | G7: -35 | H7: 463.33 | I7: 287 | J7: -176
A8: Berne | B8: 4960 | C8: 4831 | D8: -129 | E8: 740.33 | F8: 644.33 | G8: -96 | H8: 492 | I8: 371.33 | J8: -121
A9: Lucerne | B9: 2149.67 | C9: 2224.33 | D9: 75 | E9: 231 | F9: 237.67 | G9: 7 | H9: 206.33 | I9: 155.67 | J9: -51
A10: Uri | B10: 186.33 | C10: 187.33 | D10: 1 | E10: 17.67 | F10: 19 | G10: 1 | H10: 15.67 | I10: 9.33 | J10: -6
A11: Schwytz | B11: 598 | C11: 631.33 | D11: 33 | E11: 50.67 | F11: 56.67 | G11: 6 | H11: 49.67 | I11: 43.33 | J11: -6
A12: Obwald | B12: 219.33 | C12: 217.33 | D12: -2 | E12: 27 | F12: 25.33 | G12: -2 | H12: 18.67 | I12: 10 | J12: -9
A13: Nidwald | B13: 216.33 | C13: 231 | D13: 15 | E13: 28.33 | F13: 28.33 | G13: 0 | H13: 22.33 | I13: 16.67 | J13: -6
A14: Glaris | B14: 174.67 | C14: 177 | D14: 2 | E14: 20 | F14: 20.67 | G14: 1 | H14: 12.67 | I14: 10 | J14: -3
A15: Zoug | B15: 604.33 | C15: 645.67 | D15: 41 | E15: 57.33 | F15: 65 | G15: 8 | H15: 40 | I15: 39.67 | J15: 0
A16: Fribourg | B16: 1347.33 | C16: 1326.33 | D16: -21 | E16: 137.67 | F16: 133 | G16: -5 | H16: 82.33 | I16: 68.33 | J16: -14
A17: Soleure | B17: 1045 | C17: 1071.67 | D17: 27 | E17: 91.33 | F17: 93 | G17: 2 | H17: 61.33 | I17: 48.33 | J17: -13
... A32: Jura | B32: 303.33 | C32: 283.33 | D32: -20 | E32: 23 | F32: 23 | G32: 0 | H32: 12 | I32: 14 | J32: 2
A33: *Valeur médiane 2024-2026. **Valeur médiane 2033-2035.
A35: Sources: Perspectives de la formation, OFS, Neuchâtel
A36: Publication: Scénarios 2025-2034 pour les enseignants de l'école obligatoire
A37: © OFS, Neuchâtel, 2025
A38: Renseignements: eduperspectives@bfs.admin.ch

Sheet TA2 HIGH
A2: TA2 HIGH | B2: Résultats principaux par canton pour le degré secondaire I selon le scénario "haut"
B4: Nombre d'enseignants | E4: Nombre de départs temporaires ou définitifs | H4: Besoin en nouveaux enseignants
B5: 2025* | C5: 2034** | D5: Différence | E5: 2025* | F5: 2034** | G5: Différence | H5: 2025* | I5: 2034** | J5: Différence
A6: Total | B6: 38776.67 | C6: 40400 | D6: 1623 | E6: 4195.33 | F6: 4325 | G6: 130 | H6: 3549 | I6: 2797.33 | J6: -752
A7: Zurich | B7: 6602.67 | C7: 6604 | D7: 1 | E7: 612.33 | F7: 606 | G7: -6 | H7: 525.33 | I7: 358.67 | J7: -167
A8: Berne | B8: 5082.67 | C8: 5064 | D8: -19 | E8: 826.67 | F8: 746.33 | G8: -80 | H8: 637.67 | I8: 458.33 | J8: -179
A9: Lucerne | B9: 2156.33 | C9: 2294.33 | D9: 138 | E9: 242.67 | F9: 267.33 | G9: 25 | H9: 215.33 | I9: 183 | J9: -32
A10: Uri | B10: 188.33 | C10: 202.33 | D10: 14 | E10: 19.67 | F10: 18.33 | G10: -1 | H10: 16 | I10: 10 | J10: -6
A11: Schwytz | B11: 609 | C11: 662.33 | D11: 53 | E11: 60 | F11: 66 | G11: 6 | H11: 57 | I11: 51.67 | J11: -5
A12: Obwald | B12: 218.67 | C12: 226.67 | D12: 8 | E12: 28 | F12: 30 | G12: 2 | H12: 19.33 | I12: 14.67 | J12: -5
A13: Nidwald | B13: 219.67 | C13: 246 | D13: 26 | E13: 29.67 | F13: 31.33 | G13: 2 | H13: 25.33 | I13: 21.67 | J13: -4
A14: Glaris | B14: 183.33 | C14: 211 | D14: 28 | E14: 23.33 | F14: 30.67 | G14: 7 | H14: 23.67 | I14: 21 | J14: -3
A15: Zoug | B15: 606.67 | C15: 669.33 | D15: 63 | E15: 58 | F15: 72 | G15: 14 | H15: 41.67 | I15: 43.33 | J15: 2
A16: Fribourg | B16: 1366 | C16: 1482 | D16: 116 | E16: 122 | F16: 141 | G16: 19 | H16: 82.33 | I16: 93 | J16: 11
A17: Soleure | B17: 1055.33 | C17: 1186.67 | D17: 131 | E17: 97.67 | F17: 113 | G17: 15 | H17: 68 | I17: 72 | J17: 4
... A32: Jura | B32: 303.67 | C32: 301.67 | D32: -2 | E32: 26.33 | F32: 28.33 | G32: 2 | H32: 17 | I32: 16.67 | J32: 0
A33: *Valeur médiane 2024-2026. **Valeur médiane 2033-2035.
A35: Sources: Perspectives de la formation, OFS, Neuchâtel
A36: Publication: Scénarios 2025-2034 pour les enseignants de l'école obligatoire
A37: © OFS, Neuchâtel, 2025
A38: Renseignements: eduperspectives@bfs.admin.ch

Sheet TA3
A2: TA3 Degré secondaire I : Différence entre l'offre et le besoin en nouveaux enseignants, par région
B4: Ensemble de la période 2025-2034
B5: Scénario de référence | I5: Scénario "bas" | O5: Scénario "haut"
C6: Nombre de premiers titres HEP | D6: Nombre de nouveaux diplômés HEP du degré devenant habituellement enseignants dans le degré | E6: Besoin | F6: Différence entre l'offre et le besoin | I6: Nombre de premiers titres HEP | J6: Nombre de nouveaux diplômés HEP du degré devenant habituellement enseignants dans le degré | K6: Besoin | L6: Différence entre l'offre et le besoin | O6: Nombre de premiers titres HEP | P6: Nombre de nouveaux diplômés HEP du degré devenant habituellement enseignants dans le degré | Q6: Besoin | R6: Différence entre l'offre et le besoin
F7: N | G7: % | L7: N | M7: % | R7: N | S7: %
B8: Ensemble de la Suisse | C8: 10762 | D8: 9495 | E8: 30104 | F8: =D8-E8 -> -20609 | G8: =F8/E8 -> -0.68459341 | I8: 9869 | J8: 8706 | K8: 28075 | L8: =J8-K8 -> -19369 | M8: =L8/K8 -> -0.68990205 | O8: 11499 | P8: 10145 | Q8: 32217 | R8: =P8-Q8 -> -22072 | S8: =R8/Q8 -> -0.68510414
B10: Suisse romande | C10: 2762 | D10: 3325 | E10: 6545 | F10: =D10-E10 -> -3220 | G10: =F10/E10 -> -0.49197861 | I10: 2560 | J10: 3149 | K10: 6004 | L10: =J10-K10 -> -2855 | M10: =L10/K10 -> -0.47551632 | O10: 2967 | P10: 3503 | Q10: 7129 | R10: =P10-Q10 -> -3626 | S10: =R10/Q10 -> -0.50862674
B11: Suisse du Nord-Ouest | C11: 2620 | D11: 2396 | E11: 10312 | F11: =D11-E11 -> -7916 | G11: =F11/E11 -> -0.76764934 | I11: 2420 | J11: 2217 | K11: 9543 | L11: =J11-K11 -> -7326 | M11: =L11/K11 -> -0.76768312 | O11: 2826 | P11: 2572 | Q11: 11264 | R11: =P11-Q11 -> -8692 | S11: =R11/Q11 -> -0.77166193
B12: Suisse centrale | C12: 1022 | D12: 749 | E12: 3449 | F12: =D12-E12 -> -2700 | G12: =F12/E12 -> -0.7828356 | I12: 948 | J12: 695 | K12: 3199 | L12: =J12-K12 -> -2504 | M12: =L12/K12 -> -0.78274461 | O12: 1098 | P12: 805 | Q12: 3494 | R12: =P12-Q12 -> -2689 | S12: =R12/Q12 -> -0.76960504
B13: Suisse orientale | C13: 3524 | D13: 3358 | E13: 9203 | F13: =D13-E13 -> -5845 | G13: =F13/E13 -> -0.63511898 | I13: 3163 | J13: 3024 | K13: 8787 | L13: =J13-K13 -> -5763 | M13: =L13/K13 -> -0.65585524 | O13: 3718 | P13: 3551 | Q13: 9660 | R13: =P13-Q13 -> -6109 | S13: =R13/Q13 -> -0.63240166
B14: Tessin | C14: 834 | D14: 697 | E14: 595 | F14: =D14-E14 -> 102 | G14: =F14/E14 -> 0.17142857 | I14: 778 | J14: 650 | K14: 542 | L14: =J14-K14 -> 108 | M14: =L14/K14 -> 0.19926199 | O14: 890 | P14: 744 | Q14: 670 | R14: =P14-Q14 -> 74 | S14: =R14/Q14 -> 0.11044776
B17: Situation 2034*
B18: Scénario de référence | I18: Scénario "bas" | O18: Scénario "haut"
C19: Nombre de premiers titres HEP | D19: Nombre de nouveaux diplômés HEP du degré devenant habituellement enseignants dans le degré | E19: Besoin | F19: Différence entre l'offre et le besoin | I19: Nombre de premiers titres HEP | J19: Nombre de nouveaux diplômés HEP du degré devenant habituellement enseignants dans le degré | K19: Besoin | L19: Différence entre l'offre et le besoin | O19: Nombre de premiers titres HEP | P19: Nombre de nouveaux diplômés HEP du degré devenant habituellement enseignants dans le degré | Q19: Besoin | R19: Différence entre l'offre et le besoin
F20: N | G20: % | L20: N | M20: % | R20: N | S20: %
B21: Ensemble de la Suisse | C21: 1219 | D21: 1075 | E21: 2571 | F21: =D21-E21 -> -1496 | G21: =F21/E21 -> -0.58187476 | I21: 1049 | J21: 925 | K21: 2343 | L21: =J21-K21 -> -1418 | M21: =L21/K21 -> -0.605207 | O21: 1356 | P21: 1196 | Q21: 2794 | R21: =P21-Q21 -> -1598 | S21: =R21/Q21 -> -0.57193987
B23: Suisse romande | C23: 310 | D23: 362 | E23: 568 | F23: =D23-E23 -> -206 | G23: =F23/E23 -> -0.36267606 | I23: 271 | J23: 328 | K23: 507 | L23: =J23-K23 -> -179 | M23: =L23/K23 -> -0.3530572 | O23: 350 | P23: 397 | Q23: 629 | R23: =P23-Q23 -> -232 | S23: =R23/Q23 -> -0.36883943
B24: Suisse du Nord-Ouest | C24: 309 | D24: 279 | E24: 867 | F24: =D24-E24 -> -588 | G24: =F24/E24 -> -0.67820069 | I24: 270 | J24: 244 | K24: 785 | L24: =J24-K24 -> -541 | M24: =L24/K24 -> -0.68917197 | O24: 349 | P24: 313 | Q24: 968 | R24: =P24-Q24 -> -655 | S24: =R24/Q24 -> -0.67665289
B25: Suisse centrale | C25: 110 | D25: 81 | E25: 298 | F25: =D25-E25 -> -217 | G25: =F25/E25 -> -0.72818792 | I25: 97 | J25: 71 | K25: 274 | L25: =J25-K25 -> -203 | M25: =L25/K25 -> -0.74087591 | O25: 124 | P25: 92 | Q25: 315 | R25: =P25-Q25 -> -223 | S25: =R25/Q25 -> -0.70793651
B26: Suisse orientale | C26: 394 | D26: 377 | E26: 763 | F26: =D26-E26 -> -386 | G26: =F26/E26 -> -0.50589777 | I26: 327 | J26: 314 | K26: 711 | L26: =J26-K26 -> -397 | M26: =L26/K26 -> -0.5583685 | O26: 426 | P26: 408 | Q26: 795 | R26: =P26-Q26 -> -387 | S26: =R26/Q26 -> -0.48679245
B27: Tessin | C27: 95 | D27: 80 | E27: 74 | F27: =D27-E27 -> 6 | G27: =F27/E27 -> 0.081081081 | I27: 84 | J27: 70 | K27: 65 | L27: =J27-K27 -> 5 | M27: =L27/K27 -> 0.076923077 | O27: 107 | P27: 89 | Q27: 88 | R27: =P27-Q27 -> 1 | S27: =R27/Q27 -> 0.011363636
A29: L'offre et le besoin ne peuvent être comparés sur une base vraiment pertinente pour ce degré.
A30: * Valeur médiane 2033-2035.
A31: (1) inclut le canton de Berne; (2) inclut le canton de Zurich;
A33: Sources: Perspectives de la formation, OFS, Neuchâtel
A34: Publication: Scénarios 2025-2034 pour les enseignants de l'école obligatoire
A35: © OFS, Neuchâtel, 2025
A36: Renseignements: eduperspectives@bfs.admin.ch

Sheet D6a
A1: G6a Berufsmaturitäten nach Typ
A2: G6a Maturités professionnelles par type
B4: Gesamtzahl / | C4: =#REF! -> #REF! | D4: =#REF! -> #REF! | E4: =#REF! -> #REF! | F4: =#REF! -> #REF! | G4: Typ I (1) / | H4: =C4 -> #REF! | I4: =D4 -> #REF! | J4: Typ II (2) / | K4: =H4 -> #REF! | L4: =I4 -> #REF! | N4: =K4 -> #REF! | O4: =L4 -> #REF!
B5: Total | C5: =#REF! -> #REF! | D5: =#REF! -> #REF! | E5: =#REF! -> #REF! | F5: =#REF! -> #REF! | G5: Type I (1) | H5: =C5 -> #REF! | I5: =D5 -> #REF! | J5: Type II (2) | K5: =H5 -> #REF! | L5: =I5 -> #REF! | N5: =K5 -> #REF! | O5: =L5 -> #REF!
A6: 1993 | B6: 0 | G6: 0 | J6: 0 | M6: 0
A7: =A6+1 -> 1994 | B7: 242 | G7: 164 | J7: 78 | M7: =B7-G7-J7 -> 0
A8: =A7+1 -> 1995 | B8: 480 | G8: 199 | J8: 281 | M8: =B8-G8-J8 -> 0
A9: =A8+1 -> 1996 | B9: 2278 | G9: 1414 | J9: 864 | M9: =B9-G9-J9 -> 0
A10: =A9+1 -> 1997 | B10: 4418 | G10: 3048 | J10: 1370 | M10: =B10-G10-J10 -> 0
A11: =A10+1 -> 1998 | B11: 5638 | G11: 3982 | J11: 1656 | M11: =B11-G11-J11 -> 0
A12: =A11+1 -> 1999 | B12: 6027 | G12: 4306 | J12: 1721 | M12: =B12-G12-J12 -> 0
A13: =A12+1 -> 2000 | B13: 6475 | G13: 4678 | J13: 1797 | M13: =B13-G13-J13 -> 0
A14: =A13+1 -> 2001 | B14: 7289 | G14: 5158 | J14: 2131 | M14: =B14-G14-J14 -> 0
A15: =A14+1 -> 2002 | B15: 8185 | G15: 5617 | J15: 2568 | M15: =B15-G15-J15 -> 0
A16: =A15+1 -> 2003 | B16: 9027 | G16: 6038 | J16: 2989 | M16: =B16-G16-J16 -> 0
A17: =A16+1 -> 2004 | B17: 9874 | G17: 6510 | J17: 3364 | M17: =B17-G17-J17 -> 0
A18: =A17+1 -> 2005 | B18: 10719 | G18: 6637 | J18: 4082 | M18: =B18-G18-J18 -> 0
... A21: =A20+1 -> 2008 | B21: 10912 | G21: 6399 | J21: 4513 | M21: =B21-G21-J21 -> 0
A22: =A21+1 -> 2009 | B22: 11417 | C22: =B22 -> 11417 | D22: =B22 -> 11417 | G22: 6513 | H22: =G22 -> 6513 | I22: =G22 -> 6513 | J22: 4904 | K22: =J22 -> 4904 | L22: =J22 -> 4904 | M22: =B22-G22-J22 -> 0 | N22: =M22 -> 0 | O22: =M22 -> 0
A23: =A22+1 -> 2010 | C23: 11877 | D23: 12235 | F23: 1000 | H23: 6715 | I23: 6797 | K23: 5161 | L23: 5438 | N23: =C23-H23-K23 -> 1 | O23: =D23-I23-L23 -> 0
A24: =A23+1 -> 2011 | C24: 12421 | D24: 13119 | E24: 0.025897976 | F24: 0.039201837 | H24: 7032 | I24: 7188 | K24: 5389 | L24: 5932 | N24: =C24-H24-K24 -> 0 | O24: =D24-I24-L24 -> -1
A25: =A24+1 -> 2012 | C25: 12348 | D25: 13215 | E25: =E24*C22 -> 295.67719 | F25: =F24*D22 -> 447.56737 | H25: 6987 | I25: 7144 | K25: 5361 | L25: 6071 | N25: =C25-H25-K25 -> 0 | O25: =D25-I25-L25 -> 0
A26: =A25+1 -> 2013 | C26: 12506 | D26: 13490 | H26: 6940 | I26: 7060 | K26: 5566 | L26: 6430 | N26: =C26-H26-K26 -> 0 | O26: =D26-I26-L26 -> 0
A27: =A26+1 -> 2014 | C27: 12373 | D27: 13343 | H27: 6891 | I27: 6998 | K27: 5482 | L27: 6345 | N27: =C27-H27-K27 -> 0 | O27: =D27-I27-L27 -> 0
A28: =A27+1 -> 2015 | C28: 12327 | D28: 13249 | H28: 6877 | I28: 7001 | K28: 5450 | L28: 6248 | N28: =C28-H28-K28 -> 0 | O28: =D28-I28-L28 -> 0
A29: =A28+1 -> 2016 | C29: 12223 | D29: 13137 | H29: 6816 | I29: 6964 | K29: 5407 | L29: 6173 | N29: =C29-H29-K29 -> 0 | O29: =D29-I29-L29 -> 0
A30: =A29+1 -> 2017 | C30: 12153 | D30: 13084 | H30: 6765 | I30: 6927 | K30: 5388 | L30: 6158 | N30: =C30-H30-K30 -> 0 | O30: =D30-I30-L30 -> -1
A31: =A30+1 -> 2018 | C31: 12059 | D31: 12995 | H31: 6729 | I31: 6893 | K31: 5330 | L31: 6102 | N31: =C31-H31-K31 -> 0 | O31: =D31-I31-L31 -> 0
A32: =A31+1 -> 2019 | C32: 11942 | D32: 12878 | H32: 6655 | I32: 6822 | K32: 5287 | L32: 6056 | N32: =C32-H32-K32 -> 0 | O32: =D32-I32-L32 -> 0
A34: (1) Während der beruflcihen Grundbildung | I34: (1) Pendant la formation professionnelle de base
A35: (2) Nach der beruflcihen Grundbildung | I35: (2) Après la formation professionnelle de base
A36: =#REF! -> #REF! | I36: =#REF! -> #REF!

Sheet G6a
A1: =D6a!A1 -> G6a Berufsmaturitäten nach Typ
A2: =D6a!A2 -> G6a Maturités professionnelles par type
A45: =D6a!A34 -> (1) Während der beruflcihen Grundbildung | G45: =D6a!I34 -> (1) Pendant la formation professionnelle de base
A46: =D6a!A35 -> (2) Nach der beruflcihen Grundbildung | G46: =D6a!I35 -> (2) Après la formation professionnelle de base
A47: =D6a!A36 -> #REF! | G47: =D6a!I36 -> #REF!

Sheet D7a
A1: G7a Berufsmaturitäten nach Richtung
A2: G7a Maturités professionnelles par orientation
B4: Gesamtzahl / | C4: =#REF! -> #REF! | D4: =#REF! -> #REF! | E4: =#REF! -> #REF! | F4: =#REF! -> #REF! | G4: Technische Richtung / | H4: =C4 -> #REF! | I4: =D4 -> #REF! | J4: Kaufmännische Richtung / | K4: =H4 -> #REF! | L4: =I4 -> #REF! | M4: Übrige Richtungen / | N4: =K4 -> #REF! | O4: =L4 -> #REF!
B5: Total | C5: =#REF! -> #REF! | D5: =#REF! -> #REF! | E5: =#REF! -> #REF! | F5: =#REF! -> #REF! | G5: Orientation technique | H5: =C5 -> #REF! | I5: =D5 -> #REF! | J5: Orientation commerciale | K5: =H5 -> #REF! | L5: =I5 -> #REF! | M5: Autres orientations | N5: =K5 -> #REF! | O5: =L5 -> #REF!
A6: 1993 | B6: 0 | G6: 0 | J6: 0 | M6: 0
A7: =A6+1 -> 1994 | B7: 242 | G7: 136 | J7: 0 | M7: =B7-G7-J7 -> 106
A8: =A7+1 -> 1995 | B8: 480 | G8: 228 | J8: 151 | M8: =B8-G8-J8 -> 101
A9: =A8+1 -> 1996 | B9: 2278 | G9: 1753 | J9: 287 | M9: =B9-G9-J9 -> 238
A10: =A9+1 -> 1997 | B10: 4418 | G10: 2607 | J10: 1538 | M10: =B10-G10-J10 -> 273
A11: =A10+1 -> 1998 | B11: 5638 | G11: 2715 | J11: 2565 | M11: =B11-G11-J11 -> 358
A12: =A11+1 -> 1999 | B12: 6027 | G12: 2768 | J12: 2827 | M12: =B12-G12-J12 -> 432
A13: =A12+1 -> 2000 | B13: 6475 | G13: 2684 | J13: 3314 | M13: =B13-G13-J13 -> 477
A14: =A13+1 -> 2001 | B14: 7289 | G14: 2966 | J14: 3770 | M14: =B14-G14-J14 -> 553
A15: =A14+1 -> 2002 | B15: 8185 | G15: 3111 | J15: 4358 | M15: =B15-G15-J15 -> 716
A16: =A15+1 -> 2003 | B16: 9027 | G16: 3291 | J16: 4852 | M16: =B16-G16-J16 -> 884
A17: =A16+1 -> 2004 | B17: 9874 | G17: 3433 | J17: 5391 | M17: =B17-G17-J17 -> 1050
A18: =A17+1 -> 2005 | B18: 10719 | G18: 3678 | J18: 5604 | M18: =B18-G18-J18 -> 1437
... A21: =A20+1 -> 2008 | B21: 10912 | G21: 3269 | J21: 5550 | M21: =B21-G21-J21 -> 2093
A22: =A21+1 -> 2009 | B22: 11417 | C22: =B22 -> 11417 | D22: =B22 -> 11417 | G22: 3410 | H22: =G22 -> 3410 | I22: =G22 -> 3410 | J22: 5688 | K22: =J22 -> 5688 | L22: =J22 -> 5688 | M22: =B22-G22-J22 -> 2319 | N22: =M22 -> 2319 | O22: =M22 -> 2319
A23: =A22+1 -> 2010 | C23: 11877 | D23: 12235 | F23: 1000 | H23: 3535 | I23: 3580 | K23: 5939 | L23: 6038 | N23: =C23-H23-K23 -> 2403 | O23: =D23-I23-L23 -> 2617
A24: =A23+1 -> 2011 | C24: 12421 | D24: 13119 | E24: 0.025897976 | F24: 0.039201837 | H24: 3575 | I24: 3656 | K24: 6249 | L24: 6434 | N24: =C24-H24-K24 -> 2597 | O24: =D24-I24-L24 -> 3029
