Workbook

Sheet Index
A2: Taux de places d'apprentissage
A3: Cliquez sur le titre correspondant pour atteindre le tableau désiré
A4: Données des graphiques
A5: T1 | B5: ='T1'!A2 -> Taux de places d'apprentissage, de 2012 à 2023
A6: T2 | B6: ='T2'!A2 -> Taux de places d'apprentissage selon le canton de l'établissement, en 2023
A7: T3 | B7: ='T3'!A2 -> Taux de places d'apprentissage selon la section économique de l'établissement, en 2023
A8: Données détaillées
A9: TD1 | B9: ='TD1'!A2 -> Taux de places d'apprentissage selon la taille de l'entreprise, en 2023
A10: TD2 | B10: ='TD2'!A2 -> Taux de places d'apprentissage selon la grande région de l'établissement, en 2023
A11: État au 20.01.2026
A12: =CONCATENATE("© OFS ",RIGHT(A11,4)) -> © OFS 2026
A13: Contact: Office fédéral de la statistique (OFS), Indicateurs de la formation, EducIndicators@bfs.admin.ch

Sheet T1
A1: Retour
A2: =CONCATENATE(Index!A2,", de 2012 à ",RIGHT(Index!A11,4)-3) -> Taux de places d'apprentissage, de 2012 à 2023 | M2: T1
A3: Apprentis en % des emplois (EPT), apprentis et emplois (EPT) en évolution indexée (2012=100) et nombres absolus
B4: 2012 | C4: 2013 | D4: 2014 | E4: 2015 | F4: 2016 | G4: 2017 | H4: 2018 | I4: 2019 | J4: 2020 | K4: 2021 | L4: 2022 | M4: 2023
A5: Taux de places d'apprentissage en % | B5: 4.8792 | C5: 4.8118 | D5: 4.7606 | E5: 4.6929 | F5: 4.614 | G5: 4.5668 | H5: 4.4243 | I5: 4.4736 | J5: 4.45318 | K5: 4.32266 | L5: 4.20305 | M5: 4.15736
A6: Évolution indexée (2012=100)
A7: Apprentis | B7: 100 | C7: =C10*100/$B10 -> 99.8779 | D7: =D10*100/$B10 -> 99.951669 | E7: =E10*100/$B10 -> 98.946383 | F7: =F10*100/$B10 -> 97.804753 | G7: =G10*100/$B10 -> 97.701986 | H7: =H10*100/$B10 -> 96.414853 | I7: =I10*100/$B10 -> 96.081115 | J7: =J10*100/$B10 -> 95.175035 | K7: =K10*100/$B10 -> 94.188573 | L7: 94.045614 | M7: 94.415474
A8: Emplois (EPT)1 | B8: 100 | C8: =C11*100/$B11 -> 101.27588 | D8: =D11*100/$B11 -> 102.44198 | E8: =E11*100/$B11 -> 102.87275 | F8: =F11*100/$B11 -> 103.42657 | G8: =G11*100/$B11 -> 104.38455 | H8: =H11*100/$B11 -> 106.32802 | I8: =I11*100/$B11 -> 104.79053 | J8: =J11*100/$B11 -> 104.27938 | K8: =K11*100/$B11 -> 106.31466 | L8: 109.17401 | M8: 110.80808
A9: En nombre absolus
A10: Apprentis | B10: 196561 | C10: 196321 | D10: 196466 | E10: 194490 | F10: 192246 | G10: 192044 | H10: 189514 | I10: 188858 | J10: 187077 | K10: 185138 | L10: 184857 | M10: 185584
A11: Emplois (EPT)1 | B11: 4028577 | C11: 4079977 | D11: 4126954 | E11: 4144308 | F11: 4166619 | G11: 4205212 | H11: 4283506 | I11: 4221567 | J11: 4200975 | K11: 4282968 | L11: 4398159 | M11: 4463989
A12: Remarque: les données en italique ne sont pas représentées dans le graphique.
A13: 1 Les apprentis non soumis aux cotisations AVS ont été inclus dans le total des emplois.
A14: Sources: OFS – Statistique structurelle des entreprises (STATENT), Statistique de la formation professionnelle initiale (SBG-SFPI)
A15: =Index!A12 -> © OFS 2026
A16: =Index!A13 -> Contact: Office fédéral de la statistique (OFS), Indicateurs de la formation, EducIndicators@bfs.admin.ch

Sheet T2
A1: Retour
A2: =CONCATENATE(Index!A2," selon le canton de l'établissement, en ",RIGHT(Index!A11,4)-3) -> Taux de places d'apprentissage selon le canton de l'établissement, en 2023 | E2: T2
A3: Apprentis en % des emplois (EPT)
B4: Taux de places d'apprentissage en % | C4: Nombre d'apprentis | D4: Nombre d'emplois1 (EPT)
A5: Total | B5: 4.15736 | C5: 185584 | D5: 4463989
A6: ZH | B6: 3.89539 | C6: 34793 | D6: 893184
A7: BE | B7: 4.798 | C7: 24796 | D7: 516798
A8: LU | B8: 5.1882 | C8: 10895 | D8: 209996
A9: UR | B9: 6.75182 | C9: 1022 | D9: 15137
A10: SZ | B10: 4.39725 | C10: 3153 | D10: 71704
A11: OW | B11: 5.44907 | C11: 1013 | D11: 18590
A12: NW | B12: 5.42485 | C12: 1076 | D12: 19835
A13: GL | B13: 5.7984 | C13: 1069 | D13: 18436
A14: ZG | B14: 3.06561 | C14: 3288 | D14: 107254
A15: FR | B15: 5.20065 | C15: 6746 | D15: 129715
A16: SO | B16: 4.61105 | C16: 5503 | D16: 119344
... A31: JU | B31: 3.9299 | C31: 1525 | D31: 38805
A32: Remarque: les données en italique ne sont pas représentées le graphique.
A33: 1 Les apprentis non soumis aux cotisations AVS ont été inclus dans le total des emplois.
A34: Sources: OFS – Statistique structurelle des entreprises (STATENT), Statistique de la formation professionnelle initiale (SBG-SFPI)
A35: =Index!A12 -> © OFS 2026
A36: =Index!A13 -> Contact: Office fédéral de la statistique (OFS), Indicateurs de la formation, EducIndicators@bfs.admin.ch

Sheet T3
A1: Retour
A2: =CONCATENATE(Index!A2," selon la section économique de l'établissement, en ",RIGHT(Index!A11,4)-3) -> Taux de places d'apprentissage selon la section économique de l'établissement, en 2023 | E2: T3
A3: Apprentis en % des emplois (EPT)
B4: Taux de places d'apprentissage en % | C4: Nombre d'apprentis | D4: Nombre d'emplois1 (EPT)
A5: Total | B5: 4.15736 | C5: 185584 | D5: 4463989
A6: Secteur primaire | B6: 3.65666 | C6: 3903 | D6: 106737
A7: A. Agriculture et pêche | B7: 3.65666 | C7: 3903 | D7: 106737
A8: Secteur secondaire | B8: 5.18492 | C8: 54189 | D8: 1045127
A9: B. Industries extractives | B9: 1.46545 | C9: 64 | D9: 4367
A10: C. Industrie manufacturière | B10: 4.17913 | C10: 26879 | D10: 643171
A11: D. Production et distribution d'électricité | B11: 4.54498 | C11: 1360 | D11: 29923
A12: E. Production et distribution d'eau ; assainissement | B12: 1.91929 | C12: 371 | D12: 19330
A13: F. Construction | B13: 7.32484 | C13: 25515 | D13: 348335
A14: Secteur tertiaire | B14: 3.84925 | C14: 127492 | D14: 3312125
A15: G. Commerce et réparation d'auto et moto | B15: 5.88372 | C15: 30972 | D15: 526401
A16: H. Transports et entreposage | B16: 2.13906 | C16: 4835 | D16: 226033
... A27: S. Autres activités de services | B27: 3.60677 | C27: 4414 | D27: 122381
A28: Remarque: les données en italique ne sont pas représentées le graphique.
A29: 1 Les apprentis non soumis aux cotisations AVS ont été inclus dans le total des emplois.
A30: Sources: OFS – Statistique structurelle des entreprises (STATENT), Statistique de la formation professionnelle initiale (SBG-SFPI)
A31: =Index!A12 -> © OFS 2026
A32: =Index!A13 -> Contact: Office fédéral de la statistique (OFS), Indicateurs de la formation, EducIndicators@bfs.admin.ch

Sheet TD1
A1: Retour
A2: =CONCATENATE(Index!A2," selon la taille de l'entreprise, en ",RIGHT(Index!A11,4)-3) -> Taux de places d'apprentissage selon la taille de l'entreprise, en 2023 | D2: TD1
A3: Apprentis en % des emplois (EPT), apprentis et emplois (EPT) en nombre
B4: Taux de places d'apprentissage en % | C4: Nombre d'apprentis | D4: Nombre d'emplois1 (EPT)
A5: Total | B5: 4.15736 | C5: 185584 | D5: 4463989
A6: 1–9 EPT | B6: 3.13765 | C6: 31192 | D6: 994120
A7: 10–49 EPT | B7: 5.72829 | C7: 48528 | D7: 847164
A8: 50–249 EPT | B8: 4.71361 | C8: 42811 | D8: 908241
A9: 250+ EPT | B9: 3.67771 | C9: 63053 | D9: 1714464
A10: Remarque: la taille de l'entreprise est déterminée sur la base du nombre d’emplois en équivalents plein temps (EPT).
A11: 1 Les apprentis non soumis aux cotisations AVS ont été inclus dans le total des emplois.
A12: Sources: OFS – Statistique structurelle des entreprises (STATENT), Statistique de la formation professionnelle initiale (SBG-SFPI)
A13: =Index!A12 -> © OFS 2026
A14: =Index!A13 -> Contact: Office fédéral de la statistique (OFS), Indicateurs de la formation, EducIndicators@bfs.admin.ch

Sheet TD2
A1: Retour
A2: =CONCATENATE(Index!A2," selon la grande région de l'établissement, en ",RIGHT(Index!A11,4)-3) -> Taux de places d'apprentissage selon la grande région de l'établissement, en 2023 | D2: TD2
A3: Apprentis en % des emplois (EPT), apprentis et emplois (EPT) en nombre
B4: Taux de places d'apprentissage en % | C4: Nombre d'apprentis | D4: Nombre d'emplois1 (EPT)
A5: Total | B5: 4.15736 | C5: 185584 | D5: 4463989
A6: Région lémanique | B6: 2.95377 | C6: 26269 | D6: 889338.2
A7: Espace Mittelland | B7: 4.74878 | C7: 42648 | D7: 898082.4
A8: Suisse du Nord-Ouest | B8: 4.4255 | C8: 25252 | D8: 570602.6
A9: Zurich | B9: 3.89539 | C9: 34793 | D9: 893183.8
A10: Suisse orientale | B10: 5.33841 | C10: 30125 | D10: 564306.2
A11: Suisse centrale | B11: 4.62063 | C11: 20447 | D11: 442515.6
A12: Tessin | B12: 2.93746 | C12: 6050 | D12: 205960.1
A13: 1 Les apprentis non soumis aux cotisations AVS ont été inclus dans le total des emplois.
A14: Sources: OFS – Statistique structurelle des entreprises (STATENT), Statistique de la formation professionnelle initiale (SBG-SFPI)
A15: =Index!A12 -> © OFS 2026
A16: =Index!A13 -> Contact: Office fédéral de la statistique (OFS), Indicateurs de la formation, EducIndicators@bfs.admin.ch
