Workbook
Name _IDX1: [1]Feuil1!#REF!
Name _IDX2: [1]Feuil1!$A$1

Sheet Index
A1: Ausbildungswahl auf der Sekundarstufe II
A2: Klicken Sie auf den entsprechenden Titel, um zu der gewünschten Tabelle zu gelangen.
A3: Données des graphiques
A4: T1 | B4: ='T1'!A2 -> Ausbildungswahl auf der Sekundarstufe II, 1990/91–2024/25
A5: T2 | B5: ='T2'!A2 -> Ausbildungswahl auf der Sekundarstufe II nach Geschlecht und Nationalität, 2014/15 und 2024/25
A6: T3 | B6: ='T3'!A2 -> Ausbildungswahl auf der Sekundarstufe II nach Wohnkanton, 2024/25
A7: Données détaillées
A8: TD1 | B8: ='TD1'!A2 -> Ausbildungswahl auf der Sekundarstufe II nach Geschlecht und Nationalität, 1990/91–2024/25
A9: TD2 | B9: ='TD2'!A2 -> Ausbildungswahl auf der Sekundarstufe II nach Wohnkanton, 1990/91–2024/25
A10: TD3 | B10: ='TD3'!A2 -> Ausbildungswahl auf der Sekundarstufe II nach Bildungsfelder, Geschlecht und Nationalität, 1990/91–2024/25
A11: Stand am 30.04.2026
A12: Quelle: BFS – Statistik der Lernenden (SDL)
A13: ="© BFS "&RIGHT(A11,4) -> © BFS 2026
A14: Auskunft: Bundesamt für Statistik (BFS), Bildungsindikatoren, EducIndicators@bfs.admin.ch

Sheet T1
A1: Zurück
A2: =CONCATENATE(Index!A1,", 1990/91–",RIGHT(Index!A13,4)-2,"/",RIGHT(Index!A13,2)-1) -> Ausbildungswahl auf der Sekundarstufe II, 1990/91–2024/25 | AJ2: T1
A3: In % der unter 20-jährigen Schüler/-innen im ersten Ausbildungsjahr einer mehrjährigen zertifizierenden Ausbildung
B4: 1990 | C4: 1991 | D4: 1992 | E4: 1993 | F4: 1994 | G4: 1995 | H4: 1996 | I4: 1997 | J4: 1998 | K4: 1999 | L4: 2000 | M4: 2001 | N4: 2002 | O4: 2003 | P4: 2004 | Q4: 2005 | R4: 2006 | S4: 2007 | T4: 2008 | U4: 2009 | V4: 2010 | W4: 2011 1 | X4: 2012 | Y4: 2013 | Z4: 2014 | AA4: 2015 | AB4: 2016 | AC4: 2017 | AD4: 2018 | AE4: 2019 | AF4: 2020 | AG4: 2021 | AH4: 2022 | AI4: 2023 | AJ4: 2024
A5: Total | B5: 100 | C5: 100 | D5: 100 | E5: 100 | F5: 100 | G5: 100 | H5: 100 | I5: 100 | J5: 100 | K5: 100 | L5: 100 | M5: 100 | N5: 100 | O5: 100 | P5: 100 | Q5: 100 | R5: 100 | S5: 100 | T5: 100 | U5: 100 | V5: 100 | W5: 100 | X5: 100 | Y5: 100 | Z5: 100 | AA5: 100 | AB5: 100 | AC5: 100 | AD5: 100 | AE5: 100 | AF5: 100 | AG5: 100 | AH5: 100 | AI5: 100 | AJ5: 100
A6: Allgemeinbildung | B6: 23.31075 | C6: 25.613593 | D6: 26.949335 | E6: 27.814365 | F6: 29.050616 | G6: 28.599067 | H6: 28.018045 | I6: 28.580136 | J6: 28.566992 | K6: 27.790013 | L6: 26.983756 | M6: 26.536483 | N6: 27.581162 | O6: 28.684226 | P6: 29.714585 | Q6: 30.263317 | R6: 29.821381 | S6: 29.531339 | T6: 28.845915 | U6: 29.136943 | V6: 29.188821 | W6: 28.594086 | X6: 29.689 | Y6: 30.051691 | Z6: 30.747086 | AA6: 31.037278 | AB6: 31.79391 | AC6: 32.097317 | AD6: 32.401972 | AE6: 33.42927 | AF6: 33.994457 | AG6: 34.547482 | AH6: 34.880502 | AI6: 34.336996 | AJ6: 34.172419
A7: Gymnasiale Maturitätsschulen | B7: 19.50147 | C7: 21.091126 | D7: 21.794114 | E7: 22.072296 | F7: 23.268613 | G7: 22.911411 | H7: 22.497976 | I7: 22.658126 | J7: 22.813702 | K7: 22.839565 | L7: 22.470309 | M7: 22.131572 | N7: 22.723123 | O7: 23.997685 | P7: 24.412905 | Q7: 24.510203 | R7: 24.558223 | S7: 24.533128 | T7: 24.059956 | U7: 24.152813 | V7: 24.16734 | W7: 23.435594 | X7: 24.634713 | Y7: 24.668737 | Z7: 25.229067 | AA7: 25.34753 | AB7: 25.759021 | AC7: 25.778137 | AD7: 25.773023 | AE7: 26.66963 | AF7: 27.025944 | AG7: 27.59603 | AH7: 28.039364 | AI7: 27.581371 | AJ7: 27.530058
A8: Fachmittelschulen | B8: 3.80928 | C8: 4.522466 | D8: 5.155221 | E8: 5.74207 | F8: 5.782003 | G8: 5.687656 | H8: 5.520069 | I8: 5.92201 | J8: 5.75329 | K8: 4.950448 | L8: 4.513447 | M8: 4.404911 | N8: 4.858039 | O8: 4.686541 | P8: 5.30168 | Q8: 5.753114 | R8: 5.263158 | S8: 4.99821 | T8: 4.785959 | U8: 4.98413 | V8: 5.021481 | W8: 5.158492 | X8: 5.054286 | Y8: 5.382954 | Z8: 5.518019 | AA8: 5.689748 | AB8: 6.034889 | AC8: 6.31918 | AD8: 6.628949 | AE8: 6.75964 | AF8: 6.968513 | AG8: 6.951452 | AH8: 6.841138 | AI8: 6.755625 | AJ8: 6.642361
A9: Berufsbildung | B9: 76.68925 | C9: 74.386407 | D9: 73.050665 | E9: 72.185635 | F9: 70.949384 | G9: 71.400933 | H9: 71.981955 | I9: 71.419864 | J9: 71.433008 | K9: 72.209987 | L9: 73.016244 | M9: 73.463517 | N9: 72.418838 | O9: 71.315774 | P9: 70.285415 | Q9: 69.736683 | R9: 70.178619 | S9: 70.468661 | T9: 71.154085 | U9: 70.863057 | V9: 70.811179 | W9: 71.405914 | X9: 70.311 | Y9: 69.948309 | Z9: 69.252914 | AA9: 68.962722 | AB9: 68.20609 | AC9: 67.902683 | AD9: 67.598028 | AE9: 66.57073 | AF9: 66.005543 | AG9: 65.452518 | AH9: 65.119498 | AI9: 65.663004 | AJ9: 65.827581
A10: Berufliche Grundbildung | B10: 75.345775 | C10: 72.976704 | D10: 71.390942 | E10: 70.608276 | F10: 69.313069 | G10: 69.593067 | H10: 70.331718 | I10: 69.720754 | J10: 69.340468 | K10: 70.321252 | L10: 71.013511 | M10: 71.179361 | N10: 70.114458 | O10: 68.806946 | P10: 67.68972 | Q10: 67.440503 | R10: 68.391371 | S10: 68.960145 | T10: 69.950622 | U10: 69.776772 | V10: 69.74882 | W10: 70.600697 | X10: 69.743606 | Y10: 69.579702 | Z10: 68.969332 | AA10: 68.866323 | AB10: 68.194029 | AC10: 67.891614 | AD10: 67.590186 | AE10: 66.555173 | AF10: 65.9933 | AG10: 65.439269 | AH10: 65.119498 | AI10: 65.663004 | AJ10: 65.827581
A11: Anlehre | B11: 1.343474 | C11: 1.409703 | D11: 1.659723 | E11: 1.577359 | F11: 1.636315 | G11: 1.807867 | H11: 1.650237 | I11: 1.699111 | J11: 2.09254 | K11: 1.888735 | L11: 2.002733 | M11: 2.284156 | N11: 2.304379 | O11: 2.508828 | P11: 2.595695 | Q11: 2.29618 | R11: 1.787248 | S11: 1.508516 | T11: 1.203463 | U11: 1.086285 | V11: 1.062359 | W11: 0.805217 | X11: 0.567394 | Y11: 0.368607 | Z11: 0.283581 | AA11: 0.096399 | AB11: 0.012061 | AC11: 0.011069 | AD11: 0.007842 | AE11: 0.015557 | AF11: 0.012243 | AG11: 0.013249 | AH11: - | AI11: - | AJ11: -
A12: Bemerkungen:
A13: - Wenn Sie die vollständige Zeitreihe anzeigen wollen, markieren Sie alle Spalten der Tabelle und drücken die rechte Maustaste und wählen "Einblenden".
A14: - Kursiv gesetzte Daten sind in der Grafik nicht dargestellt.
A15: ¹ 2011: ohne Kanton Tessin
A16: - Wert entspricht Null
A17: =Index!A12 -> Quelle: BFS – Statistik der Lernenden (SDL)
A18: =Index!A13 -> © BFS 2026
A19: =Index!A14 -> Auskunft: Bundesamt für Statistik (BFS), Bildungsindikatoren, EducIndicators@bfs.admin.ch

Sheet T2
A1: Zurück
A2: =CONCATENATE(Index!A1," nach Geschlecht und Nationalität, ",RIGHT(Index!A13,4)-12,"/",RIGHT(Index!A13,2)-11," und ",RIGHT(Index!A13,4)-2,"/",RIGHT(Index!A13,2)-1) -> Ausbildungswahl auf der Sekundarstufe II nach Geschlecht und Nationalität, 2014/15 und 2024/25 | K2: T2
A3: In % der unter 20-jährigen Schüler/-innen im ersten Ausbildungsjahr einer mehrjährigen zertifizierenden Ausbildung
B4: Total | D4: Geschlecht | H4: Nationalität
D5: Männer | F5: Frauen | H5: Schweizer/-innen | J5: Ausländer/-innen
B6: =RIGHT(Index!A13,4)-12 -> 2014 | C6: =RIGHT(Index!A13,4)-2 -> 2024 | D6: =RIGHT(Index!A13,4)-12 -> 2014 | E6: =RIGHT(Index!A13,4)-2 -> 2024 | F6: =RIGHT(Index!A13,4)-12 -> 2014 | G6: =RIGHT(Index!A13,4)-2 -> 2024 | H6: =RIGHT(Index!A13,4)-12 -> 2014 | I6: =RIGHT(Index!A13,4)-2 -> 2024 | J6: =RIGHT(Index!A13,4)-12 -> 2014 | K6: =RIGHT(Index!A13,4)-2 -> 2024
A7: Total | B7: 100 | C7: 100 | D7: 100 | E7: 100 | F7: 100 | G7: 100 | H7: 100 | I7: 100 | J7: 100 | K7: 100
A8: Allgemeinbildung | B8: 30.747086 | C8: 34.172419 | D8: 24.264584 | E8: 27.123272 | F8: 37.728398 | G8: 41.851757 | H8: 31.384854 | I8: 34.867949 | J8: 28.147576 | K8: 32.019372
A9: Gymnasiale Maturitätsschulen | B9: 25.229067 | C9: 27.530058 | D9: 21.27113 | E9: 23.120286 | F9: 29.491556 | G9: 32.334061 | H9: 26.176298 | I9: 28.429873 | J9: 21.342304 | K9: 24.73784
A10: Fachmittelschulen | B10: 5.518019 | C10: 6.642361 | D10: 2.993454 | E10: 4.002986 | F10: 8.236843 | G10: 9.517696 | H10: 5.208556 | I10: 6.438076 | J10: 6.805272 | K10: 7.281533
A11: Berufsbildung | B11: 69.252914 | C11: 65.827581 | D11: 75.735416 | E11: 72.876728 | F11: 62.271602 | G11: 58.148243 | H11: 68.615146 | I11: 65.132051 | J11: 71.852424 | K11: 67.980628
A12: Berufliche Grundbildung | B12: 68.969332 | C12: 65.827581 | D12: 75.381173 | E12: 72.876728 | F12: 62.064119 | G12: 58.148243 | H12: 68.390835 | I12: 65.132051 | J12: 71.323002 | K12: 67.980628
A13: Anlehre | B13: 0.283581 | C13: - | D13: 0.354243 | E13: - | F13: 0.207483 | G13: - | H13: 0.224311 | I13: - | J13: 0.529421 | K13: -
A14: Bemerkung: kursiv gesetzte Daten sind in der Grafik nicht dargestellt.
A15: - Wert entspricht Null
A16: =Index!A12 -> Quelle: BFS – Statistik der Lernenden (SDL)
A17: =Index!A13 -> © BFS 2026
A18: =Index!A14 -> Auskunft: Bundesamt für Statistik (BFS), Bildungsindikatoren, EducIndicators@bfs.admin.ch

Sheet T3
A1: Zurück
A2: =CONCATENATE(Index!A1," nach Wohnkanton, ",RIGHT(Index!A13,4)-2,"/",RIGHT(Index!A13,2)-1) -> Ausbildungswahl auf der Sekundarstufe II nach Wohnkanton, 2024/25 | H2: T3
A3: In % der unter 20-jährigen Schüler/-innen im ersten Ausbildungsjahr einer mehrjährigen zertifizierenden Ausbildung
B4: Total | C4: Allgemeinbildung | F4: Berufsbildung
C5: Total | D5: Gymnasiale Maturitatschule | E5: Fachmittelschule | F5: Total | G5: Berufliche Grundbildung | H5: Anlehre
A6: Total | B6: 100 | C6: 34.172419 | D6: 27.530058 | E6: 6.642361 | F6: 65.827581 | G6: 65.827581 | H6: 0
A7: ZH | B7: 100 | C7: 26.399278 | D7: 24.219758 | E7: 2.17952 | F7: 73.600722 | G7: 73.600722 | H7: 0
A8: BE¹ | B8: 100 | C8: 26.516323 | D8: 22.251523 | E8: 4.264799 | F8: 73.483677 | G8: 73.483677 | H8: 0
A9: LU | B9: 100 | C9: 24.424066 | D9: 22.030866 | E9: 2.393201 | F9: 75.575934 | G9: 75.575934 | H9: 0
A10: UR | B10: 100 | C10: 22.955145 | D10: 19.525066 | E10: 3.430079 | F10: 77.044855 | G10: 77.044855 | H10: 0
A11: SZ | B11: 100 | C11: 23.432552 | D11: 20.075997 | E11: 3.356555 | F11: 76.567448 | G11: 76.567448 | H11: 0
A12: OW | B12: 100 | C12: 19.679634 | D12: 17.84897 | E12: 1.830664 | F12: 80.320366 | G12: 80.320366 | H12: 0
A13: NW | B13: 100 | C13: 20.531401 | D13: 19.082126 | E13: 1.449275 | F13: 79.468599 | G13: 79.468599 | H13: 0
A14: GL | B14: 100 | C14: 16.180371 | D14: 10.875332 | E14: 5.30504 | F14: 83.819629 | G14: 83.819629 | H14: 0
A15: ZG | B15: 100 | C15: 34.565916 | D15: 29.983923 | E15: 4.581994 | F15: 65.434084 | G15: 65.434084 | H15: 0
A16: FR | B16: 100 | C16: 42.671792 | D16: 29.649207 | E16: 13.022585 | F16: 57.328208 | G16: 57.328208 | H16: 0
A17: SO | B17: 100 | C17: 26.951548 | D17: 20.053836 | E17: 6.897712 | F17: 73.048452 | G17: 73.048452 | H17: 0
... A33: Unbekannt | B33: 100 | C33: 33.572828 | D33: 28.478119 | E33: 5.094709 | F33: 66.427172 | G33: 66.427172 | H33: 0
A34: Bemerkung: kursiv gesetzte Daten sind in der Grafik nicht dargestellt.
A35: - Wert entspricht Null
A36: ¹ Mit Gemeinde Moutier
A37: ² Ohne Gemeinde Moutier
A38: =Index!A12 -> Quelle: BFS – Statistik der Lernenden (SDL)
A39: =Index!A13 -> © BFS 2026
A40: =Index!A14 -> Auskunft: Bundesamt für Statistik (BFS), Bildungsindikatoren, EducIndicators@bfs.admin.ch

Sheet TD1
A1: Zurück
A2: =CONCATENATE(Index!A1," nach Geschlecht und Nationalität, 1990/91–",RIGHT(Index!A13,4)-2,"/",RIGHT(Index!A13,2)-1) -> Ausbildungswahl auf der Sekundarstufe II nach Geschlecht und Nationalität, 1990/91–2024/25 | AJ2: TD1
A3: In % der unter 20-jährigen Schüler/-innen im ersten Ausbildungsjahr einer mehrjährigen zertifizierenden Ausbildung
B4: 1990 | C4: 1991 | D4: 1992 | E4: 1993 | F4: 1994 | G4: 1995 | H4: 1996 | I4: 1997 | J4: 1998 | K4: 1999 | L4: 2000 | M4: 2001 | N4: 2002 | O4: 2003 | P4: 2004 | Q4: 2005 | R4: 2006 | S4: 2007 | T4: 2008 | U4: 2009 | V4: 2010 | W4: 2011 1 | X4: 2012 | Y4: 2013 | Z4: 2014 | AA4: 2015 | AB4: 2016 | AC4: 2017 | AD4: 2018 | AE4: 2019 | AF4: 2020 | AG4: 2021 | AH4: 2022 | AI4: 2023 | AJ4: 2024
A5: Männer | B5: 100 | C5: 100 | D5: 100 | E5: 100 | F5: 100 | G5: 100 | H5: 100 | I5: 100 | J5: 100 | K5: 100 | L5: 100 | M5: 100 | N5: 100 | O5: 100 | P5: 100 | Q5: 100 | R5: 100 | S5: 100 | T5: 100 | U5: 100 | V5: 100 | W5: 100 | X5: 100 | Y5: 100 | Z5: 100 | AA5: 100 | AB5: 100 | AC5: 100 | AD5: 100 | AE5: 100 | AF5: 100 | AG5: 100 | AH5: 100 | AI5: 100 | AJ5: 100
A6: Allgemeinbildung | B6: 20.38974 | C6: 21.81764 | D6: 22.57295 | E6: 23.1755 | F6: 23.78798 | G6: 23.04369 | H6: 22.74593 | I6: 22.74361 | J6: 22.32651 | K6: 21.81489 | L6: 21.02997 | M6: 20.56369 | N6: 21.46816 | O6: 22.07412 | P6: 22.6983 | Q6: 23.01632 | R6: 23.13854 | S6: 22.84917 | T6: 22.73837 | U6: 23.41425 | V6: 23.2584 | W6: 22.38014 | X6: 23.39692 | Y6: 23.82577 | Z6: 24.26458 | AA6: 24.24651 | AB6: 25.11788 | AC6: 24.94901 | AD6: 25.21331 | AE6: 26.0695 | AF6: 26.58961 | AG6: 27.76461 | AH6: 28.01488 | AI6: 27.45718 | AJ6: 27.12327
A7: Gymnasiale Maturitätsschulen | B7: 18.70197 | C7: 19.71256 | D7: 20.26769 | E7: 20.49707 | F7: 21.14514 | G7: 20.37588 | H7: 20.13727 | I7: 20.02615 | J7: 19.56517 | K7: 19.66693 | L7: 19.19361 | M7: 18.72606 | N7: 19.36885 | O7: 20.18452 | P7: 20.43231 | Q7: 20.45478 | R7: 20.64248 | S7: 20.51006 | T7: 20.39699 | U7: 20.80326 | V7: 20.62778 | W7: 19.96926 | X7: 20.83034 | Y7: 21.05231 | Z7: 21.27113 | AA7: 21.27476 | AB7: 21.86342 | AC7: 21.3624 | AD7: 21.48582 | AE7: 22.20585 | AF7: 22.56022 | AG7: 23.48174 | AH7: 23.88423 | AI7: 23.47727 | AJ7: 23.12029
A8: Fachmittelschulen | B8: 1.68777 | C8: 2.10508 | D8: 2.30526 | E8: 2.67844 | F8: 2.64283 | G8: 2.66781 | H8: 2.60865 | I8: 2.71747 | J8: 2.76134 | K8: 2.14796 | L8: 1.83636 | M8: 1.83762 | N8: 2.09931 | O8: 1.8896 | P8: 2.26599 | Q8: 2.56154 | R8: 2.49607 | S8: 2.33911 | T8: 2.34138 | U8: 2.61099 | V8: 2.63062 | W8: 2.41088 | X8: 2.56658 | Y8: 2.77347 | Z8: 2.99345 | AA8: 2.97176 | AB8: 3.25446 | AC8: 3.58661 | AD8: 3.72748 | AE8: 3.86365 | AF8: 4.02938 | AG8: 4.28287 | AH8: 4.13065 | AI8: 3.97991 | AJ8: 4.00299
A9: Berufsbildung | B9: 79.61026 | C9: 78.18236 | D9: 77.42705 | E9: 76.8245 | F9: 76.21202 | G9: 76.95631 | H9: 77.25407 | I9: 77.25639 | J9: 77.67349 | K9: 78.18511 | L9: 78.97003 | M9: 79.43631 | N9: 78.53184 | O9: 77.92588 | P9: 77.3017 | Q9: 76.98368 | R9: 76.86146 | S9: 77.15083 | T9: 77.26163 | U9: 76.58575 | V9: 76.7416 | W9: 77.61986 | X9: 76.60308 | Y9: 76.17423 | Z9: 75.73542 | AA9: 75.75349 | AB9: 74.88212 | AC9: 75.05099 | AD9: 74.78669 | AE9: 73.9305 | AF9: 73.41039 | AG9: 72.23539 | AH9: 71.98512 | AI9: 72.54282 | AJ9: 72.87673
A10: Berufliche Grundbildung | B10: 78.0757 | C10: 76.58685 | D10: 75.50851 | E10: 75.01129 | F10: 74.25041 | G10: 74.74005 | H10: 75.24299 | I10: 75.19727 | J10: 75.04364 | K10: 75.83777 | L10: 76.44867 | M10: 76.5249 | N10: 75.57516 | O10: 74.80095 | P10: 74.18942 | Q10: 73.96569 | R10: 74.34319 | S10: 75.14844 | T10: 75.70793 | U10: 75.21473 | V10: 75.56298 | W10: 76.63445 | X10: 75.89676 | Y10: 75.74404 | Z10: 75.38117 | AA10: 75.71341 | AB10: 74.86317 | AC10: 75.03825 | AD10: 74.77377 | AE10: 73.91128 | AF10: 73.39527 | AG10: 72.21846 | AH10: 71.98512 | AI10: 72.54282 | AJ10: 72.87673
A11: Anlehre | B11: 1.53456 | C11: 1.59551 | D11: 1.91854 | E11: 1.81321 | F11: 1.96161 | G11: 2.21626 | H11: 2.01109 | I11: 2.05911 | J11: 2.62985 | K11: 2.34734 | L11: 2.52136 | M11: 2.91142 | N11: 2.95668 | O11: 3.12493 | P11: 3.11228 | Q11: 3.01799 | R11: 2.51826 | S11: 2.00239 | T11: 1.5537 | U11: 1.37102 | V11: 1.17861 | W11: 0.98541 | X11: 0.70632 | Y11: 0.43019 | Z11: 0.35424 | AA11: 0.04007 | AB11: 0.01895 | AC11: 0.01275 | AD11: 0.01293 | AE11: 0.01922 | AF11: 0.01512 | AG11: 0.01693 | AH11: 0 | AI11: 0 | AJ11: 0
A12: Frauen | B12: 100 | C12: 100 | D12: 100 | E12: 100 | F12: 100 | G12: 100 | H12: 100 | I12: 100 | J12: 100 | K12: 100 | L12: 100 | M12: 100 | N12: 100 | O12: 100 | P12: 100 | Q12: 100 | R12: 100 | S12: 100 | T12: 100 | U12: 100 | V12: 100 | W12: 100 | X12: 100 | Y12: 100 | Z12: 100 | AA12: 100 | AB12: 100 | AC12: 100 | AD12: 100 | AE12: 100 | AF12: 100 | AG12: 100 | AH12: 100 | AI12: 100 | AJ12: 100
A13: Allgemeinbildung | B13: 26.65734 | C13: 30.00945 | D13: 31.98797 | E13: 33.14783 | F13: 35.19357 | G13: 35.00521 | H13: 34.09707 | I13: 35.23602 | J13: 35.51506 | K13: 34.48101 | L13: 33.52117 | M13: 33.00029 | N13: 34.13351 | O13: 35.90321 | P13: 37.39528 | Q13: 38.38268 | R13: 37.21777 | S13: 37.01678 | T13: 35.58515 | U13: 35.32541 | V13: 35.7466 | W13: 35.51056 | X13: 36.48994 | Y13: 36.78583 | Z13: 37.7284 | AA13: 38.3758 | AB13: 39.05124 | AC13: 39.87061 | AD13: 40.18857 | AE13: 41.41166 | AF13: 41.86217 | AG13: 41.94814 | AH13: 42.33233 | AI13: 41.88134 | AJ13: 41.85176
A14: Gymnasiale Maturitätsschulen | B14: 20.41746 | C14: 22.68756 | D14: 23.55152 | E14: 23.88339 | F14: 25.74729 | G14: 25.83523 | H14: 25.21999 | I14: 25.65959 | J14: 26.43057 | K14: 26.39231 | L14: 26.06821 | M14: 25.81704 | N14: 26.31847 | O14: 28.16209 | P14: 28.77045 | Q14: 29.0538 | R14: 28.89207 | S14: 29.03982 | T14: 28.10178 | U14: 27.77499 | V14: 28.08133 | W14: 27.29382 | X14: 28.74675 | Y14: 28.58038 | Z14: 29.49156 | AA14: 29.74883 | AB14: 29.99382 | AC14: 30.57994 | AD14: 30.41682 | AE14: 31.51104 | AF14: 31.77081 | AG14: 32.08506 | AH14: 32.54928 | AI14: 32.08189 | AJ14: 32.33406
A15: Fachmittelschulen | B15: 6.23989 | C15: 7.32189 | D15: 8.43645 | E15: 9.26444 | F15: 9.44628 | G15: 9.16997 | H15: 8.87708 | I15: 9.57642 | J15: 9.08448 | K15: 8.0887 | L15: 7.45296 | M15: 7.18325 | N15: 7.81504 | O15: 7.74112 | P15: 8.62483 | Q15: 9.32888 | R15: 8.3257 | S15: 7.97697 | T15: 7.48338 | U15: 7.55042 | V15: 7.66526 | W15: 8.21674 | X15: 7.74318 | Y15: 8.20545 | Z15: 8.23684 | AA15: 8.62698 | AB15: 9.05742 | AC15: 9.29067 | AD15: 9.77175 | AE15: 9.90062 | AF15: 10.09136 | AG15: 9.86309 | AH15: 9.78305 | AI15: 9.79945 | AJ15: 9.5177
A16: Berufsbildung | B16: 73.34266 | C16: 69.99055 | D16: 68.01203 | E16: 66.85217 | F16: 64.80643 | G16: 64.99479 | H16: 65.90293 | I16: 64.76398 | J16: 64.48494 | K16: 65.51899 | L16: 66.47883 | M16: 66.99971 | N16: 65.86649 | O16: 64.09679 | P16: 62.60472 | Q16: 61.61732 | R16: 62.78223 | S16: 62.98322 | T16: 64.41485 | U16: 64.67459 | V16: 64.2534 | W16: 64.48944 | X16: 63.51006 | Y16: 63.21417 | Z16: 62.2716 | AA16: 61.6242 | AB16: 60.94876 | AC16: 60.12939 | AD16: 59.81143 | AE16: 58.58834 | AF16: 58.13783 | AG16: 58.05186 | AH16: 57.66767 | AI16: 58.11866 | AJ16: 58.14824
A17: Berufliche Grundbildung | B17: 72.21811 | C17: 68.79601 | D17: 66.65028 | E17: 65.54598 | F17: 63.54983 | G17: 63.65786 | H17: 64.66877 | I17: 63.47541 | J17: 62.99064 | K17: 64.14381 | L17: 65.04557 | M17: 65.39438 | N17: 64.26129 | O17: 62.26081 | P17: 60.57452 | Q17: 60.12983 | R17: 61.80405 | S17: 62.02794 | T17: 63.59784 | U17: 63.89622 | V17: 63.3196 | W17: 63.88479 | X17: 63.09283 | Y17: 62.91217 | Z17: 62.06412 | AA17: 61.46693 | AB17: 60.94419 | AC17: 60.12015 | AD17: 59.80909 | AE17: 58.57676 | AF17: 58.12864 | AG17: 58.04262 | AH17: 57.66767 | AI17: 58.11866 | AJ17: 58.14824
A18: Anlehre | B18: 1.12455 | C18: 1.19453 | D18: 1.36174 | E18: 1.30619 | F18: 1.2566 | G18: 1.33694 | H18: 1.23416 | I18: 1.28857 | J18: 1.49431 | K18: 1.37518 | L18: 1.43326 | M18: 1.60533 | N18: 1.6052 | O18: 1.83597 | P18: 2.0302 | Q18: 1.48748 | R18: 0.97818 | S18: 0.95527 | T18: 0.817 | U18: 0.77837 | V18: 0.93381 | W18: 0.60465 | X18: 0.41723 | Y18: 0.302 | Z18: 0.20748 | AA18: 0.15727 | AB18: X | AC18: X | AD18: X | AE18: 0.01158 | AF18: X | AG18: X | AH18: 0 | AI18: 0 | AJ18: 0
A19: Schweizer/-innen | B19: 100 | C19: 100 | D19: 100 | E19: 100 | F19: 100 | G19: 100 | H19: 100 | I19: 100 | J19: 100 | K19: 100 | L19: 100 | M19: 100 | N19: 100 | O19: 100 | P19: 100 | Q19: 100 | R19: 100 | S19: 100 | T19: 100 | U19: 100 | V19: 100 | W19: 100 | X19: 100 | Y19: 100 | Z19: 100 | AA19: 100 | AB19: 100 | AC19: 100 | AD19: 100 | AE19: 100 | AF19: 100 | AG19: 100 | AH19: 100 | AI19: 100 | AJ19: 100
A20: Allgemeinbildung | B20: 23.67973 | C20: 26.26971 | D20: 27.86724 | E20: 28.86622 | F20: 30.09062 | G20: 29.43936 | H20: 28.69678 | I20: 29.17196 | J20: 29.19308 | K20: 28.59619 | L20: 27.78929 | M20: 27.45243 | N20: 28.35454 | O20: 29.50478 | P20: 30.66346 | Q20: 30.92935 | R20: 30.21151 | S20: 29.735 | T20: 29.24844 | U20: 29.39016 | V20: 29.97913 | W20: 29.30463 | X20: 30.43354 | Y20: 30.75542 | Z20: 31.38485 | AA20: 31.7021 | AB20: 32.49271 | AC20: 32.80607 | AD20: 33.25573 | AE20: 34.27727 | AF20: 34.67327 | AG20: 35.4295 | AH20: 35.61236 | AI20: 35.05976 | AJ20: 34.86795
A21: Gymnasiale Maturitätsschulen | B21: 19.85805 | C21: 21.77292 | D21: 22.67499 | E21: 23.08904 | F21: 24.28025 | G21: 23.81702 | H21: 23.30656 | I21: 23.39373 | J21: 23.65968 | K21: 23.89323 | L21: 23.4959 | M21: 23.25406 | N21: 23.78563 | O21: 24.96257 | P21: 25.37815 | Q21: 25.34925 | R21: 25.20129 | S21: 25.11 | T21: 24.79275 | U21: 24.74548 | V21: 25.22287 | W21: 24.34923 | X21: 25.62524 | Y21: 25.6634 | Z21: 26.1763 | AA21: 26.19479 | AB21: 26.6707 | AC21: 26.62078 | AD21: 26.83826 | AE21: 27.68582 | AF21: 27.86757 | AG21: 28.6248 | AH21: 28.89384 | AI21: 28.4099 | AJ21: 28.42987
A22: Fachmittelschulen | B22: 3.82169 | C22: 4.49679 | D22: 5.19224 | E22: 5.77718 | F22: 5.81038 | G22: 5.62234 | H22: 5.39022 | I22: 5.77822 | J22: 5.5334 | K22: 4.70296 | L22: 4.29339 | M22: 4.19838 | N22: 4.56891 | O22: 4.54221 | P22: 5.28532 | Q22: 5.5801 | R22: 5.01022 | S22: 4.625 | T22: 4.45569 | U22: 4.64468 | V22: 4.75626 | W22: 4.95541 | X22: 4.8083 | Y22: 5.09202 | Z22: 5.20856 | AA22: 5.5073 | AB22: 5.82201 | AC22: 6.18529 | AD22: 6.41747 | AE22: 6.59145 | AF22: 6.8057 | AG22: 6.8047 | AH22: 6.71851 | AI22: 6.64985 | AJ22: 6.43808
A23: Berufsbildung | B23: 76.32027 | C23: 73.73029 | D23: 72.13276 | E23: 71.13378 | F23: 69.90938 | G23: 70.56064 | H23: 71.30322 | I23: 70.82804 | J23: 70.80692 | K23: 71.40381 | L23: 72.21071 | M23: 72.54757 | N23: 71.64546 | O23: 70.49522 | P23: 69.33654 | Q23: 69.07065 | R23: 69.78849 | S23: 70.265 | T23: 70.75156 | U23: 70.60984 | V23: 70.02087 | W23: 70.69537 | X23: 69.56646 | Y23: 69.24458 | Z23: 68.61515 | AA23: 68.2979 | AB23: 67.50729 | AC23: 67.19393 | AD23: 66.74427 | AE23: 65.72273 | AF23: 65.32673 | AG23: 64.5705 | AH23: 64.38764 | AI23: 64.94024 | AJ23: 65.13205
A24: Berufliche Grundbildung | B24: 75.15215 | C24: 72.63552 | D24: 70.91522 | E24: 70.03641 | F24: 68.81175 | G24: 69.38879 | H24: 70.1642 | I24: 69.66881 | J24: 69.33679 | K24: 70.14574 | L24: 70.82329 | M24: 70.99189 | N24: 70.10875 | O24: 68.85661 | P24: 67.57701 | Q24: 67.41625 | R24: 68.38638 | S24: 69.04181 | T24: 69.84178 | U24: 69.76777 | V24: 69.18736 | W24: 70.03956 | X24: 69.14682 | Y24: 68.94886 | Z24: 68.39084 | AA24: 68.21473 | AB24: 67.49629 | AC24: 67.1841 | AD24: 66.73427 | AE24: 65.70284 | AF24: 65.3139 | AG24: 64.55481 | AH24: 64.38764 | AI24: 64.94024 | AJ24: 65.13205
A25: Anlehre | B25: 1.16812 | C25: 1.09477 | D25: 1.21755 | E25: 1.09737 | F25: 1.09762 | G25: 1.17185 | H25: 1.13902 | I25: 1.15923 | J25: 1.47012 | K25: 1.25807 | L25: 1.38742 | M25: 1.55568 | N25: 1.53671 | O25: 1.63861 | P25: 1.75952 | Q25: 1.65439 | R25: 1.40211 | S25: 1.22319 | T25: 0.90978 | U25: 0.84207 | V25: 0.83351 | W25: 0.6558 | X25: 0.41964 | Y25: 0.29573 | Z25: 0.22431 | AA25: 0.08318 | AB25: 0.011 | AC25: 0.00983 | AD25: 0.01 | AE25: 0.01989 | AF25: 0.01284 | AG25: 0.01569 | AH25: 0 | AI25: 0 | AJ25: 0
A26: Ausländer/-innen | B26: 100 | C26: 100 | D26: 100 | E26: 100 | F26: 100 | G26: 100 | H26: 100 | I26: 100 | J26: 100 | K26: 100 | L26: 100 | M26: 100 | N26: 100 | O26: 100 | P26: 100 | Q26: 100 | R26: 100 | S26: 100 | T26: 100 | U26: 100 | V26: 100 | W26: 100 | X26: 100 | Y26: 100 | Z26: 100 | AA26: 100 | AB26: 100 | AC26: 100 | AD26: 100 | AE26: 100 | AF26: 100 | AG26: 100 | AH26: 100 | AI26: 100 | AJ26: 100
A27: Allgemeinbildung | B27: 17.33695 | C27: 18.18653 | D27: 18.70693 | E27: 18.87803 | F27: 19.82603 | G27: 20.16843 | H27: 23.708 | I27: 25.03772 | J27: 24.70391 | K27: 22.38251 | L27: 21.88776 | M27: 21.28799 | N27: 22.91873 | O27: 23.73427 | P27: 24.68505 | Q27: 26.47121 | R27: 26.0323 | S27: 27.14721 | T27: 26.3101 | U27: 26.72645 | V27: 25.4695 | W27: 25.04702 | X27: 26.17594 | Y27: 26.92732 | Z27: 28.14758 | AA27: 28.32209 | AB27: 29.02876 | AC27: 29.42068 | AD27: 29.28516 | AE27: 30.35158 | AF27: 31.54665 | AG27: 31.48538 | AH27: 32.48021 | AI27: 32.01028 | AJ27: 32.01937
A28: Gymnasiale Maturitätsschulen | B28: 13.8136 | C28: 13.981 | D28: 14.02807 | E28: 13.52316 | F28: 14.35708 | G28: 14.69873 | H28: 17.37165 | I28: 18.31517 | J28: 17.74968 | K28: 16.7717 | L28: 16.45773 | M28: 16.09987 | N28: 16.81322 | O28: 18.59268 | P28: 19.4009 | Q28: 20.06815 | R28: 19.85955 | S28: 20.51972 | T28: 19.94726 | U28: 20.34431 | V28: 19.16656 | W28: 18.85336 | X28: 19.96409 | Y28: 20.24479 | Z28: 21.3423 | AA28: 21.88145 | AB28: 22.16023 | AC28: 22.60356 | AD28: 21.88199 | AE28: 23.00862 | AF28: 24.01623 | AG28: 24.04133 | AH28: 25.23719 | AI28: 24.90919 | AJ28: 24.73784
A29: Fachmittelschulen | B29: 3.52334 | C29: 4.20553 | D29: 4.67886 | E29: 5.35487 | F29: 5.46895 | G29: 5.4697 | H29: 6.33635 | I29: 6.72255 | J29: 6.95423 | K29: 5.61081 | L29: 5.43003 | M29: 5.18812 | N29: 6.10552 | O29: 5.14159 | P29: 5.28415 | Q29: 6.40307 | R29: 6.17275 | S29: 6.62749 | T29: 6.36284 | U29: 6.38214 | V29: 6.30293 | W29: 6.19366 | X29: 6.21185 | Y29: 6.68252 | Z29: 6.80527 | AA29: 6.44064 | AB29: 6.86853 | AC29: 6.81711 | AD29: 7.40317 | AE29: 7.34296 | AF29: 7.53043 | AG29: 7.44405 | AH29: 7.24302 | AI29: 7.10109 | AJ29: 7.28153
A30: Berufsbildung | B30: 82.66305 | C30: 81.81347 | D30: 81.29307 | E30: 81.12197 | F30: 80.17397 | G30: 79.83157 | H30: 76.292 | I30: 74.96228 | J30: 75.29609 | K30: 77.61749 | L30: 78.11224 | M30: 78.71201 | N30: 77.08127 | O30: 76.26573 | P30: 75.31495 | Q30: 73.52879 | R30: 73.9677 | S30: 72.85279 | T30: 73.6899 | U30: 73.27355 | V30: 74.5305 | W30: 74.95298 | X30: 73.82406 | Y30: 73.07268 | Z30: 71.85242 | AA30: 71.67791 | AB30: 70.97124 | AC30: 70.57932 | AD30: 70.71484 | AE30: 69.64842 | AF30: 68.45335 | AG30: 68.51462 | AH30: 67.51979 | AI30: 67.98972 | AJ30: 67.98063
A31: Berufliche Grundbildung | B31: 80.28501 | C31: 78.77375 | D31: 77.50744 | E31: 77.21207 | F31: 75.91939 | G31: 75.09116 | H31: 72.18148 | I31: 70.74602 | J31: 70.60659 | K31: 72.61408 | L31: 73.15598 | M31: 73.07184 | N31: 71.30903 | O31: 69.62958 | P31: 68.79199 | Q31: 68.11954 | R31: 70.02107 | S31: 69.86476 | T31: 70.97167 | U31: 71.06107 | V31: 72.37633 | W31: 73.41592 | X31: 72.57331 | Y31: 72.38239 | Z31: 71.323 | AA31: 71.52735 | AB31: 70.95499 | AC31: 70.56365 | AD31: 70.71484 | AE31: 69.64842 | AF31: 68.4432 | AG31: 68.50972 | AH31: 67.51979 | AI31: 67.98972 | AJ31: 67.98063
A32: Anlehre | B32: 2.37804 | C32: 3.03972 | D32: 3.78562 | E32: 3.9099 | F32: 4.25459 | G32: 4.74041 | H32: 4.11052 | I32: 4.21626 | J32: 4.6895 | K32: 5.00342 | L32: 4.95627 | M32: 5.64017 | N32: 5.77223 | O32: 6.63616 | P32: 6.52296 | Q32: 5.40924 | R32: 3.94663 | S32: 2.98803 | T32: 2.71824 | U32: 2.21248 | V32: 2.15417 | W32: 1.53706 | X32: 1.25075 | Y32: 0.6903 | Z32: 0.52942 | AA32: 0.15056 | AB32: X | AC32: X | AD32: - | AE32: - | AF32: X | AG32: X | AH32: 0 | AI32: 0 | AJ32: 0
A33: Bemerkung: wenn Sie die vollständige Zeitreihe anzeigen wollen, markieren Sie alle Spalten der Tabelle und drücken die rechte Maustaste und wählen "Einblenden".
A34: 1 2011: ohne Kanton Tessin
A35: X Entfällt aus Datenschutzgründen
A36: - Wert entspricht Null
A37: =Index!A12 -> Quelle: BFS – Statistik der Lernenden (SDL)
A38: =Index!A13 -> © BFS 2026
A39: =Index!A14 -> Auskunft: Bundesamt für Statistik (BFS), Bildungsindikatoren, EducIndicators@bfs.admin.ch

Sheet TD2
A1: Zurück
A2: =CONCATENATE(Index!A1," nach Wohnkanton, 1990/91–",RIGHT(Index!A13,4)-2,"/",RIGHT(Index!A13,2)-1) -> Ausbildungswahl auf der Sekundarstufe II nach Wohnkanton, 1990/91–2024/25 | AJ2: TD2
A3: In % der unter 20-jährigen Schüler/-innen im ersten Ausbildungsjahr einer mehrjährigen zertifizierenden Ausbildung
B4: 1990 | C4: 1991 | D4: 1992 | E4: 1993 | F4: 1994 | G4: 1995 | H4: 1996 | I4: 1997 | J4: 1998 | K4: 1999 | L4: 2000 | M4: 2001 | N4: 2002 | O4: 2003 | P4: 2004 | Q4: 2005 | R4: 2006 | S4: 2007 | T4: 2008 | U4: 2009 | V4: 2010 | W4: 2011 1 | X4: 2012 | Y4: 2013 | Z4: 2014 | AA4: 2015 | AB4: 2016 | AC4: 2017 | AD4: 2018 | AE4: 2019 | AF4: 2020 | AG4: 2021 | AH4: 2022 | AI4: 2023 | AJ4: 2024
A5: ZH | B5: 100 | C5: 100 | D5: 100 | E5: 100 | F5: 100 | G5: 100 | H5: 100 | I5: 100 | J5: 100 | K5: 100 | L5: 100 | M5: 100 | N5: 100 | O5: 100 | P5: 100 | Q5: 100 | R5: 100 | S5: 100 | T5: 100 | U5: 100 | V5: 100 | W5: 100 | X5: 100 | Y5: 100 | Z5: 100 | AA5: 100 | AB5: 100 | AC5: 100 | AD5: 100 | AE5: 100 | AF5: 100 | AG5: 100 | AH5: 100 | AI5: 100 | AJ5: 100
A6: Allgemeinbildung | B6: 22.932629 | C6: 24.479692 | D6: 24.806995 | E6: 25.147275 | F6: 25.754399 | G6: 24.810305 | H6: 23.948164 | I6: 23.714621 | J6: 23.781184 | K6: 23.222546 | L6: 21.8552 | M6: 21.474654 | N6: 22.699123 | O6: 23.072396 | P6: 23.175582 | Q6: 23.537492 | R6: 22.175504 | S6: 23.055273 | T6: 22.16487 | U6: 22.826509 | V6: 23.328691 | W6: 23.195994 | X6: 23.85348 | Y6: 24.10524 | Z6: 23.511157 | AA6: 24.011508 | AB6: 24.831724 | AC6: 23.989159 | AD6: 24.18791 | AE6: 25.731078 | AF6: 25.81906 | AG6: 26.766247 | AH6: 25.911575 | AI6: 26.147585 | AJ6: 26.399278
A7: Gymnasiale Maturitätsschulen | B7: 20.114487 | C7: 21.435775 | D7: 21.625895 | E7: 21.345729 | F7: 21.825144 | G7: 21.651668 | H7: 20.518359 | I7: 20.28136 | J7: 20.642426 | K7: 21.218091 | L7: 20.342992 | M7: 20.125681 | N7: 21.090659 | O7: 21.306651 | P7: 21.389723 | Q7: 21.679056 | R7: 20.50144 | S7: 21.171136 | T7: 20.677091 | U7: 21.11724 | V7: 21.657382 | W7: 21.648076 | X7: 22.10989 | Y7: 22.289998 | Z7: 21.723068 | AA7: 21.827973 | AB7: 22.753878 | AC7: 21.799004 | AD7: 22.27968 | AE7: 23.724197 | AF7: 23.701229 | AG7: 24.430129 | AH7: 23.960423 | AI7: 23.885775 | AJ7: 24.219758
A8: Fachmittelschulen | B8: 2.818142 | C8: 3.043917 | D8: 3.181099 | E8: 3.801546 | F8: 3.929255 | G8: 3.158638 | H8: 3.429806 | I8: 3.433261 | J8: 3.138758 | K8: 2.004454 | L8: 1.512207 | M8: 1.348974 | N8: 1.608464 | O8: 1.765745 | P8: 1.785859 | Q8: 1.858436 | R8: 1.674064 | S8: 1.884137 | T8: 1.487779 | U8: 1.709269 | V8: 1.671309 | W8: 1.547917 | X8: 1.74359 | Y8: 1.815242 | Z8: 1.788089 | AA8: 2.183535 | AB8: 2.077846 | AC8: 2.190155 | AD8: 1.90823 | AE8: 2.006881 | AF8: 2.117831 | AG8: 2.336118 | AH8: 1.951152 | AI8: 2.261809 | AJ8: 2.17952
A9: Berufsbildung | B9: 77.067371 | C9: 75.520308 | D9: 75.193005 | E9: 74.852725 | F9: 74.245601 | G9: 75.189695 | H9: 76.051836 | I9: 76.285379 | J9: 76.218816 | K9: 76.777454 | L9: 78.1448 | M9: 78.525346 | N9: 77.300877 | O9: 76.927604 | P9: 76.824418 | Q9: 76.462508 | R9: 77.824496 | S9: 76.944727 | T9: 77.83513 | U9: 77.173491 | V9: 76.671309 | W9: 76.804006 | X9: 76.14652 | Y9: 75.89476 | Z9: 76.488843 | AA9: 75.988492 | AB9: 75.168276 | AC9: 76.010841 | AD9: 75.81209 | AE9: 74.268922 | AF9: 74.18094 | AG9: 73.233753 | AH9: 74.088425 | AI9: 73.852415 | AJ9: 73.600722
A10: Berufliche Grundbildung | B10: 75.649494 | C10: 73.750802 | D10: 73.258302 | E10: 73.177467 | F10: 72.55903 | G10: 73.486854 | H10: 74.462203 | I10: 74.937196 | J10: 73.48769 | K10: 75.012849 | L10: 76.091915 | M10: 76.045245 | N10: 74.660244 | O10: 73.858572 | P10: 73.398815 | Q10: 73.893019 | R10: 75.784474 | S10: 75.506215 | T10: 76.506756 | U10: 76.039158 | V10: 75.766017 | W10: 75.984521 | X10: 75.545788 | Y10: 75.527302 | Z10: 76.134181 | AA10: 75.892594 | AB10: 75.146327 | AC10: 75.981541 | AD10: 75.804807 | AE10: 74.21875 | AF10: 74.159619 | AG10: 73.205437 | AH10: 74.088425 | AI10: 73.852415 | AJ10: 73.600722
A11: Anlehre | B11: 1.417878 | C11: 1.769506 | D11: 1.934704 | E11: 1.675258 | F11: 1.686571 | G11: 1.702841 | H11: 1.589633 | I11: 1.348183 | J11: 2.731127 | K11: 1.764605 | L11: 2.052885 | M11: 2.480101 | N11: 2.640633 | O11: 3.069032 | P11: 3.425603 | Q11: 2.569489 | R11: 2.040022 | S11: 1.438511 | T11: 1.328374 | U11: 1.134333 | V11: 0.905292 | W11: 0.819486 | X11: 0.600733 | Y11: 0.367458 | Z11: 0.354662 | AA11: 0.095898 | AB11: X | AC11: X | AD11: X | AE11: 0.050172 | AF11: X | AG11: X | AH11: - | AI11: - | AJ11: -
A12: BE² | B12: 100 | C12: 100 | D12: 100 | E12: 100 | F12: 100 | G12: 100 | H12: 100 | I12: 100 | J12: 100 | K12: 100 | L12: 100 | M12: 100 | N12: 100 | O12: 100 | P12: 100 | Q12: 100 | R12: 100 | S12: 100 | T12: 100 | U12: 100 | V12: 100 | W12: 100 | X12: 100 | Y12: 100 | Z12: 100 | AA12: 100 | AB12: 100 | AC12: 100 | AD12: 100 | AE12: 100 | AF12: 100 | AG12: 100 | AH12: 100 | AI12: 100 | AJ12: 100
A13: Allgemeinbildung | B13: 15.061679 | C13: 16.68055 | D13: 17.589577 | E13: 17.778494 | F13: 18.597203 | G13: 18.114583 | H13: 19.320308 | I13: 18.502032 | J13: 22.046685 | K13: 21.266887 | L13: 20.126854 | M13: 20.017881 | N13: 20.198057 | O13: 21.790541 | P13: 22.389666 | Q13: 21.889298 | R13: 23.700266 | S13: 22.375667 | T13: 21.497647 | U13: 21.281328 | V13: 22.186322 | W13: 21.603405 | X13: 22.552145 | Y13: 22.641509 | Z13: 22.667167 | AA13: 23.186739 | AB13: 23.121555 | AC13: 23.06141 | AD13: 24.151475 | AE13: 24.617893 | AF13: 25.153807 | AG13: 25.581162 | AH13: 27.53005 | AI13: 27.57972 | AJ13: 26.516323
A14: Gymnasiale Maturitätsschulen | B14: 12.097095 | C14: 13.32778 | D14: 14.277959 | E14: 14.598775 | F14: 15.479876 | G14: 14.802083 | H14: 16.056953 | I14: 14.921618 | J14: 18.452117 | K14: 18.797531 | L14: 17.795247 | M14: 17.764864 | N14: 17.909193 | O14: 19.613363 | P14: 20.003588 | Q14: 19.619629 | R14: 21.294148 | S14: 20.274506 | T14: 19.529311 | U14: 19.194252 | V14: 19.843834 | W14: 19.448386 | X14: 19.947172 | Y14: 20.28532 | Z14: 20.172559 | AA14: 19.900355 | AB14: 19.475873 | AC14: 18.937179 | AD14: 19.659583 | AE14: 20.368861 | AF14: 20.746344 | AG14: 21.102204 | AH14: 22.615355 | AI14: 22.56608 | AJ14: 22.251523
A15: Fachmittelschulen | B15: 2.964584 | C15: 3.35277 | D15: 3.311618 | E15: 3.179719 | F15: 3.117327 | G15: 3.3125 | H15: 3.263355 | I15: 3.580414 | J15: 3.594568 | K15: 2.469357 | L15: 2.331606 | M15: 2.253017 | N15: 2.288864 | O15: 2.177177 | P15: 2.386078 | Q15: 2.269669 | R15: 2.406118 | S15: 2.101161 | T15: 1.968335 | U15: 2.087076 | V15: 2.342488 | W15: 2.15502 | X15: 2.604973 | Y15: 2.35619 | Z15: 2.494608 | AA15: 3.286385 | AB15: 3.645682 | AC15: 4.124231 | AD15: 4.491892 | AE15: 4.249032 | AF15: 4.407463 | AG15: 4.478958 | AH15: 4.914696 | AI15: 5.013639 | AJ15: 4.264799
A16: Berufsbildung | B16: 84.938321 | C16: 83.31945 | D16: 82.410423 | E16: 82.221506 | F16: 81.402797 | G16: 81.885417 | H16: 80.679692 | I16: 81.497968 | J16: 77.953315 | K16: 78.733113 | L16: 79.873146 | M16: 79.982119 | N16: 79.801943 | O16: 78.209459 | P16: 77.610334 | Q16: 78.110702 | R16: 76.299734 | S16: 77.624333 | T16: 78.502353 | U16: 78.718672 | V16: 77.813678 | W16: 78.396595 | X16: 77.447855 | Y16: 77.358491 | Z16: 77.332833 | AA16: 76.813261 | AB16: 76.878445 | AC16: 76.93859 | AD16: 75.848525 | AE16: 75.382107 | AF16: 74.846193 | AG16: 74.418838 | AH16: 72.46995 | AI16: 72.42028 | AJ16: 73.483677
A17: Berufliche Grundbildung | B17: 83.306805 | C17: 81.66389 | D17: 80.92291 | E17: 81.050596 | F17: 79.897513 | G17: 80.40625 | H17: 79.339015 | I17: 80.16257 | J17: 76.089465 | K17: 76.952671 | L17: 77.809541 | M17: 77.487707 | N17: 77.868087 | O17: 76.163664 | P17: 75.439541 | Q17: 75.589845 | R17: 74.546704 | S17: 76.141659 | T17: 77.526744 | U17: 77.846206 | V17: 77.095674 | W17: 77.935438 | X17: 76.99244 | Y17: 77.128394 | Z17: 77.088999 | AA17: 76.765354 | AB17: 76.878445 | AC17: 76.93859 | AD17: 75.848525 | AE17: 75.382107 | AF17: 74.846193 | AG17: 74.418838 | AH17: 72.46995 | AI17: 72.42028 | AJ17: 73.483677
A18: Anlehre | B18: 1.631516 | C18: 1.65556 | D18: 1.487514 | E18: 1.17091 | F18: 1.505285 | G18: 1.479167 | H18: 1.340678 | I18: 1.335398 | J18: 1.86385 | K18: 1.780442 | L18: 2.063606 | M18: 2.494412 | N18: 1.933857 | O18: 2.045796 | P18: 2.170793 | Q18: 2.520858 | R18: 1.753029 | S18: 1.482674 | T18: 0.97561 | U18: 0.872466 | V18: 0.718004 | W18: 0.461156 | X18: 0.455415 | Y18: 0.230097 | Z18: 0.243834 | AA18: 0.047906 | AB18: - | AC18: - | AD18: - | AE18: - | AF18: - | AG18: - | AH18: - | AI18: - | AJ18: -
A19: LU | B19: 100 | C19: 100 | D19: 100 | E19: 100 | F19: 100 | G19: 100 | H19: 100 | I19: 100 | J19: 100 | K19: 100 | L19: 100 | M19: 100 | N19: 100 | O19: 100 | P19: 100 | Q19: 100 | R19: 100 | S19: 100 | T19: 100 | U19: 100 | V19: 100 | W19: 100 | X19: 100 | Y19: 100 | Z19: 100 | AA19: 100 | AB19: 100 | AC19: 100 | AD19: 100 | AE19: 100 | AF19: 100 | AG19: 100 | AH19: 100 | AI19: 100 | AJ19: 100
A20: Allgemeinbildung | B20: 13.536776 | C20: 16.265383 | D20: 15.31061 | E20: 18.166984 | F20: 18.406441 | G20: 18.355438 | H20: 19.477435 | I20: 21.127839 | J20: 20.978849 | K20: 20.072551 | L20: 21.54598 | M20: 20.667764 | N20: 19.754768 | O20: 21.547567 | P20: 24.956897 | Q20: 24.174428 | R20: 23.629923 | S20: 25.499897 | T20: 23.320634 | U20: 22.603162 | V20: 22.484342 | W20: 23.073745 | X20: 23.078496 | Y20: 23.929009 | Z20: 23.733162 | AA20: 22.618787 | AB20: 23.438223 | AC20: 22.74351 | AD20: 23.679643 | AE20: 24.127977 | AF20: 23.938507 | AG20: 24.390832 | AH20: 25.531915 | AI20: 25.085363 | AJ20: 24.424066
A21: Gymnasiale Maturitätsschulen | B21: 11.085029 | C21: 13.804173 | D21: 12.726773 | E21: 15.447376 | F21: 15.32482 | G21: 15.092838 | H21: 16.415941 | I21: 18.142383 | J21: 17.953763 | K21: 17.146312 | L21: 19.080409 | M21: 18.245944 | N21: 17.643052 | O21: 19.530907 | P21: 21.530172 | Q21: 20.977985 | R21: 21.400292 | S21: 22.840651 | T21: 21.215159 | U21: 20.673373 | V21: 20.730689 | W21: 20.966742 | X21: 21.136549 | Y21: 21.542228 | Z21: 21.573658 | AA21: 20.451062 | AB21: 20.638593 | AC21: 19.933317 | AD21: 20.728986 | AE21: 21.385615 | AF21: 21.498292 | AG21: 21.712907 | AH21: 23.30863 | AI21: 22.581379 | AJ21: 22.030866
A22: Fachmittelschulen | B22: 2.451748 | C22: 2.461209 | D22: 2.583837 | E22: 2.719608 | F22: 3.081621 | G22: 3.262599 | H22: 3.061494 | I22: 2.985455 | J22: 3.025086 | K22: 2.926239 | L22: 2.465571 | M22: 2.42182 | N22: 2.111717 | O22: 2.016659 | P22: 3.426724 | Q22: 3.196444 | R22: 2.229631 | S22: 2.659246 | T22: 2.105474 | U22: 1.929789 | V22: 1.753653 | W22: 2.107003 | X22: 1.941946 | Y22: 2.386781 | Z22: 2.159504 | AA22: 2.167725 | AB22: 2.79963 | AC22: 2.810193 | AD22: 2.950657 | AE22: 2.742362 | AF22: 2.440215 | AG22: 2.677925 | AH22: 2.223285 | AI22: 2.503984 | AJ22: 2.393201
A23: Berufsbildung | B23: 86.463224 | C23: 83.734617 | D23: 84.68939 | E23: 81.833016 | F23: 81.593559 | G23: 81.644562 | H23: 80.522565 | I23: 78.872161 | J23: 79.021151 | K23: 79.927449 | L23: 78.45402 | M23: 79.332236 | N23: 80.245232 | O23: 78.452433 | P23: 75.043103 | Q23: 75.825572 | R23: 76.370077 | S23: 74.500103 | T23: 76.679366 | U23: 77.396838 | V23: 77.515658 | W23: 76.926255 | X23: 76.921504 | Y23: 76.070991 | Z23: 76.266838 | AA23: 77.381213 | AB23: 76.561777 | AC23: 77.25649 | AD23: 76.320357 | AE23: 75.872023 | AF23: 76.061493 | AG23: 75.609168 | AH23: 74.468085 | AI23: 74.914637 | AJ23: 75.575934
A24: Berufliche Grundbildung | B24: 84.37663 | C24: 81.621188 | D24: 82.13304 | E24: 79.358172 | F24: 78.928373 | G24: 78.381963 | H24: 77.513856 | I24: 76.141873 | J24: 76.364978 | K24: 76.759371 | L24: 75.633052 | M24: 76.063955 | N24: 77.066303 | O24: 74.901359 | P24: 71.37931 | Q24: 72.332769 | R24: 74.244634 | S24: 72.706658 | T24: 75.77702 | U24: 76.10347 | V24: 76.221294 | W24: 76.16195 | X24: 76.553557 | Y24: 75.846593 | Z24: 76.095788 | AA24: 77.359317 | AB24: 76.53864 | AC24: 77.232674 | AD24: 76.320357 | AE24: 75.823911 | AF24: 76.012689 | AG24: 75.560917 | AH24: 74.468085 | AI24: 74.914637 | AJ24: 75.575934
A25: Anlehre | B25: 2.086594 | C25: 2.11343 | D25: 2.55635 | E25: 2.474844 | F25: 2.665186 | G25: 3.262599 | H25: 3.008709 | I25: 2.730288 | J25: 2.656173 | K25: 3.168077 | L25: 2.820968 | M25: 3.268281 | N25: 3.178928 | O25: 3.551074 | P25: 3.663793 | Q25: 3.492803 | R25: 2.125443 | S25: 1.793445 | T25: 0.902346 | U25: 1.293369 | V25: 1.294363 | W25: 0.764305 | X25: 0.367948 | Y25: 0.224398 | Z25: 0.17105 | AA25: X | AB25: X | AC25: X | AD25: - | AE25: X | AF25: X | AG25: X | AH25: - | AI25: - | AJ25: -
A26: UR | B26: 100 | C26: 100 | D26: 100 | E26: 100 | F26: 100 | G26: 100 | H26: 100 | I26: 100 | J26: 100 | K26: 100 | L26: 100 | M26: 100 | N26: 100 | O26: 100 | P26: 100 | Q26: 100 | R26: 100 | S26: 100 | T26: 100 | U26: 100 | V26: 100 | W26: 100 | X26: 100 | Y26: 100 | Z26: 100 | AA26: 100 | AB26: 100 | AC26: 100 | AD26: 100 | AE26: 100 | AF26: 100 | AG26: 100 | AH26: 100 | AI26: 100 | AJ26: 100
A27: Allgemeinbildung | B27: 12.018141 | C27: 10.501193 | D27: 15.75 | E27: 14.841849 | F27: 13.5 | G27: 13.002364 | H27: 13.82716 | I27: 15.217391 | J27: 11.568627 | K27: 19.230769 | L27: 15.972222 | M27: 15.144766 | N27: 20.568928 | O27: 18.723404 | P27: 21.311475 | Q27: 18.993135 | R27: 19.753086 | S27: 18.80531 | T27: 18.058691 | U27: 18.442623 | V27: 22.045455 | W27: 18.777293 | X27: 16.945107 | Y27: 18.594104 | Z27: 20.52506 | AA27: 16.666667 | AB27: 16.202532 | AC27: 17.590361 | AD27: 17.948718 | AE27: 19.543147 | AF27: 16.759777 | AG27: 17.737789 | AH27: 18.97019 | AI27: 19.685039 | AJ27: 22.955145
A28: Gymnasiale Maturitätsschulen | B28: 11.791383 | C28: 10.023866 | D28: 15.5 | E28: 14.111922 | F28: 13.5 | G28: 12.765957 | H28: 13.08642 | I28: 14.975845 | J28: 11.176471 | K28: 18.75 | L28: 15.509259 | M28: 15.144766 | N28: 20.350109 | O28: 17.446809 | P28: 17.008197 | Q28: 16.475973 | R28: 16.460905 | S28: 17.699115 | T28: 16.930023 | U28: 17.213115 | V28: 20.227273 | W28: 15.720524 | X28: 15.513126 | Y28: 16.780045 | Z28: 17.661098 | AA28: 12.560386 | AB28: 13.924051 | AC28: 14.457831 | AD28: 15.897436 | AE28: 16.751269 | AF28: 12.849162 | AG28: 16.195373 | AH28: 16.260163 | AI28: 15.748031 | AJ28: 19.525066
A29: Fachmittelschulen | B29: X | C29: X | D29: X | E29: X | F29: - | G29: X | H29: X | I29: X | J29: X | K29: X | L29: X | M29: - | N29: X | O29: 1.276596 | P29: 4.303279 | Q29: 2.517162 | R29: 3.292181 | S29: 1.106195 | T29: 1.128668 | U29: 1.229508 | V29: 1.818182 | W29: 3.056769 | X29: 1.431981 | Y29: 1.814059 | Z29: 2.863962 | AA29: 4.10628 | AB29: 2.278481 | AC29: 3.13253 | AD29: 2.051282 | AE29: 2.791878 | AF29: 3.910615 | AG29: 1.542416 | AH29: 2.710027 | AI29: 3.937008 | AJ29: 3.430079
A30: Berufsbildung | B30: 87.981859 | C30: 89.498807 | D30: 84.25 | E30: 85.158151 | F30: 86.5 | G30: 86.997636 | H30: 86.17284 | I30: 84.782609 | J30: 88.431373 | K30: 80.769231 | L30: 84.027778 | M30: 84.855234 | N30: 79.431072 | O30: 81.276596 | P30: 78.688525 | Q30: 81.006865 | R30: 80.246914 | S30: 81.19469 | T30: 81.941309 | U30: 81.557377 | V30: 77.954545 | W30: 81.222707 | X30: 83.054893 | Y30: 81.405896 | Z30: 79.47494 | AA30: 83.333333 | AB30: 83.797468 | AC30: 82.409639 | AD30: 82.051282 | AE30: 80.456853 | AF30: 83.240223 | AG30: 82.262211 | AH30: 81.02981 | AI30: 80.314961 | AJ30: 77.044855
A31: Berufliche Grundbildung | B31: 86.848073 | C31: 88.544153 | D31: 82.75 | E31: 83.454988 | F31: 85.5 | G31: 86.052009 | H31: 84.938272 | I31: 83.333333 | J31: 86.27451 | K31: 79.326923 | L31: 82.87037 | M31: 82.85078 | N31: 77.680525 | O31: 78.510638 | P31: 76.02459 | Q31: 78.26087 | R31: 77.366255 | S31: 80.752212 | T31: 80.361174 | U31: 81.352459 | V31: 76.590909 | W31: 81.004367 | X31: 82.100239 | Y31: 81.405896 | Z31: 79.47494 | AA31: 83.333333 | AB31: 83.797468 | AC31: 82.409639 | AD31: 82.051282 | AE31: 80.456853 | AF31: 83.240223 | AG31: 82.262211 | AH31: 81.02981 | AI31: 80.314961 | AJ31: 77.044855
A32: Anlehre | B32: 1.133787 | C32: X | D32: 1.5 | E32: 1.703163 | F32: X | G32: X | H32: 1.234568 | I32: 1.449275 | J32: 2.156863 | K32: 1.442308 | L32: 1.157407 | M32: 2.004454 | N32: 1.750547 | O32: 2.765957 | P32: 2.663934 | Q32: 2.745995 | R32: 2.880658 | S32: X | T32: 1.580135 | U32: X | V32: 1.363636 | W32: X | X32: X | Y32: - | Z32: - | AA32: - | AB32: - | AC32: - | AD32: - | AE32: - | AF32: - | AG32: - | AH32: - | AI32: - | AJ32: -
A33: SZ | B33: 100 | C33: 100 | D33: 100 | E33: 100 | F33: 100 | G33: 100 | H33: 100 | I33: 100 | J33: 100 | K33: 100 | L33: 100 | M33: 100 | N33: 100 | O33: 100 | P33: 100 | Q33: 100 | R33: 100 | S33: 100 | T33: 100 | U33: 100 | V33: 100 | W33: 100 | X33: 100 | Y33: 100 | Z33: 100 | AA33: 100 | AB33: 100 | AC33: 100 | AD33: 100 | AE33: 100 | AF33: 100 | AG33: 100 | AH33: 100 | AI33: 100 | AJ33: 100
A34: Allgemeinbildung | B34: 13.261944 | C34: 16.696589 | D34: 17.606838 | E34: 18.657367 | F34: 21.492007 | G34: 20.484754 | H34: 19.420517 | I34: 20.258621 | J34: 19.179986 | K34: 19.251701 | L34: 18.956407 | M34: 19.842829 | N34: 22.59887 | O34: 22.146823 | P34: 22.688039 | Q34: 22.069378 | R34: 22.045315 | S34: 23.679525 | T34: 22.92654 | U34: 23.211169 | V34: 20.463768 | W34: 21.914776 | X34: 21.243523 | Y34: 20.947923 | Z34: 21.648873 | AA34: 22.869148 | AB34: 25.386445 | AC34: 22.256858 | AD34: 24.155844 | AE34: 25.316456 | AF34: 23.398693 | AG34: 23.904639 | AH34: 24.983477 | AI34: 25.346784 | AJ34: 23.432552
A35: Gymnasiale Maturitätsschulen | B35: 12.685338 | C35: 15.888689 | D35: 16.837607 | E35: 17.785527 | F35: 20.959147 | G35: 20.093823 | H35: 19.028974 | I35: 19.755747 | J35: 18.76303 | K35: 18.979592 | L35: 18.758256 | M35: 19.777341 | N35: 19.836786 | O35: 19.062307 | P35: 20.036991 | Q35: 19.198565 | R35: 20.085732 | S35: 21.89911 | T35: 21.208531 | U35: 21.175102 | V35: 17.855072 | W35: 18.760376 | X35: 18.249856 | Y35: 17.78818 | Z35: 18.386714 | AA35: 19.627851 | AB35: 20.273484 | AC35: 18.578554 | AD35: 20.454545 | AE35: 21.455696 | AF35: 20.196078 | AG35: 21.391753 | AH35: 22.339722 | AI35: 21.437579 | AJ35: 20.075997
A36: Fachmittelschulen | B36: 0.576606 | C36: 0.807899 | D36: 0.769231 | E36: 0.87184 | F36: 0.53286 | G36: 0.39093 | H36: 0.391543 | I36: 0.502874 | J36: 0.416956 | K36: X | L36: X | M36: X | N36: 2.762084 | O36: 3.084516 | P36: 2.651048 | Q36: 2.870813 | R36: 1.959584 | S36: 1.780415 | T36: 1.718009 | U36: 2.036067 | V36: 2.608696 | W36: 3.1544 | X36: 2.993667 | Y36: 3.159743 | Z36: 3.262159 | AA36: 3.241297 | AB36: 5.112961 | AC36: 3.678304 | AD36: 3.701299 | AE36: 3.860759 | AF36: 3.202614 | AG36: 2.512887 | AH36: 2.643754 | AI36: 3.909206 | AJ36: 3.356555
A37: Berufsbildung | B37: 86.738056 | C37: 83.303411 | D37: 82.393162 | E37: 81.342633 | F37: 78.507993 | G37: 79.515246 | H37: 80.579483 | I37: 79.741379 | J37: 80.820014 | K37: 80.748299 | L37: 81.043593 | M37: 80.157171 | N37: 77.40113 | O37: 77.853177 | P37: 77.311961 | Q37: 77.930622 | R37: 77.954685 | S37: 76.320475 | T37: 77.07346 | U37: 76.788831 | V37: 79.536232 | W37: 78.085224 | X37: 78.756477 | Y37: 79.052077 | Z37: 78.351127 | AA37: 77.130852 | AB37: 74.613555 | AC37: 77.743142 | AD37: 75.844156 | AE37: 74.683544 | AF37: 76.601307 | AG37: 76.095361 | AH37: 75.016523 | AI37: 74.653216 | AJ37: 76.567448
A38: Berufliche Grundbildung | B38: 85.996705 | C38: 82.226212 | D38: 81.282051 | E38: 79.686138 | F38: 77.531083 | G38: 78.342455 | H38: 79.561472 | I38: 78.663793 | J38: 80.055594 | K38: 79.863946 | L38: 79.194188 | M38: 78.454486 | N38: 75.768989 | O38: 75.447255 | P38: 74.784217 | Q38: 75.657895 | R38: 76.913656 | S38: 74.95549 | T38: 76.007109 | U38: 76.323444 | V38: 78.492754 | W38: 77.587161 | X38: 78.411054 | Y38: 78.876536 | Z38: 78.291815 | AA38: 77.070828 | AB38: 74.613555 | AC38: 77.743142 | AD38: 75.649351 | AE38: 74.683544 | AF38: 76.535948 | AG38: 76.030928 | AH38: 75.016523 | AI38: 74.653216 | AJ38: 76.567448
A39: Anlehre | B39: 0.741351 | C39: 1.077199 | D39: 1.111111 | E39: 1.656495 | F39: 0.976909 | G39: 1.172791 | H39: 1.018011 | I39: 1.077586 | J39: 0.76442 | K39: 0.884354 | L39: 1.849406 | M39: 1.702685 | N39: 1.632141 | O39: 2.405922 | P39: 2.527744 | Q39: 2.272727 | R39: 1.041029 | S39: 1.364985 | T39: 1.066351 | U39: 0.465387 | V39: 1.043478 | W39: 0.498063 | X39: 0.345423 | Y39: X | Z39: X | AA39: X | AB39: - | AC39: - | AD39: X | AE39: - | AF39: X | AG39: X | AH39: - | AI39: - | AJ39: -
A40: OW | B40: 100 | C40: 100 | D40: 100 | E40: 100 | F40: 100 | G40: 100 | H40: 100 | I40: 100 | J40: 100 | K40: 100 | L40: 100 | M40: 100 | N40: 100 | O40: 100 | P40: 100 | Q40: 100 | R40: 100 | S40: 100 | T40: 100 | U40: 100 | V40: 100 | W40: 100 | X40: 100 | Y40: 100 | Z40: 100 | AA40: 100 | AB40: 100 | AC40: 100 | AD40: 100 | AE40: 100 | AF40: 100 | AG40: 100 | AH40: 100 | AI40: 100 | AJ40: 100
...

Sheet TD3
A1: Zurück
A2: =CONCATENATE(Index!A1," nach Bildungsfelder, Geschlecht und Nationalität, 1990/91–",RIGHT(Index!A13,4)-2,"/",RIGHT(Index!A13,2)-1) -> Ausbildungswahl auf der Sekundarstufe II nach Bildungsfelder, Geschlecht und Nationalität, 1990/91–2024/25 | AJ2: TD3
A3: In % der unter 20-jährigen Schüler/-innen im ersten Ausbildungsjahr einer mehrjährigen zertifizierenden Ausbildung
B4: 1990 | C4: 1991 | D4: 1992 | E4: 1993 | F4: 1994 | G4: 1995 | H4: 1996 | I4: 1997 | J4: 1998 | K4: 1999 | L4: 2000 | M4: 2001 | N4: 2002 | O4: 2003 | P4: 2004 | Q4: 2005 | R4: 2006 | S4: 2007 | T4: 2008 | U4: 2009 | V4: 2010 | W4: 2011 1 | X4: 2012 | Y4: 2013 | Z4: 2014 | AA4: 2015 | AB4: 2016 | AC4: 2017 | AD4: 2018 | AE4: 2019 | AF4: 2020 | AG4: 2021 | AH4: 2022 | AI4: 2023 | AJ4: 2024
A5: Total | B5: 100 | C5: 100 | D5: 100 | E5: 100 | F5: 100 | G5: 100 | H5: 100 | I5: 100 | J5: 100 | K5: 100 | L5: 100 | M5: 100 | N5: 100 | O5: 100 | P5: 100 | Q5: 100 | R5: 100 | S5: 100 | T5: 100 | U5: 100 | V5: 100 | W5: 100 | X5: 100 | Y5: 100 | Z5: 100 | AA5: 100 | AB5: 100 | AC5: 100 | AD5: 100 | AE5: 100 | AF5: 100 | AG5: 100 | AH5: 100 | AI5: 100 | AJ5: 100
A6: Künste | B6: 3.99878 | C6: 4.04533 | D6: 3.72162 | E6: 3.46301 | F6: 3.33056 | G6: 3.2984 | H6: 3.24178 | I6: 3.14351 | J6: 3.11423 | K6: 3.46031 | L6: 3.68848 | M6: 3.59539 | N6: 3.46186 | O6: 3.36014 | P6: 3.1303 | Q6: 3.13041 | R6: 3.10771 | S6: 3.20724 | T6: 3.16178 | U6: 2.91844 | V6: 3.13315 | W6: 3.04611 | X6: 2.94986 | Y6: 2.9052 | Z6: 3.00435 | AA6: 2.85846 | AB6: 3.02757 | AC6: 2.8939 | AD6: 2.96034 | AE6: 2.85843 | AF6: 2.93289 | AG6: 2.93745 | AH6: 2.93444 | AI6: 2.8275 | AJ6: 2.71944
A7: Wirtschaft und Verwaltung | B7: 39.33122 | C7: 39.33645 | D7: 38.76737 | E7: 36.91539 | F7: 35.43071 | G7: 35.8447 | H7: 37.19825 | I7: 37.19225 | J7: 37.42421 | K7: 37.78765 | L7: 38.54895 | M7: 37.97792 | N7: 38.02871 | O7: 36.30199 | P7: 34.22755 | Q7: 33.56086 | R7: 33.2765 | S7: 32.63113 | T7: 33.80344 | U7: 34.09347 | V7: 33.28454 | W7: 32.8678 | X7: 32.61205 | Y7: 32.28462 | Z7: 31.7115 | AA7: 31.75166 | AB7: 31.20347 | AC7: 30.80899 | AD7: 29.84038 | AE7: 29.72134 | AF7: 29.2817 | AG7: 28.42464 | AH7: 26.68062 | AI7: 26.32888 | AJ7: 26.10224
A8: Informatik | B8: 0 | C8: 0 | D8: 0 | E8: 0.04179 | F8: 0.07148 | G8: 0.47522 | H8: 0.70354 | I8: 1.10968 | J8: 1.35559 | K8: 2.01355 | L8: 2.60808 | M8: 2.98915 | N8: 2.59723 | O8: 2.45995 | P8: 2.26132 | Q8: 2.29923 | R8: 2.18702 | S8: 2.32491 | T8: 2.35694 | U8: 2.53111 | V8: 2.51414 | W8: 2.69892 | X8: 2.79846 | Y8: 2.79399 | Z8: 3.06197 | AA8: 3.20841 | AB8: 3.33146 | AC8: 3.50691 | AD8: 3.68302 | AE8: 3.88025 | AF8: 3.96 | AG8: 4.04427 | AH8: 4.15006 | AI8: 4.33369 | AJ8: 4.26896
A9: Ingenieurwesen und Technik | B9: 22.67954 | C9: 23.44799 | D9: 23.84699 | E9: 24.08723 | F9: 23.85874 | G9: 23.39682 | H9: 23.0616 | I9: 22.58795 | J9: 21.98395 | K9: 21.26906 | L9: 21.07678 | M9: 21.43977 | N9: 21.29194 | O9: 21.16873 | P9: 20.92296 | Q9: 20.85633 | R9: 20.44577 | S9: 20.43262 | T9: 19.85675 | U9: 19.00887 | V9: 19.2517 | W9: 19.25222 | X9: 19.11061 | Y9: 19.50391 | Z9: 19.31877 | AA9: 19.02618 | AB9: 18.61725 | AC9: 18.43779 | AD9: 18.43828 | AE9: 18.79685 | AF9: 18.54519 | AG9: 18.63031 | AH9: 18.58476 | AI9: 18.73894 | AJ9: 18.68446
A10: Verarbeitendes Gewerbe | B10: 5.42897 | C10: 5.47138 | D10: 5.66055 | E10: 6.47202 | F10: 6.54715 | G10: 6.41459 | H10: 6.62244 | I10: 6.91501 | J10: 6.5678 | K10: 6.13256 | L10: 5.63714 | M10: 5.24274 | N10: 4.89234 | O10: 5.33383 | P10: 5.75863 | Q10: 5.73174 | R10: 5.80312 | S10: 5.57337 | T10: 5.4242 | U10: 5.17482 | V10: 5.17007 | W10: 5.07894 | X10: 5.09229 | Y10: 4.73388 | Z10: 4.67239 | AA10: 4.78955 | AB10: 4.67079 | AC10: 4.54056 | AD10: 4.49686 | AE10: 4.35777 | AF10: 4.33609 | AG10: 4.35978 | AH10: 4.11685 | AI10: 4.00376 | AJ10: 3.90336
A11: Architektur und Baugewerbe | B11: 10.80196 | C11: 10.64445 | D11: 9.99962 | E11: 10.43273 | F11: 11.49856 | G11: 11.91067 | H11: 10.93142 | I11: 10.36716 | J11: 10.29523 | K11: 9.92647 | L11: 9.73837 | M11: 9.58016 | N11: 9.83308 | O11: 10.28234 | P11: 11.50903 | Q11: 11.90764 | R11: 11.62484 | S11: 12.36796 | T11: 11.78321 | U11: 11.28943 | V11: 11.77332 | W11: 11.58746 | X11: 11.39266 | Y11: 11.16208 | Z11: 10.84773 | AA11: 10.76417 | AB11: 10.38026 | AC11: 10.14249 | AD11: 10.42416 | AE11: 10.19318 | AF11: 10.08382 | AG11: 10.27519 | AH11: 10.22154 | AI11: 9.99187 | AJ11: 10.08899
A12: Land- und Forstwirtschaft | B12: 3.82064 | C12: 3.68518 | D12: 3.62562 | E12: 3.60929 | F12: 3.74206 | G12: 3.77174 | H12: 3.66573 | I12: 3.92314 | J12: 3.92035 | K12: 3.69009 | L12: 3.41714 | M12: 3.23003 | N12: 3.44851 | O12: 3.58225 | P12: 3.75076 | Q12: 3.68725 | R12: 3.55875 | S12: 3.77511 | T12: 3.74658 | U12: 3.91077 | V12: 3.73538 | W12: 3.69178 | X12: 3.6013 | Y12: 3.5091 | Z12: 3.54634 | AA12: 3.45497 | AB12: 3.50189 | AC12: 3.37485 | AD12: 3.40455 | AE12: 3.29087 | AF12: 3.43211 | AG12: 3.54654 | AH12: 3.58875 | AI12: 3.41722 | AJ12: 3.51909
A13: Gesundheitswesen | B13: 5.62408 | C13: 5.54414 | D13: 5.76597 | E13: 5.79005 | F13: 5.96179 | G13: 5.68579 | H13: 5.6521 | I13: 5.40213 | J13: 5.23805 | K13: 5.32748 | L13: 4.82807 | M13: 5.09401 | N13: 5.44984 | O13: 6.02201 | P13: 6.59304 | Q13: 6.24449 | R13: 6.44326 | S13: 6.02674 | T13: 6.24825 | U13: 6.77816 | V13: 7.23292 | W13: 7.42597 | X13: 7.72407 | Y13: 8.02366 | Z13: 8.44923 | AA13: 8.58334 | AB13: 9.09398 | AC13: 9.64686 | AD13: 9.86392 | AE13: 9.95442 | AF13: 10.28115 | AG13: 10.36292 | AH13: 11.97688 | AI13: 12.0591 | AJ13: 12.10679
A14: Sozialwesen | B14: 0.2477 | C14: 0.18917 | D14: 0.23154 | E14: 0.21086 | F14: 0.14875 | G14: 0.14088 | H14: 0.14985 | I14: 0.15878 | J14: 0.17741 | K14: 0.19233 | L14: 0.18253 | M14: 0.26351 | N14: 0.50576 | O14: 0.57545 | P14: 0.63528 | Q14: 0.81485 | R14: 1.41513 | S14: 1.31434 | T14: 1.52108 | U14: 1.96364 | V14: 2.38302 | W14: 2.7382 | X14: 3.31381 | Y14: 3.72842 | Z14: 3.96374 | AA14: 4.16123 | AB14: 4.65632 | AC14: 5.13402 | AD14: 5.47811 | AE14: 5.51483 | AF14: 5.83205 | AG14: 6.2849 | AH14: 6.53647 | AI14: 7.04165 | AJ14: 7.40533
A15: Persönliche Dienstleistungen | B15: 6.01089 | C15: 5.90065 | D15: 6.47378 | E15: 7.50731 | F15: 8.31675 | G15: 7.98302 | H15: 7.87055 | I15: 8.3815 | J15: 8.86558 | K15: 9.03799 | L15: 9.26313 | M15: 8.95776 | N15: 8.61793 | O15: 9.04395 | P15: 9.20327 | Q15: 9.24916 | R15: 9.49207 | S15: 9.37748 | T15: 9.22395 | U15: 9.39484 | V15: 8.76824 | W15: 8.76129 | X15: 8.57431 | Y15: 8.32793 | Z15: 8.15955 | AA15: 8.06477 | AB15: 7.8897 | AC15: 7.80292 | AD15: 7.74892 | AE15: 7.51507 | AF15: 7.40897 | AG15: 7.03741 | AH15: 6.99648 | AI15: 6.91095 | AJ15: 6.91061
A16: Übrige Bildungsfelder | B16: 2.05622 | C16: 1.73527 | D16: 1.90693 | E16: 1.47031 | F16: 1.09345 | G16: 1.07818 | H16: 0.90273 | I16: 0.81888 | J16: 1.0576 | K16: 1.16251 | L16: 1.01133 | M16: 1.62956 | N16: 1.87281 | O16: 1.86936 | P16: 2.00787 | Q16: 2.51804 | R16: 2.64581 | S16: 2.9691 | T16: 2.87381 | U16: 2.93645 | V16: 2.75351 | W16: 2.85131 | X16: 2.83058 | Y16: 3.02721 | Z16: 3.26444 | AA16: 3.33726 | AB16: 3.6273 | AC16: 3.71071 | AD16: 3.66147 | AE16: 3.91699 | AF16: 3.90603 | AG16: 4.09658 | AH16: 4.21317 | AI16: 4.34644 | AJ16: 4.29074
... A25: Gesundheitswesen | B25: 0.52433 | C25: 0.64274 | D25: 0.67844 | E25: 0.68873 | F25: 0.75674 | G25: 0.80337 | H25: 0.7272 | I25: 0.74201 | J25: 0.70693 | K25: 0.71405 | L25: 0.57206 | M25: 0.48895 | N25: 0.54478 | O25: 0.80648 | P25: 0.84763 | Q25: 0.93553 | R25: 0.84412 | S25: 0.89615 | T25: 0.86615 | U25: 0.88996 | V25: 0.89781 | W25: 0.9534 | X25: 1.08213 | Y25: 1.07037 | Z25: 1.38232 | AA25: 1.27862 | AB25: 1.38908 | AC25: 1.72443 | AD25: 1.81247 | AE25: 1.75692 | AF25: 1.90162 | AG25: 2.08327 | AH25: 2.33223 | AI25: 2.57075 | AJ25: 2.45802
A26: Sozialwesen | B26: - | C26: X | D26: X | E26: - | F26: - | G26: X | H26: X | I26: - | J26: X | K26: X | L26: X | M26: 0.01447 | N26: 0.02694 | O26: 0.04447 | P26: 0.06896 | Q26: 0.09299 | R26: 0.18728 | S26: 0.17499 | T26: 0.22369 | U26: 0.35652 | V26: 0.39128 | W26: 0.45609 | X26: 0.60329 | Y26: 0.63075 | Z26: 0.76124 | AA26: 0.9722 | AB26: 1.21756 | AC26: 1.29969 | AD26: 1.59348 | AE26: 1.66156 | AF26: 1.60431 | AG26: 1.69357 | AH26: 2.05802 | AI26: 2.16804 | AJ26: 2.35021
A27: Persönliche Dienstleistungen | B27: 2.93748 | C27: 2.98763 | D27: 3.4188 | E27: 3.92845 | F27: 4.59066 | G27: 4.58509 | H27: 4.46847 | I27: 4.93015 | J27: 5.19018 | K27: 5.70046 | L27: 5.43167 | M27: 5.16433 | N27: 5.07364 | O27: 5.31029 | P27: 5.57998 | Q27: 5.84141 | R27: 6.05814 | S27: 5.96283 | T27: 5.83676 | U27: 6.02064 | V27: 5.97379 | W27: 5.7836 | X27: 5.88681 | Y27: 5.74775 | Z27: 5.75739 | AA27: 5.78862 | AB27: 5.87127 | AC27: 5.95764 | AD27: 6.03101 | AE27: 6.03075 | AF27: 6.04633 | AG27: 5.79566 | AH27: 5.88252 | AI27: 6.01037 | AJ27: 6.05342
A28: Übrige Bildungsfelder | B28: 2.28437 | C28: 1.75059 | D28: 1.95883 | E28: 1.49783 | F28: 1.18868 | G28: 1.1724 | H28: 0.94728 | I28: 0.83204 | J28: 1.19936 | K28: 1.20104 | L28: 1.03321 | M28: 2.0802 | N28: 2.40362 | O28: 2.24153 | P28: 2.47105 | Q28: 2.9362 | R28: 3.25435 | S28: 3.53156 | T28: 3.75852 | U28: 3.91368 | V28: 3.7708 | W28: 3.9345 | X28: 4.00931 | Y28: 4.22958 | Z28: 4.64988 | AA28: 4.64371 | AB28: 5.02207 | AC28: 5.18179 | AD28: 5.04841 | AE28: 5.43836 | AF28: 5.47526 | AG28: 5.66674 | AH28: 5.87098 | AI28: 5.92211 | AJ28: 5.8971
A29: Frauen | B29: 100 | C29: 100 | D29: 100 | E29: 100 | F29: 100 | G29: 100 | H29: 100 | I29: 100 | J29: 100 | K29: 100 | L29: 100 | M29: 100 | N29: 100 | O29: 100 | P29: 100 | Q29: 100 | R29: 100 | S29: 100 | T29: 100 | U29: 100 | V29: 100 | W29: 100 | X29: 100 | Y29: 100 | Z29: 100 | AA29: 100 | AB29: 100 | AC29: 100 | AD29: 100 | AE29: 100 | AF29: 100 | AG29: 100 | AH29: 100 | AI29: 100 | AJ29: 100
A30: Künste | B30: 5.59438 | C30: 5.66706 | D30: 5.38325 | E30: 5.08094 | F30: 4.87259 | G30: 5.00066 | H30: 4.74968 | I30: 4.60532 | J30: 4.35985 | K30: 4.63194 | L30: 4.86271 | M30: 4.79977 | N30: 4.62229 | O30: 4.59444 | P30: 4.42638 | Q30: 4.43107 | R30: 4.30368 | S30: 4.71016 | T30: 4.52356 | U30: 4.04695 | V30: 4.41717 | W30: 4.14175 | X30: 4.23863 | Y30: 4.17807 | Z30: 4.23092 | AA30: 3.8935 | AB30: 4.06654 | AC30: 3.74327 | AD30: 3.85921 | AE30: 3.84783 | AF30: 4.04786 | AG30: 4.17263 | AH30: 4.27437 | AI30: 4.06615 | AJ30: 4.05152
A31: Wirtschaft und Verwaltung | B31: 60.35321 | C31: 60.72618 | D31: 59.29814 | E31: 57.33327 | F31: 55.72198 | G31: 56.88641 | H31: 58.01455 | I31: 58.05721 | J31: 58.00441 | K31: 58.00008 | L31: 58.32611 | M31: 57.88664 | N31: 57.55792 | O31: 54.90372 | P31: 52.30757 | Q31: 51.46408 | R31: 50.03252 | S31: 49.90105 | T31: 50.77727 | U31: 49.74408 | V31: 49.04159 | W31: 48.10888 | X31: 47.38823 | Y31: 46.62376 | Z31: 45.33233 | AA31: 44.64551 | AB31: 42.78312 | AC31: 41.39508 | AD31: 40.3988 | AE31: 40.2697 | AF31: 38.99771 | AG31: 37.72076 | AH31: 33.36592 | AI31: 32.27621 | AJ31: 32.0184
A32: Informatik | B32: 0 | C32: 0 | D32: 0 | E32: - | F32: 0.02283 | G32: 0.2476 | H32: 0.04707 | I32: 0.11325 | J32: 0.14827 | K32: 0.4628 | L32: 0.64786 | M32: 0.82072 | N32: 0.85654 | O32: 0.49018 | P32: 0.43147 | Q32: 0.4466 | R32: 0.43362 | S32: 0.52535 | T32: 0.46807 | U32: 0.53914 | V32: 0.44914 | W32: 0.48791 | X32: 0.46783 | Y32: 0.39114 | Z32: 0.44214 | AA32: 0.47093 | AB32: 0.56699 | AC32: 0.56111 | AD32: 0.70629 | AE32: 0.67624 | AF32: 0.74639 | AG32: 0.70406 | AH32: 0.73912 | AI32: 0.87213 | AJ32: 0.97884
