Workbook

Sheet Index
A1: Statut sur le marché du travail
A2: Cliquez sur le titre correspondant pour atteindre le tableau désiré
A3: Données des graphiques
A4: T1 | B4: ='T1'!A2 -> Personnes en emploi, de 1996 à 2025
B5: ='T1'!A15 -> Personnes au chômage au sens du BIT, de 1996 à 2025
A6: T2 | B6: ='T2'!A2 -> Personnes en emploi selon le sexe, en 2025
B7: ='T2'!A15 -> Personnes au chômage au sens du BIT selon le sexe, en 2025
A8: T3 | B8: ='T3'!A2 -> Personnes en emploi selon la nationalité et la durée de résidence, en 2025
B9: ='T3'!A16 -> Personnes au chômage au sens du BIT selon la nationalité et la durée de résidence, en 2025
A10: Données détaillées
A11: TD1 | B11: ='TD1'!A2 -> Personnes en emploi selon le sexe, de 2003 à 2025
B12: ='TD1'!A23 -> Personnes au chômage au sens du BIT selon le sexe, de 2003 à 2025
A13: TD2 | B13: ='TD2'!A2 -> Personnes en emploi selon la nationalité et la durée de résidence, de 2006 à 2025
B14: ='TD2'!A65 -> Personnes au chômage au sens du BIT selon la nationalité et la durée de résidence, de 2006 à 2025
A15: État au 30.04.2026
A16: Source: OFS – Enquête suisse sur la population active (ESPA)
A17: =CONCATENATE("© OFS ",RIGHT(A15,4)) -> © OFS 2026
A18: Contact: Office fédéral de la statistique (OFS), Indicateurs de la formation, EducIndicators@bfs.admin.ch

Sheet T1
A1: Retour
A2: =CONCATENATE("Personnes en emploi, de 1996 à ",RIGHT(Index!A17,4)-1) -> Personnes en emploi, de 1996 à 2025 | BI2: T1
A3: En % des 25–64 ans de la population résidante permanente
B4: 1996 | D4: 1997 | F4: 1998 | H4: 1999 | J4: 2000 | L4: 2001 1 | N4: 2002 1 | P4: 2003 1 | R4: 2004 | T4: 2005 | V4: 2006 | X4: 2007 | Z4: 2008 | AB4: 2009 | AD4: 2010 1 | AF4: 2011 | AH4: 2012 | AJ4: 2013 | AL4: 2014 | AN4: 2015 | AP4: 2016 | AR4: 2017 | AT4: 2018 | AV4: 2019 | AX4: 2020 | AZ4: 2021 2 | BB4: 2022 | BD4: 2023 | BF4: 2024 | BH4: 2025
B5: % | C5: ± | D5: % | E5: ± | F5: % | G5: ± | H5: % | I5: ± | J5: % | K5: ± | L5: % | M5: ± | N5: % | O5: ± | P5: % | Q5: ± | R5: % | S5: ± | T5: % | U5: ± | V5: % | W5: ± | X5: % | Y5: ± | Z5: % | AA5: ± | AB5: % | AC5: ± | AD5: % | AE5: ± | AF5: % | AG5: ± | AH5: % | AI5: ± | AJ5: % | AK5: ± | AL5: % | AM5: ± | AN5: % | AO5: ± | AP5: % | AQ5: ± | AR5: % | AS5: ± | AT5: % | AU5: ± | AV5: % | AW5: ± | AX5: % | AY5: ± | AZ5: % | BA5: ± | BB5: % | BC5: ± | BD5: % | BE5: ± | BF5: % | BG5: ± | BH5: % | BI5: ±
A6: Total | B6: 79.92 | C6: 0.89 | D6: 79.82 | E6: 0.9 | F6: 81.1 | G6: 0.84 | H6: 81.26 | I6: 0.83 | J6: 81.1 | K6: 0.84 | L6: 82.3 | M6: 0.8 | N6: 81.68 | O6: 0.58 | P6: 80.9 | Q6: 0.4 | R6: 80.6 | S6: 0.5 | T6: 80.8 | U6: 0.5 | V6: 81 | W6: 0.5 | X6: 82 | Y6: 0.5 | Z6: 83.1 | AA6: 0.5 | AB6: 82.7 | AC6: 0.5 | AD6: 80.4 | AE6: 0.3 | AF6: 81.5 | AG6: 0.3 | AH6: 82 | AI6: 0.3 | AJ6: 81.8 | AK6: 0.3 | AL6: 82.2 | AM6: 0.3 | AN6: 82.7 | AO6: 0.3 | AP6: 83 | AQ6: 0.3 | AR6: 83 | AS6: 0.3 | AT6: 83.4 | AU6: 0.3 | AV6: 84.1 | AW6: 0.3 | AX6: 83.7 | AY6: 0.3 | BB6: 83.4 | BC6: 0.3 | BD6: 84.1 | BE6: 0.3 | BF6: 84 | BG6: 0.3 | BH6: 83.6 | BI6: 0.3
A7: École obligatoire | B7: 66.78 | C7: 2.7 | D7: 68.08 | E7: 2.63 | F7: 68.96 | G7: 2.52 | H7: 68.39 | I7: 2.53 | J7: 64.72 | K7: 2.76 | L7: 69.96 | M7: 2.52 | N7: 68.46 | O7: 1.89 | P7: 66.4 | Q7: 1.2 | R7: 65.5 | S7: 1.3 | T7: 65.5 | U7: 1.4 | V7: 64.6 | W7: 1.4 | X7: 66.3 | Y7: 1.5 | Z7: 67.9 | AA7: 1.5 | AB7: 67.8 | AC7: 1.5 | AD7: 66.5 | AE7: 1 | AF7: 66.9 | AG7: 1 | AH7: 67.2 | AI7: 0.9 | AJ7: 67.4 | AK7: 1 | AL7: 67.8 | AM7: 1.1 | AN7: 67.8 | AO7: 1.2 | AP7: 67.9 | AQ7: 1.2 | AR7: 67.5 | AS7: 1.2 | AT7: 69 | AU7: 1.2 | AV7: 69.4 | AW7: 1.3 | AX7: 70 | AY7: 1.3 | BB7: 66.6 | BC7: 1 | BD7: 67.6 | BE7: 1 | BF7: 68.2 | BG7: 1 | BH7: 68.1 | BI7: 1
A8: Degré secondaire II | B8: 80.05 | C8: 1.05 | D8: 79.8 | E8: 1.1 | F8: 80.96 | G8: 1.05 | H8: 80.99 | I8: 1.03 | J8: 81.6 | K8: 1.02 | L8: 81.47 | M8: 1.05 | N8: 81.21 | O8: 0.73 | P8: 80.7 | Q8: 0.6 | R8: 80.2 | S8: 0.6 | T8: 80.2 | U8: 0.7 | V8: 80.4 | W8: 0.7 | X8: 81.4 | Y8: 0.7 | Z8: 82.3 | AA8: 0.7 | AB8: 81.8 | AC8: 0.7 | AD8: 80 | AE8: 0.4 | AF8: 81.7 | AG8: 0.4 | AH8: 81.6 | AI8: 0.4 | AJ8: 80.9 | AK8: 0.4 | AL8: 81.4 | AM8: 0.5 | AN8: 82.2 | AO8: 0.5 | AP8: 82.2 | AQ8: 0.5 | AR8: 82.2 | AS8: 0.5 | AT8: 82 | AU8: 0.5 | AV8: 82.5 | AW8: 0.5 | AX8: 81.8 | AY8: 0.5 | BB8: 83 | BC8: 0.5 | BD8: 83.8 | BE8: 0.5 | BF8: 83.7 | BG8: 0.5 | BH8: 83.1 | BI8: 0.5
A9: Formation professionnelle initiale | B9: 80.43 | C9: 1.1 | D9: 80.55 | E9: 1.1 | F9: 81.45 | G9: 1.1 | H9: 81.6 | I9: 1.06 | J9: 82.14 | K9: 1.08 | L9: 81.99 | M9: 1.08 | N9: 81.74 | O9: 0.77 | P9: 81.4 | Q9: 0.6 | R9: 80.9 | S9: 0.7 | T9: 80.7 | U9: 0.7 | V9: 81 | W9: 0.8 | X9: 82 | Y9: 0.7 | Z9: 83.2 | AA9: 0.7 | AB9: 82.5 | AC9: 0.8 | AD9: 80.8 | AE9: 0.5 | AF9: 82.4 | AG9: 0.4 | AH9: 82.4 | AI9: 0.4 | AJ9: 82 | AK9: 0.5 | AL9: 82.3 | AM9: 0.5 | AN9: 83.1 | AO9: 0.5 | AP9: 82.9 | AQ9: 0.5 | AR9: 82.7 | AS9: 0.5 | AT9: 83 | AU9: 0.5 | AV9: 83.6 | AW9: 0.5 | AX9: 82.8 | AY9: 0.6 | BB9: 83.8 | BC9: 0.5 | BD9: 84.3 | BE9: 0.5 | BF9: 84.6 | BG9: 0.5 | BH9: 84.1 | BI9: 0.5
A10: Formation générale | B10: 77.2 | C10: 3.37 | D10: 74.67 | E10: 3.99 | F10: 77.72 | G10: 3.36 | H10: 76.97 | I10: 3.59 | J10: 78.14 | K10: 3.06 | L10: 78.42 | M10: 3.3 | N10: 78.01 | O10: 2.2 | P10: 77.1 | Q10: 1.7 | R10: 76 | S10: 1.8 | T10: 77.3 | U10: 1.7 | V10: 77.3 | W10: 2 | X10: 77.6 | Y10: 2 | Z10: 77.4 | AA10: 2.1 | AB10: 78 | AC10: 2.1 | AD10: 75.7 | AE10: 1.3 | AF10: 77.7 | AG10: 1.2 | AH10: 77.1 | AI10: 1.2 | AJ10: 75.6 | AK10: 1.3 | AL10: 77 | AM10: 1.3 | AN10: 78.2 | AO10: 1.2 | AP10: 79 | AQ10: 1.3 | AR10: 80.2 | AS10: 1.2 | AT10: 77.9 | AU10: 1.3 | AV10: 77.7 | AW10: 1.3 | AX10: 77.5 | AY10: 1.3 | BB10: 79.2 | BC10: 1.2 | BD10: 80.9 | BE10: 1.2 | BF10: 80.1 | BG10: 1.1 | BH10: 79.4 | BI10: 1.1
A11: Degré tertiaire | B11: 89.99 | C11: 1.84 | D11: 89.11 | E11: 1.78 | F11: 90.32 | G11: 1.54 | H11: 90.94 | I11: 1.46 | J11: 90.92 | K11: 1.37 | L11: 91.58 | M11: 1.22 | N11: 90.67 | O11: 0.96 | P11: 89.7 | Q11: 0.7 | R11: 89.8 | S11: 0.7 | T11: 90.1 | U11: 0.7 | V11: 90.2 | W11: 0.7 | X11: 90.1 | Y11: 0.7 | Z11: 90.5 | AA11: 0.6 | AB11: 89.7 | AC11: 0.7 | AD11: 87.4 | AE11: 0.5 | AF11: 87.9 | AG11: 0.5 | AH11: 88.6 | AI11: 0.4 | AJ11: 88.2 | AK11: 0.5 | AL11: 88.1 | AM11: 0.5 | AN11: 88.3 | AO11: 0.5 | AP11: 88.6 | AQ11: 0.5 | AR11: 88.3 | AS11: 0.5 | AT11: 88.8 | AU11: 0.4 | AV11: 89.5 | AW11: 0.4 | AX11: 89.1 | AY11: 0.4 | BB11: 89.3 | BC11: 0.4 | BD11: 89.6 | BE11: 0.3 | BF11: 89.2 | BG11: 0.3 | BH11: 88.9 | BI11: 0.3
A12: Formation professionnelle supérieure | B12: 92.75 | C12: 1.58 | D12: 91.84 | E12: 1.82 | F12: 92.2 | G12: 1.77 | H12: 92.93 | I12: 1.48 | J12: 92.48 | K12: 1.32 | L12: 92.58 | M12: 1.38 | N12: 91.72 | O12: 1.19 | P12: 91.2 | Q12: 0.8 | R12: 91.7 | S12: 0.8 | T12: 91.7 | U12: 0.9 | V12: 92 | W12: 0.9 | X12: 92.2 | Y12: 0.9 | Z12: 92.6 | AA12: 0.8 | AB12: 91.3 | AC12: 0.9 | AD12: 90.6 | AE12: 0.6 | AF12: 91.4 | AG12: 0.6 | AH12: 91.5 | AI12: 0.6 | AJ12: 91.1 | AK12: 0.6 | AL12: 91.3 | AM12: 0.6 | AN12: 91.5 | AO12: 0.6 | AP12: 91.7 | AQ12: 0.7 | AR12: 91.3 | AS12: 0.6 | AT12: 92.1 | AU12: 0.6 | AV12: 92.7 | AW12: 0.6 | AX12: 91.6 | AY12: 0.6 | BB12: 90.9 | BC12: 0.6 | BD12: 91 | BE12: 0.6 | BF12: 91 | BG12: 0.6 | BH12: 90.8 | BI12: 0.6
A13: Hautes écoles | B13: 86.4 | C13: 3.63 | D13: 85.51 | E13: 3.3 | F13: 87.78 | G13: 2.7 | H13: 88.3 | I13: 2.74 | J13: 88.9 | K13: 2.61 | L13: 90.23 | M13: 2.17 | N13: 89.26 | O13: 1.58 | P13: 87.8 | Q13: 1 | R13: 87.3 | S13: 1.1 | T13: 88.1 | U13: 1 | V13: 88.1 | W13: 1 | X13: 88 | Y13: 1 | Z13: 88.8 | AA13: 0.9 | AB13: 88.6 | AC13: 0.9 | AD13: 85.3 | AE13: 0.7 | AF13: 85.9 | AG13: 0.7 | AH13: 87 | AI13: 0.6 | AJ13: 86.6 | AK13: 0.6 | AL13: 86.3 | AM13: 0.6 | AN13: 86.5 | AO13: 0.6 | AP13: 87 | AQ13: 0.6 | AR13: 86.8 | AS13: 0.6 | AT13: 87 | AU13: 0.6 | AV13: 87.9 | AW13: 0.5 | AX13: 87.8 | AY13: 0.5 | BB13: 88.5 | BC13: 0.4 | BD13: 88.9 | BE13: 0.4 | BF13: 88.3 | BG13: 0.4 | BH13: 87.9 | BI13: 0.4
A15: =CONCATENATE("Personnes au chômage au sens du BIT, de 1996 à ",RIGHT(Index!A17,4)-1) -> Personnes au chômage au sens du BIT, de 1996 à 2025
A16: En % des 25–64 ans de la population active
B17: 1996 | D17: 1997 | F17: 1998 | H17: 1999 | J17: 2000 | L17: 2001 1 | N17: 2002 1 | P17: 2003 1 | R17: 2004 | T17: 2005 | V17: 2006 | X17: 2007 | Z17: 2008 | AB17: 2009 | AD17: 2010 1 | AF17: 2011 | AH17: 2012 | AJ17: 2013 | AL17: 2014 | AN17: 2015 | AP17: 2016 | AR17: 2017 | AT17: 2018 | AV17: 2019 | AX17: 2020 | AZ17: 2021 2 | BB17: 2022 | BD17: 2023 | BF17: 2024 | BH17: 2025
B18: % | C18: ± | D18: % | E18: ± | F18: % | G18: ± | H18: % | I18: ± | J18: % | K18: ± | L18: % | M18: ± | N18: % | O18: ± | P18: % | Q18: ± | R18: % | S18: ± | T18: % | U18: ± | V18: % | W18: ± | X18: % | Y18: ± | Z18: % | AA18: ± | AB18: % | AC18: ± | AD18: % | AE18: ± | AF18: % | AG18: ± | AH18: % | AI18: ± | AJ18: % | AK18: ± | AL18: % | AM18: ± | AN18: % | AO18: ± | AP18: % | AQ18: ± | AR18: % | AS18: ± | AT18: % | AU18: ± | AV18: % | AW18: ± | AX18: % | AY18: ± | AZ18: % | BA18: ± | BB18: % | BC18: ± | BD18: % | BE18: ± | BF18: % | BG18: ± | BH18: % | BI18: ±
A19: Total | B19: 3.59 | C19: 0.57 | D19: 3.9 | E19: 0.56 | F19: 3.31 | G19: 0.51 | H19: 2.63 | I19: 0.4 | J19: 2.35 | K19: 0.41 | L19: 2 | M19: 0.35 | N19: 2.55 | O19: 0.31 | P19: 3.5 | Q19: 0.2 | R19: 3.9 | S19: 0.2 | T19: 3.8 | U19: 0.3 | V19: 3.4 | W19: 0.2 | X19: 3.1 | Y19: 0.2 | Z19: 2.8 | AA19: 0.2 | AB19: 3.5 | AC19: 0.3 | AD19: 4.4 | AE19: 0.2 | AF19: 4 | AG19: 0.2 | AH19: 4 | AI19: 0.2 | AJ19: 4.2 | AK19: 0.2 | AL19: 4.4 | AM19: 0.2 | AN19: 4.3 | AO19: 0.2 | AP19: 4.5 | AQ19: 0.2 | AR19: 4.5 | AS19: 0.2 | AT19: 4.4 | AU19: 0.2 | AV19: 4 | AW19: 0.2 | AX19: 4.5 | AY19: 0.2 | BB19: 3.9 | BC19: 0.2 | BD19: 3.6 | BE19: 0.2 | BF19: 3.9 | BG19: 0.2 | BH19: 4.5 | BI19: 0.2
A20: École obligatoire | B20: 7.4 | C20: 2.3 | D20: 6.01 | E20: 1.75 | F20: 5.67 | G20: 1.65 | H20: 4.68 | I20: 1.45 | J20: 4.81 | K20: 1.79 | L20: 3.35 | M20: 1.24 | N20: 4.26 | O20: 1.22 | P20: 5.9 | Q20: 0.7 | R20: 7.1 | S20: 0.8 | T20: 7.2 | U20: 0.8 | V20: 7.5 | W20: 0.9 | X20: 6.6 | Y20: 0.9 | Z20: 5.9 | AA20: 0.9 | AB20: 7.5 | AC20: 1 | AD20: 8.1 | AE20: 0.7 | AF20: 8.3 | AG20: 0.7 | AH20: 8.2 | AI20: 0.7 | AJ20: 8.8 | AK20: 0.8 | AL20: 9.2 | AM20: 0.9 | AN20: 9.3 | AO20: 0.9 | AP20: 9.8 | AQ20: 1 | AR20: 8.5 | AS20: 0.9 | AT20: 8.4 | AU20: 0.9 | AV20: 8 | AW20: 0.9 | AX20: 8.6 | AY20: 0.9 | BB20: 8.6 | BC20: 0.8 | BD20: 7.6 | BE20: 0.7 | BF20: 8 | BG20: 0.7 | BH20: 8.1 | BI20: 0.7
A21: Degré secondaire II | B21: 3 | C21: 0.57 | D21: 3.13 | E21: 0.55 | F21: 2.91 | G21: 0.61 | H21: 2.47 | I21: 0.47 | J21: 2.17 | K21: 0.47 | L21: 2.05 | M21: 0.47 | N21: 2.37 | O21: 0.36 | P21: 3.2 | Q21: 0.3 | R21: 3.7 | S21: 0.3 | T21: 3.7 | U21: 0.3 | V21: 3.3 | W21: 0.3 | X21: 3 | Y21: 0.3 | Z21: 2.8 | AA21: 0.3 | AB21: 3.2 | AC21: 0.4 | AD21: 4.3 | AE21: 0.3 | AF21: 3.6 | AG21: 0.2 | AH21: 3.7 | AI21: 0.2 | AJ21: 3.8 | AK21: 0.3 | AL21: 4.1 | AM21: 0.3 | AN21: 3.9 | AO21: 0.3 | AP21: 4.4 | AQ21: 0.3 | AR21: 4.2 | AS21: 0.3 | AT21: 4.4 | AU21: 0.3 | AV21: 4 | AW21: 0.3 | AX21: 4.6 | AY21: 0.3 | BB21: 3.5 | BC21: 0.3 | BD21: 3.1 | BE21: 0.3 | BF21: 3.3 | BG21: 0.2 | BH21: 4.1 | BI21: 0.3
A22: Formation professionnelle initiale | B22: 3.07 | C22: 0.62 | D22: 3.28 | E22: 0.58 | F22: 2.93 | G22: 0.65 | H22: 2.43 | I22: 0.46 | J22: 2.08 | K22: 0.5 | L22: 1.86 | M22: 0.48 | N22: 2.36 | O22: 0.39 | P22: 3 | Q22: 0.3 | R22: 3.5 | S22: 0.3 | T22: 3.5 | U22: 0.4 | V22: 3.1 | W22: 0.4 | X22: 2.8 | Y22: 0.3 | Z22: 2.6 | AA22: 0.3 | AB22: 3.1 | AC22: 0.4 | AD22: 4.1 | AE22: 0.3 | AF22: 3.4 | AG22: 0.3 | AH22: 3.5 | AI22: 0.2 | AJ22: 3.6 | AK22: 0.3 | AL22: 3.7 | AM22: 0.3 | AN22: 3.7 | AO22: 0.3 | AP22: 4.2 | AQ22: 0.3 | AR22: 4.2 | AS22: 0.3 | AT22: 4 | AU22: 0.3 | AV22: 3.4 | AW22: 0.3 | AX22: 4.2 | AY22: 0.3 | BB22: 3.2 | BC22: 0.3 | BD22: 2.9 | BE22: 0.3 | BF22: 2.9 | BG22: 0.3 | BH22: 3.6 | BI22: 0.3
A23: Formation générale | B23: 2.48 | C23: 1.37 | D23: 1.96 | E23: 1.66 | F23: 2.76 | G23: 1.77 | H23: 2.74 | I23: 1.95 | J23: 2.76 | K23: 1.4 | L23: 3.15 | M23: 1.55 | N23: 2.44 | O23: 0.87 | P23: 4.3 | Q23: 0.9 | R23: 5.1 | S23: 1 | T23: 4.8 | U23: 1 | V23: 4.3 | W23: 0.9 | X23: 4.1 | Y23: 0.9 | Z23: 4.4 | AA23: 1 | AB23: 4 | AC23: 1.1 | AD23: 5.3 | AE23: 0.7 | AF23: 4.8 | AG23: 0.7 | AH23: 4.9 | AI23: 0.6 | AJ23: 5.4 | AK23: 0.8 | AL23: 5.7 | AM23: 0.9 | AN23: 4.9 | AO23: 0.7 | AP23: 5.3 | AQ23: 0.8 | AR23: 4.4 | AS23: 0.7 | AT23: 6.3 | AU23: 1 | AV23: 6.4 | AW23: 0.9 | AX23: 6.3 | AY23: 0.8 | BB23: 5.2 | BC23: 0.8 | BD23: 4.2 | BE23: 0.7 | BF23: 4.9 | BG23: 0.7 | BH23: 6.2 | BI23: 0.7
A24: Degré tertiaire | B24: 2.74 | C24: 1.17 | D24: 4.41 | E24: 1.45 | F24: 2.83 | G24: 1.07 | H24: 1.73 | I24: 0.75 | J24: 1.34 | K24: 0.62 | L24: 1.27 | M24: 0.52 | N24: 2.16 | O24: 0.56 | P24: 2.9 | Q24: 0.4 | R24: 2.8 | S24: 0.4 | T24: 2.7 | U24: 0.4 | V24: 2.2 | W24: 0.3 | X24: 2.1 | Y24: 0.4 | Z24: 1.8 | AA24: 0.3 | AB24: 2.7 | AC24: 0.4 | AD24: 3.1 | AE24: 0.3 | AF24: 2.9 | AG24: 0.3 | AH24: 3 | AI24: 0.3 | AJ24: 3.4 | AK24: 0.3 | AL24: 3.4 | AM24: 0.3 | AN24: 3.4 | AO24: 0.3 | AP24: 3.3 | AQ24: 0.3 | AR24: 3.8 | AS24: 0.3 | AT24: 3.5 | AU24: 0.3 | AV24: 3.3 | AW24: 0.3 | AX24: 3.5 | AY24: 0.2 | BB24: 3 | BC24: 0.2 | BD24: 3.1 | BE24: 0.2 | BF24: 3.5 | BG24: 0.2 | BH24: 3.9 | BI24: 0.2
A25: Formation professionnelle supérieure | B25: 1.39 | C25: 0.66 | D25: 2.58 | E25: 1.12 | F25: 2.15 | G25: 1.2 | H25: 1.16 | I25: 0.87 | J25: 0.95 | K25: 0.47 | L25: 0.78 | M25: 0.46 | N25: 1.5 | O25: 0.68 | P25: 2.3 | Q25: 0.5 | R25: 2.3 | S25: 0.5 | T25: 2.2 | U25: 0.5 | V25: 1.6 | W25: 0.4 | X25: 1.4 | Y25: 0.4 | Z25: 0.8 | AA25: 0.3 | AB25: 2 | AC25: 0.5 | AD25: 2.3 | AE25: 0.3 | AF25: 2 | AG25: 0.3 | AH25: 2.1 | AI25: 0.3 | AJ25: 1.7 | AK25: 0.3 | AL25: 2 | AM25: 0.3 | AN25: 2.1 | AO25: 0.4 | AP25: 2.1 | AQ25: 0.4 | AR25: 2.5 | AS25: 0.4 | AT25: 2.2 | AU25: 0.3 | AV25: 2 | AW25: 0.3 | AX25: 2.3 | AY25: 0.3 | BB25: 2.2 | BC25: 0.3 | BD25: 2.3 | BE25: 0.3 | BF25: 2.2 | BG25: 0.3 | BH25: 2.7 | BI25: 0.3
A26: Hautes écoles | B26: 4.57 | C26: 2.57 | D26: 6.89 | E26: 3.01 | F26: 3.77 | G26: 1.94 | H26: 2.5 | I26: 1.31 | J26: 1.87 | K26: 1.3 | L26: 1.95 | M26: 1.05 | N26: 3.06 | O26: 0.95 | P26: 3.7 | Q26: 0.6 | R26: 3.3 | S26: 0.6 | T26: 3.4 | U26: 0.6 | V26: 3 | W26: 0.6 | X26: 2.8 | Y26: 0.6 | Z26: 2.6 | AA26: 0.5 | AB26: 3.2 | AC26: 0.6 | AD26: 3.6 | AE26: 0.4 | AF26: 3.5 | AG26: 0.4 | AH26: 3.5 | AI26: 0.4 | AJ26: 4.3 | AK26: 0.5 | AL26: 4.3 | AM26: 0.4 | AN26: 4.1 | AO26: 0.4 | AP26: 4 | AQ26: 0.4 | AR26: 4.5 | AS26: 0.5 | AT26: 4.2 | AU26: 0.4 | AV26: 3.9 | AW26: 0.3 | AX26: 4.1 | AY26: 0.3 | BB26: 3.4 | BC26: 0.3 | BD26: 3.4 | BE26: 0.3 | BF26: 4.1 | BG26: 0.3 | BH26: 4.4 | BI26: 0.3
A27: Remarques:
A28: – Pour afficher la série temporelle complète, veuillez sélectionner toutes les colonnes du tableau, cliquer le bouton droit de la souris et choisir "Afficher".
A29: – Les données en italique ne sont pas représentées dans le graphique.
A30: (chiffre) fiabilité statistique relative
A31: 1 Ruptures de série (voir Méthodologie de l'indicateur)
A32: 2 2021: Rupture de série en raison de l'adaptation de la méthode et des instruments d'enquête. Les résultats ne sont pas publiés car le passage au nouveau mode de collecte de données n'est pas achevé pour tous les trimestres d'enquête.
A33: =Index!$A$16 -> Source: OFS – Enquête suisse sur la population active (ESPA)
A34: =Index!$A$17 -> © OFS 2026
A35: =Index!$A$18 -> Contact: Office fédéral de la statistique (OFS), Indicateurs de la formation, EducIndicators@bfs.admin.ch

Sheet T2
A1: Retour
A2: =CONCATENATE("Personnes en emploi selon le sexe, en ",RIGHT(Index!A17,4)-1) -> Personnes en emploi selon le sexe, en 2025 | G2: T2
A3: En % des 25–64 ans de la population résidante permanente
B4: Femmes | D4: Hommes | F4: Total
B5: % | C5: ± | D5: % | E5: ± | F5: % | G5: ±
A6: Total | B6: 80 | C6: 0.4 | D6: 87.1 | E6: 0.4 | F6: 83.6 | G6: 0.3
A7: École obligatoire | B7: 62.5 | C7: 1.3 | D7: 74 | E7: 1.4 | F7: 68.1 | G7: 1
A8: Degré secondaire II | B8: 80.2 | C8: 0.7 | D8: 86.1 | E8: 0.6 | F8: 83.1 | G8: 0.5
A9: Formation professionnelle initiale | B9: 80.9 | C9: 0.8 | D9: 87.3 | E9: 0.7 | F9: 84.1 | G9: 0.5
A10: Formation générale | B10: 77.7 | C10: 1.4 | D10: 81.4 | E10: 1.7 | F10: 79.4 | G10: 1.1
A11: Degré tertiaire | B11: 85.8 | C11: 0.5 | D11: 91.6 | E11: 0.4 | F11: 88.9 | G11: 0.3
A12: Formation professionnelle supérieure | B12: 86.8 | C12: 1 | D12: 93.8 | E12: 0.6 | F12: 90.8 | G12: 0.6
A13: Hautes écoles | B13: 85.4 | C13: 0.6 | D13: 90.4 | E13: 0.6 | F13: 87.9 | G13: 0.4
A15: =CONCATENATE("Personnes au chômage au sens du BIT selon le sexe, en ",RIGHT(Index!A17,4)-1) -> Personnes au chômage au sens du BIT selon le sexe, en 2025
A16: En % des 25–64 ans de la population active
B17: Femmes | D17: Hommes | F17: Total
B18: % | C18: ± | D18: % | E18: ± | F18: % | G18: ±
A19: Total | B19: 4.4 | C19: 0.2 | D19: 4.6 | E19: 0.2 | F19: 4.5 | G19: 0.2
A20: École obligatoire | B20: 7.9 | C20: 0.9 | D20: 8.3 | E20: 0.9 | F20: 8.1 | G20: 0.7
A21: Degré secondaire II | B21: 3.9 | C21: 0.4 | D21: 4.4 | E21: 0.4 | F21: 4.1 | G21: 0.3
A22: Formation professionnelle initiale | B22: 3.4 | C22: 0.4 | D22: 3.8 | E22: 0.4 | F22: 3.6 | G22: 0.3
A23: Formation générale | B23: 5.4 | C23: 0.9 | D23: 7.1 | E23: 1.1 | F23: 6.2 | G23: 0.7
A24: Degré tertiaire | B24: 4 | C24: 0.3 | D24: 3.8 | E24: 0.3 | F24: 3.9 | G24: 0.2
A25: Formation professionnelle supérieure | B25: 3 | C25: 0.5 | D25: 2.5 | E25: 0.4 | F25: 2.7 | G25: 0.3
A26: Hautes écoles | B26: 4.3 | C26: 0.4 | D26: 4.5 | E26: 0.4 | F26: 4.4 | G26: 0.3
A27: Remarque: les données en italique ne sont pas représentées dans le graphique.
A28: =Index!$A$16 -> Source: OFS – Enquête suisse sur la population active (ESPA)
A29: =Index!$A$17 -> © OFS 2026
A30: =Index!$A$18 -> Contact: Office fédéral de la statistique (OFS), Indicateurs de la formation, EducIndicators@bfs.admin.ch

Sheet T3
A1: Retour
A2: =CONCATENATE("Personnes en emploi selon la nationalité et la durée de résidence, en ",RIGHT(Index!A17,4)-1) -> Personnes en emploi selon la nationalité et la durée de résidence, en 2025 | Q2: T3
A3: En % des 25–64 ans de la population résidante permanente
B4: Total | D4: Personnes suisses | L4: Personnes étrangères
D5: Total | F5: Personnes suisses nées en Suisse | H5: Personnes naturalisées arrivées en Suisse jusqu'à l'âge de 16 ans | J5: Personnes naturalisées arrivées en Suisse dès l'âge de 17 ans | L5: Total | N5: Personnes étranères arrivées en Suisse jusqu'à l'âge de 16 ans | P5: Personnes étrangères arrivées en Suisse dès l'âge de 17 ans
B6: % | C6: ± | D6: % | E6: ± | F6: % | G6: ± | H6: % | I6: ± | J6: % | K6: ± | L6: % | M6: ± | N6: % | O6: ± | P6: % | Q6: ±
A7: Total | B7: 83.6 | C7: 0.3 | D7: 85.9 | E7: 0.3 | F7: 87.3 | G7: 0.4 | H7: 83.2 | I7: 1.1 | J7: 78.6 | K7: 1.2 | L7: 78.5 | M7: 0.5 | N7: 80.3 | O7: 1.3 | P7: 78.3 | Q7: 0.5
A8: École obligatoire | B8: 68.1 | C8: 1 | D8: 65.7 | E8: 1.8 | F8: 65.6 | G8: 2.5 | H8: 61.7 | I8: 5.1 | J8: 67.7 | K8: 2.9 | L8: 69.5 | M8: 1.1 | N8: 63.7 | O8: 3.5 | P8: 70.1 | Q8: 1.1
A9: Degré secondaire II | B9: 83.1 | C9: 0.5 | D9: 83.8 | E9: 0.5 | F9: 84.7 | G9: 0.6 | H9: 81.6 | I9: 1.6 | J9: 76.5 | K9: 2.5 | L9: 80.6 | M9: 0.9 | N9: 83.3 | O9: 1.6 | P9: 79.6 | Q9: 1.1
A10: Formation professionnelle initiale | B10: 84.1 | C10: 0.5 | D10: 84.4 | E10: 0.6 | F10: 85.1 | G10: 0.6 | H10: 82 | I10: 1.8 | J10: 77 | K10: 3.2 | L10: 82.8 | M10: 1 | N10: 84 | O10: 1.7 | P10: 82.2 | Q10: 1.3
A11: Formation générale | B11: 79.4 | C11: 1.1 | D11: 81.3 | E11: 1.4 | F11: 82.7 | G11: 1.6 | H11: 79.2 | I11: 4.2 | J11: 75.8 | K11: 4 | L11: 76.3 | M11: 1.7 | N11: 78.9 | O11: 4.9 | P11: 76 | Q11: 1.8
A12: Degré tertiaire | B12: 88.9 | C12: 0.3 | D12: 91.2 | E12: 0.4 | F12: 92.2 | G12: 0.4 | H12: 90 | I12: 1.3 | J12: 85.3 | K12: 1.4 | L12: 83.3 | M12: 0.7 | N12: 90 | O12: 2 | P12: 82.9 | Q12: 0.7
A13: Formation professionnelle supérieure | B13: 90.8 | C13: 0.6 | D13: 92.6 | E13: 0.6 | F13: 93.3 | G13: 0.6 | H13: 92.3 | I13: 1.8 | J13: 82.4 | K13: 3.9 | L13: 82.5 | M13: 1.6 | N13: 92.2 | O13: 2.7 | P13: 80.7 | Q13: 1.8
A14: Hautes écoles | B14: 87.9 | C14: 0.4 | D14: 90.4 | E14: 0.5 | F14: 91.4 | G14: 0.6 | H14: 88.7 | I14: 1.7 | J14: 86 | K14: 1.5 | L14: 83.5 | M14: 0.7 | N14: 87.9 | O14: 2.9 | P14: 83.3 | Q14: 0.8
A16: =CONCATENATE("Personnes au chômage au sens du BIT selon la nationalité et la durée de résidence, en ",RIGHT(Index!A17,4)-1) -> Personnes au chômage au sens du BIT selon la nationalité et la durée de résidence, en 2025
A17: En % des 25–64 ans de la population active
B18: Total | D18: Personnes suisses | L18: Personnes étrangères
D19: Total | F19: Personnes suisses nées en Suisse | H19: Personnes naturalisées arrivées en Suisse jusqu'à l'âge de 16 ans | J19: Personnes naturalisées arrivées en Suisse dès l'âge de 17 ans | L19: Total | N19: Personnes étranères arrivées en Suisse jusqu'à l'âge de 16 ans | P19: Personnes étrangères arrivées en Suisse dès l'âge de 17 ans
B20: % | C20: ± | D20: % | E20: ± | F20: % | G20: ± | H20: % | I20: ± | J20: % | K20: ± | L20: % | M20: ± | N20: % | O20: ± | P20: % | Q20: ±
A21: Total | B21: 4.5 | C21: 0.2 | D21: 3 | E21: 0.2 | F21: 2.3 | G21: 0.2 | H21: 5.9 | I21: 0.8 | J21: 4.7 | K21: 0.7 | L21: 7.8 | M21: 0.4 | N21: 6.6 | O21: 0.9 | P21: 7.9 | Q21: 0.4
A22: École obligatoire | B22: 8.1 | C22: 0.7 | D22: 5.6 | E22: 1.1 | F22: (3.9) | G22: (1.3) | H22: (10.3) | I22: (4.2) | J22: (6.3) | K22: (2.0) | L22: 9.3 | M22: 0.8 | N22: (9.7) | O22: (2.7) | P22: 9.3 | Q22: 0.9
A23: Degré secondaire II | B23: 4.1 | C23: 0.3 | D23: 3.2 | E23: 0.3 | F23: 2.6 | G23: 0.3 | H23: 6.7 | I23: 1.2 | J23: (3.9) | K23: (1.3) | L23: 7.3 | M23: 0.7 | N23: 6.4 | O23: 1.2 | P23: 7.7 | Q23: 0.8
A24: Formation professionnelle initiale | B24: 3.6 | C24: 0.3 | D24: 3 | E24: 0.3 | F24: 2.4 | G24: 0.3 | H24: 6.5 | I24: 1.3 | J24: (4.0) | K24: (1.7) | L24: 6.2 | M24: 0.7 | N24: 6.3 | O24: 1.2 | P24: 6.1 | Q24: 0.9
A25: Formation générale | B25: 6.2 | C25: 0.7 | D25: 4.1 | E25: 0.8 | F25: (3.5) | G25: (0.9) | H25: (7.7) | I25: (3.1) | J25: (3.8) | K25: (2.0) | L25: 9.6 | M25: 1.3 | N25: (7.2) | O25: (3.6) | P25: 9.9 | Q25: 1.4
A26: Degré tertiaire | B26: 3.9 | C26: 0.2 | D26: 2.5 | E26: 0.2 | F26: 2 | G26: 0.2 | H26: (4.5) | I26: (1.0) | J26: 4.5 | K26: 0.9 | L26: 7.2 | M26: 0.5 | N26: (4.5) | O26: (1.4) | P26: 7.3 | Q26: 0.5
A27: Formation professionnelle supérieure | B27: 2.7 | C27: 0.3 | D27: 1.8 | E27: 0.3 | F27: 1.5 | G27: 0.3 | H27: (3.0) | I27: (1.3) | J27: (4.5) | K27: (2.1) | L27: 7.1 | M27: 1.1 | N27: (3.2) | O27: (1.8) | P27: 8 | Q27: 1.3
A28: Hautes écoles | B28: 4.4 | C28: 0.3 | D28: 3 | E28: 0.3 | F28: 2.4 | G28: 0.3 | H28: (5.5) | I28: (1.4) | J28: (4.5) | K28: (1.0) | L28: 7.2 | M28: 0.5 | N28: (5.8) | O28: (2.2) | P28: 7.2 | Q28: 0.6
A29: Remarque: les données en italique ne sont pas représentées dans le graphique.
A30: (chiffre) fiabilité statistique relative
A31: =Index!$A$16 -> Source: OFS – Enquête suisse sur la population active (ESPA)
A32: =Index!$A$17 -> © OFS 2026
A33: =Index!$A$18 -> Contact: Office fédéral de la statistique (OFS), Indicateurs de la formation, EducIndicators@bfs.admin.ch

Sheet TD1
A1: Retour
A2: =CONCATENATE("Personnes en emploi selon le sexe, de 2003 à ",RIGHT(Index!A17,4)-1) -> Personnes en emploi selon le sexe, de 2003 à 2025 | AU2: TD1
A3: En % des 25–64 ans de la population résidante permanente
B4: 2003 | D4: 2004 | F4: 2005 | H4: 2006 | J4: 2007 | L4: 2008 | N4: 2009 | P4: 2010 1 | R4: 2011 | T4: 2012 | V4: 2013 | X4: 2014 | Z4: 2015 | AB4: 2016 | AD4: 2017 | AF4: 2018 | AH4: 2019 | AJ4: 2020 | AL4: 2021 2 | AN4: 2022 | AP4: 2023 | AR4: 2024 | AT4: 2025
B5: % | C5: ± | D5: % | E5: ± | F5: % | G5: ± | H5: % | I5: ± | J5: % | K5: ± | L5: % | M5: ± | N5: % | O5: ± | P5: % | Q5: ± | R5: % | S5: ± | T5: % | U5: ± | V5: % | W5: ± | X5: % | Y5: ± | Z5: % | AA5: ± | AB5: % | AC5: ± | AD5: % | AE5: ± | AF5: % | AG5: ± | AH5: % | AI5: ± | AJ5: % | AK5: ± | AL5: % | AM5: ± | AN5: % | AO5: ± | AP5: % | AQ5: ± | AR5: % | AS5: ± | AT5: % | AU5: ±
A6: Hommes | B6: 89.4 | C6: 0.5 | D6: 89.1 | E6: 0.5 | F6: 88.9 | G6: 0.6 | H6: 89 | I6: 0.6 | J6: 89.9 | K6: 0.6 | L6: 90.1 | M6: 0.6 | N6: 89.5 | O6: 0.6 | P6: 87.4 | Q6: 0.4 | R6: 88.4 | S6: 0.4 | T6: 88.4 | U6: 0.4 | V6: 87.8 | W6: 0.4 | X6: 87.7 | Y6: 0.4 | Z6: 88.3 | AA6: 0.4 | AB6: 88.1 | AC6: 0.5 | AD6: 88.3 | AE6: 0.5 | AF6: 88.7 | AG6: 0.4 | AH6: 89.1 | AI6: 0.4 | AJ6: 88.5 | AK6: 0.4 | AN6: 87.8 | AO6: 0.4 | AP6: 88.4 | AQ6: 0.4 | AR6: 87.8 | AS6: 0.4 | AT6: 87.1 | AU6: 0.4
A7: École obligatoire | B7: 80.3 | C7: 1.7 | D7: 77.9 | E7: 1.9 | F7: 77.3 | G7: 2 | H7: 76.7 | I7: 2.1 | J7: 79 | K7: 2.1 | L7: 79.4 | M7: 2.1 | N7: 78.4 | O7: 2.2 | P7: 76.1 | Q7: 1.5 | R7: 76.7 | S7: 1.4 | T7: 76.1 | U7: 1.5 | V7: 75.3 | W7: 1.6 | X7: 76.5 | Y7: 1.7 | Z7: 76.8 | AA7: 1.8 | AB7: 75.5 | AC7: 1.8 | AD7: 75.8 | AE7: 1.9 | AF7: 77 | AG7: 1.8 | AH7: 77.3 | AI7: 1.8 | AJ7: 79 | AK7: 1.8 | AN7: 73.4 | AO7: 1.5 | AP7: 75 | AQ7: 1.5 | AR7: 75.6 | AS7: 1.4 | AT7: 74 | AU7: 1.4
A8: Degré secondaire II | B8: 88.9 | C8: 0.7 | D8: 88.4 | E8: 0.8 | F8: 87.9 | G8: 0.8 | H8: 88 | I8: 0.9 | J8: 89.2 | K8: 0.8 | L8: 89.1 | M8: 0.9 | N8: 88.6 | O8: 1 | P8: 86.5 | Q8: 0.6 | R8: 87.9 | S8: 0.6 | T8: 87.5 | U8: 0.6 | V8: 86.9 | W8: 0.6 | X8: 86.8 | Y8: 0.6 | Z8: 87.6 | AA8: 0.7 | AB8: 87.2 | AC8: 0.7 | AD8: 87.2 | AE8: 0.7 | AF8: 87.4 | AG8: 0.7 | AH8: 87.3 | AI8: 0.7 | AJ8: 86.1 | AK8: 0.7 | AN8: 86.8 | AO8: 0.7 | AP8: 87.4 | AQ8: 0.7 | AR8: 86.8 | AS8: 0.6 | AT8: 86.1 | AU8: 0.6
A9: Formation professionnelle initiale | B9: 89.7 | C9: 0.7 | D9: 89.5 | E9: 0.8 | F9: 88.5 | G9: 0.8 | H9: 88.8 | I9: 0.9 | J9: 90 | K9: 0.8 | L9: 89.9 | M9: 0.9 | N9: 89.2 | O9: 1 | P9: 87.2 | Q9: 0.6 | R9: 88.7 | S9: 0.6 | T9: 88.7 | U9: 0.6 | V9: 88.2 | W9: 0.6 | X9: 87.4 | Y9: 0.7 | Z9: 88.3 | AA9: 0.7 | AB9: 88.1 | AC9: 0.8 | AD9: 87.7 | AE9: 0.8 | AF9: 88.1 | AG9: 0.7 | AH9: 88.5 | AI9: 0.7 | AJ9: 87 | AK9: 0.8 | AN9: 88 | AO9: 0.7 | AP9: 87.9 | AQ9: 0.7 | AR9: 87.8 | AS9: 0.7 | AT9: 87.3 | AU9: 0.7
A10: Formation générale | B10: 82.9 | C10: 2.6 | D10: 80.3 | E10: 3.1 | F10: 83.3 | G10: 2.8 | H10: 82.4 | I10: 3.4 | J10: 83.5 | K10: 3.5 | L10: 83.5 | M10: 3.5 | N10: 83.9 | O10: 3.7 | P10: 81.9 | Q10: 2.1 | R10: 82.3 | S10: 2 | T10: 79.6 | U10: 2 | V10: 78.5 | W10: 2.3 | X10: 83.4 | Y10: 2 | Z10: 83.3 | AA10: 1.9 | AB10: 82.6 | AC10: 2 | AD10: 84.7 | AE10: 1.8 | AF10: 83.3 | AG10: 2 | AH10: 81.3 | AI10: 2.1 | AJ10: 81.5 | AK10: 1.9 | AN10: 80 | AO10: 2 | AP10: 84.7 | AQ10: 1.8 | AR10: 82.2 | AS10: 1.8 | AT10: 81.4 | AU10: 1.7
A11: Degré tertiaire | B11: 93 | C11: 0.7 | D11: 93.3 | E11: 0.7 | F11: 93.5 | G11: 0.7 | H11: 93.7 | I11: 0.7 | J11: 93.7 | K11: 0.7 | L11: 93.9 | M11: 0.7 | N11: 93 | O11: 0.8 | P11: 92 | Q11: 0.6 | R11: 92.6 | S11: 0.6 | T11: 92.9 | U11: 0.5 | V11: 92.2 | W11: 0.5 | X11: 91.5 | Y11: 0.6 | Z11: 92 | AA11: 0.6 | AB11: 92 | AC11: 0.6 | AD11: 92.1 | AE11: 0.6 | AF11: 92.5 | AG11: 0.5 | AH11: 93.1 | AI11: 0.5 | AJ11: 92.6 | AK11: 0.5 | AN11: 92.8 | AO11: 0.4 | AP11: 92.8 | AQ11: 0.4 | AR11: 92.1 | AS11: 0.4 | AT11: 91.6 | AU11: 0.4
A12: Formation professionnelle supérieure | B12: 94.2 | C12: 0.9 | D12: 94.6 | E12: 0.9 | F12: 93.9 | G12: 1 | H12: 94.5 | I12: 0.9 | J12: 94.2 | K12: 1 | L12: 94.6 | M12: 0.9 | N12: 93.3 | O12: 1 | P12: 94 | Q12: 0.6 | R12: 94.3 | S12: 0.6 | T12: 94.4 | U12: 0.6 | V12: 94 | W12: 0.7 | X12: 93.9 | Y12: 0.7 | Z12: 93.5 | AA12: 0.7 | AB12: 93.6 | AC12: 0.8 | AD12: 93.3 | AE12: 0.8 | AF12: 93.6 | AG12: 0.7 | AH12: 94.6 | AI12: 0.6 | AJ12: 94 | AK12: 0.7 | AN12: 93.7 | AO12: 0.7 | AP12: 94 | AQ12: 0.6 | AR12: 94.1 | AS12: 0.6 | AT12: 93.8 | AU12: 0.6
A13: Hautes écoles | B13: 91.1 | C13: 1.2 | D13: 91.5 | E13: 1.2 | F13: 93 | G13: 1.1 | H13: 92.8 | I13: 1.1 | J13: 93.1 | K13: 1.1 | L13: 93.1 | M13: 1.1 | N13: 92.8 | O13: 1.2 | P13: 90.4 | Q13: 0.9 | R13: 91.4 | S13: 0.8 | T13: 91.9 | U13: 0.7 | V13: 91 | W13: 0.8 | X13: 90 | Y13: 0.9 | Z13: 91.1 | AA13: 0.8 | AB13: 91.1 | AC13: 0.8 | AD13: 91.4 | AE13: 0.8 | AF13: 91.8 | AG13: 0.7 | AH13: 92.2 | AI13: 0.6 | AJ13: 91.8 | AK13: 0.6 | AN13: 92.3 | AO13: 0.5 | AP13: 92.2 | AQ13: 0.6 | AR13: 91 | AS13: 0.6 | AT13: 90.4 | AU13: 0.6
A14: Femmes | B14: 72.5 | C14: 0.7 | D14: 72.2 | E14: 0.7 | F14: 72.8 | G14: 0.7 | H14: 73 | I14: 0.8 | J14: 74 | K14: 0.8 | L14: 76.1 | M14: 0.8 | N14: 75.9 | O14: 0.8 | P14: 73.3 | Q14: 0.5 | R14: 74.6 | S14: 0.5 | T14: 75.5 | U14: 0.4 | V14: 75.7 | W14: 0.5 | X14: 76.6 | Y14: 0.5 | Z14: 77.1 | AA14: 0.5 | AB14: 77.8 | AC14: 0.5 | AD14: 77.7 | AE14: 0.5 | AF14: 78.1 | AG14: 0.5 | AH14: 79.1 | AI14: 0.5 | AJ14: 78.9 | AK14: 0.5 | AN14: 79 | AO14: 0.4 | AP14: 79.8 | AQ14: 0.4 | AR14: 80.1 | AS14: 0.4 | AT14: 80 | AU14: 0.4
A15: École obligatoire | B15: 58.7 | C15: 1.6 | D15: 58.8 | E15: 1.7 | F15: 59 | G15: 1.8 | H15: 57.9 | I15: 1.9 | J15: 58.8 | K15: 2 | L15: 61.3 | M15: 2 | N15: 61.7 | O15: 2 | P15: 60.3 | Q15: 1.2 | R15: 60.2 | S15: 1.2 | T15: 60.9 | U15: 1.2 | V15: 61.6 | W15: 1.3 | X15: 60.9 | Y15: 1.5 | Z15: 60.6 | AA15: 1.6 | AB15: 62 | AC15: 1.6 | AD15: 60.9 | AE15: 1.6 | AF15: 62.2 | AG15: 1.7 | AH15: 62.6 | AI15: 1.7 | AJ15: 62.2 | AK15: 1.7 | AN15: 60.5 | AO15: 1.4 | AP15: 60.9 | AQ15: 1.4 | AR15: 61.5 | AS15: 1.4 | AT15: 62.5 | AU15: 1.3
A16: Degré secondaire II | B16: 73.7 | C16: 0.9 | D16: 73.2 | E16: 0.9 | F16: 73.6 | G16: 1 | H16: 74 | I16: 1 | J16: 74.7 | K16: 1.1 | L16: 76.4 | M16: 1 | N16: 76 | O16: 1 | P16: 74.2 | Q16: 0.6 | R16: 76.1 | S16: 0.6 | T16: 76.3 | U16: 0.6 | V16: 75.7 | W16: 0.6 | X16: 76.7 | Y16: 0.6 | Z16: 77.4 | AA16: 0.7 | AB16: 77.7 | AC16: 0.7 | AD16: 77.9 | AE16: 0.7 | AF16: 77.3 | AG16: 0.7 | AH16: 78.1 | AI16: 0.7 | AJ16: 77.8 | AK16: 0.7 | AN16: 79.5 | AO16: 0.7 | AP16: 80.4 | AQ16: 0.7 | AR16: 80.8 | AS16: 0.7 | AT16: 80.2 | AU16: 0.7
A17: Formation professionnelle initiale | B17: 73.7 | C17: 1 | D17: 73.1 | E17: 1 | F17: 73.6 | G17: 1.1 | H17: 73.9 | I17: 1.2 | J17: 74.9 | K17: 1.2 | L17: 77.1 | M17: 1.1 | N17: 76.3 | O17: 1.2 | P17: 74.7 | Q17: 0.7 | R17: 76.4 | S17: 0.6 | T17: 76.5 | U17: 0.6 | V17: 76.2 | W17: 0.7 | X17: 77.6 | Y17: 0.7 | Z17: 78.1 | AA17: 0.7 | AB17: 78.1 | AC17: 0.8 | AD17: 78 | AE17: 0.8 | AF17: 78.1 | AG17: 0.8 | AH17: 78.9 | AI17: 0.8 | AJ17: 78.7 | AK17: 0.8 | AN17: 79.7 | AO17: 0.7 | AP17: 80.9 | AQ17: 0.7 | AR17: 81.4 | AS17: 0.7 | AT17: 80.9 | AU17: 0.8
... A21: Hautes écoles | B21: 82.2 | C21: 1.9 | D21: 80.8 | E21: 1.9 | F21: 80.6 | G21: 1.8 | H21: 81.1 | I21: 1.9 | J21: 80.9 | K21: 1.8 | L21: 82.8 | M21: 1.5 | N21: 82.8 | O21: 1.5 | P21: 78.8 | Q21: 1.1 | R21: 79.3 | S21: 1.1 | T21: 81 | U21: 0.9 | V21: 81.3 | W21: 1 | X21: 81.9 | Y21: 0.9 | Z21: 81.5 | AA21: 1 | AB21: 82.3 | AC21: 1 | AD21: 81.6 | AE21: 1 | AF21: 81.9 | AG21: 1 | AH21: 83.4 | AI21: 0.8 | AJ21: 83.6 | AK21: 0.8 | AN21: 84.5 | AO21: 0.7 | AP21: 85.4 | AQ21: 0.7 | AR21: 85.5 | AS21: 0.7 | AT21: 85.4 | AU21: 0.6
A23: =CONCATENATE("Personnes au chômage au sens du BIT selon le sexe, de 2003 à ",RIGHT(Index!A17,4)-1) -> Personnes au chômage au sens du BIT selon le sexe, de 2003 à 2025
A24: En % des 25–64 ans de la population active
B25: 2003 | D25: 2004 | F25: 2005 | H25: 2006 | J25: 2007 | L25: 2008 | N25: 2009 | P25: 2010 1 | R25: 2011 | T25: 2012 | V25: 2013 | X25: 2014 | Z25: 2015 | AB25: 2016 | AD25: 2017 | AF25: 2018 | AH25: 2019 | AJ25: 2020 | AL25: 2021 2 | AN25: 2022 | AP25: 2023 | AR25: 2024 | AT25: 2025
B26: % | C26: ± | D26: % | E26: ± | F26: % | G26: ± | H26: % | I26: ± | J26: % | K26: ± | L26: % | M26: ± | N26: % | O26: ± | P26: % | Q26: ± | R26: % | S26: ± | T26: % | U26: ± | V26: % | W26: ± | X26: % | Y26: ± | Z26: % | AA26: ± | AB26: % | AC26: ± | AD26: % | AE26: ± | AF26: % | AG26: ± | AH26: % | AI26: ± | AJ26: % | AK26: ± | AL26: % | AM26: ± | AN26: % | AO26: ± | AP26: % | AQ26: ± | AR26: % | AS26: ± | AT26: % | AU26: ±
A27: Hommes | B27: 3.2 | C27: 0.3 | D27: 3.4 | E27: 0.3 | F27: 3.3 | G27: 0.3 | H27: 2.7 | I27: 0.3 | J27: 2.3 | K27: 0.3 | L27: 2.3 | M27: 0.3 | N27: 3.2 | O27: 0.4 | P27: 4.1 | Q27: 0.3 | R27: 3.7 | S27: 0.2 | T27: 3.7 | U27: 0.2 | V27: 4.1 | W27: 0.3 | X27: 4.3 | Y27: 0.3 | Z27: 4.2 | AA27: 0.3 | AB27: 4.5 | AC27: 0.3 | AD27: 4.2 | AE27: 0.3 | AF27: 4 | AG27: 0.3 | AH27: 3.6 | AI27: 0.3 | AJ27: 4.2 | AK27: 0.3 | AN27: 3.6 | AO27: 0.2 | AP27: 3.3 | AQ27: 0.2 | AR27: 3.7 | AS27: 0.2 | AT27: 4.6 | AU27: 0.2
A28: École obligatoire | B28: 5.1 | C28: 0.9 | D28: 6.6 | E28: 1.2 | F28: 6.7 | G28: 1.2 | H28: 6.3 | I28: 1.2 | J28: 4.9 | K28: 1.2 | L28: 4.9 | M28: 1.2 | N28: 7.5 | O28: 1.4 | P28: 8 | Q28: 1.1 | R28: 8 | S28: 1 | T28: 8.2 | U28: 1.1 | V28: 9.7 | W28: 1.2 | X28: 9.2 | Y28: 1.4 | Z28: 9.3 | AA28: 1.4 | AB28: 9.9 | AC28: 1.4 | AD28: 8.5 | AE28: 1.4 | AF28: 8.1 | AG28: 1.3 | AH28: 7.9 | AI28: 1.3 | AJ28: 7.3 | AK28: 1.2 | AN28: 8.3 | AO28: 1.1 | AP28: 7.3 | AQ28: 1 | AR28: 8.2 | AS28: 1 | AT28: 8.3 | AU28: 0.9
A29: Degré secondaire II | B29: 3.1 | C29: 0.4 | D29: 3.5 | E29: 0.5 | F29: 3.4 | G29: 0.5 | H29: 2.8 | I29: 0.4 | J29: 2.3 | K29: 0.4 | L29: 2.5 | M29: 0.5 | N29: 3.3 | O29: 0.6 | P29: 4.3 | Q29: 0.4 | R29: 3.8 | S29: 0.4 | T29: 3.7 | U29: 0.3 | V29: 3.9 | W29: 0.4 | X29: 4.1 | Y29: 0.4 | Z29: 3.8 | AA29: 0.4 | AB29: 4.6 | AC29: 0.5 | AD29: 4.5 | AE29: 0.5 | AF29: 4.2 | AG29: 0.5 | AH29: 3.8 | AI29: 0.4 | AJ29: 5 | AK29: 0.5 | AN29: 3.5 | AO29: 0.4 | AP29: 3.2 | AQ29: 0.4 | AR29: 3.4 | AS29: 0.4 | AT29: 4.4 | AU29: 0.4
A30: Formation professionnelle initiale | B30: 2.9 | C30: 0.4 | D30: 3.2 | E30: 0.5 | F30: 3.3 | G30: 0.5 | H30: 2.4 | I30: 0.4 | J30: 2.2 | K30: 0.4 | L30: 2.3 | M30: 0.5 | N30: 3.2 | O30: 0.7 | P30: 4.2 | Q30: 0.4 | R30: 3.5 | S30: 0.4 | T30: 3.4 | U30: 0.4 | V30: 3.5 | W30: 0.4 | X30: 3.8 | Y30: 0.4 | Z30: 3.5 | AA30: 0.4 | AB30: 4.2 | AC30: 0.5 | AD30: 4.4 | AE30: 0.5 | AF30: 3.8 | AG30: 0.5 | AH30: 3.2 | AI30: 0.4 | AJ30: 4.5 | AK30: 0.5 | AN30: 2.9 | AO30: 0.4 | AP30: 2.8 | AQ30: 0.4 | AR30: 3 | AS30: 0.4 | AT30: 3.8 | AU30: 0.4
A31: Formation générale | B31: 4.7 | C31: 1.6 | D31: 6.1 | E31: 1.8 | F31: 5 | G31: 1.8 | H31: 5.2 | I31: 1.6 | J31: (3.4) | K31: (1.3) | L31: (4.1) | M31: (1.5) | N31: (4.2) | O31: (2.2) | P31: 4.9 | Q31: 1.1 | R31: 5.4 | S31: 1.1 | T31: 6.1 | U31: 1.1 | V31: 6.5 | W31: 1.5 | X31: 5.6 | Y31: 1.3 | Z31: 5.2 | AA31: 1 | AB31: 6.7 | AC31: 1.3 | AD31: 5.1 | AE31: 1.2 | AF31: 6.2 | AG31: 1.5 | AH31: 6.7 | AI31: 1.6 | AJ31: 7.6 | AK31: 1.5 | AN31: 6.6 | AO31: 1.3 | AP31: 5.1 | AQ31: 1.1 | AR31: 5.3 | AS31: 1.1 | AT31: 7.1 | AU31: 1.1
A32: Degré tertiaire | B32: 2.9 | C32: 0.5 | D32: 2.4 | E32: 0.4 | F32: 2.2 | G32: 0.4 | H32: 1.9 | I32: 0.4 | J32: 1.8 | K32: 0.4 | L32: 1.5 | M32: 0.4 | N32: 2.4 | O32: 0.5 | P32: 2.8 | Q32: 0.4 | R32: 2.4 | S32: 0.3 | T32: 2.7 | U32: 0.3 | V32: 3.1 | W32: 0.4 | X32: 3.3 | Y32: 0.4 | Z32: 3.3 | AA32: 0.4 | AB32: 3.2 | AC32: 0.4 | AD32: 3.2 | AE32: 0.4 | AF32: 3 | AG32: 0.4 | AH32: 2.7 | AI32: 0.3 | AJ32: 3 | AK32: 0.3 | AN32: 2.7 | AO32: 0.3 | AP32: 2.6 | AQ32: 0.3 | AR32: 2.9 | AS32: 0.3 | AT32: 3.8 | AU32: 0.3
A33: Formation professionnelle supérieure | B33: 2.1 | C33: 0.6 | D33: 2 | E33: 0.6 | F33: 2 | G33: 0.5 | H33: 1.5 | I33: 0.4 | J33: (1.1) | K33: (0.4) | L33: (0.8) | M33: (0.3) | N33: 1.9 | O33: 0.6 | P33: 2 | Q33: 0.4 | R33: 1.6 | S33: 0.4 | T33: 2 | U33: 0.4 | V33: 1.5 | W33: 0.3 | X33: 1.9 | Y33: 0.4 | Z33: 2.2 | AA33: 0.5 | AB33: 2.2 | AC33: 0.5 | AD33: 2.3 | AE33: 0.5 | AF33: 1.9 | AG33: 0.4 | AH33: 1.6 | AI33: 0.4 | AJ33: 2.1 | AK33: 0.4 | AN33: 2.2 | AO33: 0.4 | AP33: 1.8 | AQ33: 0.4 | AR33: 1.7 | AS33: 0.4 | AT33: 2.5 | AU33: 0.4
A34: Hautes écoles | B34: 4 | C34: 0.9 | D34: 3 | E34: 0.7 | F34: 2.4 | G34: 0.7 | H34: 2.4 | I34: 0.7 | J34: 2.5 | K34: 0.8 | L34: 2.1 | M34: 0.6 | N34: 2.7 | O34: 0.9 | P34: 3.4 | Q34: 0.6 | R34: 2.9 | S34: 0.5 | T34: 3.1 | U34: 0.5 | V34: 4.1 | W34: 0.6 | X34: 4.3 | Y34: 0.6 | Z34: 4 | AA34: 0.6 | AB34: 3.8 | AC34: 0.5 | AD34: 3.7 | AE34: 0.6 | AF34: 3.6 | AG34: 0.5 | AH34: 3.3 | AI34: 0.4 | AJ34: 3.6 | AK34: 0.4 | AN34: 2.9 | AO34: 0.4 | AP34: 3 | AQ34: 0.4 | AR34: 3.6 | AS34: 0.4 | AT34: 4.5 | AU34: 0.4
A35: Hommes | B35: 3.8 | C35: 0.3 | D35: 4.4 | E35: 0.4 | F35: 4.5 | G35: 0.4 | H35: 4.3 | I35: 0.4 | J35: 4.1 | K35: 0.4 | L35: 3.4 | M35: 0.3 | N35: 3.8 | O35: 0.4 | P35: 4.7 | Q35: 0.3 | R35: 4.3 | S35: 0.3 | T35: 4.3 | U35: 0.3 | V35: 4.4 | W35: 0.3 | X35: 4.5 | Y35: 0.3 | Z35: 4.4 | AA35: 0.3 | AB35: 4.6 | AC35: 0.3 | AD35: 4.8 | AE35: 0.3 | AF35: 4.9 | AG35: 0.3 | AH35: 4.5 | AI35: 0.3 | AJ35: 4.7 | AK35: 0.3 | AN35: 4.2 | AO35: 0.2 | AP35: 4 | AQ35: 0.2 | AR35: 4.2 | AS35: 0.2 | AT35: 4.4 | AU35: 0.2
A36: École obligatoire | B36: 6.5 | C36: 1 | D36: 7.4 | E36: 1.1 | F36: 7.5 | G36: 1.1 | H36: 8.4 | I36: 1.3 | J36: 7.9 | K36: 1.3 | L36: 6.7 | M36: 1.2 | N36: 7.4 | O36: 1.3 | P36: 8.2 | Q36: 0.9 | R36: 8.6 | S36: 1 | T36: 8.2 | U36: 0.9 | V36: 8 | W36: 0.9 | X36: 9.2 | Y36: 1.2 | Z36: 9.2 | AA36: 1.2 | AB36: 9.8 | AC36: 1.3 | AD36: 8.5 | AE36: 1.3 | AF36: 8.8 | AG36: 1.2 | AH36: 8.1 | AI36: 1.2 | AJ36: 10 | AK36: 1.4 | AN36: 8.8 | AO36: 1 | AP36: 7.9 | AQ36: 1 | AR36: 7.8 | AS36: 1 | AT36: 7.9 | AU36: 0.9
A37: Degré secondaire II | B37: 3.3 | C37: 0.4 | D37: 3.9 | E37: 0.5 | F37: 3.9 | G37: 0.5 | H37: 3.7 | I37: 0.5 | J37: 3.7 | K37: 0.5 | L37: 3.1 | M37: 0.5 | N37: 3.1 | O37: 0.5 | P37: 4.3 | Q37: 0.4 | R37: 3.4 | S37: 0.3 | T37: 3.7 | U37: 0.3 | V37: 3.8 | W37: 0.3 | X37: 4.1 | Y37: 0.4 | Z37: 3.9 | AA37: 0.4 | AB37: 4.2 | AC37: 0.4 | AD37: 4 | AE37: 0.4 | AF37: 4.6 | AG37: 0.4 | AH37: 4.1 | AI37: 0.4 | AJ37: 4.1 | AK37: 0.4 | AN37: 3.6 | AO37: 0.4 | AP37: 3.1 | AQ37: 0.3 | AR37: 3.1 | AS37: 0.3 | AT37: 3.9 | AU37: 0.4
A38: Formation professionnelle initiale | B38: 3.2 | C38: 0.4 | D38: 3.8 | E38: 0.5 | F38: 3.8 | G38: 0.5 | H38: 3.8 | I38: 0.6 | J38: 3.6 | K38: 0.6 | L38: 2.8 | M38: 0.5 | N38: 3 | O38: 0.5 | P38: 4 | Q38: 0.4 | R38: 3.2 | S38: 0.3 | T38: 3.6 | U38: 0.3 | V38: 3.6 | W38: 0.3 | X38: 3.6 | Y38: 0.4 | Z38: 3.8 | AA38: 0.4 | AB38: 4.1 | AC38: 0.4 | AD38: 4 | AE38: 0.5 | AF38: 4.1 | AG38: 0.5 | AH38: 3.6 | AI38: 0.4 | AJ38: 3.8 | AK38: 0.4 | AN38: 3.5 | AO38: 0.4 | AP38: 3 | AQ38: 0.4 | AR38: 2.8 | AS38: 0.4 | AT38: 3.4 | AU38: 0.4
A39: Formation générale | B39: 4 | C39: 1 | D39: 4.4 | E39: 1.2 | F39: 4.7 | G39: 1.2 | H39: 3.6 | I39: 1 | J39: 4.6 | K39: 1.3 | L39: 4.7 | M39: 1.3 | N39: 3.9 | O39: 1.2 | P39: 5.7 | Q39: 0.9 | R39: 4.4 | S39: 0.8 | T39: 4 | U39: 0.8 | V39: 4.7 | W39: 1 | X39: 5.8 | Y39: 1.1 | Z39: 4.7 | AA39: 0.9 | AB39: 4.2 | AC39: 0.9 | AD39: 4 | AE39: 0.8 | AF39: 6.5 | AG39: 1.2 | AH39: 6.2 | AI39: 1.1 | AJ39: 5.2 | AK39: 1 | AN39: 4.1 | AO39: 0.8 | AP39: (3.3) | AQ39: (0.8) | AR39: 4.5 | AS39: 0.9 | AT39: 5.4 | AU39: 0.9
A40: Degré tertiaire | B40: 3 | C40: 0.7 | D40: 3.6 | E40: 0.7 | F40: 3.8 | G40: 0.8 | H40: 2.9 | I40: 0.6 | J40: 2.7 | K40: 0.6 | L40: 2.3 | M40: 0.5 | N40: 3.4 | O40: 0.7 | P40: 3.5 | Q40: 0.4 | R40: 3.8 | S40: 0.5 | T40: 3.5 | U40: 0.4 | V40: 3.8 | W40: 0.5 | X40: 3.6 | Y40: 0.4 | Z40: 3.6 | AA40: 0.5 | AB40: 3.6 | AC40: 0.4 | AD40: 4.7 | AE40: 0.5 | AF40: 4.3 | AG40: 0.5 | AH40: 4 | AI40: 0.4 | AJ40: 4.1 | AK40: 0.4 | AN40: 3.4 | AO40: 0.3 | AP40: 3.7 | AQ40: 0.3 | AR40: 4.2 | AS40: 0.3 | AT40: 4 | AU40: 0.3
A41: Formation professionnelle supérieure | B41: (2.9) | C41: (1.0) | D41: 3.2 | E41: 1 | F41: (2.7) | G41: (1.1) | H41: (1.9) | I41: (0.7) | J41: (1.9) | K41: (1.0) | L41: (0.8) | M41: (0.4) | N41: (2.3) | O41: (0.9) | P41: 2.9 | Q41: 0.6 | R41: 2.9 | S41: 0.7 | T41: (2.3) | U41: (0.6) | V41: (2.2) | W41: (0.5) | X41: 2.3 | Y41: 0.6 | Z41: (2.0) | AA41: (0.5) | AB41: 2 | AC41: 0.5 | AD41: 2.9 | AE41: 0.6 | AF41: 2.6 | AG41: 0.6 | AH41: 2.6 | AI41: 0.6 | AJ41: 2.6 | AK41: 0.5 | AN41: 2.1 | AO41: 0.5 | AP41: 3.1 | AQ41: 0.6 | AR41: 3 | AS41: 0.6 | AT41: 3 | AU41: 0.5
A42: Hautes écoles | B42: 3.1 | C42: 0.9 | D42: 3.9 | E42: 1 | F42: 5 | G42: 1.1 | H42: 4 | I42: 1 | J42: 3.4 | K42: 0.8 | L42: 3.4 | M42: 0.8 | N42: 4 | O42: 1 | P42: 3.9 | Q42: 0.6 | R42: 4.2 | S42: 0.6 | T42: 4.1 | U42: 0.5 | V42: 4.6 | W42: 0.7 | X42: 4.3 | Y42: 0.6 | Z42: 4.3 | AA42: 0.6 | AB42: 4.3 | AC42: 0.6 | AD42: 5.4 | AE42: 0.7 | AF42: 5 | AG42: 0.6 | AH42: 4.5 | AI42: 0.5 | AJ42: 4.8 | AK42: 0.5 | AN42: 4 | AO42: 0.4 | AP42: 4 | AQ42: 0.4 | AR42: 4.7 | AS42: 0.4 | AT42: 4.3 | AU42: 0.4
A43: Remarque: pour afficher la série temporelle complète, veuillez sélectionner toutes les colonnes du tableau, cliquer le bouton droit de la souris et choisir "Afficher".
A44: (chiffre) fiabilité statistique relative
...

Sheet TD2
A1: Retour
A2: =CONCATENATE("Personnes en emploi selon la nationalité et la durée de résidence, de 2006 à ",RIGHT(Index!A17,4)-1) -> Personnes en emploi selon la nationalité et la durée de résidence, de 2006 à 2025 | AO2: TD2
A3: En % des 25–64 ans de la population résidante permanente
B4: 2006 | D4: 2007 | F4: 2008 | H4: 2009 | J4: 2010 1 | L4: 2011 | N4: 2012 | P4: 2013 | R4: 2014 | T4: 2015 | V4: 2016 | X4: 2017 | Z4: 2018 | AB4: 2019 | AD4: 2020 | AF4: 2021 2 | AH4: 2022 | AJ4: 2023 | AL4: 2024 | AN4: 2025
B5: % | C5: ± | D5: % | E5: ± | F5: % | G5: ± | H5: % | I5: ± | J5: % | K5: ± | L5: % | M5: ± | N5: % | O5: ± | P5: % | Q5: ± | R5: % | S5: ± | T5: % | U5: ± | V5: % | W5: ± | X5: % | Y5: ± | Z5: % | AA5: ± | AB5: % | AC5: ± | AD5: % | AE5: ± | AF5: % | AG5: ± | AH5: % | AI5: ± | AJ5: % | AK5: ± | AL5: % | AM5: ± | AN5: % | AO5: ±
A6: Personnes suisses | B6: 82.7 | C6: 0.6 | D6: 83.5 | E6: 0.6 | F6: 84.6 | G6: 0.6 | H6: 84.1 | I6: 0.6 | J6: 82.5 | K6: 0.4 | L6: 83.2 | M6: 0.3 | N6: 83.6 | O6: 0.3 | P6: 83.5 | Q6: 0.3 | R6: 84 | S6: 0.4 | T6: 84.7 | U6: 0.4 | V6: 85 | W6: 0.4 | X6: 85 | Y6: 0.4 | Z6: 85.3 | AA6: 0.4 | AB6: 85.7 | AC6: 0.4 | AD6: 85.4 | AE6: 0.4 | AH6: 85.6 | AI6: 0.3 | AJ6: 86.1 | AK6: 0.3 | AL6: 86.2 | AM6: 0.3 | AN6: 85.9 | AO6: 0.3
A7: École obligatoire | B7: 62.9 | C7: 2.5 | D7: 64.5 | E7: 2.6 | F7: 66.4 | G7: 2.7 | H7: 66.7 | I7: 2.7 | J7: 66.6 | K7: 1.4 | L7: 65.4 | M7: 1.4 | N7: 65.2 | O7: 1.5 | P7: 66.8 | Q7: 1.6 | R7: 66.2 | S7: 1.7 | T7: 65.7 | U7: 1.8 | V7: 67.2 | W7: 1.9 | X7: 66.4 | Y7: 2 | Z7: 67.5 | AA7: 2 | AB7: 66.3 | AC7: 2.1 | AD7: 66.9 | AE7: 2.1 | AH7: 64.2 | AI7: 1.8 | AJ7: 64.4 | AK7: 1.9 | AL7: 65.6 | AM7: 1.8 | AN7: 65.7 | AO7: 1.8
A8: Degré secondaire II | B8: 81.1 | C8: 0.8 | D8: 81.8 | E8: 0.8 | F8: 82.6 | G8: 0.8 | H8: 82.1 | I8: 0.8 | J8: 80.8 | K8: 0.5 | L8: 82.3 | M8: 0.5 | N8: 82 | O8: 0.5 | P8: 81.3 | Q8: 0.5 | R8: 82.1 | S8: 0.5 | T8: 83 | U8: 0.5 | V8: 82.8 | W8: 0.5 | X8: 82.7 | Y8: 0.5 | Z8: 82.7 | AA8: 0.5 | AB8: 83.2 | AC8: 0.5 | AD8: 82.5 | AE8: 0.6 | AH8: 83.7 | AI8: 0.5 | AJ8: 84.3 | AK8: 0.5 | AL8: 84.4 | AM8: 0.5 | AN8: 83.8 | AO8: 0.5
A9: Formation professionnelle initiale | B9: 81.3 | C9: 0.9 | D9: 82.2 | E9: 0.8 | F9: 83.2 | G9: 0.8 | H9: 82.5 | I9: 0.9 | J9: 81.2 | K9: 0.5 | L9: 82.7 | M9: 0.5 | N9: 82.6 | O9: 0.5 | P9: 82.1 | Q9: 0.5 | R9: 82.6 | S9: 0.5 | T9: 83.5 | U9: 0.5 | V9: 83.2 | W9: 0.6 | X9: 82.8 | Y9: 0.6 | Z9: 83.3 | AA9: 0.6 | AB9: 83.8 | AC9: 0.6 | AD9: 83 | AE9: 0.6 | AH9: 84.3 | AI9: 0.6 | AJ9: 84.7 | AK9: 0.6 | AL9: 85 | AM9: 0.6 | AN9: 84.4 | AO9: 0.6
A10: Formation générale | B10: 79.4 | C10: 2.4 | D10: 79.2 | E10: 2.6 | F10: 78.6 | G10: 2.6 | H10: 79.4 | I10: 2.7 | J10: 78.5 | K10: 1.5 | L10: 79.7 | M10: 1.4 | N10: 78.3 | O10: 1.5 | P10: 76.5 | Q10: 1.6 | R10: 79.3 | S10: 1.4 | T10: 80.1 | U10: 1.4 | V10: 80.9 | W10: 1.4 | X10: 81.8 | Y10: 1.4 | Z10: 79.7 | AA10: 1.5 | AB10: 79.9 | AC10: 1.5 | AD10: 79.3 | AE10: 1.5 | AH10: 79.9 | AI10: 1.6 | AJ10: 81.9 | AK10: 1.5 | AL10: 81 | AM10: 1.5 | AN10: 81.3 | AO10: 1.4
A11: Degré tertiaire | B11: 92 | C11: 0.8 | D11: 91.8 | E11: 0.8 | F11: 92.3 | G11: 0.7 | H11: 91.3 | I11: 0.8 | J11: 89.9 | K11: 0.5 | L11: 90 | M11: 0.5 | N11: 90.5 | O11: 0.5 | P11: 90.4 | Q11: 0.5 | R11: 90.3 | S11: 0.5 | T11: 90.5 | U11: 0.5 | V11: 90.7 | W11: 0.4 | X11: 90.7 | Y11: 0.4 | Z11: 90.8 | AA11: 0.4 | AB11: 91.2 | AC11: 0.4 | AD11: 90.9 | AE11: 0.4 | AH11: 91.2 | AI11: 0.4 | AJ11: 91.5 | AK11: 0.4 | AL11: 91.3 | AM11: 0.4 | AN11: 91.2 | AO11: 0.4
A12: Formation professionnelle supérieure | B12: 92.8 | C12: 0.9 | D12: 92.7 | E12: 1 | F12: 93.2 | G12: 0.9 | H12: 92 | I12: 1 | J12: 91.4 | K12: 0.6 | L12: 91.8 | M12: 0.6 | N12: 91.7 | O12: 0.6 | P12: 91.7 | Q12: 0.6 | R12: 92.1 | S12: 0.6 | T12: 91.9 | U12: 0.6 | V12: 92.1 | W12: 0.7 | X12: 91.8 | Y12: 0.7 | Z12: 92.4 | AA12: 0.6 | AB12: 93.1 | AC12: 0.6 | AD12: 92 | AE12: 0.6 | AH12: 92.3 | AI12: 0.6 | AJ12: 92.4 | AK12: 0.6 | AL12: 92.6 | AM12: 0.6 | AN12: 92.6 | AO12: 0.6
A13: Hautes écoles | B13: 90.7 | C13: 1.3 | D13: 90.6 | E13: 1.3 | F13: 91.3 | G13: 1.1 | H13: 90.7 | I13: 1.2 | J13: 88.6 | K13: 0.7 | L13: 88.7 | M13: 0.7 | N13: 89.7 | O13: 0.7 | P13: 89.4 | Q13: 0.7 | R13: 89 | S13: 0.7 | T13: 89.5 | U13: 0.6 | V13: 89.7 | W13: 0.6 | X13: 89.9 | Y13: 0.6 | Z13: 89.6 | AA13: 0.6 | AB13: 90 | AC13: 0.6 | AD13: 90.1 | AE13: 0.6 | AH13: 90.5 | AI13: 0.5 | AJ13: 90.9 | AK13: 0.5 | AL13: 90.4 | AM13: 0.5 | AN13: 90.4 | AO13: 0.5
A14: Personnes suisses nées en Suisse | B14: 83.4 | C14: 0.6 | D14: 84.4 | E14: 0.6 | F14: 85.2 | G14: 0.6 | H14: 84.7 | I14: 0.6 | J14: 83.3 | K14: 0.4 | L14: 84.3 | M14: 0.4 | N14: 84.6 | O14: 0.4 | P14: 84.4 | Q14: 0.4 | R14: 85 | S14: 0.4 | T14: 85.6 | U14: 0.4 | V14: 85.9 | W14: 0.4 | X14: 86 | Y14: 0.4 | Z14: 86.2 | AA14: 0.4 | AB14: 86.8 | AC14: 0.4 | AD14: 86.4 | AE14: 0.4 | AH14: 87 | AI14: 0.4 | AJ14: 87.3 | AK14: 0.4 | AL14: 87.3 | AM14: 0.4 | AN14: 87.3 | AO14: 0.4
A15: École obligatoire | B15: 62.8 | C15: 2.9 | D15: 64 | E15: 3 | F15: 66.4 | G15: 3.1 | H15: 65.6 | I15: 3.2 | J15: 66.3 | K15: 1.6 | L15: 65 | M15: 1.7 | N15: 64.1 | O15: 1.8 | P15: 66.5 | Q15: 1.9 | R15: 65.3 | S15: 2.1 | T15: 64.7 | U15: 2.3 | V15: 67.1 | W15: 2.4 | X15: 66.7 | Y15: 2.6 | Z15: 65.5 | AA15: 2.6 | AB15: 64.2 | AC15: 2.8 | AD15: 67.2 | AE15: 2.7 | AH15: 64 | AI15: 2.5 | AJ15: 62.6 | AK15: 2.6 | AL15: 64.6 | AM15: 2.5 | AN15: 65.6 | AO15: 2.5
A16: Degré secondaire II | B16: 81.5 | C16: 0.9 | D16: 82.6 | E16: 0.8 | F16: 82.9 | G16: 0.9 | H16: 82.4 | I16: 0.9 | J16: 81 | K16: 0.5 | L16: 82.9 | M16: 0.5 | N16: 82.7 | O16: 0.5 | P16: 81.9 | Q16: 0.5 | R16: 82.8 | S16: 0.5 | T16: 83.4 | U16: 0.6 | V16: 83.1 | W16: 0.6 | X16: 83.1 | Y16: 0.6 | Z16: 83.1 | AA16: 0.6 | AB16: 83.8 | AC16: 0.6 | AD16: 83.1 | AE16: 0.6 | AH16: 84.4 | AI16: 0.6 | AJ16: 84.9 | AK16: 0.6 | AL16: 85 | AM16: 0.6 | AN16: 84.7 | AO16: 0.6
A17: Formation professionnelle initiale | B17: 81.7 | C17: 0.9 | D17: 82.9 | E17: 0.9 | F17: 83.3 | G17: 0.9 | H17: 82.7 | I17: 0.9 | J17: 81.3 | K17: 0.5 | L17: 83.2 | M17: 0.5 | N17: 83 | O17: 0.5 | P17: 82.6 | Q17: 0.5 | R17: 83 | S17: 0.6 | T17: 83.8 | U17: 0.6 | V17: 83.5 | W17: 0.6 | X17: 83.1 | Y17: 0.6 | Z17: 83.6 | AA17: 0.6 | AB17: 84.2 | AC17: 0.6 | AD17: 83.4 | AE17: 0.7 | AH17: 84.8 | AI17: 0.6 | AJ17: 85.1 | AK17: 0.6 | AL17: 85.5 | AM17: 0.6 | AN17: 85.1 | AO17: 0.6
... A61: Hautes écoles | B61: 82.6 | C61: 1.6 | D61: 82.1 | E61: 1.6 | F61: 82.7 | G61: 1.5 | H61: 83.7 | I61: 1.4 | J61: 77.3 | K61: 1.5 | L61: 79.5 | M61: 1.4 | N61: 81.5 | O61: 1.1 | P61: 80.8 | Q61: 1.3 | R61: 80.9 | S61: 1.3 | T61: 80.8 | U61: 1.4 | V61: 82 | W61: 1.4 | X61: 80.7 | Y61: 1.4 | Z61: 82.1 | AA61: 1.3 | AB61: 84.2 | AC61: 1.1 | AD61: 83.5 | AE61: 1 | AH61: 84.9 | AI61: 0.8 | AJ61: 85.1 | AK61: 0.8 | AL61: 84.5 | AM61: 0.8 | AN61: 83.3 | AO61: 0.8
A63: Retour
A65: =CONCATENATE("Personnes au chômage au sens du BIT selon la nationalité et la durée de résidence, de 2006 à ",RIGHT(Index!A17,4)-1) -> Personnes au chômage au sens du BIT selon la nationalité et la durée de résidence, de 2006 à 2025
A66: En % des 25–64 ans de la population active
B67: 2006 | D67: 2007 | F67: 2008 | H67: 2009 | J67: 2010 1 | L67: 2011 | N67: 2012 | P67: 2013 | R67: 2014 | T67: 2015 | V67: 2016 | X67: 2017 | Z67: 2018 | AB67: 2019 | AD67: 2020 | AF67: 2021 2 | AH67: 2022 | AJ67: 2023 | AL67: 2024 | AN67: 2025
B68: % | C68: ± | D68: % | E68: ± | F68: % | G68: ± | H68: % | I68: ± | J68: % | K68: ± | L68: % | M68: ± | N68: % | O68: ± | P68: % | Q68: ± | R68: % | S68: ± | T68: % | U68: ± | V68: % | W68: ± | X68: % | Y68: ± | Z68: % | AA68: ± | AB68: % | AC68: ± | AD68: % | AE68: ± | AF68: % | AG68: ± | AH68: % | AI68: ± | AJ68: % | AK68: ± | AL68: % | AM68: ± | AN68: % | AO68: ±
A69: Personnes suisses | B69: 2.2 | C69: 0.3 | D69: 2.3 | E69: 0.3 | F69: 1.9 | G69: 0.3 | H69: 2.5 | I69: 0.3 | J69: 3.1 | K69: 0.2 | L69: 2.9 | M69: 0.2 | N69: 2.8 | O69: 0.2 | P69: 2.8 | Q69: 0.2 | R69: 3 | S69: 0.2 | T69: 2.9 | U69: 0.2 | V69: 3.1 | W69: 0.2 | X69: 3.1 | Y69: 0.2 | Z69: 3.1 | AA69: 0.2 | AB69: 2.7 | AC69: 0.2 | AD69: 3.2 | AE69: 0.2 | AH69: 2.8 | AI69: 0.2 | AJ69: 2.6 | AK69: 0.2 | AL69: 2.6 | AM69: 0.2 | AN69: 3 | AO69: 0.2
A70: École obligatoire | B70: 5 | C70: 1.4 | D70: 5.3 | E70: 1.5 | F70: (3.9) | G70: (1.4) | H70: 4.9 | I70: 1.6 | J70: 5.3 | K70: 0.9 | L70: 5.9 | M70: 0.9 | N70: 5.7 | O70: 1 | P70: 5.7 | Q70: 1.1 | R70: 6.4 | S70: 1.1 | T70: 6 | U70: 1.2 | V70: 6.3 | W70: 1.2 | X70: 6.8 | Y70: 1.3 | Z70: 6.7 | AA70: 1.3 | AB70: 5.7 | AC70: 1.2 | AD70: 5.4 | AE70: 1.1 | AH70: 7.9 | AI70: 1.3 | AJ70: 6.1 | AK70: 1.2 | AL70: 6.6 | AM70: 1.2 | AN70: 5.6 | AO70: 1.1
A71: Degré secondaire II | B71: 2.4 | C71: 0.3 | D71: 2.3 | E71: 0.4 | F71: 2.2 | G71: 0.4 | H71: 2.5 | I71: 0.4 | J71: 3.4 | K71: 0.3 | L71: 2.9 | M71: 0.3 | N71: 2.8 | O71: 0.2 | P71: 2.9 | Q71: 0.3 | R71: 3.1 | S71: 0.3 | T71: 2.9 | U71: 0.3 | V71: 3.4 | W71: 0.3 | X71: 3.3 | Y71: 0.3 | Z71: 3.3 | AA71: 0.3 | AB71: 2.8 | AC71: 0.3 | AD71: 3.7 | AE71: 0.3 | AH71: 2.7 | AI71: 0.3 | AJ71: 2.4 | AK71: 0.3 | AL71: 2.5 | AM71: 0.3 | AN71: 3.2 | AO71: 0.3
A72: Formation professionnelle initiale | B72: 2.4 | C72: 0.4 | D72: 2.3 | E72: 0.4 | F72: 2.1 | G72: 0.4 | H72: 2.4 | I72: 0.5 | J72: 3.4 | K72: 0.3 | L72: 2.9 | M72: 0.3 | N72: 2.7 | O72: 0.3 | P72: 2.8 | Q72: 0.3 | R72: 3 | S72: 0.3 | T72: 2.8 | U72: 0.3 | V72: 3.3 | W72: 0.3 | X72: 3.4 | Y72: 0.4 | Z72: 3.2 | AA72: 0.3 | AB72: 2.7 | AC72: 0.3 | AD72: 3.6 | AE72: 0.3 | AH72: 2.6 | AI72: 0.3 | AJ72: 2.4 | AK72: 0.3 | AL72: 2.3 | AM72: 0.3 | AN72: 3 | AO72: 0.3
A73: Formation générale | B73: (2.0) | C73: (0.8) | D73: (2.5) | E73: (1.1) | F73: (2.7) | G73: (1.1) | H73: (2.8) | I73: (1.4) | J73: 3.4 | K73: 0.7 | L73: 3.2 | M73: 0.7 | N73: 3.3 | O73: 0.7 | P73: 3.6 | Q73: 0.8 | R73: 3.4 | S73: 0.7 | T73: 3.4 | U73: 0.7 | V73: 3.9 | W73: 0.9 | X73: 3.2 | Y73: 0.6 | Z73: 4.1 | AA73: 0.8 | AB73: 3.9 | AC73: 0.9 | AD73: 4.3 | AE73: 0.9 | AH73: (3.6) | AI73: (0.8) | AJ73: (2.7) | AK73: (0.7) | AL73: (3.6) | AM73: (0.8) | AN73: 4.1 | AO73: 0.8
A74: Degré tertiaire | B74: 1.4 | C74: 0.4 | D74: 1.6 | E74: 0.4 | F74: 1.1 | G74: 0.3 | H74: 2.2 | I74: 0.5 | J74: 2.2 | K74: 0.3 | L74: 2.3 | M74: 0.3 | N74: 2.4 | O74: 0.3 | P74: 2.2 | Q74: 0.3 | R74: 2.4 | S74: 0.3 | T74: 2.4 | U74: 0.3 | V74: 2.4 | W74: 0.3 | X74: 2.5 | Y74: 0.3 | Z74: 2.4 | AA74: 0.2 | AB74: 2.3 | AC74: 0.2 | AD74: 2.6 | AE74: 0.2 | AH74: 2.2 | AI74: 0.2 | AJ74: 2.2 | AK74: 0.2 | AL74: 2.3 | AM74: 0.2 | AN74: 2.5 | AO74: 0.2
A75: Formation professionnelle supérieure | B75: (1.2) | C75: (0.4) | D75: (1.1) | E75: (0.5) | F75: (0.6) | G75: (0.3) | H75: (1.6) | I75: (0.5) | J75: 1.7 | K75: 0.3 | L75: 1.7 | M75: 0.4 | N75: 1.9 | O75: 0.4 | P75: 1.3 | Q75: 0.3 | R75: 1.7 | S75: 0.3 | T75: 1.9 | U75: 0.4 | V75: 1.9 | W75: 0.4 | X75: 2.1 | Y75: 0.4 | Z75: 1.9 | AA75: 0.3 | AB75: 1.6 | AC75: 0.3 | AD75: 2 | AE75: 0.3 | AH75: 1.5 | AI75: 0.3 | AJ75: 1.7 | AK75: 0.3 | AL75: 1.5 | AM75: 0.3 | AN75: 1.8 | AO75: 0.3
A76: Hautes écoles | B76: (1.9) | C76: (0.7) | D76: 2.2 | E76: 0.7 | F76: 1.8 | G76: 0.6 | H76: 2.7 | I76: 0.9 | J76: 2.5 | K76: 0.4 | L76: 2.8 | M76: 0.4 | N76: 2.7 | O76: 0.4 | P76: 2.9 | Q76: 0.5 | R76: 3 | S76: 0.4 | T76: 2.8 | U76: 0.4 | V76: 2.7 | W76: 0.4 | X76: 2.7 | Y76: 0.4 | Z76: 2.7 | AA76: 0.3 | AB76: 2.8 | AC76: 0.3 | AD76: 3 | AE76: 0.3 | AH76: 2.6 | AI76: 0.3 | AJ76: 2.6 | AK76: 0.3 | AL76: 2.8 | AM76: 0.3 | AN76: 3 | AO76: 0.3
A77: Personnes suisses nées en Suisse | B77: 2 | C77: 0.3 | D77: 1.9 | E77: 0.3 | F77: 1.6 | G77: 0.3 | H77: 2.3 | I77: 0.4 | J77: 2.6 | K77: 0.2 | L77: 2.4 | M77: 0.2 | N77: 2.4 | O77: 0.2 | P77: 2.4 | Q77: 0.2 | R77: 2.5 | S77: 0.2 | T77: 2.5 | U77: 0.2 | V77: 2.6 | W77: 0.2 | X77: 2.6 | Y77: 0.2 | Z77: 2.6 | AA77: 0.2 | AB77: 2.1 | AC77: 0.2 | AD77: 2.7 | AE77: 0.2 | AH77: 2.2 | AI77: 0.2 | AJ77: 2.1 | AK77: 0.2 | AL77: 2.2 | AM77: 0.2 | AN77: 2.3 | AO77: 0.2
A78: École obligatoire | B78: (4.4) | C78: (1.5) | D78: (4.1) | E78: (1.6) | F78: (3.0) | G78: (1.4) | H78: (4.2) | I78: (1.9) | J78: 4.1 | K78: 0.9 | L78: 4.8 | M78: 1.1 | N78: 5 | O78: 1.2 | P78: (4.6) | Q78: (1.2) | R78: 5.7 | S78: 1.3 | T78: (5.0) | U78: (1.4) | V78: (4.9) | W78: (1.5) | X78: (5.1) | Y78: (1.6) | Z78: (5.4) | AA78: (1.6) | AB78: (4.0) | AC78: (1.2) | AD78: (4.2) | AE78: (1.4) | AH78: (7.1) | AI78: (1.8) | AJ78: (6.6) | AK78: (1.8) | AL78: (6.2) | AM78: (1.6) | AN78: (3.9) | AO78: (1.3)
A79: Degré secondaire II | B79: 2.2 | C79: 0.4 | D79: 1.9 | E79: 0.3 | F79: 2 | G79: 0.4 | H79: 2.3 | I79: 0.5 | J79: 3 | K79: 0.3 | L79: 2.5 | M79: 0.2 | N79: 2.5 | O79: 0.2 | P79: 2.5 | Q79: 0.3 | R79: 2.7 | S79: 0.3 | T79: 2.6 | U79: 0.3 | V79: 3.1 | W79: 0.3 | X79: 3 | Y79: 0.3 | Z79: 2.9 | AA79: 0.3 | AB79: 2.3 | AC79: 0.3 | AD79: 3.2 | AE79: 0.3 | AH79: 2.3 | AI79: 0.3 | AJ79: 2.1 | AK79: 0.3 | AL79: 2.2 | AM79: 0.3 | AN79: 2.6 | AO79: 0.3
A80: Formation professionnelle initiale | B80: 2.3 | C80: 0.4 | D80: 1.9 | E80: 0.4 | F80: 2 | G80: 0.4 | H80: 2.3 | I80: 0.5 | J80: 3 | K80: 0.3 | L80: 2.5 | M80: 0.3 | N80: 2.5 | O80: 0.3 | P80: 2.5 | Q80: 0.3 | R80: 2.7 | S80: 0.3 | T80: 2.5 | U80: 0.3 | V80: 3 | W80: 0.4 | X80: 3 | Y80: 0.4 | Z80: 2.7 | AA80: 0.3 | AB80: 2.1 | AC80: 0.3 | AD80: 3.2 | AE80: 0.4 | AH80: 2.2 | AI80: 0.3 | AJ80: 2.1 | AK80: 0.3 | AL80: 2 | AM80: 0.3 | AN80: 2.4 | AO80: 0.3
A81: Formation générale | B81: (1.5) | C81: (0.7) | D81: (1.8) | E81: (1.0) | F81: (2.3) | G81: (1.2) | H81: (2.4) | I81: (1.6) | J81: (2.5) | K81: (0.7) | L81: (2.4) | M81: (0.7) | N81: (2.4) | O81: (0.7) | P81: (2.7) | Q81: (0.8) | R81: (2.5) | S81: (0.7) | T81: (2.7) | U81: (0.8) | V81: (3.5) | W81: (1.0) | X81: (2.5) | Y81: (0.6) | Z81: (4.0) | AA81: (1.0) | AB81: (3.4) | AC81: (1.0) | AD81: (3.2) | AE81: (0.9) | AH81: (2.4) | AI81: (0.8) | AJ81: (2.4) | AK81: (0.8) | AL81: (3.3) | AM81: (0.9) | AN81: (3.5) | AO81: (0.9)
A82: Degré tertiaire | B82: 1.2 | C82: 0.4 | D82: 1.4 | E82: 0.4 | F82: (0.8) | G82: (0.3) | H82: 2.1 | I82: 0.6 | J82: 1.8 | K82: 0.3 | L82: 2 | M82: 0.3 | N82: 1.9 | O82: 0.3 | P82: 1.9 | Q82: 0.3 | R82: 2 | S82: 0.3 | T82: 2.1 | U82: 0.3 | V82: 1.9 | W82: 0.3 | X82: 2 | Y82: 0.3 | Z82: 2 | AA82: 0.2 | AB82: 1.8 | AC82: 0.2 | AD82: 2.1 | AE82: 0.3 | AH82: 1.7 | AI82: 0.2 | AJ82: 1.7 | AK82: 0.2 | AL82: 2 | AM82: 0.2 | AN82: 2 | AO82: 0.2
A83: Formation professionnelle supérieure | B83: (1.1) | C83: (0.4) | D83: (1.0) | E83: (0.5) | F83: (0.4) | G83: (0.2) | H83: (1.5) | I83: (0.6) | J83: 1.6 | K83: 0.3 | L83: 1.6 | M83: 0.4 | N83: 1.7 | O83: 0.4 | P83: 1.2 | Q83: 0.3 | R83: 1.5 | S83: 0.3 | T83: 1.7 | U83: 0.4 | V83: 1.6 | W83: 0.3 | X83: 2 | Y83: 0.4 | Z83: 1.8 | AA83: 0.4 | AB83: 1.2 | AC83: 0.3 | AD83: 1.7 | AE83: 0.3 | AH83: (1.4) | AI83: (0.3) | AJ83: (1.3) | AK83: (0.3) | AL83: (1.2) | AM83: (0.3) | AN83: 1.5 | AO83: 0.3
A84: Hautes écoles | B84: (1.6) | C84: (0.7) | D84: (1.9) | E84: (0.8) | F84: (1.3) | G84: (0.6) | H84: (2.6) | I84: (1.0) | J84: 2 | K84: 0.4 | L84: 2.3 | M84: 0.5 | N84: 2 | O84: 0.4 | P84: 2.4 | Q84: 0.5 | R84: 2.4 | S84: 0.5 | T84: 2.4 | U84: 0.5 | V84: 2.2 | W84: 0.4 | X84: 2.1 | Y84: 0.4 | Z84: 2.1 | AA84: 0.3 | AB84: 2.3 | AC84: 0.4 | AD84: 2.5 | AE84: 0.4 | AH84: 1.9 | AI84: 0.3 | AJ84: 2 | AK84: 0.3 | AL84: 2.5 | AM84: 0.3 | AN84: 2.4 | AO84: 0.3
A85: Personnes naturalisées arrivées en Suisse jusqu'à l'âge de 16 ans | B85: (3.0) | C85: (1.1) | D85: (4.1) | E85: (1.5) | F85: (2.4) | G85: (0.9) | H85: (3.7) | I85: (1.3) | J85: 5.3 | K85: 1 | L85: 4.8 | M85: 0.9 | N85: 4.3 | O85: 0.8 | P85: 5.3 | Q85: 0.9 | R85: 5 | S85: 0.8 | T85: 4.2 | U85: 0.7 | V85: 4.5 | W85: 0.7 | X85: 4.7 | Y85: 0.8 | Z85: 4.9 | AA85: 0.8 | AB85: 5 | AC85: 0.8 | AD85: 5 | AE85: 0.8 | AH85: 4.6 | AI85: 0.7 | AJ85: 3.9 | AK85: 0.6 | AL85: 3.8 | AM85: 0.6 | AN85: 5.9 | AO85: 0.8
...
