Workbook

Sheet T5
A1: Sprache / Langue / Lingua / Language
A8: =VLOOKUP("<T5_Ti>",Uebersetzungen!$B$3:$F$28,Uebersetzungen!B$2+1,FALSE) -> Die Gewichtung der Subindizes (Anteil in %)
A9: =VLOOKUP("<T5_UTi>",Uebersetzungen!$B$3:$F$28,Uebersetzungen!B$2+1,FALSE) -> Schweizerischer Immobilienpreisindex, IMPI
A10: =VLOOKUP("<T5_SpaltenTitel_1>",Uebersetzungen!$B$3:$F$28,Uebersetzungen!B$2+1,FALSE) -> Totalindex und Subindizes | B10: 2026 | C10: 2025 | D10: 2024 | E10: 2023 | F10: 2022 | G10: 2021 | H10: 2020 | I10: 2019 | J10: 2018 | K10: 2017
A11: =VLOOKUP("<Zeilentitel_1>",Uebersetzungen!$B$3:$F$28,Uebersetzungen!B$2+1,FALSE) -> Total | B11: 100 | C11: 100 | D11: 100 | E11: 100 | F11: 100 | G11: 100 | H11: 100 | I11: 100 | J11: 100 | K11: 100
A12: =VLOOKUP("<Zeilentitel_4>",Uebersetzungen!$B$3:$F$28,Uebersetzungen!B$2+1,FALSE) -> GemeindeTyp 1 | B12: 30.532 | C12: 30.809 | D12: 28.871 | E12: 32.233 | F12: 29.183 | G12: 30.065 | H12: 31.321 | I12: 30.131 | J12: 29.604 | K12: 29.604
A13: =VLOOKUP("<Zeilentitel_5>",Uebersetzungen!$B$3:$F$28,Uebersetzungen!B$2+1,FALSE) -> GemeindeTyp 2 | B13: 19.107 | C13: 19.499 | D13: 18.977 | E13: 18.474 | F13: 18.545 | G13: 18.452 | H13: 18.596 | I13: 19.327 | J13: 19.372 | K13: 19.372
A14: =VLOOKUP("<Zeilentitel_6>",Uebersetzungen!$B$3:$F$28,Uebersetzungen!B$2+1,FALSE) -> GemeindeTyp 3 | B14: 10.669 | C14: 10.476 | D14: 9.606 | E14: 8.689 | F14: 9.128 | G14: 9.391 | H14: 9.127 | I14: 9.367 | J14: 8.768 | K14: 8.768
A15: =VLOOKUP("<Zeilentitel_7>",Uebersetzungen!$B$3:$F$28,Uebersetzungen!B$2+1,FALSE) -> GemeindeTyp 4 | B15: 25.729 | C15: 25.396 | D15: 26.335 | E15: 25.073 | F15: 26.413 | G15: 25.922 | H15: 26.117 | I15: 25.517 | J15: 26.099 | K15: 26.099
A16: =VLOOKUP("<Zeilentitel_8>",Uebersetzungen!$B$3:$F$28,Uebersetzungen!B$2+1,FALSE) -> GemeindeTyp 5 | B16: 13.963 | C16: 13.82 | D16: 16.211 | E16: 15.531 | F16: 16.731 | G16: 16.17 | H16: 14.839 | I16: 15.658 | J16: 16.157 | K16: 16.157
A17: =VLOOKUP("<Zeilentitel_2>",Uebersetzungen!$B$3:$F$28,Uebersetzungen!B$2+1,FALSE) -> EFH | B17: 46.042 | C17: 46.835 | D17: 48.179 | E17: 47.798 | F17: 47.104 | G17: 47.469 | H17: 48.14 | I17: 49.125 | J17: 50.493 | K17: 50.493
A18: =VLOOKUP("<Zeilentitel_4>",Uebersetzungen!$B$3:$F$28,Uebersetzungen!B$2+1,FALSE) -> GemeindeTyp 1 | B18: 12.248 | C18: 12.752 | D18: 12.183 | E18: 13.768 | F18: 12.399 | G18: 12.808 | H18: 13.916 | I18: 13.269 | J18: 13.678 | K18: 13.678
A19: =VLOOKUP("<Zeilentitel_5>",Uebersetzungen!$B$3:$F$28,Uebersetzungen!B$2+1,FALSE) -> GemeindeTyp 2 | B19: 7.892 | C19: 8.321 | D19: 8.195 | E19: 7.824 | F19: 7.812 | G19: 7.91 | H19: 7.463 | I19: 8.426 | J19: 8.801 | K19: 8.801
A20: =VLOOKUP("<Zeilentitel_6>",Uebersetzungen!$B$3:$F$28,Uebersetzungen!B$2+1,FALSE) -> GemeindeTyp 3 | B20: 4.396 | C20: 4.409 | D20: 4.039 | E20: 3.61 | F20: 3.593 | G20: 3.824 | H20: 3.785 | I20: 3.764 | J20: 3.904 | K20: 3.904
A21: =VLOOKUP("<Zeilentitel_7>",Uebersetzungen!$B$3:$F$28,Uebersetzungen!B$2+1,FALSE) -> GemeindeTyp 4 | B21: 13.275 | C21: 12.946 | D21: 13.771 | E21: 13.25 | F21: 13.713 | G21: 13.419 | H21: 14.036 | I21: 14.105 | J21: 14.074 | K21: 14.074
A22: =VLOOKUP("<Zeilentitel_8>",Uebersetzungen!$B$3:$F$28,Uebersetzungen!B$2+1,FALSE) -> GemeindeTyp 5 | B22: 8.231 | C22: 8.407 | D22: 9.991 | E22: 9.346 | F22: 9.587 | G22: 9.508 | H22: 8.94 | I22: 9.561 | J22: 10.036 | K22: 10.036
A23: =VLOOKUP("<Zeilentitel_3>",Uebersetzungen!$B$3:$F$28,Uebersetzungen!B$2+1,FALSE) -> EGW | B23: 53.958 | C23: 53.165 | D23: 51.821 | E23: 52.202 | F23: 52.896 | G23: 52.531 | H23: 51.86 | I23: 50.875 | J23: 49.507 | K23: 49.507
A24: =VLOOKUP("<Zeilentitel_4>",Uebersetzungen!$B$3:$F$28,Uebersetzungen!B$2+1,FALSE) -> GemeindeTyp 1 | B24: 18.284 | C24: 18.057 | D24: 16.688 | E24: 18.465 | F24: 16.784 | G24: 17.257 | H24: 17.405 | I24: 16.862 | J24: 15.926 | K24: 15.926
A25: =VLOOKUP("<Zeilentitel_5>",Uebersetzungen!$B$3:$F$28,Uebersetzungen!B$2+1,FALSE) -> GemeindeTyp 2 | B25: 11.215 | C25: 11.178 | D25: 10.782 | E25: 10.65 | F25: 10.733 | G25: 10.542 | H25: 11.134 | I25: 10.901 | J25: 10.571 | K25: 10.571
A26: =VLOOKUP("<Zeilentitel_6>",Uebersetzungen!$B$3:$F$28,Uebersetzungen!B$2+1,FALSE) -> GemeindeTyp 3 | B26: 6.273 | C26: 6.067 | D26: 5.567 | E26: 5.079 | F26: 5.535 | G26: 5.567 | H26: 5.342 | I26: 5.603 | J26: 4.864 | K26: 4.864
A27: =VLOOKUP("<Zeilentitel_7>",Uebersetzungen!$B$3:$F$28,Uebersetzungen!B$2+1,FALSE) -> GemeindeTyp 4 | B27: 12.454 | C27: 12.45 | D27: 12.564 | E27: 11.823 | F27: 12.7 | G27: 12.503 | H27: 12.08 | I27: 11.412 | J27: 12.025 | K27: 12.025
A28: =VLOOKUP("<Zeilentitel_8>",Uebersetzungen!$B$3:$F$28,Uebersetzungen!B$2+1,FALSE) -> GemeindeTyp 5 | B28: 5.732 | C28: 5.413 | D28: 6.22 | E28: 6.185 | F28: 7.144 | G28: 6.662 | H28: 5.899 | I28: 6.097 | J28: 6.121 | K28: 6.121
A29: =VLOOKUP("<T5_Bemerkung>",Uebersetzungen!$B$3:$F$28,Uebersetzungen!B$2+1,FALSE) -> * Bei der Berechnung des Gesamtindex werden die einzelnen Zellen aggregiert. Dabei werden sie anhand ihres Anteils am im Vorjahr erhobenen Transaktionsvolumen gewichtet.
A31: =VLOOKUP("<Legende_1>",Uebersetzungen!$B$3:$F$28,Uebersetzungen!B$2+1,FALSE) -> Legende:
A32: =VLOOKUP("<Legende_2>",Uebersetzungen!$B$3:$F$28,Uebersetzungen!B$2+1,FALSE) -> Total - Wohneigentum (EFH und EGW)
A33: =VLOOKUP("<Legende_3>",Uebersetzungen!$B$3:$F$28,Uebersetzungen!B$2+1,FALSE) -> EFH - Einfamilienhäuser
A34: =VLOOKUP("<Legende_4>",Uebersetzungen!$B$3:$F$28,Uebersetzungen!B$2+1,FALSE) -> EGW - Eigentumswohnungen
A35: =VLOOKUP("<Legende_5>",Uebersetzungen!$B$3:$F$28,Uebersetzungen!B$2+1,FALSE) -> GemeindeTyp 1 - Städtische Gemeinde einer grossen Agglomeration
A36: =VLOOKUP("<Legende_6>",Uebersetzungen!$B$3:$F$28,Uebersetzungen!B$2+1,FALSE) -> GemeindeTyp 2 - Städtische Gemeinde einer mittelgrossen Agglomeration
A37: =VLOOKUP("<Legende_7>",Uebersetzungen!$B$3:$F$28,Uebersetzungen!B$2+1,FALSE) -> GemeindeTyp 3 - Städtische Gemeinde einer kleinen oder ausserhalb einer Agglomeration
A38: =VLOOKUP("<Legende_8>",Uebersetzungen!$B$3:$F$28,Uebersetzungen!B$2+1,FALSE) -> GemeindeTyp 4 - Intermediäre Gemeinde
A39: =VLOOKUP("<Legende_9>",Uebersetzungen!$B$3:$F$28,Uebersetzungen!B$2+1,FALSE) -> GemeindeTyp 5 - Ländliche Gemeinde
A41: =VLOOKUP("<Quelle>",Uebersetzungen!$B$3:$F$28,Uebersetzungen!B$2+1,FALSE) -> Quelle: BFS - Schweizerischer Wohnimmobilienpreisindex, IMPI
A42: =VLOOKUP("<CopyRight>",Uebersetzungen!$B$3:$F$28,Uebersetzungen!B$2+1,FALSE) -> © BFS 2026
A43: =VLOOKUP("<Auskunft>",Uebersetzungen!$B$3:$F$28,Uebersetzungen!B$2+1,FALSE) -> Auskunft: Bundesamt für Statistik (BFS), IMPI@bfs.admin.ch, Tel. +41 58 463 60 69

Sheet Uebersetzungen
A1: Tabelle | B1: Code | C1: DE | D1: FR | E1: IT | F1: EN
A2: Sprache | B2: 1
A3: T6 | B3: <T5_Ti> | C3: Die Gewichtung der Subindizes (Anteil in %) | D3: La pondération des sous-indices (part en %) | E3: Ponderazione dei sottoindici (quota in %) | F3: The weights of the subindices (share in %)
B4: <T5_UTi> | C4: Schweizerischer Immobilienpreisindex, IMPI | D4: Indice suisse des prix de l'immobilier résidentiel, IMPI | E4: Indice svizzero dei prezzi degli immobili residenziali, IMPI | F4: Swiss Residential Property Price Index, IMPI
B5: <T5_SpaltenTitel_1> | C5: Totalindex und Subindizes | D5: Indice total et sous-indices | E5: Indice totale e sottoindici | F5: Total index and sub-indices
B6: <T5_Bemerkung> | C6: * Bei der Berechnung des Gesamtindex werden die einzelnen Zellen aggregiert. Dabei werden sie anhand ihres Anteils am im Vorjahr erhobenen Transaktionsvolumen gewichtet. | D6: * Les strates individuelles sont agrégées jusqu'au niveau de l'indice total. Elles sont pondérées en fonction de leur part dans le volume total des transactions relevées l'année précédente. | E6: * I singoli strati vengono aggregati nel calcolo dell'indice totale. Essi sono ponderati in base alla loro quota di volume delle transazioni rilevate nell'anno precedente. | F6: * When calculating the total index, the individual strata are aggregated. They are weighted according to their share of the transaction volume collected in the previous year.
A8: T1-T6 | B8: <Zeilentitel_1> | C8: Total | D8: Total | E8: Totale | F8: Total
B9: <Zeilentitel_2> | C9: EFH | D9: MI | E9: CU | F9: SFH
B10: <Zeilentitel_3> | C10: EGW | D10: PPE | E10: APP | F10: CONDO
B11: <Zeilentitel_4> | C11: GemeindeTyp 1 | D11: Type de communes 1 | E11: Tipo di Comune 1 | F11: Type of municipality 1
B12: <Zeilentitel_5> | C12: GemeindeTyp 2 | D12: Type de communes 2 | E12: Tipo di Comune 2 | F12: Type of municipality 2
B13: <Zeilentitel_6> | C13: GemeindeTyp 3 | D13: Type de communes 3 | E13: Tipo di Comune 3 | F13: Type of municipality 3
B14: <Zeilentitel_7> | C14: GemeindeTyp 4 | D14: Type de communes 4 | E14: Tipo di Comune 4 | F14: Type of municipality 4
B15: <Zeilentitel_8> | C15: GemeindeTyp 5 | D15: Type de communes 5 | E15: Tipo di Comune 5 | F15: Type of municipality 5
B17: <Legende_1> | C17: Legende: | D17: Légende: | E17: Legenda: | F17: Legend:
B18: <Legende_2> | C18: Total - Wohneigentum (EFH und EGW) | D18: Total - Logements en propriété (MI et PPE) | E18: Totale - Proprietà residenziale (CU e APP) | F18: Total - Residential property (SFH and CONDO)
B19: <Legende_3> | C19: EFH - Einfamilienhäuser | D19: MI - Maisons individuelles | E19: CU - Case unifamiliari | F19: SFH - Single-family houses
B20: <Legende_4> | C20: EGW - Eigentumswohnungen | D20: PPE - Appartements en propriété | E20: APP - Appartementi di proprietà | F20: CONDO - Condominiums
B21: <Legende_5> | C21: GemeindeTyp 1 - Städtische Gemeinde einer grossen Agglomeration | D21: Type de communes 1 - Commune urbaine d'une grande agglomération | E21: Tipo di Comune 1 - Comune urbano di un grande agglomerato | F21: Type of municipality 1 - Urban municipality of a large agglomeration
... B28: <Auskunft> | C28: Auskunft: Bundesamt für Statistik (BFS), IMPI@bfs.admin.ch, Tel. +41 58 463 60 69 | D28: Renseignements: Office fédéral de la statistique (OFS), IMPI@bfs.admin.ch, Tel. +41 58 463 60 69 | E28: Informazioni: Ufficio federale di statistica (UST), IMPI@bfs.admin.ch, tel. +41 58 463 60 69 | F28: Information: Federal Statistical Office (FSO), IMPI@bfs.admin.ch, Tel. +41 58 463 60 69
