Workbook

Sheet T3
A1: Sprache / Langue / Lingua / Language
A7: =VLOOKUP("<Titel>",Uebersetzungen!$B$3:$F$66,Uebersetzungen!B$2+1,FALSE) -> Veränderungsraten gegenüber dem Vorquartal (in %), 2. Quartal 2017 - 1. Quartal 2026
A8: =VLOOKUP("<Untertitel_1>",Uebersetzungen!$B$3:$F$66,Uebersetzungen!B$2+1,FALSE) -> Schweizerischer Wohnimmobilienpreisindex, IMPI
B10: =VLOOKUP("<Untertitel_2>",Uebersetzungen!$B$3:$F$74,Uebersetzungen!$B$2+1,FALSE) -> Wohneigentum | H10: =VLOOKUP("<Untertitel_3>",Uebersetzungen!$B$3:$F$74,Uebersetzungen!$B$2+1,FALSE) -> Einfamilienhäuser | N10: =VLOOKUP("<Untertitel_4>",Uebersetzungen!$B$3:$F$74,Uebersetzungen!$B$2+1,FALSE) -> Eigentumswohnungen
A11: =VLOOKUP("<ZeilenTitel_1>",Uebersetzungen!$B$3:$F$67,Uebersetzungen!$B$2+1,FALSE) -> Totalindex und Subindizes (Basis: Q4 2019 = 100) | B11: =VLOOKUP("<Spaltentitel_1>",Uebersetzungen!$B$3:$F$71,Uebersetzungen!$B$2+1,FALSE) -> Total | C11: =VLOOKUP("<Spaltentitel_4>",Uebersetzungen!$B$3:$F$71,Uebersetzungen!$B$2+1,FALSE) -> GemeindeTyp 1 | D11: =VLOOKUP("<Spaltentitel_5>",Uebersetzungen!$B$3:$F$71,Uebersetzungen!$B$2+1,FALSE) -> GemeindeTyp 2 | E11: =VLOOKUP("<Spaltentitel_6>",Uebersetzungen!$B$3:$F$71,Uebersetzungen!$B$2+1,FALSE) -> GemeindeTyp 3 | F11: =VLOOKUP("<Spaltentitel_7>",Uebersetzungen!$B$3:$F$71,Uebersetzungen!$B$2+1,FALSE) -> GemeindeTyp 4 | G11: =VLOOKUP("<Spaltentitel_8>",Uebersetzungen!$B$3:$F$71,Uebersetzungen!$B$2+1,FALSE) -> GemeindeTyp 5 | H11: =VLOOKUP("<Spaltentitel_2>",Uebersetzungen!$B$3:$F$71,Uebersetzungen!$B$2+1,FALSE) -> EFH | I11: =VLOOKUP("<Spaltentitel_4>",Uebersetzungen!$B$3:$F$71,Uebersetzungen!$B$2+1,FALSE) -> GemeindeTyp 1 | J11: =VLOOKUP("<Spaltentitel_5>",Uebersetzungen!$B$3:$F$71,Uebersetzungen!$B$2+1,FALSE) -> GemeindeTyp 2 | K11: =VLOOKUP("<Spaltentitel_6>",Uebersetzungen!$B$3:$F$71,Uebersetzungen!$B$2+1,FALSE) -> GemeindeTyp 3 | L11: =VLOOKUP("<Spaltentitel_7>",Uebersetzungen!$B$3:$F$71,Uebersetzungen!$B$2+1,FALSE) -> GemeindeTyp 4 | M11: =VLOOKUP("<Spaltentitel_8>",Uebersetzungen!$B$3:$F$71,Uebersetzungen!$B$2+1,FALSE) -> GemeindeTyp 5 | N11: =VLOOKUP("<Spaltentitel_3>",Uebersetzungen!$B$3:$F$71,Uebersetzungen!$B$2+1,FALSE) -> EGW | O11: =VLOOKUP("<Spaltentitel_4>",Uebersetzungen!$B$3:$F$71,Uebersetzungen!$B$2+1,FALSE) -> GemeindeTyp 1 | P11: =VLOOKUP("<Spaltentitel_5>",Uebersetzungen!$B$3:$F$71,Uebersetzungen!$B$2+1,FALSE) -> GemeindeTyp 2 | Q11: =VLOOKUP("<Spaltentitel_6>",Uebersetzungen!$B$3:$F$71,Uebersetzungen!$B$2+1,FALSE) -> GemeindeTyp 3 | R11: =VLOOKUP("<Spaltentitel_7>",Uebersetzungen!$B$3:$F$71,Uebersetzungen!$B$2+1,FALSE) -> GemeindeTyp 4 | S11: =VLOOKUP("<Spaltentitel_8>",Uebersetzungen!$B$3:$F$71,Uebersetzungen!$B$2+1,FALSE) -> GemeindeTyp 5
A12: =VLOOKUP("<ZeilenTitel_2>",Uebersetzungen!$B$3:$F$74,Uebersetzungen!$B$2+1,FALSE) -> Q2 2017 | B12: 1.4 | C12: 0.7 | D12: 2.3 | E12: 0.8 | F12: 0.5 | G12: 3 | H12: 1.9 | I12: 0.5 | J12: 4 | K12: -0.1 | L12: 0.3 | M12: 4.7 | N12: 0.8 | O12: 1 | P12: 0.9 | Q12: 1.6 | R12: 0.6 | S12: 0.3
A13: =VLOOKUP("<ZeilenTitel_3>",Uebersetzungen!$B$3:$F$74,Uebersetzungen!$B$2+1,FALSE) -> Q3 2017 | B13: 1.9 | C13: 3.8 | D13: 0.7 | E13: 1.8 | F13: 1.8 | G13: 0.2 | H13: 2.2 | I13: 4.6 | J13: -0.4 | K13: 3.7 | L13: 2.6 | M13: 0.4 | N13: 1.6 | O13: 3.1 | P13: 1.7 | Q13: 0.3 | R13: 0.9 | S13: -0.1
A14: =VLOOKUP("<ZeilenTitel_4>",Uebersetzungen!$B$3:$F$74,Uebersetzungen!$B$2+1,FALSE) -> Q4 2017 | B14: -0.2 | C14: -0.9 | D14: 2 | E14: 1 | F14: -1.2 | G14: -0.6 | H14: -1.2 | I14: -1.5 | J14: 0 | K14: -0.5 | L14: -1.8 | M14: -1.2 | N14: 0.8 | O14: -0.4 | P14: 3.6 | Q14: 2.3 | R14: -0.5 | S14: 0.4
A15: =VLOOKUP("<ZeilenTitel_5>",Uebersetzungen!$B$3:$F$74,Uebersetzungen!$B$2+1,FALSE) -> Q1 2018 | B15: -0.1 | C15: -0.3 | D15: -0.4 | E15: -1.4 | F15: 1.3 | G15: -0.7 | H15: 0 | I15: -1.5 | J15: 0.4 | K15: 1.2 | L15: 1.3 | M15: -0.5 | N15: -0.2 | O15: 0.8 | P15: -1.1 | Q15: -3.5 | R15: 1.2 | S15: -0.9
A16: =VLOOKUP("<ZeilenTitel_6>",Uebersetzungen!$B$3:$F$74,Uebersetzungen!$B$2+1,FALSE) -> Q2 2018 | B16: 1.6 | C16: 1.5 | D16: 1.4 | E16: 1.9 | F16: 0.6 | G16: 3.3 | H16: 1.9 | I16: 2 | J16: 2.8 | K16: 0.7 | L16: 0 | M16: 4.2 | N16: 1.2 | O16: 1.2 | P16: 0.2 | Q16: 2.9 | R16: 1.4 | S16: 1.9
A17: =VLOOKUP("<ZeilenTitel_7>",Uebersetzungen!$B$3:$F$74,Uebersetzungen!$B$2+1,FALSE) -> Q3 2018 | B17: 0.6 | C17: 1.6 | D17: 1.7 | E17: 0 | F17: 0.3 | G17: -1.4 | H17: 1.1 | I17: 3.8 | J17: 0.9 | K17: -0.4 | L17: 1.3 | M17: -2 | N17: 0.2 | O17: -0.3 | P17: 2.3 | Q17: 0.3 | R17: -0.9 | S17: -0.4
A18: =VLOOKUP("<ZeilenTitel_8>",Uebersetzungen!$B$3:$F$74,Uebersetzungen!$B$2+1,FALSE) -> Q4 2018 | B18: 1.5 | C18: -0.1 | D18: 0 | E18: 2.5 | F18: 2.9 | G18: 3.4 | H18: 1.5 | I18: -0.1 | J18: 1.3 | K18: 0.8 | L18: 2.7 | M18: 2.4 | N18: 1.5 | O18: 0 | P18: -1.1 | Q18: 4 | R18: 3 | S18: 5
A19: =VLOOKUP("<ZeilenTitel_9>",Uebersetzungen!$B$3:$F$74,Uebersetzungen!$B$2+1,FALSE) -> Q1 2019 | B19: 1 | C19: 0.9 | D19: 1 | E19: -0.5 | F19: 1.9 | G19: 0.6 | H19: 0.5 | I19: -0.6 | J19: -0.2 | K19: -0.1 | L19: 1.5 | M19: 1.3 | N19: 1.5 | O19: 2 | P19: 1.9 | Q19: -0.8 | R19: 2.5 | S19: -0.6
A20: =VLOOKUP("<ZeilenTitel_10>",Uebersetzungen!$B$3:$F$74,Uebersetzungen!$B$2+1,FALSE) -> Q2 2019 | B20: 0.5 | C20: 2.3 | D20: 0.6 | E20: 1.5 | F20: -1.3 | G20: -0.6 | H20: 1.2 | I20: 3 | J20: 1.2 | K20: 2.1 | L20: -0.7 | M20: 1.1 | N20: -0.1 | O20: 1.7 | P20: 0.2 | Q20: 1.1 | R20: -2 | S20: -3.2
A21: =VLOOKUP("<ZeilenTitel_11>",Uebersetzungen!$B$3:$F$71,Uebersetzungen!$B$2+1,FALSE) -> Q3 2019 | B21: 0.1 | C21: -0.8 | D21: 1.7 | E21: -1.1 | F21: 0.4 | G21: 0.3 | H21: 0.4 | I21: -0.7 | J21: 2.2 | K21: -0.2 | L21: 0.8 | M21: 0 | N21: -0.1 | O21: -0.8 | P21: 1.4 | Q21: -1.7 | R21: -0.1 | S21: 1
A22: =VLOOKUP("<ZeilenTitel_12>",Uebersetzungen!$B$3:$F$71,Uebersetzungen!$B$2+1,FALSE) -> Q4 2019 | B22: 1.8 | C22: 3.1 | D22: -0.4 | E22: 2 | F22: 1.3 | G22: 2.5 | H22: 1.4 | I22: 2.6 | J22: -0.5 | K22: 2 | L22: 1.1 | M22: 1.8 | N22: 2.1 | O22: 3.5 | P22: -0.4 | Q22: 2 | R22: 1.6 | S22: 3.7
A23: =VLOOKUP("<ZeilenTitel_13>",Uebersetzungen!$B$3:$F$71,Uebersetzungen!$B$2+1,FALSE) -> Q1 2020 | B23: -0.8 | C23: -1.1 | D23: -0.7 | E23: -1.7 | F23: 0 | G23: -0.8 | H23: -0.5 | I23: 0.4 | J23: -0.8 | K23: -1.2 | L23: -1 | M23: -0.8 | N23: -0.9 | O23: -2.4 | P23: -0.6 | Q23: -2 | R23: 1.3 | S23: -0.8
A24: =VLOOKUP("<ZeilenTitel_14>",Uebersetzungen!$B$3:$F$71,Uebersetzungen!$B$2+1,FALSE) -> Q2 2020 | B24: 1.4 | C24: 1.7 | D24: 1.7 | E24: 1.6 | F24: 0.9 | G24: 0.7 | H24: 1.1 | I24: 0.1 | J24: 1.2 | K24: 1.3 | L24: 2 | M24: 1 | N24: 1.6 | O24: 3.1 | P24: 2.1 | Q24: 1.8 | R24: -0.3 | S24: 0.4
A25: =VLOOKUP("<ZeilenTitel_15>",Uebersetzungen!$B$3:$F$71,Uebersetzungen!$B$2+1,FALSE) -> Q3 2020 | B25: 0.2 | C25: 0.8 | D25: 0.3 | E25: 0.6 | F25: -1 | G25: 0.9 | H25: 1.1 | I25: 2.6 | J25: 1.2 | K25: 0.9 | L25: -1 | M25: 2.2 | N25: -0.6 | O25: -0.7 | P25: -0.3 | Q25: 0.4 | R25: -1.1 | S25: -1.1
A26: =VLOOKUP("<ZeilenTitel_16>",Uebersetzungen!$B$3:$F$71,Uebersetzungen!$B$2+1,FALSE) -> Q4 2020 | B26: 2.3 | C26: 1.2 | D26: 2.6 | E26: 2.4 | F26: 2.9 | G26: 2.9 | H26: 1.5 | I26: 0.5 | J26: 2.1 | K26: 0.3 | L26: 2.4 | M26: 1.5 | N26: 3.1 | O26: 1.9 | P26: 3 | Q26: 3.9 | R26: 3.5 | S26: 5.2
A27: =VLOOKUP("<ZeilenTitel_17>",Uebersetzungen!$B$3:$F$71,Uebersetzungen!$B$2+1,FALSE) -> Q1 2021 | B27: -0.1 | C27: 0.9 | D27: -0.7 | E27: 0.9 | F27: 0.2 | G27: -2 | H27: 0.1 | I27: 0.7 | J27: -0.9 | K27: 3.2 | L27: 1.3 | M27: -2.7 | N27: -0.2 | O27: 1 | P27: -0.6 | Q27: -0.7 | R27: -0.9 | S27: -1.1
A28: =VLOOKUP("<ZeilenTitel_18>",Uebersetzungen!$B$3:$F$71,Uebersetzungen!$B$2+1,FALSE) -> Q2 2021 | B28: 2.2 | C28: 1.9 | D28: 0.8 | E28: 2.2 | F28: 2.7 | G28: 3.4 | H28: 2.6 | I28: 2.7 | J28: 0.6 | K28: 2 | L28: 2.6 | M28: 4.6 | N28: 1.8 | O28: 1.4 | P28: 1.1 | Q28: 2.4 | R28: 2.9 | S28: 1.7
A29: =VLOOKUP("<ZeilenTitel_19>",Uebersetzungen!$B$3:$F$71,Uebersetzungen!$B$2+1,FALSE) -> Q3 2021 | B29: 2.4 | C29: 3.2 | D29: 2.7 | E29: 1.1 | F29: 1.5 | G29: 2.4 | H29: 2.4 | I29: 1.5 | J29: 3.2 | K29: 3.4 | L29: 2.5 | M29: 2.3 | N29: 2.3 | O29: 4.4 | P29: 2.4 | Q29: -0.5 | R29: 0.4 | S29: 2.7
A30: =VLOOKUP("<ZeilenTitel_20>",Uebersetzungen!$B$3:$F$71,Uebersetzungen!$B$2+1,FALSE) -> Q4 2021 | B30: 2.6 | C30: 0.5 | D30: 5.1 | E30: 2.4 | F30: 2.6 | G30: 4.2 | H30: 2.7 | I30: 1.3 | J30: 6.2 | K30: 2.5 | L30: 1.4 | M30: 3.7 | N30: 2.6 | O30: -0.1 | P30: 4.2 | Q30: 2.3 | R30: 4.1 | S30: 4.8
A31: =VLOOKUP("<ZeilenTitel_21>",Uebersetzungen!$B$3:$F$71,Uebersetzungen!$B$2+1,FALSE) -> Q1 2022 | B31: -0.4 | C31: 2 | D31: -2.5 | E31: -2.9 | F31: 0.6 | G31: -2.3 | H31: 0.6 | I31: 4.9 | J31: -1.4 | K31: -4.2 | L31: 0.6 | M31: -1.7 | N31: -1.2 | O31: -0.1 | P31: -3.3 | Q31: -2.1 | R31: 0.7 | S31: -3.1
A32: =VLOOKUP("<ZeilenTitel_22>",Uebersetzungen!$B$3:$F$71,Uebersetzungen!$B$2+1,FALSE) -> Q2 2022 | B32: 2.7 | C32: 3.7 | D32: 1.1 | E32: 2.8 | F32: 1.6 | G32: 4.2 | H32: 2 | I32: 0.9 | J32: -0.3 | K32: 4.4 | L32: 2.7 | M32: 3.7 | N32: 3.3 | O32: 6 | P32: 2.3 | Q32: 1.8 | R32: 0.3 | S32: 4.8
A33: =VLOOKUP("<ZeilenTitel_23>",Uebersetzungen!$B$3:$F$71,Uebersetzungen!$B$2+1,FALSE) -> Q3 2022 | B33: 1.2 | C33: 1.4 | D33: 1.6 | E33: 1.7 | F33: 2 | G33: -0.8 | H33: 1.4 | I33: 1.1 | J33: 4.3 | K33: 1.8 | L33: 0.8 | M33: 0.1 | N33: 1.1 | O33: 1.6 | P33: -0.4 | Q33: 1.6 | R33: 3.3 | S33: -1.9
A34: =VLOOKUP("<ZeilenTitel_24>",Uebersetzungen!$B$3:$F$71,Uebersetzungen!$B$2+1,FALSE) -> Q4 2022 | B34: 1.2 | C34: -0.5 | D34: 0.9 | E34: 1.9 | F34: 0.9 | G34: 4.8 | H34: 2 | I34: 0.3 | J34: 0.6 | K34: 0.3 | L34: 2.2 | M34: 5.5 | N34: 0.5 | O34: -1.1 | P34: 1 | Q34: 2.9 | R34: -0.5 | S34: 3.8
A35: =VLOOKUP("<ZeilenTitel_25>",Uebersetzungen!$B$3:$F$71,Uebersetzungen!$B$2+1,FALSE) -> Q1 2023 | B35: -1.2 | C35: -0.6 | D35: -0.3 | E35: -0.8 | F35: -1.6 | G35: -3.2 | H35: -1.3 | I35: 0.2 | J35: -0.2 | K35: 0.3 | L35: -1.8 | M35: -4.5 | N35: -1.1 | O35: -1.2 | P35: -0.4 | Q35: -1.5 | R35: -1.2 | S35: -1.4
A36: =VLOOKUP("<ZeilenTitel_26>",Uebersetzungen!$B$3:$F$71,Uebersetzungen!$B$2+1,FALSE) -> Q2 2023 | B36: 1.2 | C36: 1.1 | D36: 1.6 | E36: 1.6 | F36: 0.4 | G36: 1.8 | H36: 0.7 | I36: 0 | J36: 0.6 | K36: 3.4 | L36: 0 | M36: 1.7 | N36: 1.6 | O36: 1.9 | P36: 2.4 | Q36: 0.3 | R36: 0.9 | S36: 1.9
A37: =VLOOKUP("<ZeilenTitel_27>",Uebersetzungen!$B$3:$F$71,Uebersetzungen!$B$2+1,FALSE) -> Q3 2023 | B37: 0.2 | C37: 1.2 | D37: -0.5 | E37: -0.7 | F37: 0.2 | G37: -0.9 | H37: -0.1 | I37: -0.2 | J37: 0.9 | K37: -2.2 | L37: 0.7 | M37: -0.8 | N37: 0.4 | O37: 2.3 | P37: -1.4 | Q37: 0.5 | R37: -0.3 | S37: -0.9
A38: =VLOOKUP("<ZeilenTitel_28>",Uebersetzungen!$B$3:$F$71,Uebersetzungen!$B$2+1,FALSE) -> Q4 2023 | B38: 1.1 | C38: 0 | D38: 0.2 | E38: 1.9 | F38: 2.9 | G38: 1.6 | H38: 0.5 | I38: 2 | J38: -2 | K38: -1.9 | L38: 1.4 | M38: 0.3 | N38: 1.7 | O38: -1.5 | P38: 1.8 | Q38: 4.6 | R38: 4.4 | S38: 3.6
A39: =VLOOKUP("<ZeilenTitel_29>",Uebersetzungen!$B$3:$F$71,Uebersetzungen!$B$2+1,FALSE) -> Q1 2024 | B39: -1 | C39: -0.9 | D39: 0.5 | E39: 1 | F39: -2.1 | G39: -2.2 | H39: -0.7 | I39: -2.6 | J39: 0.6 | K39: 4.6 | L39: -0.2 | M39: -2.1 | N39: -1.3 | O39: 0.3 | P39: 0.5 | Q39: -1.6 | R39: -4.2 | S39: -2.4
A40: =VLOOKUP("<ZeilenTitel_30>",Uebersetzungen!$B$3:$F$71,Uebersetzungen!$B$2+1,FALSE) -> Q2 2024 | B40: 1.1 | C40: 0.7 | D40: 0.4 | E40: 1 | F40: 1.2 | G40: 2.4 | H40: 1.2 | I40: 2 | J40: 0.9 | K40: 0.8 | L40: 0.2 | M40: 2.3 | N40: 0.9 | O40: -0.3 | P40: 0 | Q40: 1.2 | R40: 2.4 | S40: 2.7
A41: =VLOOKUP("<ZeilenTitel_31>",Uebersetzungen!$B$3:$F$71,Uebersetzungen!$B$2+1,FALSE) -> Q3 2024 | B41: 0.5 | C41: 1 | D41: 1.5 | E41: 0.2 | F41: 0.1 | G41: -0.5 | H41: 0.3 | I41: 0.7 | J41: 0.7 | K41: 0 | L41: -0.1 | M41: 0.4 | N41: 0.7 | O41: 1.3 | P41: 2 | Q41: 0.4 | R41: 0.3 | S41: -1.9
A42: =VLOOKUP("<ZeilenTitel_32>",Uebersetzungen!$B$3:$F$71,Uebersetzungen!$B$2+1,FALSE) -> Q4 2024 | B42: 1.8 | C42: 3 | D42: 0.2 | E42: 2.4 | F42: 1.1 | G42: 1.9 | H42: 0.5 | I42: 0.7 | J42: 0.2 | K42: 1 | L42: 0.3 | M42: 0.7 | N42: 2.9 | O42: 4.7 | P42: 0.2 | Q42: 3.5 | R42: 2.1 | S42: 3.8
A43: =VLOOKUP("<ZeilenTitel_33>",Uebersetzungen!$B$3:$F$71,Uebersetzungen!$B$2+1,FALSE) -> Q1 2025 | B43: 0.7 | C43: -0.2 | D43: 1.7 | E43: -0.9 | F43: 2 | G43: 0.4 | H43: 1.5 | I43: -0.4 | J43: 2.3 | K43: 0.1 | L43: 3.4 | M43: 1.1 | N43: 0.1 | O43: -0.1 | P43: 1.2 | Q43: -1.7 | R43: 0.5 | S43: -0.7
A44: =VLOOKUP("<ZeilenTitel_34>",Uebersetzungen!$B$3:$F$71,Uebersetzungen!$B$2+1,FALSE) -> Q2 2025 | B44: 1.9 | C44: 2.6 | D44: 1.5 | E44: 1.8 | F44: 0.6 | G44: 3.2 | H44: 1.5 | I44: 2.8 | J44: 1.2 | K44: 1.9 | L44: -0.9 | M44: 3.4 | N44: 2.2 | O44: 2.5 | P44: 1.7 | Q44: 1.7 | R44: 2.2 | S44: 3
A45: =VLOOKUP("<ZeilenTitel_35>",Uebersetzungen!$B$3:$F$71,Uebersetzungen!$B$2+1,FALSE) -> Q3 2025 | B45: 0.8 | C45: -0.9 | D45: 1.2 | E45: 1.9 | F45: 2.5 | G45: 0.2 | H45: 1.5 | I45: -0.8 | J45: 3 | K45: 2.6 | L45: 3.7 | M45: -0.3 | N45: 0.1 | O45: -0.9 | P45: -0.2 | Q45: 1.3 | R45: 1.1 | S45: 0.8
A46: =VLOOKUP("<ZeilenTitel_36>",Uebersetzungen!$B$3:$F$71,Uebersetzungen!$B$2+1,FALSE) -> Q4 2025 | B46: 0.5 | C46: 0 | D46: 0.2 | E46: 1.2 | F46: 0.8 | G46: 1.1 | H46: 0.4 | I46: 1.9 | J46: -1.6 | K46: 1.6 | L46: -0.8 | M46: 1.6 | N46: 0.6 | O46: -1.4 | P46: 1.7 | Q46: 0.9 | R46: 2.4 | S46: 0.3
A47: =VLOOKUP("<ZeilenTitel_37>",Uebersetzungen!$B$3:$F$71,Uebersetzungen!$B$2+1,FALSE) -> Q1 2026 | B47: 1.5 | C47: 3.1 | D47: 1.5 | E47: 0 | F47: 0.7 | G47: 0.4 | H47: 1.1 | I47: 1.9 | J47: 0.6 | K47: -2.8 | L47: 2.2 | M47: 0.6 | N47: 1.8 | O47: 3.9 | P47: 2.2 | Q47: 2 | R47: -1 | S47: 0.1
A48: =VLOOKUP("<Legende_1>",Uebersetzungen!$B$3:$F$66,Uebersetzungen!B$2+1,FALSE) -> Legende:
A49: =VLOOKUP("<Legende_2>",Uebersetzungen!$B$3:$F$66,Uebersetzungen!B$2+1,FALSE) -> Total - Wohneigentum (EFH und EGW)
A50: =VLOOKUP("<Legende_3>",Uebersetzungen!$B$3:$F$66,Uebersetzungen!B$2+1,FALSE) -> EFH - Einfamilienhäuser
A51: =VLOOKUP("<Legende_4>",Uebersetzungen!$B$3:$F$66,Uebersetzungen!B$2+1,FALSE) -> EGW - Eigentumswohnungen
A52: =VLOOKUP("<Legende_5>",Uebersetzungen!$B$3:$F$66,Uebersetzungen!B$2+1,FALSE) -> GemeindeTyp 1 - Städtische Gemeinde einer grossen Agglomeration
A53: =VLOOKUP("<Legende_6>",Uebersetzungen!$B$3:$F$66,Uebersetzungen!B$2+1,FALSE) -> GemeindeTyp 2 - Städtische Gemeinde einer mittelgrossen Agglomeration
A54: =VLOOKUP("<Legende_7>",Uebersetzungen!$B$3:$F$66,Uebersetzungen!B$2+1,FALSE) -> GemeindeTyp 3 - Städtische Gemeinde einer kleinen oder ausserhalb einer Agglomeration
A55: =VLOOKUP("<Legende_8>",Uebersetzungen!$B$3:$F$66,Uebersetzungen!B$2+1,FALSE) -> GemeindeTyp 4 - Intermediäre Gemeinde
A56: =VLOOKUP("<Legende_9>",Uebersetzungen!$B$3:$F$66,Uebersetzungen!B$2+1,FALSE) -> GemeindeTyp 5 - Ländliche Gemeinde
A58: =VLOOKUP("<Quelle>",Uebersetzungen!$B$3:$F$66,Uebersetzungen!B$2+1,FALSE) -> Quelle: BFS - Schweizerischer Wohnimmobilienpreisindex, IMPI
A59: =VLOOKUP("<CopyRight>",Uebersetzungen!$B$3:$F$66,Uebersetzungen!B$2+1,FALSE) -> © BFS 2026
A60: =VLOOKUP("<Auskunft>",Uebersetzungen!$B$3:$F$66,Uebersetzungen!B$2+1,FALSE) -> Auskunft: Bundesamt für Statistik (BFS), IMPI@bfs.admin.ch, Tel. +41 58 463 60 69

Sheet Uebersetzungen
A1: Tabelle | B1: Code | C1: DE | D1: FR | E1: IT | F1: EN
A2: Sprache | B2: 1
A3: T3 | B3: <Titel> | C3: Veränderungsraten gegenüber dem Vorquartal (in %), 2. Quartal 2017 - 1. Quartal 2026 | D3: Taux de variation par rapport au trimestre précédent (en %), 2e trim. 2017 - 1er trim. 2026 | E3: Tassi di variazione rispetto al trimestre precedente (in %), 2° trim. 2017 - 1° trim. 2026 | F3: Rates of change compared with the previous quarter (in %), 2nd quarter 2017 - 1st quarter 2026
B4: <Untertitel_1> | C4: Schweizerischer Wohnimmobilienpreisindex, IMPI | D4: Indice suisse des prix de l'immobilier résidentiel, IMPI | E4: Indice svizzero dei prezzi degli immobili residenziali, IMPI | F4: Swiss Residential Property Price Index, IMPI
B5: <Untertitel_2> | C5: Wohneigentum | D5: Logements en propriété | E5: Proprietà residenziale | F5: Residential property
B6: <Untertitel_3> | C6: Einfamilienhäuser | D6: Maisons individuelles | E6: Case unifamiliari | F6: Single-family houses
B7: <Untertitel_4> | C7: Eigentumswohnungen | D7: Appartements en propriété | E7: Appartementi di proprietà | F7: Condominiums
B8: <ZeilenTitel_1> | C8: Totalindex und Subindizes (Basis: Q4 2019 = 100) | D8: Indice total et sous-indices (Base: 4e trim. 2019 = 100) | E8: Indice totale e sottoindici (base: 4° trim. 2019 = 100) | F8: Total index and sub-indices (Base: Q4 2019 = 100)
B9: <ZeilenTitel_2> | C9: Q2 2017 | D9: 2e trim. 2017 | E9: 2° trim. 2017 | F9: Q2 2017
B10: <ZeilenTitel_3> | C10: Q3 2017 | D10: 3e trim. 2017 | E10: 3° trim. 2017 | F10: Q3 2017
B11: <ZeilenTitel_4> | C11: Q4 2017 | D11: 4e trim. 2017 | E11: 4° trim. 2017 | F11: Q4 2017
B12: <ZeilenTitel_5> | C12: Q1 2018 | D12: 1er trim. 2018 | E12: 1° trim. 2018 | F12: Q1 2018
B13: <ZeilenTitel_6> | C13: Q2 2018 | D13: 2e trim. 2018 | E13: 2° trim. 2018 | F13: Q2 2018
B14: <ZeilenTitel_7> | C14: Q3 2018 | D14: 3e trim. 2018 | E14: 3° trim. 2018 | F14: Q3 2018
B15: <ZeilenTitel_8> | C15: Q4 2018 | D15: 4e trim. 2018 | E15: 4° trim. 2018 | F15: Q4 2018
... B44: <ZeilenTitel_37> | C44: Q1 2026 | D44: 1er trim. 2026 | E44: 1° trim. 2026 | F44: Q1 2026
A46: T1-T5 | B46: <Spaltentitel_1> | C46: Total | D46: Total | E46: Totale | F46: Total
B47: <Spaltentitel_2> | C47: EFH | D47: MI | E47: CU | F47: SFH
B48: <Spaltentitel_3> | C48: EGW | D48: PPE | E48: APP | F48: CONDO
B49: <Spaltentitel_4> | C49: GemeindeTyp 1 | D49: Type de communes 1 | E49: Tipo di Comune 1 | F49: Type of municipality 1
B50: <Spaltentitel_5> | C50: GemeindeTyp 2 | D50: Type de communes 2 | E50: Tipo di Comune 2 | F50: Type of municipality 2
B51: <Spaltentitel_6> | C51: GemeindeTyp 3 | D51: Type de communes 3 | E51: Tipo di Comune 3 | F51: Type of municipality 3
B52: <Spaltentitel_7> | C52: GemeindeTyp 4 | D52: Type de communes 4 | E52: Tipo di Comune 4 | F52: Type of municipality 4
B53: <Spaltentitel_8> | C53: GemeindeTyp 5 | D53: Type de communes 5 | E53: Tipo di Comune 5 | F53: Type of municipality 5
B55: <Legende_1> | C55: Legende: | D55: Légende: | E55: Legenda: | F55: Legend:
B56: <Legende_2> | C56: Total - Wohneigentum (EFH und EGW) | D56: Total - Logements en propriété (MI et PPE) | E56: Totale - Proprietà residenziale (CU e APP) | F56: Total - Residential property (SFH and CONDO)
B57: <Legende_3> | C57: EFH - Einfamilienhäuser | D57: MI - Maisons individuelles | E57: CU - Case unifamiliari | F57: SFH - Single-family houses
B58: <Legende_4> | C58: EGW - Eigentumswohnungen | D58: PPE - Appartements en propriété | E58: APP - Appartementi di proprietà | F58: CONDO - Condominiums
B59: <Legende_5> | C59: GemeindeTyp 1 - Städtische Gemeinde einer grossen Agglomeration | D59: Type de communes 1 - Commune urbaine d'une grande agglomération | E59: Tipo di Comune 1 - Comune urbano di un grande agglomerato | F59: Type of municipality 1 - Urban municipality of a large agglomeration
... B66: <Auskunft> | C66: Auskunft: Bundesamt für Statistik (BFS), IMPI@bfs.admin.ch, Tel. +41 58 463 60 69 | D66: Renseignements: Office fédéral de la statistique (OFS), IMPI@bfs.admin.ch, Tel. +41 58 463 60 69 | E66: Informazioni: Ufficio federale di statistica (UST), IMPI@bfs.admin.ch, tel. +41 58 463 60 69 | F66: Information: Federal Statistical Office (FSO), IMPI@bfs.admin.ch, Tel. +41 58 463 60 69
