Workbook

Sheet T2
A1: Sprache / Langue / Lingua / Language
A7: =VLOOKUP("<Titel>",Uebersetzungen!$B$3:$F$67,Uebersetzungen!$B$2+1,FALSE) -> Indexwerte, 1. Quartal 2017 - 1. Quartal 2026
A8: =VLOOKUP("<Untertitel_1>",Uebersetzungen!$B$3:$F$67,Uebersetzungen!$B$2+1,FALSE) -> Schweizerischer Wohnimmobilienpreisindex, IMPI
B10: =VLOOKUP("<Untertitel_2>",Uebersetzungen!$B$3:$F$67,Uebersetzungen!$B$2+1,FALSE) -> Wohneigentum | H10: =VLOOKUP("<Untertitel_3>",Uebersetzungen!$B$3:$F$67,Uebersetzungen!$B$2+1,FALSE) -> Einfamilienhäuser | N10: =VLOOKUP("<Untertitel_4>",Uebersetzungen!$B$3:$F$67,Uebersetzungen!$B$2+1,FALSE) -> Eigentumswohnungen
A11: =VLOOKUP("<ZeilenTitel_1>",Uebersetzungen!$B$3:$F$67,Uebersetzungen!$B$2+1,FALSE) -> Totalindex und Subindizes (Basis: Q4 2019 = 100) | B11: =VLOOKUP("<Spaltentitel_1>",Uebersetzungen!$B$3:$F$67,Uebersetzungen!$B$2+1,FALSE) -> Total | C11: =VLOOKUP("<Spaltentitel_4>",Uebersetzungen!$B$3:$F$67,Uebersetzungen!$B$2+1,FALSE) -> GemeindeTyp 1 | D11: =VLOOKUP("<Spaltentitel_5>",Uebersetzungen!$B$3:$F$67,Uebersetzungen!$B$2+1,FALSE) -> GemeindeTyp 2 | E11: =VLOOKUP("<Spaltentitel_6>",Uebersetzungen!$B$3:$F$67,Uebersetzungen!$B$2+1,FALSE) -> GemeindeTyp 3 | F11: =VLOOKUP("<Spaltentitel_7>",Uebersetzungen!$B$3:$F$67,Uebersetzungen!$B$2+1,FALSE) -> GemeindeTyp 4 | G11: =VLOOKUP("<Spaltentitel_8>",Uebersetzungen!$B$3:$F$67,Uebersetzungen!$B$2+1,FALSE) -> GemeindeTyp 5 | H11: =VLOOKUP("<Spaltentitel_2>",Uebersetzungen!$B$3:$F$67,Uebersetzungen!$B$2+1,FALSE) -> EFH | I11: =VLOOKUP("<Spaltentitel_4>",Uebersetzungen!$B$3:$F$67,Uebersetzungen!$B$2+1,FALSE) -> GemeindeTyp 1 | J11: =VLOOKUP("<Spaltentitel_5>",Uebersetzungen!$B$3:$F$67,Uebersetzungen!$B$2+1,FALSE) -> GemeindeTyp 2 | K11: =VLOOKUP("<Spaltentitel_6>",Uebersetzungen!$B$3:$F$67,Uebersetzungen!$B$2+1,FALSE) -> GemeindeTyp 3 | L11: =VLOOKUP("<Spaltentitel_7>",Uebersetzungen!$B$3:$F$67,Uebersetzungen!$B$2+1,FALSE) -> GemeindeTyp 4 | M11: =VLOOKUP("<Spaltentitel_8>",Uebersetzungen!$B$3:$F$67,Uebersetzungen!$B$2+1,FALSE) -> GemeindeTyp 5 | N11: =VLOOKUP("<Spaltentitel_3>",Uebersetzungen!$B$3:$F$67,Uebersetzungen!$B$2+1,FALSE) -> EGW | O11: =VLOOKUP("<Spaltentitel_4>",Uebersetzungen!$B$3:$F$67,Uebersetzungen!$B$2+1,FALSE) -> GemeindeTyp 1 | P11: =VLOOKUP("<Spaltentitel_5>",Uebersetzungen!$B$3:$F$67,Uebersetzungen!$B$2+1,FALSE) -> GemeindeTyp 2 | Q11: =VLOOKUP("<Spaltentitel_6>",Uebersetzungen!$B$3:$F$67,Uebersetzungen!$B$2+1,FALSE) -> GemeindeTyp 3 | R11: =VLOOKUP("<Spaltentitel_7>",Uebersetzungen!$B$3:$F$67,Uebersetzungen!$B$2+1,FALSE) -> GemeindeTyp 4 | S11: =VLOOKUP("<Spaltentitel_8>",Uebersetzungen!$B$3:$F$67,Uebersetzungen!$B$2+1,FALSE) -> GemeindeTyp 5
A12: =VLOOKUP("<ZeilenTitel_2>",Uebersetzungen!$B$3:$F$67,Uebersetzungen!$B$2+1,FALSE) -> Q1 2017 | B12: 90.4561 | C12: 88.9915 | D12: 90.0573 | E12: 91.9422 | F12: 91.9864 | G12: 90.5077 | H12: 89.7446 | I12: 88.9082 | J12: 89.0446 | K12: 91.2782 | L12: 91.3459 | M12: 88.6889 | N12: 91.1885 | O12: 89.154 | P12: 90.9317 | Q12: 92.2734 | R12: 92.764 | S12: 93.5245
A13: =VLOOKUP("<ZeilenTitel_3>",Uebersetzungen!$B$3:$F$67,Uebersetzungen!$B$2+1,FALSE) -> Q2 2017 | B13: 91.6814 | C13: 89.646 | D13: 92.1487 | E13: 92.7226 | F13: 92.4126 | G13: 93.2616 | H13: 91.4114 | I13: 89.3344 | J13: 92.6011 | K13: 91.2303 | L13: 91.6588 | M13: 92.8825 | N13: 91.9562 | O13: 90.0058 | P13: 91.7778 | Q13: 93.724 | R13: 93.325 | S13: 93.7855
A14: =VLOOKUP("<ZeilenTitel_4>",Uebersetzungen!$B$3:$F$67,Uebersetzungen!$B$2+1,FALSE) -> Q3 2017 | B14: 93.4534 | C14: 93.0425 | D14: 92.8388 | E14: 94.3866 | F14: 94.1184 | G14: 93.474 | H14: 93.4627 | I14: 93.4005 | J14: 92.2503 | K14: 94.6329 | L14: 94.0804 | M14: 93.2769 | N14: 93.4385 | O14: 92.829 | P14: 93.3529 | Q14: 93.9737 | R14: 94.1802 | S14: 93.6829
A15: =VLOOKUP("<ZeilenTitel_5>",Uebersetzungen!$B$3:$F$67,Uebersetzungen!$B$2+1,FALSE) -> Q4 2017 | B15: 93.2599 | C15: 92.2051 | D15: 94.6542 | E15: 95.3687 | F15: 93.0045 | G15: 92.8949 | H15: 92.3657 | I15: 92.0363 | J15: 92.2205 | K15: 94.1596 | L15: 92.4179 | M15: 92.1456 | N15: 94.1815 | O15: 92.4445 | P15: 96.7375 | Q15: 96.1344 | R15: 93.7181 | S15: 94.0593
A16: =VLOOKUP("<ZeilenTitel_6>",Uebersetzungen!$B$3:$F$67,Uebersetzungen!$B$2+1,FALSE) -> Q1 2018 | B16: 93.1957 | C16: 91.9652 | D16: 94.2401 | E16: 94.0361 | F16: 94.1886 | G16: 92.2726 | H16: 92.3773 | I16: 90.6456 | J16: 92.5957 | K16: 95.335 | L16: 93.6475 | M16: 91.6479 | N16: 94.0386 | O16: 93.1954 | P16: 95.6523 | Q16: 92.77 | R16: 94.8483 | S16: 93.2225
A17: =VLOOKUP("<ZeilenTitel_7>",Uebersetzungen!$B$3:$F$67,Uebersetzungen!$B$2+1,FALSE) -> Q2 2018 | B17: 94.6749 | C17: 93.3684 | D17: 95.5183 | E17: 95.8155 | F17: 94.7977 | G17: 95.3593 | H17: 94.1561 | I17: 92.431 | J17: 95.1757 | K17: 96.0403 | L17: 93.6752 | M17: 95.5067 | N17: 95.2072 | O17: 94.2708 | P17: 95.8238 | Q17: 95.4168 | R17: 96.1487 | S17: 94.9699
A18: =VLOOKUP("<ZeilenTitel_8>",Uebersetzungen!$B$3:$F$67,Uebersetzungen!$B$2+1,FALSE) -> Q3 2018 | B18: 95.2729 | C18: 94.8277 | D18: 97.1374 | E18: 95.7965 | F18: 95.0389 | G18: 94.0192 | H18: 95.1912 | I18: 95.961 | J18: 96.0545 | K18: 95.6124 | L18: 94.8624 | M18: 93.6321 | N18: 95.3523 | O18: 93.9485 | P18: 98.0725 | Q18: 95.7296 | R18: 95.2655 | S18: 94.5558
A19: =VLOOKUP("<ZeilenTitel_9>",Uebersetzungen!$B$3:$F$67,Uebersetzungen!$B$2+1,FALSE) -> Q4 2018 | B19: 96.6715 | C19: 94.7678 | D19: 97.1294 | E19: 98.2317 | F19: 97.7503 | G19: 97.1914 | H19: 96.594 | I19: 95.8427 | J19: 97.3112 | K19: 96.3409 | L19: 97.4437 | M19: 95.88 | N19: 96.7464 | O19: 93.9387 | P19: 96.9893 | Q19: 99.544 | R19: 98.132 | S19: 99.3215
A20: =VLOOKUP("<ZeilenTitel_10>",Uebersetzungen!$B$3:$F$67,Uebersetzungen!$B$2+1,FALSE) -> Q1 2019 | B20: 97.6275 | C20: 95.5862 | D20: 98.1265 | E20: 97.7382 | F20: 99.6204 | G20: 97.7453 | H20: 97.0706 | I20: 95.2869 | J20: 97.159 | K20: 96.2836 | L20: 98.8768 | M20: 97.1565 | N20: 98.1662 | O20: 95.817 | P20: 98.8719 | Q20: 98.7477 | R20: 100.5461 | S20: 98.7016
A21: =VLOOKUP("<ZeilenTitel_11>",Uebersetzungen!$B$3:$F$67,Uebersetzungen!$B$2+1,FALSE) -> Q2 2019 | B21: 98.1359 | C21: 97.7431 | D21: 98.723 | E21: 99.1979 | F21: 98.361 | G21: 97.1926 | H21: 98.2087 | I21: 98.1344 | J21: 98.2974 | K21: 98.2952 | L21: 98.1996 | M21: 98.2143 | N21: 98.0654 | O21: 97.4413 | P21: 99.0509 | Q21: 99.8244 | R21: 98.5618 | S21: 95.5329
A22: =VLOOKUP("<ZeilenTitel_12>",Uebersetzungen!$B$3:$F$67,Uebersetzungen!$B$2+1,FALSE) -> Q3 2019 | B22: 98.2721 | C22: 96.9946 | D22: 100.4299 | E22: 98.0723 | F22: 98.7129 | G22: 97.5324 | H22: 98.5735 | I22: 97.4219 | J22: 100.4693 | K22: 98.0605 | L22: 98.9401 | M22: 98.1949 | N22: 97.9807 | O22: 96.665 | P22: 100.3996 | Q22: 98.0804 | R22: 98.4301 | S22: 96.4564
A23: =VLOOKUP("<ZeilenTitel_13>",Uebersetzungen!$B$3:$F$67,Uebersetzungen!$B$2+1,FALSE) -> Q4 2019 | B23: 100 | C23: 100 | D23: 100 | E23: 100 | F23: 100 | G23: 100 | H23: 100 | I23: 100 | J23: 100 | K23: 100 | L23: 100 | M23: 100 | N23: 100 | O23: 100 | P23: 100 | Q23: 100 | R23: 100 | S23: 100
A24: =VLOOKUP("<ZeilenTitel_14>",Uebersetzungen!$B$3:$F$67,Uebersetzungen!$B$2+1,FALSE) -> Q1 2020 | B24: 99.2443 | C24: 98.8529 | D24: 99.2775 | E24: 98.3349 | F24: 100.0419 | G24: 99.1842 | H24: 99.4514 | I24: 100.432 | J24: 99.1559 | K24: 98.7522 | L24: 98.9907 | M24: 99.1911 | N24: 99.052 | O24: 97.5903 | P24: 99.3591 | Q24: 98.0392 | R24: 101.2635 | S24: 99.1739
A25: =VLOOKUP("<ZeilenTitel_15>",Uebersetzungen!$B$3:$F$67,Uebersetzungen!$B$2+1,FALSE) -> Q2 2020 | B25: 100.5969 | C25: 100.579 | D25: 100.993 | E25: 99.8903 | F25: 100.9818 | G25: 99.8957 | H25: 100.5419 | I25: 100.5612 | J25: 100.3563 | K25: 100.04 | L25: 101.0146 | M25: 100.1371 | N25: 100.648 | O25: 100.5933 | P25: 101.4198 | Q25: 99.7842 | R25: 100.9436 | S25: 99.5298
A26: =VLOOKUP("<ZeilenTitel_16>",Uebersetzungen!$B$3:$F$67,Uebersetzungen!$B$2+1,FALSE) -> Q3 2020 | B26: 100.8153 | C26: 101.3617 | D26: 101.3003 | E26: 100.5148 | F26: 99.9516 | G26: 100.759 | H26: 101.6683 | I26: 103.2119 | J26: 101.526 | K26: 100.9253 | L26: 100.0134 | M26: 102.2973 | N26: 100.0234 | O26: 99.8825 | P26: 101.149 | Q26: 100.2239 | R26: 99.8797 | S26: 98.4276
A27: =VLOOKUP("<ZeilenTitel_17>",Uebersetzungen!$B$3:$F$67,Uebersetzungen!$B$2+1,FALSE) -> Q4 2020 | B27: 103.1292 | C27: 102.6234 | D27: 103.962 | E27: 102.9193 | F27: 102.8875 | G27: 103.7079 | H27: 103.154 | I27: 103.6912 | J27: 103.6537 | K27: 101.2222 | L27: 102.4526 | M27: 103.82 | N27: 103.1062 | O27: 101.7697 | P27: 104.1687 | Q27: 104.1218 | R27: 103.3927 | S27: 103.5379
A28: =VLOOKUP("<ZeilenTitel_18>",Uebersetzungen!$B$3:$F$67,Uebersetzungen!$B$2+1,FALSE) -> Q1 2021 | B28: 103.0749 | C28: 103.5239 | D28: 103.2326 | E28: 103.8353 | F28: 103.1195 | G28: 101.5973 | H28: 103.2623 | I28: 104.3719 | J28: 102.7499 | K28: 104.5064 | L28: 103.7429 | M28: 100.999 | N28: 102.905 | O28: 102.8296 | P28: 103.5709 | Q28: 103.3647 | R28: 102.4786 | S28: 102.4387
A29: =VLOOKUP("<ZeilenTitel_19>",Uebersetzungen!$B$3:$F$67,Uebersetzungen!$B$2+1,FALSE) -> Q2 2021 | B29: 105.338 | C29: 105.5323 | D29: 104.0999 | E29: 106.1336 | F29: 105.9314 | G29: 105.022 | H29: 105.9631 | I29: 107.1971 | J29: 103.3226 | K29: 106.609 | L29: 106.3999 | M29: 105.6148 | N29: 104.7728 | O29: 104.2416 | P29: 104.6601 | Q29: 105.8013 | R29: 105.4594 | S29: 104.1678
A30: =VLOOKUP("<ZeilenTitel_20>",Uebersetzungen!$B$3:$F$67,Uebersetzungen!$B$2+1,FALSE) -> Q3 2021 | B30: 107.8175 | C30: 108.8904 | D30: 106.9536 | E30: 107.3431 | F30: 107.5295 | G30: 107.5935 | H30: 108.4884 | I30: 108.832 | J30: 106.6098 | K30: 110.2104 | L30: 109.082 | M30: 108.0384 | N30: 107.2109 | O30: 108.8525 | P30: 107.1863 | Q30: 105.321 | R30: 105.8839 | S30: 106.9496
A31: =VLOOKUP("<ZeilenTitel_21>",Uebersetzungen!$B$3:$F$67,Uebersetzungen!$B$2+1,FALSE) -> Q4 2021 | B31: 110.6721 | C31: 109.4369 | D31: 112.3689 | E31: 109.902 | F31: 110.3694 | G31: 112.0684 | H31: 111.4037 | I31: 110.2594 | J31: 113.1674 | K31: 112.9512 | L31: 110.5641 | M31: 112.0476 | N31: 110.0106 | O31: 108.7569 | P31: 111.7389 | Q31: 107.7514 | R31: 110.1953 | S31: 112.0868
A32: =VLOOKUP("<ZeilenTitel_22>",Uebersetzungen!$B$3:$F$67,Uebersetzungen!$B$2+1,FALSE) -> Q1 2022 | B32: 110.2636 | C32: 111.6322 | D32: 109.57 | E32: 106.6691 | F32: 111.043 | G32: 109.4881 | H32: 112.0222 | I32: 115.6568 | J32: 111.6066 | K32: 108.1986 | L32: 111.1757 | M32: 110.1499 | N32: 108.6991 | O32: 108.6172 | P32: 108.0515 | Q32: 105.4674 | R32: 110.9359 | S32: 108.5906
A33: =VLOOKUP("<ZeilenTitel_23>",Uebersetzungen!$B$3:$F$67,Uebersetzungen!$B$2+1,FALSE) -> Q2 2022 | B33: 113.219 | C33: 115.8183 | D33: 110.827 | E33: 109.6982 | F33: 112.7697 | G33: 114.055 | H33: 114.3068 | I33: 116.6793 | J33: 111.2197 | K33: 112.9959 | L33: 114.1758 | M33: 114.2756 | N33: 112.2438 | O33: 115.1055 | P33: 110.4893 | Q33: 107.3943 | R33: 111.2927 | S33: 113.7493
A34: =VLOOKUP("<ZeilenTitel_24>",Uebersetzungen!$B$3:$F$67,Uebersetzungen!$B$2+1,FALSE) -> Q3 2022 | B34: 114.6255 | C34: 117.42 | D34: 112.565 | E34: 111.5334 | F34: 114.9949 | G34: 113.1978 | H34: 115.8834 | I34: 117.9646 | J34: 115.995 | K34: 115.0519 | L34: 115.1042 | M34: 114.4142 | N34: 113.5006 | O34: 116.9365 | P34: 110.0437 | Q34: 109.0883 | R34: 114.9142 | S34: 111.5555
A35: =VLOOKUP("<ZeilenTitel_25>",Uebersetzungen!$B$3:$F$67,Uebersetzungen!$B$2+1,FALSE) -> Q4 2022 | B35: 115.9928 | C35: 116.849 | D35: 113.5403 | E35: 113.6173 | F35: 116.0354 | G35: 118.5877 | H35: 118.1487 | I35: 118.3374 | J35: 116.7307 | K35: 115.3512 | L35: 117.6821 | M35: 120.6774 | N35: 114.0781 | O35: 115.6782 | P35: 111.1906 | Q35: 112.2724 | R35: 114.3004 | S35: 115.773
A36: =VLOOKUP("<ZeilenTitel_26>",Uebersetzungen!$B$3:$F$67,Uebersetzungen!$B$2+1,FALSE) -> Q1 2023 | B36: 114.5903 | C36: 116.1212 | D36: 113.2334 | E36: 112.7364 | F36: 114.232 | G36: 114.7592 | H36: 116.5883 | I36: 118.5914 | J36: 116.5512 | K36: 115.6796 | L36: 115.529 | M36: 115.2977 | N36: 112.8152 | O36: 114.2355 | P36: 110.7949 | Q36: 110.5558 | R36: 112.8767 | S36: 114.1861
A37: =VLOOKUP("<ZeilenTitel_27>",Uebersetzungen!$B$3:$F$67,Uebersetzungen!$B$2+1,FALSE) -> Q2 2023 | B37: 115.9286 | C37: 117.3834 | D37: 115.0901 | E37: 114.5376 | F37: 114.6894 | G37: 116.7974 | H37: 117.3862 | I37: 118.5869 | J37: 117.2698 | K37: 119.6265 | L37: 115.515 | M37: 117.2756 | N37: 114.6312 | O37: 116.4199 | P37: 113.4462 | Q37: 110.87 | R37: 113.8475 | S37: 116.3153
A38: =VLOOKUP("<ZeilenTitel_28>",Uebersetzungen!$B$3:$F$67,Uebersetzungen!$B$2+1,FALSE) -> Q3 2023 | B38: 116.1257 | C38: 118.8075 | D38: 114.5601 | E38: 113.7674 | F38: 114.9467 | G38: 115.7789 | H38: 117.3105 | I38: 118.3049 | J38: 118.3105 | K38: 116.9746 | L38: 116.3192 | M38: 116.3057 | N38: 115.0694 | O38: 119.0863 | P38: 111.8176 | Q38: 111.4029 | R38: 113.5095 | S38: 115.2247
A39: =VLOOKUP("<ZeilenTitel_29>",Uebersetzungen!$B$3:$F$67,Uebersetzungen!$B$2+1,FALSE) -> Q4 2023 | B39: 117.4406 | C39: 118.7547 | D39: 114.757 | E39: 115.8886 | F39: 118.2289 | G39: 117.6471 | H39: 117.9554 | I39: 120.7031 | J39: 115.8885 | K39: 114.7725 | L39: 117.9953 | M39: 116.6218 | N39: 116.9765 | O39: 117.2472 | P39: 113.8471 | Q39: 116.5127 | R39: 118.5417 | S39: 119.3464
A40: =VLOOKUP("<ZeilenTitel_30>",Uebersetzungen!$B$3:$F$67,Uebersetzungen!$B$2+1,FALSE) -> Q1 2024 | B40: 116.2839 | C40: 117.6277 | D40: 115.3483 | E40: 117.0322 | F40: 115.7702 | G40: 115.0649 | H40: 117.1634 | I40: 117.5198 | J40: 116.5563 | K40: 120.0032 | L40: 117.7788 | M40: 114.1912 | N40: 115.4836 | O40: 117.5797 | P40: 114.3809 | Q40: 114.6442 | R40: 113.6128 | S40: 116.5147
A41: =VLOOKUP("<ZeilenTitel_31>",Uebersetzungen!$B$3:$F$67,Uebersetzungen!$B$2+1,FALSE) -> Q2 2024 | B41: 117.524 | C41: 118.4153 | D41: 115.7868 | E41: 118.2259 | F41: 117.1496 | G41: 117.8643 | H41: 118.6097 | I41: 119.898 | J41: 117.5891 | K41: 121.0078 | L41: 117.958 | M41: 116.7757 | N41: 116.5336 | O41: 117.2384 | P41: 114.3755 | Q41: 115.9752 | R41: 116.3143 | S41: 119.6677
A42: =VLOOKUP("<ZeilenTitel_32>",Uebersetzungen!$B$3:$F$67,Uebersetzungen!$B$2+1,FALSE) -> Q3 2024 | B42: 118.1541 | C42: 119.6274 | D42: 117.477 | E42: 118.4795 | F42: 117.2399 | G42: 117.2923 | H42: 119.017 | I42: 120.7376 | J42: 118.4468 | K42: 120.9982 | L42: 117.7871 | M42: 117.2573 | N42: 117.3691 | O42: 118.7135 | P42: 116.6862 | Q42: 116.4222 | R42: 116.6923 | S42: 117.3636
A43: =VLOOKUP("<ZeilenTitel_33>",Uebersetzungen!$B$3:$F$67,Uebersetzungen!$B$2+1,FALSE) -> Q4 2024 | B43: 120.2223 | C43: 123.2183 | D43: 117.75 | E43: 121.3451 | F43: 118.573 | G43: 119.5307 | H43: 119.6414 | I43: 121.5806 | J43: 118.7128 | K43: 122.1499 | L43: 118.0947 | M43: 118.1292 | N43: 120.7687 | O43: 124.2491 | P43: 116.9644 | Q43: 120.5453 | R43: 119.1553 | S43: 121.8485
A44: =VLOOKUP("<ZeilenTitel_34>",Uebersetzungen!$B$3:$F$67,Uebersetzungen!$B$2+1,FALSE) -> Q1 2025 | B44: 121.0859 | C44: 122.917 | D44: 119.7594 | E44: 120.2473 | F44: 120.8942 | G44: 120.0374 | H44: 121.3886 | I44: 121.0901 | J44: 121.4698 | K44: 122.3016 | L44: 122.1155 | M44: 119.4774 | N44: 120.8468 | O44: 124.0848 | P44: 118.424 | Q44: 118.5532 | R44: 119.695 | S44: 121.0076
A45: =VLOOKUP("<ZeilenTitel_35>",Uebersetzungen!$B$3:$F$67,Uebersetzungen!$B$2+1,FALSE) -> Q2 2025 | B45: 123.3472 | C45: 126.1079 | D45: 121.5671 | E45: 122.3923 | F45: 121.6049 | G45: 123.8984 | H45: 123.2004 | I45: 124.4376 | J45: 122.9614 | K45: 124.6602 | L45: 121.0327 | M45: 123.5123 | N45: 123.5084 | O45: 127.1587 | P45: 120.4624 | Q45: 120.5413 | R45: 122.2878 | S45: 124.5921
A46: =VLOOKUP("<ZeilenTitel_36>",Uebersetzungen!$B$3:$F$67,Uebersetzungen!$B$2+1,FALSE) -> Q3 2025 | B46: 124.3245 | C46: 125.0007 | D46: 122.966 | E46: 124.6675 | F46: 124.5847 | G46: 124.1011 | H46: 125.0957 | I46: 123.4275 | J46: 126.6711 | K46: 127.9473 | L46: 125.5242 | M46: 123.187 | N46: 123.6696 | O46: 125.9828 | P46: 120.1655 | Q46: 122.0865 | R46: 123.6836 | S46: 125.6408
A47: =VLOOKUP("<ZeilenTitel_37>",Uebersetzungen!$B$3:$F$67,Uebersetzungen!$B$2+1,FALSE) -> Q4 2025 | B47: 124.9598 | C47: 124.9524 | D47: 123.2608 | E47: 126.1731 | F47: 125.5611 | G47: 125.4202 | H47: 125.6302 | I47: 125.7633 | J47: 124.6401 | K47: 130.0024 | L47: 124.5705 | M47: 125.1112 | N47: 124.3946 | O47: 124.2139 | P47: 122.166 | Q47: 123.1953 | R47: 126.6857 | S47: 125.9914
A48: =VLOOKUP("<ZeilenTitel_38>",Uebersetzungen!$B$3:$F$67,Uebersetzungen!$B$2+1,FALSE) -> Q1 2026 | B48: 126.8037 | C48: 128.8242 | D48: 125.1647 | E48: 126.2154 | F48: 126.4275 | G48: 125.8992 | H48: 127.0151 | I48: 128.1947 | J48: 125.3931 | K48: 126.3794 | L48: 127.3674 | M48: 125.8335 | N48: 126.6264 | O48: 129.0325 | P48: 124.8614 | Q48: 125.6712 | R48: 125.4597 | S48: 126.1192
A49: =VLOOKUP("<Legende_1>",Uebersetzungen!$B$3:$F$67,Uebersetzungen!$B$2+1,FALSE) -> Legende:
A50: =VLOOKUP("<Legende_2>",Uebersetzungen!$B$3:$F$67,Uebersetzungen!$B$2+1,FALSE) -> Total - Wohneigentum (EFH und EGW)
A51: =VLOOKUP("<Legende_3>",Uebersetzungen!$B$3:$F$67,Uebersetzungen!$B$2+1,FALSE) -> EFH - Einfamilienhäuser
A52: =VLOOKUP("<Legende_4>",Uebersetzungen!$B$3:$F$67,Uebersetzungen!$B$2+1,FALSE) -> EGW - Eigentumswohnungen
A53: =VLOOKUP("<Legende_5>",Uebersetzungen!$B$3:$F$67,Uebersetzungen!$B$2+1,FALSE) -> GemeindeTyp 1 - Städtische Gemeinde einer grossen Agglomeration
A54: =VLOOKUP("<Legende_6>",Uebersetzungen!$B$3:$F$67,Uebersetzungen!$B$2+1,FALSE) -> GemeindeTyp 2 - Städtische Gemeinde einer mittelgrossen Agglomeration
A55: =VLOOKUP("<Legende_7>",Uebersetzungen!$B$3:$F$67,Uebersetzungen!$B$2+1,FALSE) -> GemeindeTyp 3 - Städtische Gemeinde einer kleinen oder ausserhalb einer Agglomeration
A56: =VLOOKUP("<Legende_8>",Uebersetzungen!$B$3:$F$67,Uebersetzungen!$B$2+1,FALSE) -> GemeindeTyp 4 - Intermediäre Gemeinde
A57: =VLOOKUP("<Legende_9>",Uebersetzungen!$B$3:$F$67,Uebersetzungen!$B$2+1,FALSE) -> GemeindeTyp 5 - Ländliche Gemeinde
A59: =VLOOKUP("<Quelle>",Uebersetzungen!$B$3:$F$67,Uebersetzungen!$B$2+1,FALSE) -> Quelle: BFS - Schweizerischer Wohnimmobilienpreisindex, IMPI
A60: =VLOOKUP("<CopyRight>",Uebersetzungen!$B$3:$F$67,Uebersetzungen!$B$2+1,FALSE) -> © BFS 2026
A61: =VLOOKUP("<Auskunft>",Uebersetzungen!$B$3:$F$67,Uebersetzungen!$B$2+1,FALSE) -> Auskunft: Bundesamt für Statistik (BFS), IMPI@bfs.admin.ch, Tel. +41 58 463 60 69

Sheet Uebersetzungen
A1: Tabelle | B1: Code | C1: DE | D1: FR | E1: IT | F1: EN
A2: Sprache | B2: 1
A3: T2 | B3: <Titel> | C3: Indexwerte, 1. Quartal 2017 - 1. Quartal 2026 | D3: Valeurs de l'indice, 1er trim. 2017 - 1er trim. 2026 | E3: Valori dell'indice, 1° trim. 2017 - 1° trim. 2026 | F3: Index values, 1st quarter 2017 - 1st quarter 2026
B4: <Untertitel_1> | C4: Schweizerischer Wohnimmobilienpreisindex, IMPI | D4: Indice suisse des prix de l'immobilier résidentiel, IMPI | E4: Indice svizzero dei prezzi degli immobili residenziali, IMPI | F4: Swiss Residential Property Price Index, IMPI
B5: <Untertitel_2> | C5: Wohneigentum | D5: Logements en propriété | E5: Proprietà residenziale | F5: Residential property
B6: <Untertitel_3> | C6: Einfamilienhäuser | D6: Maisons individuelles | E6: Case unifamiliari | F6: Single-family houses
B7: <Untertitel_4> | C7: Eigentumswohnungen | D7: Appartements en propriété | E7: Appartementi di proprietà | F7: Condominiums
B8: <ZeilenTitel_1> | C8: Totalindex und Subindizes (Basis: Q4 2019 = 100) | D8: Indice total et sous-indices (base: 4e trim. 2019 = 100) | E8: Indice totale e sottoindici (base: 4° trim. 2019 = 100) | F8: Total index and sub-indices (Base: Q4 2019 = 100)
B9: <ZeilenTitel_2> | C9: Q1 2017 | D9: 1er trim. 2017 | E9: 1° trim. 2017 | F9: Q1 2017
B10: <ZeilenTitel_3> | C10: Q2 2017 | D10: 2e trim. 2017 | E10: 2° trim. 2017 | F10: Q2 2017
B11: <ZeilenTitel_4> | C11: Q3 2017 | D11: 3e trim. 2017 | E11: 3° trim. 2017 | F11: Q3 2017
B12: <ZeilenTitel_5> | C12: Q4 2017 | D12: 4e trim. 2017 | E12: 4° trim. 2017 | F12: Q4 2017
B13: <ZeilenTitel_6> | C13: Q1 2018 | D13: 1er trim. 2018 | E13: 1° trim. 2018 | F13: Q1 2018
B14: <ZeilenTitel_7> | C14: Q2 2018 | D14: 2e trim. 2018 | E14: 2° trim. 2018 | F14: Q2 2018
B15: <ZeilenTitel_8> | C15: Q3 2018 | D15: 3e trim. 2018 | E15: 3° trim. 2018 | F15: Q3 2018
... B67: <Auskunft> | C67: Auskunft: Bundesamt für Statistik (BFS), IMPI@bfs.admin.ch, Tel. +41 58 463 60 69 | D67: Renseignements: Office fédéral de la statistique (OFS), IMPI@bfs.admin.ch, Tel. +41 58 463 60 69 | E67: Informazioni: Ufficio federale di statistica (UST), IMPI@bfs.admin.ch, tel. +41 58 463 60 69 | F67: Information: Federal Statistical Office (FSO), IMPI@bfs.admin.ch, Tel. +41 58 463 60 69
