Workbook

Sheet Indizes_Indices
R1: 1
A2: <KBOB.Titel> | U2: <BAS2025_KURZ>
A5: <KBOB.HIN1> | C5: =IFERROR(VLOOKUP(A5,PPI_IPI_PGA_PGAI!$A:$N,$R$1+1,FALSE),"") -> Hinweis zu den Grenzen der Interpretation der detaillierten KBOB-Indizes | Q5: Sprache / Langue | U5: <KBOB.AB> | KO5: =IFERROR(VLOOKUP($S$11,PPI_IPI_PGA_PGAI!A:N,$R$1+1,FALSE),"") -> Basis Dezember 2025 = 100
A7: <KBOB.HIN2> | D7: =IFERROR(VLOOKUP(A7,PPI_IPI_PGA_PGAI!$A:$N,$R$1+1,FALSE),"") -> Das System des Produzentenpreisindexes ist ein komplexes Konstrukt von rund 1000 Warenkörben und Aggregationen, welches für die | U7: <KBOB.FETT>
A8: <KBOB.HIN3> | D8: =IFERROR(VLOOKUP(A8,PPI_IPI_PGA_PGAI!$A:$N,$R$1+1,FALSE),"") -> Berechnung einer globalen Teuerung auf Produktionsstufe ausgelegt ist. Trotz der stabilen und bewährten Qualitätssicherung kann die | U8: <KBOB.HELL>
A9: <KBOB.HIN4> | D9: =IFERROR(VLOOKUP(A9,PPI_IPI_PGA_PGAI!$A:$N,$R$1+1,FALSE),"") -> Genauigkeit der in der KBOB veröffentlichten, sehr detaillierten Indizes, nicht garantiert werden. Dies liegt daran, dass die Preisstatistik keine
A10: <KBOB.HIN5> | D10: =IFERROR(VLOOKUP(A10,PPI_IPI_PGA_PGAI!$A:$N,$R$1+1,FALSE),"") -> Vollerhebung ist. Die Umfrage basiert auf einer gezielten Stichprobe, die repräsentativ für alle Typen von Akteuren in den verschiedenen
A11: <KBOB.HIN6> | D11: =IFERROR(VLOOKUP(A11,PPI_IPI_PGA_PGAI!$A:$N,$R$1+1,FALSE),"") -> Branchen ist. Auf einer sehr detaillierten Ebene hängt die Qualität der Ergebnisse stark von der Homogenität der Branche | S11: <BAS2025>
A12: <KBOB.HIN7> | D12: =IFERROR(VLOOKUP(A12,PPI_IPI_PGA_PGAI!$A:$N,$R$1+1,FALSE),"") -> und der Antwortquote ab.
A15: <KBOB.INFO1> | C15: =IFERROR(VLOOKUP(A15,PPI_IPI_PGA_PGAI!$A:$N,$R$1+1,FALSE),"") -> Informationen zu den erfassten Produkten
A17: <KBOB.INFO2> | D17: =IFERROR(VLOOKUP(A17,PPI_IPI_PGA_PGAI!$A:$N,$R$1+1,FALSE),"") -> Durch Anklicken des Produktcodes gelangen Sie zur Liste der Produkte, die potenziell dem jeweiligen Index zugeordnet werden können. | P17: <KBOB.12> | Q17: <KBOB.1> | R17: <KBOB.2> | S17: <KBOB.3> | T17: <KBOB.4> | U17: <KBOB.5> | V17: <KBOB.6> | W17: <KBOB.7> | X17: <KBOB.8> | Y17: <KBOB.9> | Z17: <KBOB.10> | AA17: <KBOB.11> | AB17: <KBOB.12> | AC17: <KBOB.1> | AD17: <KBOB.2> | AE17: <KBOB.3> | AF17: <KBOB.4> | AG17: <KBOB.5> | AH17: <KBOB.6> | AI17: <KBOB.7> | AJ17: <KBOB.8> | AK17: <KBOB.9> | AL17: <KBOB.10> | AM17: <KBOB.11> | AN17: <KBOB.12> | AO17: <KBOB.1> | AP17: <KBOB.2> | AQ17: <KBOB.3> | AR17: <KBOB.4> | AS17: <KBOB.5> | AT17: <KBOB.6> | AU17: <KBOB.7> | AV17: <KBOB.8> | AW17: <KBOB.9> | AX17: <KBOB.10> | AY17: <KBOB.11> | AZ17: <KBOB.12> | BA17: <KBOB.1> | BB17: <KBOB.2> | BC17: <KBOB.3> | BD17: <KBOB.4> | BE17: <KBOB.5> | BF17: <KBOB.6> | BG17: <KBOB.7> | BH17: <KBOB.8> | BI17: <KBOB.9> | BJ17: <KBOB.10> | BK17: <KBOB.11> | BL17: <KBOB.12> | BM17: <KBOB.1> | BN17: <KBOB.2> | BO17: <KBOB.3> | BP17: <KBOB.4> | BQ17: <KBOB.5> | BR17: <KBOB.6> | BS17: <KBOB.7> | BT17: <KBOB.8> | BU17: <KBOB.9> | BV17: <KBOB.10> | BW17: <KBOB.11> | BX17: <KBOB.12> | BY17: <KBOB.1> | BZ17: <KBOB.2> | CA17: <KBOB.3> | CB17: <KBOB.4> | CC17: <KBOB.5> | CD17: <KBOB.6> | CE17: <KBOB.7> | CF17: <KBOB.8> | CG17: <KBOB.9> | CH17: <KBOB.10> | CI17: <KBOB.11> | CJ17: <KBOB.12> | CK17: <KBOB.1> | CL17: <KBOB.2> | CM17: <KBOB.3> | CN17: <KBOB.4> | CO17: <KBOB.5> | CP17: <KBOB.6> | CQ17: <KBOB.7> | CR17: <KBOB.8> | CS17: <KBOB.9> | CT17: <KBOB.10> | CU17: <KBOB.11> | CV17: <KBOB.12> | CW17: <KBOB.1> | CX17: <KBOB.2> | CY17: <KBOB.3> | CZ17: <KBOB.4> | DA17: <KBOB.5> | DB17: <KBOB.6> | DC17: <KBOB.7> | DD17: <KBOB.8> | DE17: <KBOB.9> | DF17: <KBOB.10> | DG17: <KBOB.11> | DH17: <KBOB.12> | DI17: <KBOB.1> | DJ17: <KBOB.2> | DK17: <KBOB.3> | DL17: <KBOB.4> | DM17: <KBOB.5> | DN17: <KBOB.6> | DO17: <KBOB.7> | DP17: <KBOB.8> | DQ17: <KBOB.9> | DR17: <KBOB.10> | DS17: <KBOB.11> | DT17: <KBOB.12> | DU17: <KBOB.1> | DV17: <KBOB.2> | DW17: <KBOB.3> | DX17: <KBOB.4> | DY17: <KBOB.5> | DZ17: <KBOB.6> | EA17: <KBOB.7> | EB17: <KBOB.8> | EC17: <KBOB.9> | ED17: <KBOB.10> | EE17: <KBOB.11> | EF17: <KBOB.12> | EG17: <KBOB.1> | EH17: <KBOB.2> | EI17: <KBOB.3> | EJ17: <KBOB.4> | EK17: <KBOB.5> | EL17: <KBOB.6> | EM17: <KBOB.7> | EN17: <KBOB.8> | EO17: <KBOB.9> | EP17: <KBOB.10> | EQ17: <KBOB.11> | ER17: <KBOB.12> | ES17: <KBOB.1> | ET17: <KBOB.2> | EU17: <KBOB.3> | EV17: <KBOB.4> | EW17: <KBOB.5> | EX17: <KBOB.6> | EY17: <KBOB.7> | EZ17: <KBOB.8> | FA17: <KBOB.9> | FB17: <KBOB.10> | FC17: <KBOB.11> | FD17: <KBOB.12> | FE17: <KBOB.1> | FF17: <KBOB.2> | FG17: <KBOB.3> | FH17: <KBOB.4> | FI17: <KBOB.5> | FJ17: <KBOB.6> | FK17: <KBOB.7> | FL17: <KBOB.8> | FM17: <KBOB.9> | FN17: <KBOB.10> | FO17: <KBOB.11> | FP17: <KBOB.12> | FQ17: <KBOB.1> | FR17: <KBOB.2> | FS17: <KBOB.3> | FT17: <KBOB.4> | FU17: <KBOB.5> | FV17: <KBOB.6> | FW17: <KBOB.7> | FX17: <KBOB.8> | FY17: <KBOB.9> | FZ17: <KBOB.10> | GA17: <KBOB.11> | GB17: <KBOB.12> | GC17: <KBOB.1> | GD17: <KBOB.2> | GE17: <KBOB.3> | GF17: <KBOB.4> | GG17: <KBOB.5> | GH17: <KBOB.6> | GI17: <KBOB.7> | GJ17: <KBOB.8> | GK17: <KBOB.9> | GL17: <KBOB.10> | GM17: <KBOB.11> | GN17: <KBOB.12> | GO17: <KBOB.1> | GP17: <KBOB.2> | GQ17: <KBOB.3> | GR17: <KBOB.4> | GS17: <KBOB.5> | GT17: <KBOB.6> | GU17: <KBOB.7> | GV17: <KBOB.8> | GW17: <KBOB.9> | GX17: <KBOB.10> | GY17: <KBOB.11> | GZ17: <KBOB.12> | HA17: <KBOB.1> | HB17: <KBOB.2> | HC17: <KBOB.3> | HD17: <KBOB.4> | HE17: <KBOB.5> | HF17: <KBOB.6> | HG17: <KBOB.7> | HH17: <KBOB.8> | HI17: <KBOB.9> | HJ17: <KBOB.10> | HK17: <KBOB.11> | HL17: <KBOB.12> | HM17: <KBOB.1> | HN17: <KBOB.2> | HO17: <KBOB.3> | HP17: <KBOB.4> | HQ17: <KBOB.5> | HR17: <KBOB.6> | HS17: <KBOB.7> | HT17: <KBOB.8> | HU17: <KBOB.9> | HV17: <KBOB.10> | HW17: <KBOB.11> | HX17: <KBOB.12> | HY17: <KBOB.1> | HZ17: <KBOB.2> | IA17: <KBOB.3> | IB17: <KBOB.4> | IC17: <KBOB.5> | ID17: <KBOB.6> | IE17: <KBOB.7> | IF17: <KBOB.8> | IG17: <KBOB.9> | IH17: <KBOB.10> | II17: <KBOB.11> | IJ17: <KBOB.12> | IK17: <KBOB.1> | IL17: <KBOB.2> | IM17: <KBOB.3> | IN17: <KBOB.4> | IO17: <KBOB.5> | IP17: <KBOB.6> | IQ17: <KBOB.7> | IR17: <KBOB.8> | IS17: <KBOB.9> | IT17: <KBOB.10> | IU17: <KBOB.11> | IV17: <KBOB.12> | IW17: <KBOB.1> | IX17: <KBOB.2> | IY17: <KBOB.3> | IZ17: <KBOB.4> | JA17: <KBOB.5> | JB17: <KBOB.6> | JC17: <KBOB.7> | JD17: <KBOB.8> | JE17: <KBOB.9> | JF17: <KBOB.10> | JG17: <KBOB.11> | JH17: <KBOB.12> | JI17: <KBOB.1> | JJ17: <KBOB.2> | JK17: <KBOB.3> | JL17: <KBOB.4> | JM17: <KBOB.5> | JN17: <KBOB.6> | JO17: <KBOB.7> | JP17: <KBOB.8> | JQ17: <KBOB.9> | JR17: <KBOB.10> | JS17: <KBOB.11> | JT17: <KBOB.12> | JU17: <KBOB.1> | JV17: <KBOB.2> | JW17: <KBOB.3> | JX17: <KBOB.4> | JY17: <KBOB.5> | JZ17: <KBOB.6> | KA17: <KBOB.7> | KB17: <KBOB.8> | KC17: <KBOB.9> | KD17: <KBOB.10> | KE17: <KBOB.11> | KF17: <KBOB.12> | KG17: <KBOB.1> | KH17: <KBOB.2> | KI17: <KBOB.3> | KJ17: <KBOB.4> | KK17: <KBOB.5> | KL17: <KBOB.6> | KM17: <KBOB.7> | KN17: <KBOB.8> | KO17: <KBOB.9> | KP17: <KBOB.4> | KQ17: <KBOB.5> | KR17: <KBOB.6> | KS17: <KBOB.7> | KT17: <KBOB.8> | KU17: <KBOB.9> | KV17: <KBOB.10> | KW17: <KBOB.11> | KX17: <KBOB.12> | KY17: <KBOB.1> | KZ17: <KBOB.2> | LA17: <KBOB.3> | LB17: <KBOB.4> | LC17: <KBOB.5> | LD17: <KBOB.6> | LE17: <KBOB.7> | LF17: <KBOB.8> | LG17: <KBOB.9> | LH17: <KBOB.10> | LI17: <KBOB.11> | LJ17: <KBOB.12> | LK17: <KBOB.1> | LL17: <KBOB.2> | LM17: <KBOB.3> | LN17: <KBOB.4> | LO17: <KBOB.5> | LP17: <KBOB.6> | LQ17: <KBOB.7> | LR17: <KBOB.8> | LS17: <KBOB.9> | LT17: <KBOB.10> | LU17: <KBOB.11> | LV17: <KBOB.12> | LW17: <KBOB.1> | LX17: <KBOB.2> | LY17: <KBOB.3> | LZ17: <KBOB.4> | MA17: <KBOB.5> | MB17: <KBOB.6> | MC17: <KBOB.7> | MD17: <KBOB.8> | ME17: <KBOB.9> | MF17: <KBOB.10> | MG17: <KBOB.11> | MH17: <KBOB.12> | MI17: <KBOB.1> | MJ17: <KBOB.2> | MK17: <KBOB.3> | ML17: <KBOB.4> | MM17: <KBOB.5> | MN17: <KBOB.6> | MO17: <KBOB.7> | MP17: <KBOB.8> | MQ17: <KBOB.9> | MR17: <KBOB.10> | MS17: <KBOB.11> | MT17: <KBOB.12> | MU17: <KBOB.1> | MV17: <KBOB.2> | MW17: <KBOB.3> | MX17: <KBOB.4> | MY17: <KBOB.5> | MZ17: <KBOB.6> | NA17: <KBOB.7> | NB17: <KBOB.8> | NC17: <KBOB.9> | ND17: <KBOB.10> | NE17: <KBOB.11> | NF17: <KBOB.12> | NG17: <KBOB.1> | NH17: <KBOB.2> | NI17: <KBOB.3> | NJ17: <KBOB.4> | NK17: <KBOB.5> | NL17: <KBOB.6> | NM17: <KBOB.7> | NN17: <KBOB.8> | NO17: <KBOB.9> | NP17: <KBOB.10> | NQ17: <KBOB.11> | NR17: <KBOB.12>
D19: <PRODUCT-CODE.NEW> | E19: <PRODUCT-CODE.OLD>
A21: <PRODUCT-CODE> | B21: <KBOB.OLD> | D21: =IFERROR(VLOOKUP(A21,PPI_IPI_PGA_PGAI!$A:$N,$R$1+1,FALSE),"") -> Produktcode | E21: =IFERROR(VLOOKUP(A21,PPI_IPI_PGA_PGAI!$A:$N,$R$1+1,FALSE),"") -> Produktcode | F21: =IFERROR(VLOOKUP(A22,PPI_IPI_PGA_PGAI!$A:$N,$R$1+1,FALSE),"") -> Produktgruppen | P21: =IFERROR(VLOOKUP(P17,PPI_IPI_PGA_PGAI!$A:$N,$R$1+1,FALSE),"") -> Dez. | Q21: =IFERROR(VLOOKUP(Q17,PPI_IPI_PGA_PGAI!$A:$N,$R$1+1,FALSE),"") -> Jan. | R21: =IFERROR(VLOOKUP(R17,PPI_IPI_PGA_PGAI!$A:$N,$R$1+1,FALSE),"") -> Feb. | S21: =IFERROR(VLOOKUP(S17,PPI_IPI_PGA_PGAI!$A:$N,$R$1+1,FALSE),"") -> März | T21: =IFERROR(VLOOKUP(T17,PPI_IPI_PGA_PGAI!$A:$N,$R$1+1,FALSE),"") -> April | U21: =IFERROR(VLOOKUP(U17,PPI_IPI_PGA_PGAI!$A:$N,$R$1+1,FALSE),"") -> Mai | V21: =IFERROR(VLOOKUP(V17,PPI_IPI_PGA_PGAI!$A:$N,$R$1+1,FALSE),"") -> Juni | W21: =IFERROR(VLOOKUP(W17,PPI_IPI_PGA_PGAI!$A:$N,$R$1+1,FALSE),"") -> Juli | ... KO21: =IFERROR(VLOOKUP(KO17,PPI_IPI_PGA_PGAI!$A:$N,$R$1+1,FALSE),"") -> Sept.
A22: <PROD_GROUP> | B22: <KBOB.NEU> | D22: =IFERROR(VLOOKUP(B21,PPI_IPI_PGA_PGAI!$A:$N,$R$1+1,FALSE),"") -> Bisher | E22: =IFERROR(VLOOKUP(B22,PPI_IPI_PGA_PGAI!$A:$N,$R$1+1,FALSE),"") -> Neu | P22: 2002 | Q22: 2003 | R22: 2003 | S22: 2003 | T22: 2003 | U22: 2003 | V22: 2003 | W22: 2003 | X22: 2003 | Y22: 2003 | Z22: 2003 | AA22: 2003 | AB22: 2003 | AC22: 2004 | AD22: 2004 | AE22: 2004 | AF22: 2004 | AG22: 2004 | AH22: 2004 | AI22: 2004 | AJ22: 2004 | AK22: 2004 | AL22: 2004 | AM22: 2004 | AN22: 2004 | AO22: 2005 | AP22: 2005 | AQ22: 2005 | AR22: 2005 | AS22: 2005 | AT22: 2005 | AU22: 2005 | AV22: 2005 | AW22: 2005 | AX22: 2005 | AY22: 2005 | AZ22: 2005 | BA22: 2006 | BB22: 2006 | BC22: 2006 | BD22: 2006 | BE22: 2006 | BF22: 2006 | BG22: 2006 | BH22: 2006 | BI22: 2006 | BJ22: 2006 | BK22: 2006 | BL22: 2006 | BM22: 2007 | BN22: 2007 | BO22: 2007 | BP22: 2007 | BQ22: 2007 | BR22: 2007 | BS22: 2007 | BT22: 2007 | BU22: 2007 | BV22: 2007 | BW22: 2007 | BX22: 2007 | BY22: 2008 | BZ22: 2008 | CA22: 2008 | CB22: 2008 | CC22: 2008 | CD22: 2008 | CE22: 2008 | CF22: 2008 | CG22: 2008 | CH22: 2008 | CI22: 2008 | CJ22: 2008 | CK22: 2009 | CL22: 2009 | CM22: 2009 | CN22: 2009 | CO22: 2009 | CP22: 2009 | CQ22: 2009 | CR22: 2009 | CS22: 2009 | CT22: 2009 | CU22: 2009 | CV22: 2009 | CW22: 2010 | CX22: 2010 | CY22: 2010 | CZ22: 2010 | DA22: 2010 | DB22: 2010 | DC22: 2010 | DD22: 2010 | DE22: 2010 | DF22: 2010 | DG22: 2010 | DH22: 2010 | DI22: 2011 | DJ22: 2011 | DK22: 2011 | DL22: 2011 | DM22: 2011 | DN22: 2011 | DO22: 2011 | DP22: 2011 | DQ22: 2011 | DR22: 2011 | DS22: 2011 | DT22: 2011 | DU22: 2012 | DV22: 2012 | DW22: 2012 | DX22: 2012 | DY22: 2012 | DZ22: 2012 | EA22: 2012 | EB22: 2012 | EC22: 2012 | ED22: 2012 | EE22: 2012 | EF22: 2012 | EG22: 2013 | EH22: 2013 | EI22: 2013 | EJ22: 2013 | EK22: 2013 | EL22: 2013 | EM22: 2013 | EN22: 2013 | EO22: 2013 | EP22: 2013 | EQ22: 2013 | ER22: 2013 | ES22: 2014 | ET22: 2014 | EU22: 2014 | EV22: 2014 | EW22: 2014 | EX22: 2014 | EY22: 2014 | EZ22: 2014 | FA22: 2014 | FB22: 2014 | FC22: 2014 | FD22: 2014 | FE22: 2015 | FF22: 2015 | FG22: 2015 | FH22: 2015 | FI22: 2015 | FJ22: 2015 | FK22: 2015 | FL22: 2015 | FM22: 2015 | FN22: 2015 | FO22: 2015 | FP22: 2015 | FQ22: 2016 | FR22: 2016 | FS22: 2016 | FT22: 2016 | FU22: 2016 | FV22: 2016 | FW22: 2016 | FX22: 2016 | FY22: 2016 | FZ22: 2016 | GA22: 2016 | GB22: 2016 | GC22: 2017 | GD22: 2017 | GE22: 2017 | GF22: 2017 | GG22: 2017 | GH22: 2017 | GI22: 2017 | GJ22: 2017 | GK22: 2017 | GL22: 2017 | GM22: 2017 | GN22: 2017 | GO22: 2018 | GP22: 2018 | GQ22: 2018 | GR22: 2018 | GS22: 2018 | GT22: 2018 | GU22: 2018 | GV22: 2018 | GW22: 2018 | GX22: 2018 | GY22: 2018 | GZ22: 2018 | HA22: 2019 | HB22: 2019 | HC22: 2019 | HD22: 2019 | HE22: 2019 | HF22: 2019 | HG22: 2019 | HH22: 2019 | HI22: 2019 | HJ22: 2019 | HK22: 2019 | HL22: 2019 | HM22: 2020 | HN22: 2020 | HO22: 2020 | HP22: 2020 | HQ22: 2020 | HR22: 2020 | HS22: 2020 | HT22: 2020 | HU22: 2020 | HV22: 2020 | HW22: 2020 | HX22: 2020 | HY22: 2021 | HZ22: 2021 | IA22: 2021 | IB22: 2021 | IC22: 2021 | ID22: 2021 | IE22: 2021 | IF22: 2021 | IG22: 2021 | IH22: 2021 | II22: 2021 | IJ22: 2021 | IK22: 2022 | IL22: 2022 | IM22: 2022 | IN22: 2022 | IO22: 2022 | IP22: 2022 | IQ22: 2022 | IR22: 2022 | IS22: 2022 | IT22: 2022 | IU22: 2022 | IV22: 2022 | IW22: 2023 | IX22: 2023 | IY22: 2023 | IZ22: 2023 | JA22: 2023 | JB22: 2023 | JC22: 2023 | JD22: 2023 | JE22: 2023 | JF22: 2023 | JG22: 2023 | JH22: 2023 | JI22: 2024 | JJ22: 2024 | JK22: 2024 | JL22: 2024 | JM22: 2024 | JN22: 2024 | JO22: 2024 | JP22: 2024 | JQ22: 2024 | JR22: 2024 | JS22: 2024 | JT22: 2024 | JU22: 2025 | JV22: 2025 | JW22: 2025 | JX22: 2025 | JY22: 2025 | JZ22: 2025 | KA22: 2025 | KB22: 2025 | KC22: 2025 | KD22: 2025 | KE22: 2025 | KF22: 2025 | KG22: 2026 | KH22: 2026 | KI22: 2026 | KJ22: 2026 | KK22: 2026 | KL22: 2026 | KM22: 2026 | KN22: 2026 | KO22: 2026
A25: <KBOB.01.3> | E25: 01.3 | F25: =IFERROR(VLOOKUP(A25,PPI_IPI_PGA_PGAI!$A:$N,$R$1+1,FALSE),"") -> Baumschulprodukte | P25: … | Q25: … | R25: … | S25: … | T25: … | U25: … | V25: … | W25: … | X25: … | Y25: … | Z25: … | AA25: … | AB25: … | AC25: … | AD25: … | AE25: … | AF25: … | AG25: … | AH25: … | AI25: … | AJ25: … | AK25: … | AL25: … | AM25: … | AN25: … | AO25: … | AP25: … | AQ25: … | AR25: … | AS25: … | AT25: … | AU25: … | AV25: … | AW25: … | AX25: … | AY25: … | AZ25: … | BA25: … | BB25: … | BC25: … | BD25: … | BE25: … | BF25: … | BG25: … | BH25: … | BI25: … | BJ25: … | BK25: … | BL25: … | BM25: … | BN25: … | BO25: … | BP25: … | BQ25: … | BR25: … | BS25: … | BT25: … | BU25: … | BV25: … | BW25: … | BX25: … | BY25: … | BZ25: … | CA25: … | CB25: … | CC25: … | CD25: … | CE25: … | CF25: … | CG25: … | CH25: … | CI25: … | CJ25: … | CK25: … | CL25: … | CM25: … | CN25: … | CO25: … | CP25: … | CQ25: … | CR25: … | CS25: … | CT25: … | CU25: … | CV25: … | CW25: … | CX25: … | CY25: … | CZ25: … | DA25: … | DB25: … | DC25: … | DD25: … | DE25: … | DF25: … | DG25: … | DH25: 74.5414 | DI25: 74.5414 | DJ25: 74.5414 | DK25: 74.6396 | DL25: 74.6396 | DM25: 74.6396 | DN25: 74.6396 | DO25: 74.6396 | DP25: 74.6396 | DQ25: 74.2601 | DR25: 74.2601 | DS25: 74.2601 | DT25: 74.2601 | DU25: 74.2601 | DV25: 74.2601 | DW25: 73.7906 | DX25: 73.7906 | DY25: 73.7906 | DZ25: 73.7906 | EA25: 73.7906 | EB25: 73.7906 | EC25: 74.6656 | ED25: 74.6656 | EE25: 74.6656 | EF25: 74.6656 | EG25: 74.6656 | EH25: 74.6656 | EI25: 74.1132 | EJ25: 74.1132 | EK25: 74.1132 | EL25: 74.1132 | EM25: 74.1132 | EN25: 74.1132 | EO25: 73.9407 | EP25: 73.9407 | EQ25: 73.9407 | ER25: 73.9407 | ES25: 73.9407 | ET25: 73.9407 | EU25: 73.2055 | EV25: 73.2055 | EW25: 73.2055 | EX25: 73.2055 | EY25: 73.2055 | EZ25: 73.2055 | FA25: 73.8233 | FB25: 73.8233 | FC25: 73.8233 | FD25: 73.8233 | FE25: 73.8233 | FF25: 73.8233 | FG25: 71.4961 | FH25: 71.4961 | FI25: 71.4961 | FJ25: 71.4961 | FK25: 71.4961 | FL25: 71.4961 | FM25: 69.7335 | FN25: 69.7335 | FO25: 69.7335 | FP25: 69.7335 | FQ25: 69.7335 | FR25: 69.7335 | FS25: 70.1407 | FT25: 70.1407 | FU25: 70.1407 | FV25: 70.1407 | FW25: 70.1407 | FX25: 70.1407 | FY25: 70.3944 | FZ25: 70.3944 | GA25: 70.3944 | GB25: 70.3944 | GC25: 70.3944 | GD25: 70.3944 | GE25: 68.9971 | GF25: 68.9971 | GG25: 68.9971 | GH25: 68.9971 | GI25: 68.9971 | GJ25: 68.9971 | GK25: 69.8564 | GL25: 69.8564 | GM25: 69.8564 | GN25: 69.8564 | GO25: 69.8564 | GP25: 69.8564 | GQ25: 71.3799 | GR25: 71.3799 | GS25: 71.3799 | GT25: 71.3799 | GU25: 71.3799 | GV25: 71.3799 | GW25: 72.045 | GX25: 72.045 | GY25: 72.045 | GZ25: 72.045 | HA25: 72.045 | HB25: 72.045 | HC25: 73.7015 | HD25: 73.7015 | HE25: 73.7015 | HF25: 73.7015 | HG25: 73.7015 | HH25: 73.7015 | HI25: 74.4062 | HJ25: 74.4062 | HK25: 74.4062 | HL25: 74.4062 | HM25: 74.4062 | HN25: 74.4062 | HO25: 76.4945 | HP25: 76.4945 | HQ25: 76.4945 | HR25: 76.4945 | HS25: 76.4945 | HT25: 76.4945 | HU25: 78.5277 | HV25: 78.5277 | HW25: 78.5277 | HX25: 78.5277 | HY25: 78.5277 | HZ25: 78.5277 | IA25: 82.1122 | IB25: 82.1122 | IC25: 82.1122 | ID25: 82.1122 | IE25: 82.1122 | IF25: 82.1122 | IG25: 85.8393 | IH25: 85.8393 | II25: 85.8393 | IJ25: 85.8393 | IK25: 85.8393 | IL25: 85.8393 | IM25: 91.5277 | IN25: 91.5277 | IO25: 91.5277 | IP25: 91.5277 | IQ25: 91.5277 | IR25: 91.5277 | IS25: 94.7931 | IT25: 94.7931 | IU25: 94.7931 | IV25: 94.7931 | IW25: 94.7931 | IX25: 94.7931 | IY25: 95.6847 | IZ25: 95.6847 | JA25: 95.6847 | JB25: 95.6847 | JC25: 95.6847 | JD25: 95.6847 | JE25: 95.8343 | JF25: 95.8343 | JG25: 95.8343 | JH25: 95.8343 | JI25: 95.8343 | JJ25: 95.8343 | JK25: 97.4721 | JL25: 97.4721 | JM25: 97.4721 | JN25: 97.4721 | JO25: 97.4721 | JP25: 97.4721 | JQ25: 97.2954 | JR25: 97.2954 | JS25: 97.2954 | JT25: 97.2954 | JU25: 97.2954 | JV25: 97.2954 | JW25: 98.4667 | JX25: 98.4667 | JY25: 98.4667 | JZ25: 98.4667 | KA25: 98.4667 | KB25: 98.4667 | KC25: 100 | KD25: 100 | KE25: 100 | KF25: 100 | KG25: 100 | KH25: 100 | KI25: 100.8218 | KJ25: 100.8218 | KK25: 100.8218 | KL25: 100.8218 | KM25: 100.8218 | KN25: 100.8218 | KO25: 102.0722
A26: <KBOB.02.20.13> | E26: 02.20.13 | F26: =IFERROR(VLOOKUP(A26,PPI_IPI_PGA_PGAI!$A:$N,$R$1+1,FALSE),"") -> Energieholz (Total) | P26: 52.2547 | Q26: 52.2547 | R26: 52.2547 | S26: 50.2082 | T26: 50.2082 | U26: 50.2082 | V26: 50.2082 | W26: 51.8382 | X26: 51.8382 | Y26: 51.8382 | Z26: 51.8382 | AA26: 51.7008 | AB26: 51.7008 | AC26: 51.7008 | AD26: 51.7008 | AE26: 52.2281 | AF26: 52.2281 | AG26: 52.2281 | AH26: 52.2281 | AI26: 51.9003 | AJ26: 51.9003 | AK26: 51.9003 | AL26: 51.9003 | AM26: 51.9079 | AN26: 51.9079 | AO26: 51.9079 | AP26: 51.9079 | AQ26: 53.4144 | AR26: 53.4144 | AS26: 53.4144 | AT26: 53.4144 | AU26: 54.1806 | AV26: 54.1806 | AW26: 54.1806 | AX26: 54.1806 | AY26: 53.8759 | AZ26: 53.8759 | BA26: 53.8759 | BB26: 53.8759 | BC26: 55.4412 | BD26: 55.4412 | BE26: 55.4412 | BF26: 55.4412 | BG26: 55.7946 | BH26: 55.7946 | BI26: 55.7946 | BJ26: 55.7946 | BK26: 60.7429 | BL26: 60.7429 | BM26: 60.7429 | BN26: 60.7429 | BO26: 58.4707 | BP26: 58.4707 | BQ26: 58.4707 | BR26: 58.4707 | BS26: 60.1875 | BT26: 60.1875 | BU26: 60.1875 | BV26: 60.1875 | BW26: 60.4399 | BX26: 60.4399 | BY26: 60.4399 | BZ26: 60.4399 | CA26: 61.0459 | CB26: 61.0459 | CC26: 61.0459 | CD26: 61.0459 | CE26: 61.4498 | CF26: 61.4498 | CG26: 61.4498 | CH26: 61.4498 | CI26: 64.0755 | CJ26: 64.0755 | CK26: 64.0755 | CL26: 64.0755 | CM26: 62.7627 | CN26: 62.7627 | CO26: 62.7627 | CP26: 62.7627 | CQ26: 60.8944 | CR26: 60.8944 | CS26: 60.8944 | CT26: 60.8944 | CU26: 62.4092 | CV26: 62.4092 | CW26: 62.4092 | CX26: 62.4092 | CY26: 63.1665 | CZ26: 63.1665 | DA26: 63.1665 | DB26: 63.1665 | DC26: 61.2984 | DD26: 61.2984 | DE26: 61.2984 | DF26: 61.2984 | DG26: 63.7725 | DH26: 63.7725 | DI26: 63.7725 | DJ26: 63.7725 | DK26: 65.2673 | DL26: 65.1454 | DM26: 65.1454 | DN26: 65.1454 | DO26: 66.8979 | DP26: 66.7199 | DQ26: 66.7199 | DR26: 66.7199 | DS26: 66.648 | DT26: 67.1768 | DU26: 67.1768 | DV26: 67.1768 | DW26: 66.4634 | DX26: 66.3759 | DY26: 66.3759 | DZ26: 66.3759 | EA26: 67.7276 | EB26: 66.7434 | EC26: 66.7434 | ED26: 66.7434 | EE26: 66.1698 | EF26: 66.5963 | EG26: 66.5963 | EH26: 66.5963 | EI26: 67.3041 | EJ26: 66.6133 | EK26: 66.6133 | EL26: 66.6133 | EM26: 67.4378 | EN26: 67.7387 | EO26: 67.7387 | EP26: 67.7387 | EQ26: 69.0157 | ER26: 68.6718 | ES26: 68.6718 | ET26: 68.6718 | EU26: 68.0564 | EV26: 68.504 | EW26: 68.504 | EX26: 68.504 | EY26: 69.4657 | EZ26: 69.6009 | FA26: 69.6009 | FB26: 69.6009 | FC26: 69.8362 | FD26: 69.8718 | FE26: 69.8718 | FF26: 69.8718 | FG26: 70.6998 | FH26: 70.7221 | FI26: 70.7221 | FJ26: 70.7221 | FK26: 73.4672 | FL26: 72.959 | FM26: 72.959 | FN26: 72.959 | FO26: 72.959 | FP26: 72.8888 | FQ26: 72.8888 | FR26: 73.1931 | FS26: 73.1931 | FT26: 74.5167 | FU26: 74.5167 | FV26: 74.4751 | FW26: 74.4751 | FX26: 73.9145 | FY26: 73.9145 | FZ26: 74.7035 | GA26: 74.7035 | GB26: 73.2069 | GC26: 73.2069 | GD26: 71.4964 | GE26: 71.4964 | GF26: 75.7115 | GG26: 75.7115 | GH26: 76.1489 | GI26: 76.1489 | GJ26: 77.0179 | GK26: 77.0179 | GL26: 77.6994 | GM26: 77.6994 | GN26: 77.0219 | GO26: 77.0219 | GP26: 77.5205 | GQ26: 77.5205 | GR26: 78.4144 | GS26: 78.4144 | GT26: 79.2785 | GU26: 79.2785 | GV26: 79.8188 | GW26: 79.8188 | GX26: 79.4173 | GY26: 79.4173 | GZ26: 78.8187 | HA26: 78.8187 | HB26: 79.8606 | HC26: 79.8606 | HD26: 79.7857 | HE26: 79.7857 | HF26: 77.6929 | HG26: 77.6929 | HH26: 79.8485 | HI26: 79.8485 | HJ26: 79.9807 | HK26: 79.9807 | HL26: 78.3804 | HM26: 78.3804 | HN26: 78.1368 | HO26: 78.1368 | HP26: 80.0365 | HQ26: 80.0365 | HR26: 81.1374 | HS26: 81.1374 | HT26: 80.6385 | HU26: 80.6385 | HV26: 78.6425 | HW26: 78.6425 | HX26: 79.1137 | HY26: 79.1137 | HZ26: 78.9968 | IA26: 78.9968 | IB26: 79.8445 | IC26: 79.8445 | ID26: 79.3133 | IE26: 79.3133 | IF26: 78.8826 | IG26: 78.8826 | IH26: 79.2517 | II26: 79.2517 | IJ26: 79.4432 | IK26: 79.4432 | IL26: 79.7302 | IM26: 79.7302 | IN26: 80.9148 | IO26: 80.9148 | IP26: 82.0242 | IQ26: 82.0242 | IR26: 80.7868 | IS26: 80.7868 | IT26: 80.6975 | IU26: 80.6975 | IV26: 85.1813 | IW26: 85.1813 | IX26: 93.3209 | IY26: 93.3209 | IZ26: 95.2328 | JA26: 95.2328 | JB26: 94.9838 | JC26: 94.9838 | JD26: 94.593 | JE26: 94.593 | JF26: 91.8418 | JG26: 91.8418 | JH26: 93.2677 | JI26: 93.2677 | JJ26: 93.9347 | JK26: 93.9347 | JL26: 95.862 | JM26: 95.862 | JN26: 94.4119 | JO26: 94.4119 | JP26: 98.0254 | JQ26: 98.0254 | JR26: 96.2181 | JS26: 96.2181 | JT26: 96.9482 | JU26: 96.9482 | JV26: 98.3923 | JW26: 98.3923 | JX26: 97.9851 | JY26: 97.9851 | JZ26: 99.2438 | KA26: 99.2438 | KB26: 97.4423 | KC26: 97.4423 | KD26: 95.0039 | KE26: 95.0039 | KF26: 100 | KG26: 100 | KH26: 102.5796 | KI26: 102.5796 | KJ26: 97.8364 | KK26: 97.8364 | KL26: 98.4328 | KM26: 98.4328 | KN26: 95.909 | KO26: 95.909
A27: <KBOB.02.20.133> | E27: 02.20.133 1) | F27: =IFERROR(VLOOKUP(A27,PPI_IPI_PGA_PGAI!$A:$N,$R$1+1,FALSE),"") -> Energieholz für die Hackschnitzelproduktion | P27: … | Q27: … | R27: … | S27: … | T27: … | U27: … | V27: … | W27: … | X27: … | Y27: … | Z27: … | AA27: … | AB27: … | AC27: … | AD27: … | AE27: … | AF27: … | AG27: … | AH27: … | AI27: … | AJ27: … | AK27: … | AL27: … | AM27: … | AN27: … | AO27: … | AP27: … | AQ27: … | AR27: … | AS27: … | AT27: … | AU27: … | AV27: … | AW27: … | AX27: … | AY27: … | AZ27: … | BA27: … | BB27: … | BC27: … | BD27: … | BE27: … | BF27: … | BG27: … | BH27: … | BI27: … | BJ27: … | BK27: … | BL27: … | BM27: … | BN27: … | BO27: … | BP27: … | BQ27: … | BR27: … | BS27: … | BT27: … | BU27: … | BV27: … | BW27: … | BX27: … | BY27: … | BZ27: … | CA27: … | CB27: … | CC27: … | CD27: … | CE27: … | CF27: … | CG27: … | CH27: … | CI27: … | CJ27: … | CK27: … | CL27: … | CM27: … | CN27: … | CO27: … | CP27: … | CQ27: … | CR27: … | CS27: … | CT27: … | CU27: … | CV27: … | CW27: … | CX27: … | CY27: … | CZ27: … | DA27: … | DB27: … | DC27: … | DD27: … | DE27: … | DF27: … | DG27: … | DH27: 80.0706 | DI27: 80.0706 | DJ27: 80.0706 | DK27: 80.0706 | DL27: 79.2356 | DM27: 79.2356 | DN27: 79.2356 | DO27: 79.2356 | DP27: 78.0155 | DQ27: 78.0155 | DR27: 78.0155 | DS27: 78.0155 | DT27: 81.6412 | DU27: 81.6412 | DV27: 81.6412 | DW27: 81.6412 | DX27: 81.0411 | DY27: 81.0411 | DZ27: 81.0411 | EA27: 81.0411 | EB27: 74.2929 | EC27: 74.2929 | ED27: 74.2929 | EE27: 74.2929 | EF27: 77.2171 | EG27: 77.2171 | EH27: 77.2171 | EI27: 77.2171 | EJ27: 72.4803 | EK27: 72.4803 | EL27: 72.4803 | EM27: 72.4803 | EN27: 74.543 | EO27: 74.543 | EP27: 74.543 | EQ27: 74.543 | ER27: 72.1859 | ES27: 72.1859 | ET27: 72.1859 | EU27: 72.1859 | EV27: 75.2546 | EW27: 75.2546 | EX27: 75.2546 | EY27: 75.2546 | EZ27: 76.1817 | FA27: 76.1817 | FB27: 76.1817 | FC27: 76.1817 | FD27: 76.4255 | FE27: 76.4255 | FF27: 76.4255 | FG27: 76.4255 | FH27: 76.5781 | FI27: 76.5781 | FJ27: 76.5781 | FK27: 76.5781 | FL27: 73.0946 | FM27: 73.0946 | FN27: 73.0946 | FO27: 73.0946 | FP27: 72.6133 | FQ27: 72.6133 | FR27: 72.9483 | FS27: 72.9483 | FT27: 74.4055 | FU27: 74.4055 | FV27: 74.3764 | FW27: 74.3764 | FX27: 73.7591 | FY27: 73.7591 | FZ27: 74.6278 | GA27: 74.6278 | GB27: 72.9802 | GC27: 72.9802 | GD27: 71.0969 | GE27: 71.0969 | GF27: 75.7376 | GG27: 75.7376 | GH27: 76.3242 | GI27: 76.3242 | GJ27: 77.281 | GK27: 77.281 | GL27: 78.0313 | GM27: 78.0313 | GN27: 77.2854 | GO27: 77.2854 | GP27: 77.8342 | GQ27: 77.8342 | GR27: 78.8185 | GS27: 78.8185 | GT27: 79.599 | GU27: 79.599 | GV27: 80.1939 | GW27: 80.1939 | GX27: 79.7519 | GY27: 79.7519 | GZ27: 79.0929 | HA27: 79.0929 | HB27: 80.2399 | HC27: 80.2399 | HD27: 80.1574 | HE27: 80.1574 | HF27: 77.8919 | HG27: 77.8919 | HH27: 80.265 | HI27: 80.265 | HJ27: 80.4107 | HK27: 80.4107 | HL27: 78.6487 | HM27: 78.6487 | HN27: 78.3805 | HO27: 78.3805 | HP27: 80.4721 | HQ27: 80.4721 | HR27: 81.8525 | HS27: 81.8525 | HT27: 81.3032 | HU27: 81.3032 | HV27: 79.1058 | HW27: 79.1058 | HX27: 79.6247 | HY27: 79.6247 | HZ27: 79.5019 | IA27: 79.5019 | IB27: 80.3921 | IC27: 80.3921 | ID27: 79.7799 | IE27: 79.7799 | IF27: 79.3275 | IG27: 79.3275 | IH27: 79.7152 | II27: 79.7152 | IJ27: 79.9162 | IK27: 79.9162 | IL27: 80.2176 | IM27: 80.2176 | IN27: 81.4616 | IO27: 81.4616 | IP27: 82.1783 | IQ27: 82.1783 | IR27: 80.8789 | IS27: 80.8789 | IT27: 80.7851 | IU27: 80.7851 | IV27: 85.4937 | IW27: 85.4937 | IX27: 94.0415 | IY27: 94.0415 | IZ27: 96.0493 | JA27: 96.0493 | JB27: 95.0656 | JC27: 95.0656 | JD27: 94.6552 | JE27: 94.6552 | JF27: 91.766 | JG27: 91.766 | JH27: 93.2635 | JI27: 93.2635 | JJ27: 93.9639 | JK27: 93.9639 | JL27: 95.9879 | JM27: 95.9879 | JN27: 94.1233 | JO27: 94.1233 | JP27: 97.9181 | JQ27: 97.9181 | JR27: 96.0201 | JS27: 96.0201 | JT27: 96.7868 | JU27: 96.7868 | JV27: 98.3034 | JW27: 98.3034 | JX27: 97.8756 | JY27: 97.8756 | JZ27: 99.2058 | KA27: 99.2058 | KB27: 97.314 | KC27: 97.314 | KD27: 94.7534 | KE27: 94.7534 | KF27: 100 | KG27: 100 | KH27: 102.6448 | KI27: 102.6448 | KJ27: 97.7817 | KK27: 97.7817 | KL27: 98.4368 | KM27: 98.4368 | KN27: 95.8492 | KO27: 95.8492
A28: <KBOB.08.11> | E28: 08.11 | F28: =IFERROR(VLOOKUP(A28,PPI_IPI_PGA_PGAI!$A:$N,$R$1+1,FALSE),"") -> Unbearbeitete Natursteine | P28: … | Q28: … | R28: … | S28: … | T28: … | U28: … | V28: … | W28: … | X28: … | Y28: … | Z28: … | AA28: … | AB28: … | AC28: … | AD28: … | AE28: … | AF28: … | AG28: … | AH28: … | AI28: … | AJ28: … | AK28: … | AL28: … | AM28: … | AN28: … | AO28: … | AP28: … | AQ28: … | AR28: … | AS28: … | AT28: … | AU28: … | AV28: … | AW28: … | AX28: … | AY28: … | AZ28: … | BA28: … | BB28: … | BC28: … | BD28: … | BE28: … | BF28: … | BG28: … | BH28: … | BI28: … | BJ28: … | BK28: … | BL28: … | BM28: … | BN28: … | BO28: … | BP28: … | BQ28: … | BR28: … | BS28: … | BT28: … | BU28: … | BV28: … | BW28: … | BX28: … | BY28: … | BZ28: … | CA28: … | CB28: … | CC28: … | CD28: … | CE28: … | CF28: … | CG28: … | CH28: … | CI28: … | CJ28: … | CK28: … | CL28: … | CM28: … | CN28: … | CO28: … | CP28: … | CQ28: … | CR28: … | CS28: … | CT28: … | CU28: … | CV28: … | CW28: … | CX28: … | CY28: … | CZ28: … | DA28: … | DB28: … | DC28: … | DD28: … | DE28: … | DF28: … | DG28: … | DH28: 97.2332 | DI28: 97.2332 | DJ28: 99.6724 | DK28: 99.6724 | DL28: 99.6724 | DM28: 98.0356 | DN28: 98.0356 | DO28: 98.0356 | DP28: 98.0356 | DQ28: 98.0356 | DR28: 98.0356 | DS28: 91.6555 | DT28: 91.6555 | DU28: 91.6555 | DV28: 89.9975 | DW28: 89.9975 | DX28: 89.9975 | DY28: 89.8901 | DZ28: 89.8901 | EA28: 89.8901 | EB28: 91.0437 | EC28: 91.0437 | ED28: 91.0437 | EE28: 91.0552 | EF28: 91.0552 | EG28: 91.0552 | EH28: 90.5971 | EI28: 90.5971 | EJ28: 90.5971 | EK28: 90.6102 | EL28: 90.6102 | EM28: 90.6102 | EN28: 90.7203 | EO28: 90.7203 | EP28: 90.7203 | EQ28: 90.5707 | ER28: 90.5707 | ES28: 90.5707 | ET28: 88.6675 | EU28: 88.6675 | EV28: 88.6675 | EW28: 88.6474 | EX28: 88.6474 | EY28: 88.6474 | EZ28: 89.5657 | FA28: 89.5657 | FB28: 89.5657 | FC28: 90.2644 | FD28: 90.2644 | FE28: 90.2644 | FF28: 89.0502 | FG28: 89.0502 | FH28: 89.0502 | FI28: 89.3039 | FJ28: 89.3039 | FK28: 89.3039 | FL28: 90.5948 | FM28: 90.5948 | FN28: 90.5948 | FO28: 88.9827 | FP28: 88.9827 | FQ28: 88.9827 | FR28: 88.2545 | FS28: 88.2545 | FT28: 88.2545 | FU28: 88.6393 | FV28: 88.6393 | FW28: 88.6393 | FX28: 85.6075 | FY28: 85.6075 | FZ28: 85.6075 | GA28: 85.792 | GB28: 85.792 | GC28: 85.792 | GD28: 85.5416 | GE28: 85.5416 | GF28: 85.5416 | GG28: 85.3895 | GH28: 85.3895 | GI28: 85.3895 | GJ28: 87.3541 | GK28: 87.3541 | GL28: 87.3541 | GM28: 86.4016 | GN28: 86.4016 | GO28: 86.4016 | GP28: 86.1316 | GQ28: 86.1316 | GR28: 86.1316 | GS28: 87.5249 | GT28: 87.5249 | GU28: 87.5249 | GV28: 87.5376 | GW28: 87.5376 | GX28: 87.5376 | GY28: 89.5735 | GZ28: 89.5735 | HA28: 89.5735 | HB28: 90.1396 | HC28: 90.1396 | HD28: 90.1396 | HE28: 89.9244 | HF28: 89.9244 | HG28: 89.9244 | HH28: 89.6656 | HI28: 89.6656 | HJ28: 89.6656 | HK28: 88.8336 | HL28: 88.8336 | HM28: 88.8336 | HN28: 88.3127 | HO28: 88.3127 | HP28: 88.3127 | HQ28: 88.2286 | HR28: 88.2286 | HS28: 88.2286 | HT28: 89.5616 | HU28: 89.5616 | HV28: 89.5616 | HW28: 89.3653 | HX28: 89.3653 | HY28: 89.3653 | HZ28: 88.7762 | IA28: 88.7762 | IB28: 88.7762 | IC28: 90.5048 | ID28: 90.5048 | IE28: 90.5048 | IF28: 91.4828 | IG28: 91.4828 | IH28: 91.4828 | II28: 91.8014 | IJ28: 91.8014 | IK28: 91.8014 | IL28: 91.4318 | IM28: 91.4318 | IN28: 91.4318 | IO28: 89.7963 | IP28: 89.7963 | IQ28: 89.7963 | IR28: 95.2074 | IS28: 95.2074 | IT28: 95.2074 | IU28: 99.6019 | IV28: 99.6019 | IW28: 99.6019 | IX28: 100.6503 | IY28: 100.6503 | IZ28: 100.6503 | JA28: 99.8903 | JB28: 99.8903 | JC28: 99.8903 | JD28: 100.0043 | JE28: 100.0043 | JF28: 100.0043 | JG28: 98.6025 | JH28: 98.6025 | JI28: 98.6025 | JJ28: 100.0962 | JK28: 100.0962 | JL28: 100.0962 | JM28: 101.242 | JN28: 101.242 | JO28: 101.242 | JP28: 101.163 | JQ28: 101.163 | JR28: 101.163 | JS28: 100.8923 | JT28: 100.8923 | JU28: 100.8923 | JV28: 100.862 | JW28: 100.862 | JX28: 100.862 | JY28: 100.649 | JZ28: 100.649 | KA28: 100.649 | KB28: 100.0338 | KC28: 100.0338 | KD28: 100.0338 | KE28: 100 | KF28: 100 | KG28: 100 | KH28: 98.8014 | KI28: 98.8014 | KJ28: 98.8014 | KK28: 99.3673 | KL28: 99.3673 | KM28: 99.3673 | KN28: 100.3987 | KO28: 100.3987
A29: <KBOB.08.12> | E29: 08.12 | F29: =IFERROR(VLOOKUP(A29,PPI_IPI_PGA_PGAI!$A:$N,$R$1+1,FALSE),"") -> Sand und Kies | P29: 89.3718 | Q29: 89.3718 | R29: 89.3718 | S29: 89.5044 | T29: 89.5044 | U29: 89.5044 | V29: 89.1263 | W29: 89.1263 | X29: 89.1263 | Y29: 88.6371 | Z29: 88.6371 | AA29: 88.6371 | AB29: 88.5849 | AC29: 88.5849 | AD29: 88.5849 | AE29: 88.5463 | AF29: 88.5463 | AG29: 88.5463 | AH29: 88.4715 | AI29: 88.4715 | AJ29: 88.4715 | AK29: 88.3324 | AL29: 88.3324 | AM29: 88.3324 | AN29: 88.5073 | AO29: 88.5073 | AP29: 88.5073 | AQ29: 89.5764 | AR29: 89.5764 | AS29: 89.5764 | AT29: 89.9239 | AU29: 89.9239 | AV29: 89.9239 | AW29: 89.8703 | AX29: 89.8703 | AY29: 89.8703 | AZ29: 90.1413 | BA29: 90.1413 | BB29: 90.1413 | BC29: 91.0803 | BD29: 91.0803 | BE29: 91.0803 | BF29: 91.0918 | BG29: 91.0918 | BH29: 91.0918 | BI29: 91.1987 | BJ29: 91.1987 | BK29: 91.1987 | BL29: 91.0543 | BM29: 91.0543 | BN29: 91.0543 | BO29: 92.2514 | BP29: 92.2514 | BQ29: 92.2514 | BR29: 92.1564 | BS29: 92.1564 | BT29: 92.1564 | BU29: 92.0063 | BV29: 92.0063 | BW29: 92.0063 | BX29: 91.9473 | BY29: 91.9473 | BZ29: 91.9473 | CA29: 93.7907 | CB29: 93.7907 | CC29: 93.7907 | CD29: 93.9178 | CE29: 93.9178 | CF29: 93.9178 | CG29: 94.3835 | CH29: 94.3835 | CI29: 94.3835 | CJ29: 94.276 | CK29: 94.276 | CL29: 94.276 | CM29: 96.6868 | CN29: 96.6868 | CO29: 96.6868 | CP29: 96.7433 | CQ29: 96.7433 | CR29: 96.7433 | CS29: 96.8091 | CT29: 96.8091 | CU29: 96.8091 | CV29: 96.584 | CW29: 96.584 | CX29: 96.584 | CY29: 96.9071 | CZ29: 96.9071 | DA29: 96.9071 | DB29: 96.614 | DC29: 96.614 | DD29: 96.614 | DE29: 96.6552 | DF29: 96.6552 | DG29: 96.6552 | DH29: 96.6031 | DI29: 96.6031 | DJ29: 97.3539 | DK29: 97.3539 | DL29: 97.3539 | DM29: 97.9289 | DN29: 97.9289 | DO29: 97.9289 | DP29: 97.3389 | DQ29: 97.3389 | DR29: 97.3389 | DS29: 97.4287 | DT29: 97.4287 | DU29: 97.4287 | DV29: 97.7644 | DW29: 97.7644 | DX29: 97.7644 | DY29: 97.8182 | DZ29: 97.8182 | EA29: 97.8182 | EB29: 97.6085 | EC29: 97.6085 | ED29: 97.6085 | EE29: 97.157 | EF29: 97.157 | EG29: 97.157 | EH29: 97.7121 | EI29: 97.7121 | EJ29: 97.7121 | EK29: 97.3461 | EL29: 97.3461 | EM29: 97.3461 | EN29: 97.158 | EO29: 97.158 | EP29: 97.158 | EQ29: 97.1072 | ER29: 97.1072 | ES29: 97.1072 | ET29: 97.1804 | EU29: 97.1804 | EV29: 97.1804 | EW29: 96.9197 | EX29: 96.9197 | EY29: 96.9197 | EZ29: 96.5713 | FA29: 96.5713 | FB29: 96.5713 | FC29: 96.6869 | FD29: 96.6869 | FE29: 96.6869 | FF29: 97.2163 | FG29: 97.2163 | FH29: 97.2163 | FI29: 96.669 | FJ29: 96.669 | FK29: 96.669 | FL29: 96.911 | FM29: 96.911 | FN29: 96.911 | FO29: 95.8098 | FP29: 95.8098 | FQ29: 95.8098 | FR29: 95.5601 | FS29: 95.5601 | FT29: 95.5601 | FU29: 95.4292 | FV29: 95.4292 | FW29: 95.4292 | FX29: 95.2121 | FY29: 95.2121 | FZ29: 95.2121 | GA29: 95.0511 | GB29: 95.0511 | GC29: 95.0511 | GD29: 95.4231 | GE29: 95.4231 | GF29: 95.4231 | GG29: 95.6575 | GH29: 95.6575 | GI29: 95.6575 | GJ29: 95.5843 | GK29: 95.5843 | GL29: 95.5843 | GM29: 95.5453 | GN29: 95.5453 | GO29: 95.5453 | GP29: 95.6346 | GQ29: 95.6346 | GR29: 95.6346 | GS29: 95.4304 | GT29: 95.4304 | GU29: 95.4304 | GV29: 95.5794 | GW29: 95.5794 | GX29: 95.5794 | GY29: 94.9836 | GZ29: 94.9836 | HA29: 94.9836 | HB29: 95.2373 | HC29: 95.2373 | HD29: 95.2373 | HE29: 94.7205 | HF29: 94.7205 | HG29: 94.7205 | HH29: 94.5267 | HI29: 94.5267 | HJ29: 94.5267 | HK29: 94.6109 | HL29: 94.6109 | HM29: 94.6109 | HN29: 94.5583 | HO29: 94.5583 | HP29: 94.5583 | HQ29: 93.7031 | HR29: 93.7031 | HS29: 93.7031 | HT29: 93.7532 | HU29: 93.7532 | HV29: 93.7532 | HW29: 93.5072 | HX29: 93.5072 | HY29: 93.5072 | HZ29: 95.1459 | IA29: 95.1459 | IB29: 95.1459 | IC29: 94.2014 | ID29: 94.2014 | IE29: 94.2014 | IF29: 93.7159 | IG29: 93.7159 | IH29: 93.7159 | II29: 93.4448 | IJ29: 93.4448 | IK29: 93.4448 | IL29: 94.5083 | IM29: 94.5083 | IN29: 94.5083 | IO29: 95.0286 | IP29: 95.0286 | IQ29: 95.0286 | IR29: 95.4173 | IS29: 95.4173 | IT29: 95.4173 | IU29: 95.7419 | IV29: 95.7419 | IW29: 95.7419 | IX29: 97.6962 | IY29: 97.6962 | IZ29: 97.6962 | JA29: 98.6064 | JB29: 98.6064 | JC29: 98.6064 | JD29: 99.3455 | JE29: 99.3455 | JF29: 99.3455 | JG29: 98.8938 | JH29: 98.8938 | JI29: 98.8938 | JJ29: 100.2001 | JK29: 100.2001 | JL29: 100.2001 | JM29: 99.2522 | JN29: 99.2522 | JO29: 99.2522 | JP29: 99.1926 | JQ29: 99.1926 | JR29: 99.1926 | JS29: 99.0442 | JT29: 99.0442 | JU29: 99.0442 | JV29: 99.4547 | JW29: 99.4547 | JX29: 99.4547 | JY29: 99.9464 | JZ29: 99.9464 | KA29: 99.9464 | KB29: 99.7903 | KC29: 99.7903 | KD29: 99.7903 | KE29: 100 | KF29: 100 | KG29: 100 | KH29: 100.5432 | KI29: 100.5432 | KJ29: 100.5432 | KK29: 100.9959 | KL29: 100.9959 | KM29: 100.9959 | KN29: 101.0832 | KO29: 101.0832
A30: <KBOB.08.12.11> | D30: 08.12.1 | E30: 08.12.11 | F30: =IFERROR(VLOOKUP(A30,PPI_IPI_PGA_PGAI!$A:$N,$R$1+1,FALSE),"") -> Rundsand | P30: 87.3399 | Q30: 87.3399 | R30: 87.3399 | S30: 88.0012 | T30: 88.0012 | U30: 88.0012 | V30: 87.6441 | W30: 87.6441 | X30: 87.6441 | Y30: 87.0348 | Z30: 87.0348 | AA30: 87.0348 | AB30: 86.7816 | AC30: 86.7816 | AD30: 86.7816 | AE30: 86.8277 | AF30: 86.8277 | AG30: 86.8277 | AH30: 87.2333 | AI30: 87.2333 | AJ30: 87.2333 | AK30: 87.2139 | AL30: 87.2139 | AM30: 87.2139 | AN30: 86.9366 | AO30: 86.9366 | AP30: 86.9366 | AQ30: 88.3691 | AR30: 88.3691 | AS30: 88.3691 | AT30: 88.431 | AU30: 88.431 | AV30: 88.431 | AW30: 88.0186 | AX30: 88.0186 | AY30: 88.0186 | AZ30: 88.1887 | BA30: 88.1887 | BB30: 88.1887 | BC30: 88.665 | BD30: 88.665 | BE30: 88.665 | BF30: 88.8098 | BG30: 88.8098 | BH30: 88.8098 | BI30: 88.8986 | BJ30: 88.8986 | BK30: 88.8986 | BL30: 88.9637 | BM30: 88.9637 | BN30: 88.9637 | BO30: 90.2464 | BP30: 90.2464 | BQ30: 90.2464 | BR30: 90.0606 | BS30: 90.0606 | BT30: 90.0606 | BU30: 90.366 | BV30: 90.366 | BW30: 90.366 | BX30: 90.3065 | BY30: 90.3065 | BZ30: 90.3065 | CA30: 91.6565 | CB30: 91.6565 | CC30: 91.6565 | CD30: 91.6581 | CE30: 91.6581 | CF30: 91.6581 | CG30: 92.2776 | CH30: 92.2776 | CI30: 92.2776 | CJ30: 92.4537 | CK30: 92.4537 | CL30: 92.4537 | CM30: 94.5935 | CN30: 94.5935 | CO30: 94.5935 | CP30: 94.5447 | CQ30: 94.5447 | CR30: 94.5447 | CS30: 94.5787 | CT30: 94.5787 | CU30: 94.5787 | CV30: 94.1201 | CW30: 94.1201 | CX30: 94.1201 | CY30: 93.7963 | CZ30: 93.7963 | DA30: 93.7963 | DB30: 94.2728 | DC30: 94.2728 | DD30: 94.2728 | DE30: 94.3885 | DF30: 94.3885 | DG30: 94.3885 | DH30: 94.3454 | DI30: 94.3454 | DJ30: 95.3682 | DK30: 95.3682 | DL30: 95.3682 | DM30: 95.4286 | DN30: 95.4286 | DO30: 95.4286 | DP30: 95.2904 | DQ30: 95.2904 | DR30: 95.2904 | DS30: 95.1041 | DT30: 95.1041 | DU30: 95.1041 | DV30: 96.0637 | DW30: 96.0637 | DX30: 96.0637 | DY30: 96.2563 | DZ30: 96.2563 | EA30: 96.2563 | EB30: 96.6263 | EC30: 96.6263 | ED30: 96.6263 | EE30: 96.2456 | EF30: 96.2456 | EG30: 96.2456 | EH30: 96.0763 | EI30: 96.0763 | EJ30: 96.0763 | EK30: 95.8214 | EL30: 95.8214 | EM30: 95.8214 | EN30: 95.9834 | EO30: 95.9834 | EP30: 95.9834 | EQ30: 95.699 | ER30: 95.699 | ES30: 95.699 | ET30: 96.2137 | EU30: 96.2137 | EV30: 96.2137 | EW30: 96.7031 | EX30: 96.7031 | EY30: 96.7031 | EZ30: 96.295 | FA30: 96.295 | FB30: 96.295 | FC30: 96.3105 | FD30: 96.3105 | FE30: 96.3105 | FF30: 96.8235 | FG30: 96.8235 | FH30: 96.8235 | FI30: 96.6205 | FJ30: 96.6205 | FK30: 96.6205 | FL30: 96.6438 | FM30: 96.6438 | FN30: 96.6438 | FO30: 96.0303 | FP30: 96.0303 | FQ30: 96.0303 | FR30: 95.4148 | FS30: 95.4148 | FT30: 95.4148 | FU30: 95.4759 | FV30: 95.4759 | FW30: 95.4759 | FX30: 95.5989 | FY30: 95.5989 | FZ30: 95.5989 | GA30: 95.4677 | GB30: 95.4677 | GC30: 95.4677 | GD30: 95.93 | GE30: 95.93 | GF30: 95.93 | GG30: 95.36 | GH30: 95.36 | GI30: 95.36 | GJ30: 95.7349 | GK30: 95.7349 | GL30: 95.7349 | GM30: 95.5896 | GN30: 95.5896 | GO30: 95.5896 | GP30: 95.5337 | GQ30: 95.5337 | GR30: 95.5337 | GS30: 94.883 | GT30: 94.883 | GU30: 94.883 | GV30: 94.5488 | GW30: 94.5488 | GX30: 94.5488 | GY30: 94.9 | GZ30: 94.9 | HA30: 94.9 | HB30: 94.944 | HC30: 94.944 | HD30: 94.944 | HE30: 93.3305 | HF30: 93.3305 | HG30: 93.3305 | HH30: 92.1954 | HI30: 92.1954 | HJ30: 92.1954 | HK30: 91.8322 | HL30: 91.8322 | HM30: 91.8322 | HN30: 92.4954 | HO30: 92.4954 | HP30: 92.4954 | HQ30: 92.5436 | HR30: 92.5436 | HS30: 92.5436 | HT30: 92.789 | HU30: 92.789 | HV30: 92.789 | HW30: 92.5402 | HX30: 92.5402 | HY30: 92.5402 | HZ30: 95.6158 | IA30: 95.6158 | IB30: 95.6158 | IC30: 93.2179 | ID30: 93.2179 | IE30: 93.2179 | IF30: 92.3999 | IG30: 92.3999 | IH30: 92.3999 | II30: 92.4819 | IJ30: 92.4819 | IK30: 92.4819 | IL30: 93.3587 | IM30: 93.3587 | IN30: 93.3587 | IO30: 94.1391 | IP30: 94.1391 | IQ30: 94.1391 | IR30: 94.5004 | IS30: 94.5004 | IT30: 94.5004 | IU30: 95.7025 | IV30: 95.7025 | IW30: 95.7025 | IX30: 96.5591 | IY30: 96.5591 | IZ30: 96.5591 | JA30: 98.7639 | JB30: 98.7639 | JC30: 98.7639 | JD30: 99.5114 | JE30: 99.5114 | JF30: 99.5114 | JG30: 99.0731 | JH30: 99.0731 | JI30: 99.0731 | JJ30: 100.3615 | JK30: 100.3615 | JL30: 100.3615 | JM30: 98.6379 | JN30: 98.6379 | JO30: 98.6379 | JP30: 99.2511 | JQ30: 99.2511 | JR30: 99.2511 | JS30: 99.0672 | JT30: 99.0672 | JU30: 99.0672 | JV30: 98.4889 | JW30: 98.4889 | JX30: 98.4889 | JY30: 99.8201 | JZ30: 99.8201 | KA30: 99.8201 | KB30: 99.3697 | KC30: 99.3697 | KD30: 99.3697 | KE30: 100 | KF30: 100 | KG30: 100 | KH30: 100.6716 | KI30: 100.6716 | KJ30: 100.6716 | KK30: 100.6096 | KL30: 100.6096 | KM30: 100.6096 | KN30: 100.7156 | KO30: 100.7156
A31: <KBOB.08.12.12> | D31: 08.12.2 | E31: 08.12.12 | F31: =IFERROR(VLOOKUP(A31,PPI_IPI_PGA_PGAI!$A:$N,$R$1+1,FALSE),"") -> Brechsand | P31: 89.1822 | Q31: 89.1822 | R31: 89.1822 | S31: 89.3266 | T31: 89.3266 | U31: 89.3266 | V31: 88.6048 | W31: 88.6048 | X31: 88.6048 | Y31: 88.6723 | Z31: 88.6723 | AA31: 88.6723 | AB31: 88.836 | AC31: 88.836 | AD31: 88.836 | AE31: 88.4551 | AF31: 88.4551 | AG31: 88.4551 | AH31: 88.688 | AI31: 88.688 | AJ31: 88.688 | AK31: 88.408 | AL31: 88.408 | AM31: 88.408 | AN31: 88.4691 | AO31: 88.4691 | AP31: 88.4691 | AQ31: 88.6813 | AR31: 88.6813 | AS31: 88.6813 | AT31: 89.8997 | AU31: 89.8997 | AV31: 89.8997 | AW31: 90.3941 | AX31: 90.3941 | AY31: 90.3941 | AZ31: 89.6556 | BA31: 89.6556 | BB31: 89.6556 | BC31: 89.4775 | BD31: 89.4775 | BE31: 89.4775 | BF31: 91.1391 | BG31: 91.1391 | BH31: 91.1391 | BI31: 91.6017 | BJ31: 91.6017 | BK31: 91.6017 | BL31: 91.0621 | BM31: 91.0621 | BN31: 91.0621 | BO31: 92.4433 | BP31: 92.4433 | BQ31: 92.4433 | BR31: 92.752 | BS31: 92.752 | BT31: 92.752 | BU31: 91.9867 | BV31: 91.9867 | BW31: 91.9867 | BX31: 92.7684 | BY31: 92.7684 | BZ31: 92.7684 | CA31: 94.0517 | CB31: 94.0517 | CC31: 94.0517 | CD31: 94.4675 | CE31: 94.4675 | CF31: 94.4675 | CG31: 95.4699 | CH31: 95.4699 | CI31: 95.4699 | CJ31: 95.7239 | CK31: 95.7239 | CL31: 95.7239 | CM31: 97.0979 | CN31: 97.0979 | CO31: 97.0979 | CP31: 97.4705 | CQ31: 97.4705 | CR31: 97.4705 | CS31: 97.7055 | CT31: 97.7055 | CU31: 97.7055 | CV31: 97.528 | CW31: 97.528 | CX31: 97.528 | CY31: 97.9318 | CZ31: 97.9318 | DA31: 97.9318 | DB31: 97.6514 | DC31: 97.6514 | DD31: 97.6514 | DE31: 97.4333 | DF31: 97.4333 | DG31: 97.4333 | DH31: 97.5395 | DI31: 97.5395 | DJ31: 97.8586 | DK31: 97.8586 | DL31: 97.8586 | DM31: 98.5204 | DN31: 98.5204 | DO31: 98.5204 | DP31: 98.8807 | DQ31: 98.8807 | DR31: 98.8807 | DS31: 98.9925 | DT31: 98.9925 | DU31: 98.9925 | DV31: 99.3045 | DW31: 99.3045 | DX31: 99.3045 | DY31: 99.873 | DZ31: 99.873 | EA31: 99.873 | EB31: 101 | EC31: 101 | ED31: 101 | EE31: 101.3151 | EF31: 101.3151 | EG31: 101.3151 | EH31: 101.6307 | EI31: 101.6307 | EJ31: 101.6307 | EK31: 102.4221 | EL31: 102.4221 | EM31: 102.4221 | EN31: 100.7539 | EO31: 100.7539 | EP31: 100.7539 | EQ31: 101.6008 | ER31: 101.6008 | ES31: 101.6008 | ET31: 100.2668 | EU31: 100.2668 | EV31: 100.2668 | EW31: 100.0164 | EX31: 100.0164 | EY31: 100.0164 | EZ31: 98.5385 | FA31: 98.5385 | FB31: 98.5385 | FC31: 99.4718 | FD31: 99.4718 | FE31: 99.4718 | FF31: 100.5104 | FG31: 100.5104 | FH31: 100.5104 | FI31: 98.1346 | FJ31: 98.1346 | FK31: 98.1346 | FL31: 98.066 | FM31: 98.066 | FN31: 98.066 | FO31: 99.35 | FP31: 99.35 | FQ31: 99.35 | FR31: 99.2775 | FS31: 99.2775 | FT31: 99.2775 | FU31: 99.9562 | FV31: 99.9562 | FW31: 99.9562 | FX31: 96.9737 | FY31: 96.9737 | FZ31: 96.9737 | GA31: 98.3928 | GB31: 98.3928 | GC31: 98.3928 | GD31: 98.1569 | GE31: 98.1569 | GF31: 98.1569 | GG31: 97.6623 | GH31: 97.6623 | GI31: 97.6623 | GJ31: 97.3206 | GK31: 97.3206 | GL31: 97.3206 | GM31: 97.1159 | GN31: 97.1159 | GO31: 97.1159 | GP31: 97.2619 | GQ31: 97.2619 | GR31: 97.2619 | GS31: 97.4102 | GT31: 97.4102 | GU31: 97.4102 | GV31: 97.4307 | GW31: 97.4307 | GX31: 97.4307 | GY31: 97.6251 | GZ31: 97.6251 | HA31: 97.6251 | HB31: 97.251 | HC31: 97.251 | HD31: 97.251 | HE31: 96.7198 | HF31: 96.7198 | HG31: 96.7198 | HH31: 97.7153 | HI31: 97.7153 | HJ31: 97.7153 | HK31: 97.6485 | HL31: 97.6485 | HM31: 97.6485 | HN31: 97.2938 | HO31: 97.2938 | HP31: 97.2938 | HQ31: 95.8507 | HR31: 95.8507 | HS31: 95.8507 | HT31: 95.4117 | HU31: 95.4117 | HV31: 95.4117 | HW31: 95.944 | HX31: 95.944 | HY31: 95.944 | HZ31: 95.8273 | IA31: 95.8273 | IB31: 95.8273 | IC31: 95.1651 | ID31: 95.1651 | IE31: 95.1651 | IF31: 94.8341 | IG31: 94.8341 | IH31: 94.8341 | II31: 94.3061 | IJ31: 94.3061 | IK31: 94.3061 | IL31: 94.954 | IM31: 94.954 | IN31: 94.954 | IO31: 96.1748 | IP31: 96.1748 | IQ31: 96.1748 | IR31: 95.2829 | IS31: 95.2829 | IT31: 95.2829 | IU31: 96.2942 | IV31: 96.2942 | IW31: 96.2942 | IX31: 99.4116 | IY31: 99.4116 | IZ31: 99.4116 | JA31: 95.9133 | JB31: 95.9133 | JC31: 95.9133 | JD31: 97.1999 | JE31: 97.1999 | JF31: 97.1999 | JG31: 96.045 | JH31: 96.045 | JI31: 96.045 | JJ31: 99.0781 | JK31: 99.0781 | JL31: 99.0781 | JM31: 98.1408 | JN31: 98.1408 | JO31: 98.1408 | JP31: 98.9471 | JQ31: 98.9471 | JR31: 98.9471 | JS31: 99.6073 | JT31: 99.6073 | JU31: 99.6073 | JV31: 98.0123 | JW31: 98.0123 | JX31: 98.0123 | JY31: 98.2176 | JZ31: 98.2176 | KA31: 98.2176 | KB31: 98.1219 | KC31: 98.1219 | KD31: 98.1219 | KE31: 100 | KF31: 100 | KG31: 100 | KH31: 98.4493 | KI31: 98.4493 | KJ31: 98.4493 | KK31: 101.226 | KL31: 101.226 | KM31: 101.226 | KN31: 100.173 | KO31: 100.173
A32: <KBOB.08.12.21> | D32: 08.12.3 | E32: 08.12.21 | F32: =IFERROR(VLOOKUP(A32,PPI_IPI_PGA_PGAI!$A:$N,$R$1+1,FALSE),"") -> Wandkies | P32: 93.8854 | Q32: 93.8854 | R32: 93.8854 | S32: 93.0594 | T32: 93.0594 | U32: 93.0594 | V32: 93.1238 | W32: 93.1238 | X32: 93.1238 | Y32: 92.7799 | Z32: 92.7799 | AA32: 92.7799 | AB32: 92.0829 | AC32: 92.0829 | AD32: 92.0829 | AE32: 91.4069 | AF32: 91.4069 | AG32: 91.4069 | AH32: 91.5608 | AI32: 91.5608 | AJ32: 91.5608 | AK32: 91.3834 | AL32: 91.3834 | AM32: 91.3834 | AN32: 91.5108 | AO32: 91.5108 | AP32: 91.5108 | AQ32: 92.2006 | AR32: 92.2006 | AS32: 92.2006 | AT32: 92.5263 | AU32: 92.5263 | AV32: 92.5263 | AW32: 92.619 | AX32: 92.619 | AY32: 92.619 | AZ32: 92.5904 | BA32: 92.5904 | BB32: 92.5904 | BC32: 93.9569 | BD32: 93.9569 | BE32: 93.9569 | BF32: 93.677 | BG32: 93.677 | BH32: 93.677 | BI32: 93.6511 | BJ32: 93.6511 | BK32: 93.6511 | BL32: 93.729 | BM32: 93.729 | BN32: 93.729 | BO32: 94.8023 | BP32: 94.8023 | BQ32: 94.8023 | BR32: 94.5212 | BS32: 94.5212 | BT32: 94.5212 | BU32: 95.5351 | BV32: 95.5351 | BW32: 95.5351 | BX32: 94.2338 | BY32: 94.2338 | BZ32: 94.2338 | CA32: 97.2187 | CB32: 97.2187 | CC32: 97.2187 | CD32: 97.1393 | CE32: 97.1393 | CF32: 97.1393 | CG32: 98.1617 | CH32: 98.1617 | CI32: 98.1617 | CJ32: 97.8848 | CK32: 97.8848 | CL32: 97.8848 | CM32: 99.1621 | CN32: 99.1621 | CO32: 99.1621 | CP32: 98.9138 | CQ32: 98.9138 | CR32: 98.9138 | CS32: 99.0213 | CT32: 99.0213 | CU32: 99.0213 | CV32: 98.7602 | CW32: 98.7602 | CX32: 98.7602 | CY32: 98.6945 | CZ32: 98.6945 | DA32: 98.6945 | DB32: 98.3143 | DC32: 98.3143 | DD32: 98.3143 | DE32: 98.2308 | DF32: 98.2308 | DG32: 98.2308 | DH32: 97.864 | DI32: 97.864 | DJ32: 98.4327 | DK32: 98.4327 | DL32: 98.4327 | DM32: 98.7284 | DN32: 98.7284 | DO32: 98.7284 | DP32: 98.7339 | DQ32: 98.7339 | DR32: 98.7339 | DS32: 99.0697 | DT32: 99.0697 | DU32: 99.0697 | DV32: 99.7194 | DW32: 99.7194 | DX32: 99.7194 | DY32: 99.1991 | DZ32: 99.1991 | EA32: 99.1991 | EB32: 97.9824 | EC32: 97.9824 | ED32: 97.9824 | EE32: 98.2133 | EF32: 98.2133 | EG32: 98.2133 | EH32: 98.8849 | EI32: 98.8849 | EJ32: 98.8849 | EK32: 98.9292 | EL32: 98.9292 | EM32: 98.9292 | EN32: 98.7669 | EO32: 98.7669 | EP32: 98.7669 | EQ32: 99.2838 | ER32: 99.2838 | ES32: 99.2838 | ET32: 99.3127 | EU32: 99.3127 | EV32: 99.3127 | EW32: 98.1704 | EX32: 98.1704 | EY32: 98.1704 | EZ32: 98.8337 | FA32: 98.8337 | FB32: 98.8337 | FC32: 98.0268 | FD32: 98.0268 | FE32: 98.0268 | FF32: 98.4269 | FG32: 98.4269 | FH32: 98.4269 | FI32: 98.3964 | FJ32: 98.3964 | FK32: 98.3964 | FL32: 98.389 | FM32: 98.389 | FN32: 98.389 | FO32: 97.2092 | FP32: 97.2092 | FQ32: 97.2092 | FR32: 96.9739 | FS32: 96.9739 | FT32: 96.9739 | FU32: 97.1094 | FV32: 97.1094 | FW32: 97.1094 | FX32: 96.9425 | FY32: 96.9425 | FZ32: 96.9425 | GA32: 96.8429 | GB32: 96.8429 | GC32: 96.8429 | GD32: 96.1463 | GE32: 96.1463 | GF32: 96.1463 | GG32: 96.4465 | GH32: 96.4465 | GI32: 96.4465 | GJ32: 96.4532 | GK32: 96.4532 | GL32: 96.4532 | GM32: 96.6436 | GN32: 96.6436 | GO32: 96.6436 | GP32: 96.4233 | GQ32: 96.4233 | GR32: 96.4233 | GS32: 96.703 | GT32: 96.703 | GU32: 96.703 | GV32: 96.9356 | GW32: 96.9356 | GX32: 96.9356 | GY32: 96.5504 | GZ32: 96.5504 | HA32: 96.5504 | HB32: 97.2861 | HC32: 97.2861 | HD32: 97.2861 | HE32: 96.7724 | HF32: 96.7724 | HG32: 96.7724 | HH32: 96.718 | HI32: 96.718 | HJ32: 96.718 | HK32: 95.9063 | HL32: 95.9063 | HM32: 95.9063 | HN32: 96.2522 | HO32: 96.2522 | HP32: 96.2522 | HQ32: 94.1273 | HR32: 94.1273 | HS32: 94.1273 | HT32: 95.9504 | HU32: 95.9504 | HV32: 95.9504 | HW32: 96.0504 | HX32: 96.0504 | HY32: 96.0504 | HZ32: 95.712 | IA32: 95.712 | IB32: 95.712 | IC32: 95.9365 | ID32: 95.9365 | IE32: 95.9365 | IF32: 95.2144 | IG32: 95.2144 | IH32: 95.2144 | II32: 95.2802 | IJ32: 95.2802 | IK32: 95.2802 | IL32: 94.3716 | IM32: 94.3716 | IN32: 94.3716 | IO32: 95.5586 | IP32: 95.5586 | IQ32: 95.5586 | IR32: 95.9243 | IS32: 95.9243 | IT32: 95.9243 | IU32: 95.6532 | IV32: 95.6532 | IW32: 95.6532 | IX32: 94.5927 | IY32: 94.5927 | IZ32: 94.5927 | JA32: 98.7545 | JB32: 98.7545 | JC32: 98.7545 | JD32: 98.9179 | JE32: 98.9179 | JF32: 98.9179 | JG32: 97.3277 | JH32: 97.3277 | JI32: 97.3277 | JJ32: 97.7103 | JK32: 97.7103 | JL32: 97.7103 | JM32: 97.6973 | JN32: 97.6973 | JO32: 97.6973 | JP32: 98.0299 | JQ32: 98.0299 | JR32: 98.0299 | JS32: 99.2244 | JT32: 99.2244 | JU32: 99.2244 | JV32: 98.3269 | JW32: 98.3269 | JX32: 98.3269 | JY32: 99.3009 | JZ32: 99.3009 | KA32: 99.3009 | KB32: 99.7971 | KC32: 99.7971 | KD32: 99.7971 | KE32: 100 | KF32: 100 | KG32: 100 | KH32: 98.92 | KI32: 98.92 | KJ32: 98.92 | KK32: 99.459 | KL32: 99.459 | KM32: 99.459 | KN32: 99.6668 | KO32: 99.6668
A33: <KBOB.08.12.22> | D33: 08.12.4 | E33: 08.12.22 | F33: =IFERROR(VLOOKUP(A33,PPI_IPI_PGA_PGAI!$A:$N,$R$1+1,FALSE),"") -> Betonkies | P33: 86.5588 | Q33: 86.5588 | R33: 86.5588 | S33: 86.8298 | T33: 86.8298 | U33: 86.8298 | V33: 86.5821 | W33: 86.5821 | X33: 86.5821 | Y33: 85.7853 | Z33: 85.7853 | AA33: 85.7853 | AB33: 85.727 | AC33: 85.727 | AD33: 85.727 | AE33: 86.0184 | AF33: 86.0184 | AG33: 86.0184 | AH33: 85.505 | AI33: 85.505 | AJ33: 85.505 | AK33: 85.3488 | AL33: 85.3488 | AM33: 85.3488 | AN33: 85.9188 | AO33: 85.9188 | AP33: 85.9188 | AQ33: 86.7831 | AR33: 86.7831 | AS33: 86.7831 | AT33: 87.0371 | AU33: 87.0371 | AV33: 87.0371 | AW33: 86.8927 | AX33: 86.8927 | AY33: 86.8927 | AZ33: 87.6519 | BA33: 87.6519 | BB33: 87.6519 | BC33: 89.0393 | BD33: 89.0393 | BE33: 89.0393 | BF33: 88.3434 | BG33: 88.3434 | BH33: 88.3434 | BI33: 88.5132 | BJ33: 88.5132 | BK33: 88.5132 | BL33: 88.5366 | BM33: 88.5366 | BN33: 88.5366 | BO33: 89.5868 | BP33: 89.5868 | BQ33: 89.5868 | BR33: 89.4336 | BS33: 89.4336 | BT33: 89.4336 | BU33: 89.4235 | BV33: 89.4235 | BW33: 89.4235 | BX33: 89.2368 | BY33: 89.2368 | BZ33: 89.2368 | CA33: 91.1473 | CB33: 91.1473 | CC33: 91.1473 | CD33: 91.2903 | CE33: 91.2903 | CF33: 91.2903 | CG33: 91.5867 | CH33: 91.5867 | CI33: 91.5867 | CJ33: 91.3208 | CK33: 91.3208 | CL33: 91.3208 | CM33: 94.4826 | CN33: 94.4826 | CO33: 94.4826 | CP33: 94.5009 | CQ33: 94.5009 | CR33: 94.5009 | CS33: 94.4462 | CT33: 94.4462 | CU33: 94.4462 | CV33: 94.3725 | CW33: 94.3725 | CX33: 94.3725 | CY33: 94.3625 | CZ33: 94.3625 | DA33: 94.3625 | DB33: 94.122 | DC33: 94.122 | DD33: 94.122 | DE33: 94.4094 | DF33: 94.4094 | DG33: 94.4094 | DH33: 94.3849 | DI33: 94.3849 | DJ33: 94.8901 | DK33: 94.8901 | DL33: 94.8901 | DM33: 95.7548 | DN33: 95.7548 | DO33: 95.7548 | DP33: 94.8758 | DQ33: 94.8758 | DR33: 94.8758 | DS33: 94.8854 | DT33: 94.8854 | DU33: 94.8854 | DV33: 95.0477 | DW33: 95.0477 | DX33: 95.0477 | DY33: 95.4261 | DZ33: 95.4261 | EA33: 95.4261 | EB33: 94.677 | EC33: 94.677 | ED33: 94.677 | EE33: 93.8264 | EF33: 93.8264 | EG33: 93.8264 | EH33: 93.9914 | EI33: 93.9914 | EJ33: 93.9914 | EK33: 94.0674 | EL33: 94.0674 | EM33: 94.0674 | EN33: 94.5263 | EO33: 94.5263 | EP33: 94.5263 | EQ33: 94.2508 | ER33: 94.2508 | ES33: 94.2508 | ET33: 94.2037 | EU33: 94.2037 | EV33: 94.2037 | EW33: 94.1361 | EX33: 94.1361 | EY33: 94.1361 | EZ33: 94.0412 | FA33: 94.0412 | FB33: 94.0412 | FC33: 94.1813 | FD33: 94.1813 | FE33: 94.1813 | FF33: 94.7456 | FG33: 94.7456 | FH33: 94.7456 | FI33: 94.3778 | FJ33: 94.3778 | FK33: 94.3778 | FL33: 94.8329 | FM33: 94.8329 | FN33: 94.8329 | FO33: 92.6841 | FP33: 92.6841 | FQ33: 92.6841 | FR33: 92.5257 | FS33: 92.5257 | FT33: 92.5257 | FU33: 92.2586 | FV33: 92.2586 | FW33: 92.2586 | FX33: 92.4298 | FY33: 92.4298 | FZ33: 92.4298 | GA33: 92.2119 | GB33: 92.2119 | GC33: 92.2119 | GD33: 92.8717 | GE33: 92.8717 | GF33: 92.8717 | GG33: 92.9583 | GH33: 92.9583 | GI33: 92.9583 | GJ33: 93.3314 | GK33: 93.3314 | GL33: 93.3314 | GM33: 93.1909 | GN33: 93.1909 | GO33: 93.1909 | GP33: 92.908 | GQ33: 92.908 | GR33: 92.908 | GS33: 92.7777 | GT33: 92.7777 | GU33: 92.7777 | GV33: 93.0863 | GW33: 93.0863 | GX33: 93.0863 | GY33: 92.36 | GZ33: 92.36 | HA33: 92.36 | HB33: 92.4487 | HC33: 92.4487 | HD33: 92.4487 | HE33: 91.9279 | HF33: 91.9279 | HG33: 91.9279 | HH33: 91.9984 | HI33: 91.9984 | HJ33: 91.9984 | HK33: 92.4557 | HL33: 92.4557 | HM33: 92.4557 | HN33: 92.032 | HO33: 92.032 | HP33: 92.032 | HQ33: 90.9906 | HR33: 90.9906 | HS33: 90.9906 | HT33: 91.1263 | HU33: 91.1263 | HV33: 91.1263 | HW33: 91.0728 | HX33: 91.0728 | HY33: 91.0728 | HZ33: 92.0415 | IA33: 92.0415 | IB33: 92.0415 | IC33: 91.4341 | ID33: 91.4341 | IE33: 91.4341 | IF33: 91.3386 | IG33: 91.3386 | IH33: 91.3386 | II33: 90.4555 | IJ33: 90.4555 | IK33: 90.4555 | IL33: 92.0559 | IM33: 92.0559 | IN33: 92.0559 | IO33: 92.6335 | IP33: 92.6335 | IQ33: 92.6335 | IR33: 93.5381 | IS33: 93.5381 | IT33: 93.5381 | IU33: 93.4842 | IV33: 93.4842 | IW33: 93.4842 | IX33: 97.5918 | IY33: 97.5918 | IZ33: 97.5918 | JA33: 98.2703 | JB33: 98.2703 | JC33: 98.2703 | JD33: 98.8224 | JE33: 98.8224 | JF33: 98.8224 | JG33: 99.3628 | JH33: 99.3628 | JI33: 99.3628 | JJ33: 100.8012 | JK33: 100.8012 | JL33: 100.8012 | JM33: 99.1038 | JN33: 99.1038 | JO33: 99.1038 | JP33: 99.2813 | JQ33: 99.2813 | JR33: 99.2813 | JS33: 98.085 | JT33: 98.085 | JU33: 98.085 | JV33: 100.2409 | JW33: 100.2409 | JX33: 100.2409 | JY33: 100.5988 | JZ33: 100.5988 | KA33: 100.5988 | KB33: 100.0102 | KC33: 100.0102 | KD33: 100.0102 | KE33: 100 | KF33: 100 | KG33: 100 | KH33: 100.7204 | KI33: 100.7204 | KJ33: 100.7204 | KK33: 102.2367 | KL33: 102.2367 | KM33: 102.2367 | KN33: 102.7853 | KO33: 102.7853
A34: <KBOB.08.12.23> | D34: 08.12.5 | E34: 08.12.23 | F34: =IFERROR(VLOOKUP(A34,PPI_IPI_PGA_PGAI!$A:$N,$R$1+1,FALSE),"") -> Split | P34: 91.6151 | Q34: 91.6151 | R34: 91.6151 | S34: 92.3989 | T34: 92.3989 | U34: 92.3989 | V34: 92.1181 | W34: 92.1181 | X34: 92.1181 | Y34: 91.6331 | Z34: 91.6331 | AA34: 91.6331 | AB34: 91.7376 | AC34: 91.7376 | AD34: 91.7376 | AE34: 91.6687 | AF34: 91.6687 | AG34: 91.6687 | AH34: 91.4707 | AI34: 91.4707 | AJ34: 91.4707 | AK34: 91.3251 | AL34: 91.3251 | AM34: 91.3251 | AN34: 91.271 | AO34: 91.271 | AP34: 91.271 | AQ34: 93.1136 | AR34: 93.1136 | AS34: 93.1136 | AT34: 93.236 | AU34: 93.236 | AV34: 93.236 | AW34: 93.1087 | AX34: 93.1087 | AY34: 93.1087 | AZ34: 93.0794 | BA34: 93.0794 | BB34: 93.0794 | BC34: 94.2444 | BD34: 94.2444 | BE34: 94.2444 | BF34: 94.6221 | BG34: 94.6221 | BH34: 94.6221 | BI34: 94.5182 | BJ34: 94.5182 | BK34: 94.5182 | BL34: 94.0502 | BM34: 94.0502 | BN34: 94.0502 | BO34: 95.2839 | BP34: 95.2839 | BQ34: 95.2839 | BR34: 95.0443 | BS34: 95.0443 | BT34: 95.0443 | BU34: 94.114 | BV34: 94.114 | BW34: 94.114 | BX34: 94.1418 | BY34: 94.1418 | BZ34: 94.1418 | CA34: 95.8175 | CB34: 95.8175 | CC34: 95.8175 | CD34: 95.9854 | CE34: 95.9854 | CF34: 95.9854 | CG34: 96.4393 | CH34: 96.4393 | CI34: 96.4393 | CJ34: 96.3375 | CK34: 96.3375 | CL34: 96.3375 | CM34: 98.2062 | CN34: 98.2062 | CO34: 98.2062 | CP34: 98.4566 | CQ34: 98.4566 | CR34: 98.4566 | CS34: 98.3527 | CT34: 98.3527 | CU34: 98.3527 | CV34: 97.9534 | CW34: 97.9534 | CX34: 97.9534 | CY34: 99.3608 | CZ34: 99.3608 | DA34: 99.3608 | DB34: 98.5206 | DC34: 98.5206 | DD34: 98.5206 | DE34: 98.3158 | DF34: 98.3158 | DG34: 98.3158 | DH34: 98.1112 | DI34: 98.1112 | DJ34: 99.9454 | DK34: 99.9454 | DL34: 99.9454 | DM34: 101.28 | DN34: 101.28 | DO34: 101.28 | DP34: 100.1447 | DQ34: 100.1447 | DR34: 100.1447 | DS34: 100.7142 | DT34: 100.7142 | DU34: 100.7142 | DV34: 100.1602 | DW34: 100.1602 | DX34: 100.1602 | DY34: 99.3715 | DZ34: 99.3715 | EA34: 99.3715 | EB34: 99.0084 | EC34: 99.0084 | ED34: 99.0084 | EE34: 98.4884 | EF34: 98.4884 | EG34: 98.4884 | EH34: 101.6626 | EI34: 101.6626 | EJ34: 101.6626 | EK34: 99.2194 | EL34: 99.2194 | EM34: 99.2194 | EN34: 97.1806 | EO34: 97.1806 | EP34: 97.1806 | EQ34: 97.4865 | ER34: 97.4865 | ES34: 97.4865 | ET34: 98.3084 | EU34: 98.3084 | EV34: 98.3084 | EW34: 97.4232 | EX34: 97.4232 | EY34: 97.4232 | EZ34: 95.8499 | FA34: 95.8499 | FB34: 95.8499 | FC34: 95.397 | FD34: 95.397 | FE34: 95.397 | FF34: 95.6237 | FG34: 95.6237 | FH34: 95.6237 | FI34: 95.4639 | FJ34: 95.4639 | FK34: 95.4639 | FL34: 96.0396 | FM34: 96.0396 | FN34: 96.0396 | FO34: 95.8146 | FP34: 95.8146 | FQ34: 95.8146 | FR34: 95.55 | FS34: 95.55 | FT34: 95.55 | FU34: 95.1873 | FV34: 95.1873 | FW34: 95.1873 | FX34: 95.4021 | FY34: 95.4021 | FZ34: 95.4021 | GA34: 94.1702 | GB34: 94.1702 | GC34: 94.1702 | GD34: 94.2888 | GE34: 94.2888 | GF34: 94.2888 | GG34: 96.6421 | GH34: 96.6421 | GI34: 96.6421 | GJ34: 94.6715 | GK34: 94.6715 | GL34: 94.6715 | GM34: 94.9568 | GN34: 94.9568 | GO34: 94.9568 | GP34: 96.0093 | GQ34: 96.0093 | GR34: 96.0093 | GS34: 95.3173 | GT34: 95.3173 | GU34: 95.3173 | GV34: 95.4823 | GW34: 95.4823 | GX34: 95.4823 | GY34: 93.9487 | GZ34: 93.9487 | HA34: 93.9487 | HB34: 95.1411 | HC34: 95.1411 | HD34: 95.1411 | HE34: 95.0687 | HF34: 95.0687 | HG34: 95.0687 | HH34: 94.257 | HI34: 94.257 | HJ34: 94.257 | HK34: 94.2356 | HL34: 94.2356 | HM34: 94.2356 | HN34: 94.3721 | HO34: 94.3721 | HP34: 94.3721 | HQ34: 94.1694 | HR34: 94.1694 | HS34: 94.1694 | HT34: 93.1486 | HU34: 93.1486 | HV34: 93.1486 | HW34: 91.2689 | HX34: 91.2689 | HY34: 91.2689 | HZ34: 96.3499 | IA34: 96.3499 | IB34: 96.3499 | IC34: 94.1123 | ID34: 94.1123 | IE34: 94.1123 | IF34: 93.664 | IG34: 93.664 | IH34: 93.664 | II34: 93.5212 | IJ34: 93.5212 | IK34: 93.5212 | IL34: 96.6534 | IM34: 96.6534 | IN34: 96.6534 | IO34: 96.6796 | IP34: 96.6796 | IQ34: 96.6796 | IR34: 96.8608 | IS34: 96.8608 | IT34: 96.8608 | IU34: 96.861 | IV34: 96.861 | IW34: 96.861 | IX34: 100.0679 | IY34: 100.0679 | IZ34: 100.0679 | JA34: 99.1611 | JB34: 99.1611 | JC34: 99.1611 | JD34: 100.6616 | JE34: 100.6616 | JF34: 100.6616 | JG34: 100.3109 | JH34: 100.3109 | JI34: 100.3109 | JJ34: 101.8292 | JK34: 101.8292 | JL34: 101.8292 | JM34: 101.2624 | JN34: 101.2624 | JO34: 101.2624 | JP34: 99.7819 | JQ34: 99.7819 | JR34: 99.7819 | JS34: 99.4758 | JT34: 99.4758 | JU34: 99.4758 | JV34: 101.1515 | JW34: 101.1515 | JX34: 101.1515 | JY34: 101.0079 | JZ34: 101.0079 | KA34: 101.0079 | KB34: 100.5431 | KC34: 100.5431 | KD34: 100.5431 | KE34: 100 | KF34: 100 | KG34: 100 | KH34: 101.5384 | KI34: 101.5384 | KJ34: 101.5384 | KK34: 100.6639 | KL34: 100.6639 | KM34: 100.6639 | KN34: 100.7742 | KO34: 100.7742
